BEGIN:VCALENDAR
VERSION:2.0
PRODID:-//www.gbca.org.au v1.0//EN
BEGIN:VEVENT
DTSTAMP:20260425T024416Z
STATUS:CONFIRMED
UID:34184
DTSTART;TZID="AUS Eastern Standard Time":20190403T100000
DTEND;TZID="AUS Eastern Standard Time":20190403T130000
SUMMARY:Operational Waste Masterclass: Waste standards and applications
DESCRIPTION:How do Green Star, NABERS Waste, GECA standards and BBP Guidelines interact with each other in practice? How do they integrate at an operational level?
After examining industry principles at the Targeting Zero Waste Seminar, join this add-on masterclass on the following day to understand what it means in practice: how does everything fit together?
This information session will map out the various requirements, tools and guidelines and include a workshop activity to practice how to use these tools efficiently and appropriately.
Join the operational waste masterclass to:

Manage effectively the range of tools, standards and guidelines
Understand how each tool relates to each other and map out interactions and relationships between the standards
Respond successfully to waste tenders

Who is the session designed for?

Facilities managers
Procurement managers
Sustainability managers
Resource recovery managers
Waste contractors
Government agencies
Developers

Workshop leader: Robyn PearsonBusiness, Waste Management and Sustainability Consultant and EducatorCertified Practicing Accountant and Member CPA Australia Certificate IV Workplace Training and Assessment
Thank you to our venue host:

X-ALT-DESC;FMTTYPE=text/html:How do Green Star, NABERS Waste, GECA standards and BBP Guidelines interact with each other in practice? How do they integrate at an operational level?
After examining industry principles at the Targeting Zero Waste Seminar, join this add-on masterclass on the following day to understand what it means in practice: how does everything fit together?
This information session will map out the various requirements, tools and guidelines and include a workshop activity to practice how to use these tools efficiently and appropriately.
Join the operational waste masterclass to:

Manage effectively the range of tools, standards and guidelines
Understand how each tool relates to each other and map out interactions and relationships between the standards
Respond successfully to waste tenders

Who is the session designed for?

Facilities managers
Procurement managers
Sustainability managers
Resource recovery managers
Waste contractors
Government agencies
Developers

Workshop leader: Robyn PearsonBusiness, Waste Management and Sustainability Consultant and EducatorCertified Practicing Accountant and Member CPA Australia Certificate IV Workplace Training and Assessment
Thank you to our venue host:

LOCATION:MELBOURNE | Aurecon 850 Collins Street DOCKLANDS VIC
BEGIN:VALARM
TRIGGER:-PT30M
ACTION:DISPLAY
END:VALARM
TRANSP:OPAQUE
END:VEVENT
END:VCALENDAR
