BEGIN:VCALENDAR
VERSION:2.0
PRODID:-//www.gbca.org.au v1.0//EN
BEGIN:VEVENT
DTSTAMP:20260425T025641Z
STATUS:CONFIRMED
UID:34178
DTSTART;TZID="AUS Eastern Standard Time":20190409T123000
DTEND;TZID="AUS Eastern Standard Time":20190410T133000
SUMMARY:Green Star Future Focus Webinar
DESCRIPTION:In early 2018, the GBCA begun its ambitious journey of reshaping the Green Star rating system to bring you the next evolution of the tools. Our goal was to ensure the system continued to deliver sustainable outcomes in the built environment while responding to global megatrends and emerging challenges. Thanks to your ongoing support, we&rsquo;ve come a long way since then, and now have exciting proposal to take to industry. &nbsp;
&nbsp;
&nbsp;Join Devan Valenti, Manager&nbsp;&ndash; Green Star Future Focus, to explore what the future of Green Star looks like. In this interactive webinar we&rsquo;ll take you through everything you need to know about the future of Green Star. We&rsquo;ll dig deeper into the following:

The key features of the proposed new rating system.
The major trends facing our industry, and how we&rsquo;re responding to them.
The next steps in the development process.
The early access program, and how you can get involved.
The transition from Green Star &ndash; Design &amp; As Built to Green Star for New Buildings

It&rsquo;s an exciting time for Green Star, and we look forward to continuing this journey with you.
X-ALT-DESC;FMTTYPE=text/html:In early 2018, the GBCA begun its ambitious journey of reshaping the Green Star rating system to bring you the next evolution of the tools. Our goal was to ensure the system continued to deliver sustainable outcomes in the built environment while responding to global megatrends and emerging challenges. Thanks to your ongoing support, we&rsquo;ve come a long way since then, and now have exciting proposal to take to industry. &nbsp;
&nbsp;
&nbsp;Join Devan Valenti, Manager&nbsp;&ndash; Green Star Future Focus, to explore what the future of Green Star looks like. In this interactive webinar we&rsquo;ll take you through everything you need to know about the future of Green Star. We&rsquo;ll dig deeper into the following:

The key features of the proposed new rating system.
The major trends facing our industry, and how we&rsquo;re responding to them.
The next steps in the development process.
The early access program, and how you can get involved.
The transition from Green Star &ndash; Design &amp; As Built to Green Star for New Buildings

It&rsquo;s an exciting time for Green Star, and we look forward to continuing this journey with you.
LOCATION:Online
BEGIN:VALARM
TRIGGER:-PT30M
ACTION:DISPLAY
END:VALARM
TRANSP:OPAQUE
END:VEVENT
END:VCALENDAR
