BEGIN:VCALENDAR
VERSION:2.0
PRODID:-//www.gbca.org.au v1.0//EN
BEGIN:VEVENT
DTSTAMP:20260425T032037Z
STATUS:CONFIRMED
UID:34169
DTSTART;TZID="AUS Eastern Standard Time":20190411T173000
DTEND;TZID="AUS Eastern Standard Time":20190411T193000
SUMMARY:SUSTAINABLE BUILDINGS: Preparing for a Zero Emissions Future
DESCRIPTION:This series of state based industry events have leading Sustainability and HVAC experts presenting on a range of topics and case studies giving attendees:

New knowledge and new connections with fellow consulting engineers, energy consultants, local government and commercial contractors in the HVAC industry
Opportunity to discuss with leading HVAC and sustainability engineers existing challenges and customer requirements
A chance to ask direct questions to get answers for their customers and how to provide more value
A complete picture of new HVAC solutions to create valuable commercial propositions to give your business an edge

Each state event will present insights, knowledge and open discussion to help attending GBCA members meet the demands of clients looking for sustainable solutions, green building design, optimal energy efficiency and specialised commercial HVAC solutions. The list of guest speakers are: Melbourne 21st March 2019 | Melbourne Marriott Hotel Jack Wardale - Senior Mechanical Engineer - AECOM Nick Balgue - Manager, Sustainable Business - Sustainability Victoria Perth 28th March 2019 | Hilton Perth Mark McKenna - Global Sustainability Group Leader - Norman Disney &amp; Young Graham Agar - Director - Full Circle Design Services Phill Raso - WA CitySwitch Program Manager - City of Perth Brisbane 3rd April 2019 | Novotel South Bank Nicki Parker - Sustainability Manager - Norman Disney &amp; Young Jerad Ford - Manager, Strategic Advisory - CSIRO Sydney 4th April 2019 | Kirribilli Club Adele Bouquerel - Senior Project Manager - NABERS Greg Johnson - National Sustainability Manager, Commercial Property - Stockland Adelaide 11th April | Pullman Hotel Sandy McCathie - Program Manager, CitySwitch Adelaide - City of Adelaide Paul Davy - Director - dsquared Consulting
For event registration:&nbsp;https://hvaccurve.seeleyinternational.com/&nbsp;
If you would like your event included on our What's on Calendar&nbsp;submit your request here.&nbsp;
X-ALT-DESC;FMTTYPE=text/html:This series of state based industry events have leading Sustainability and HVAC experts presenting on a range of topics and case studies giving attendees:

New knowledge and new connections with fellow consulting engineers, energy consultants, local government and commercial contractors in the HVAC industry
Opportunity to discuss with leading HVAC and sustainability engineers existing challenges and customer requirements
A chance to ask direct questions to get answers for their customers and how to provide more value
A complete picture of new HVAC solutions to create valuable commercial propositions to give your business an edge

Each state event will present insights, knowledge and open discussion to help attending GBCA members meet the demands of clients looking for sustainable solutions, green building design, optimal energy efficiency and specialised commercial HVAC solutions. The list of guest speakers are: Melbourne 21st March 2019 | Melbourne Marriott Hotel Jack Wardale - Senior Mechanical Engineer - AECOM Nick Balgue - Manager, Sustainable Business - Sustainability Victoria Perth 28th March 2019 | Hilton Perth Mark McKenna - Global Sustainability Group Leader - Norman Disney &amp; Young Graham Agar - Director - Full Circle Design Services Phill Raso - WA CitySwitch Program Manager - City of Perth Brisbane 3rd April 2019 | Novotel South Bank Nicki Parker - Sustainability Manager - Norman Disney &amp; Young Jerad Ford - Manager, Strategic Advisory - CSIRO Sydney 4th April 2019 | Kirribilli Club Adele Bouquerel - Senior Project Manager - NABERS Greg Johnson - National Sustainability Manager, Commercial Property - Stockland Adelaide 11th April | Pullman Hotel Sandy McCathie - Program Manager, CitySwitch Adelaide - City of Adelaide Paul Davy - Director - dsquared Consulting
For event registration:&nbsp;https://hvaccurve.seeleyinternational.com/&nbsp;
If you would like your event included on our What's on Calendar&nbsp;submit your request here.&nbsp;
LOCATION:21 March - Melbourne: Melbourne Marriot 28 March - Perth: Hilton Perth 3  April - Brisbane: Novotel South Bank 4  April - Sydney: Kirribilli Club 11 April - Adelaide: Pullman Hotel
BEGIN:VALARM
TRIGGER:-PT30M
ACTION:DISPLAY
END:VALARM
TRANSP:OPAQUE
END:VEVENT
END:VCALENDAR
