BEGIN:VCALENDAR
VERSION:2.0
PRODID:-//www.gbca.org.au v1.0//EN
BEGIN:VEVENT
DTSTAMP:20260425T025123Z
STATUS:CONFIRMED
UID:34144
DTSTART;TZID="AUS Eastern Standard Time":20190301T080000
DTEND;TZID="AUS Eastern Standard Time":20190301T103000
SUMMARY:Developing your leadership skills
DESCRIPTION:For our first FGL workshop for 2019, join us to explore the essential skills needed to further your leadership journey. Our facilitator Keegan Luiters will take you through a highly interactive 2 hour session where you will work through:

The ability to articulate what leadership is in the context of your career, team and organisation
What effects positive and negative leadership can have &ndash; on you and the people you work with
Identify actions that you can take to continuously improve your leadership


This event has been designed specifically for Future Green Leaders. Our Future Green Leader program is open to anyone under the age of 32. You can find out more about the program&nbsp;here. Not sure if you're registered as a Future Green Leader? Email&nbsp;rebecca.pettit@gbca.org.au&nbsp;
Do you have a Power Pass?This event can be included in your package. Just email&nbsp;rebecca.pettit@gbca.org.au&nbsp;and book directly.
Want to know more?The Power Pass will provide a range of learning opportunities for a one off cost. It includes both online learning and events from now until 30th June 2019 including:
Up to 4 content events - including both personal development and sustainability related topics (Single ticket $99 /event)Up to 2 networking events (single ticket $35 /event)Up to 4 webinars (single ticket $49/ webinar)
The Power Pass price is $399 (valued at $662)&nbsp;Visit&nbsp;https://www.gbca.org.au/events.asp?eventID=34004


Principal Sponsor:

&nbsp;
Supporting Sponsor:

&nbsp;

X-ALT-DESC;FMTTYPE=text/html:For our first FGL workshop for 2019, join us to explore the essential skills needed to further your leadership journey. Our facilitator Keegan Luiters will take you through a highly interactive 2 hour session where you will work through:

The ability to articulate what leadership is in the context of your career, team and organisation
What effects positive and negative leadership can have &ndash; on you and the people you work with
Identify actions that you can take to continuously improve your leadership


This event has been designed specifically for Future Green Leaders. Our Future Green Leader program is open to anyone under the age of 32. You can find out more about the program&nbsp;here. Not sure if you're registered as a Future Green Leader? Email&nbsp;rebecca.pettit@gbca.org.au&nbsp;
Do you have a Power Pass?This event can be included in your package. Just email&nbsp;rebecca.pettit@gbca.org.au&nbsp;and book directly.
Want to know more?The Power Pass will provide a range of learning opportunities for a one off cost. It includes both online learning and events from now until 30th June 2019 including:
Up to 4 content events - including both personal development and sustainability related topics (Single ticket $99 /event)Up to 2 networking events (single ticket $35 /event)Up to 4 webinars (single ticket $49/ webinar)
The Power Pass price is $399 (valued at $662)&nbsp;Visit&nbsp;https://www.gbca.org.au/events.asp?eventID=34004


Principal Sponsor:

&nbsp;
Supporting Sponsor:

&nbsp;

LOCATION:MIRVAC 200 George Street  Sydney
BEGIN:VALARM
TRIGGER:-PT30M
ACTION:DISPLAY
END:VALARM
TRANSP:OPAQUE
END:VEVENT
END:VCALENDAR
