BEGIN:VCALENDAR
VERSION:2.0
PRODID:-//www.gbca.org.au v1.0//EN
BEGIN:VEVENT
DTSTAMP:20260425T025124Z
STATUS:CONFIRMED
UID:34109
DTSTART;TZID="AUS Eastern Standard Time":20190402T083000
DTEND;TZID="AUS Eastern Standard Time":20190403T163000
SUMMARY:Green Star – Design & As Built Foundation course package
DESCRIPTION:We are now launching our revised and improved courses.&nbsp;
This package includes both an Introductory day and Advanced day.

Foundation course: Introduction day (day one)
Foundation course: Advanced day on Green Star &ndash; Design &amp; As Built (day two)

The Introduction day will explore sustainability in the built environment, why Green Star and examine the business case for sustainability. It will illustrate all 3 rating tools via case studies and demonstrate how the tools can inform better choices.
The Advanced day will dive deep into the rating tool and examine the most challenging credits. It will be interactive and case study based. And you will learn through doing - as you get to grips with pathways, calculators and submissions. This day leads to the exam and GSAP qualification.
Which course is right for you?
Our Introduction day is ideal for those new to sustainability or those wanting an understanding of where rating tools and the business benefits of Green Star fit.&nbsp; Suitable for a variety of professionals including:

Want to know more?&nbsp; Looking to be accredited? We offer two accreditation types: Green Star Associate (GSA) and Green Star Accredited Professional (GSAP).
The&nbsp;Introduction day&nbsp;is the first step to becoming a Green Star Associate (GSA) or Green Star Accredited Professional (GSAP).&nbsp;
Our&nbsp;Advanced day&nbsp;arms you with advanced knowledge and expertise in a particular Green Star rating system.&nbsp;It will give you a thorough understanding of the submission process and take you step by step through what you need to know.
To become a GSA, you need to attend both the Introduction day and Advanced day. The exam is not required.
To become a GSAP, you will need to attend the Introduction day, Advanced day, and pass the exam. The GSAP accreditation will distinguish you as an industry expert.
If you haven't attended a Foundation course in the last two years, you must attend the Introduction day prior to the Advanced day, and pass the exam to gain GSAP accreditation.
&nbsp;
REGISTRATION INFORMATIONThis course has a few different booking options. If you would like to register for the package, your ticket will include both the Introduction day and Advanced day at a discounted rate.If you prefer to attend one day, you can also register for the Introduction day or Advanced day separately.




&nbsp;


Member |


Non-member |


FGL




Introduction day


$499


$775


$399




Advanced day


$699


$975


$559




Multi-day package


$1099


$1549


$879




*Please note: all prices exclude GST.For assistance with registration, contact&nbsp;Christopher at&nbsp;Christopher.Haringa@gbca.org.au
X-ALT-DESC;FMTTYPE=text/html:We are now launching our revised and improved courses.&nbsp;
This package includes both an Introductory day and Advanced day.

Foundation course: Introduction day (day one)
Foundation course: Advanced day on Green Star &ndash; Design &amp; As Built (day two)

The Introduction day will explore sustainability in the built environment, why Green Star and examine the business case for sustainability. It will illustrate all 3 rating tools via case studies and demonstrate how the tools can inform better choices.
The Advanced day will dive deep into the rating tool and examine the most challenging credits. It will be interactive and case study based. And you will learn through doing - as you get to grips with pathways, calculators and submissions. This day leads to the exam and GSAP qualification.
Which course is right for you?
Our Introduction day is ideal for those new to sustainability or those wanting an understanding of where rating tools and the business benefits of Green Star fit.&nbsp; Suitable for a variety of professionals including:

Want to know more?&nbsp; Looking to be accredited? We offer two accreditation types: Green Star Associate (GSA) and Green Star Accredited Professional (GSAP).
The&nbsp;Introduction day&nbsp;is the first step to becoming a Green Star Associate (GSA) or Green Star Accredited Professional (GSAP).&nbsp;
Our&nbsp;Advanced day&nbsp;arms you with advanced knowledge and expertise in a particular Green Star rating system.&nbsp;It will give you a thorough understanding of the submission process and take you step by step through what you need to know.
To become a GSA, you need to attend both the Introduction day and Advanced day. The exam is not required.
To become a GSAP, you will need to attend the Introduction day, Advanced day, and pass the exam. The GSAP accreditation will distinguish you as an industry expert.
If you haven't attended a Foundation course in the last two years, you must attend the Introduction day prior to the Advanced day, and pass the exam to gain GSAP accreditation.
&nbsp;
REGISTRATION INFORMATIONThis course has a few different booking options. If you would like to register for the package, your ticket will include both the Introduction day and Advanced day at a discounted rate.If you prefer to attend one day, you can also register for the Introduction day or Advanced day separately.




&nbsp;


Member |


Non-member |


FGL




Introduction day


$499


$775


$399




Advanced day


$699


$975


$559




Multi-day package


$1099


$1549


$879




*Please note: all prices exclude GST.For assistance with registration, contact&nbsp;Christopher at&nbsp;Christopher.Haringa@gbca.org.au
LOCATION:Mirvac Level 28/200 George St, Sydney NSW 2000
BEGIN:VALARM
TRIGGER:-PT30M
ACTION:DISPLAY
END:VALARM
TRANSP:OPAQUE
END:VEVENT
END:VCALENDAR
