BEGIN:VCALENDAR
VERSION:2.0
PRODID:-//www.gbca.org.au v1.0//EN
BEGIN:VEVENT
DTSTAMP:20260425T025102Z
STATUS:CONFIRMED
UID:34060
DTSTART;TZID="AUS Eastern Standard Time":20190307T133000
DTEND;TZID="AUS Eastern Standard Time":20190307T143000
SUMMARY:Building with Nature: Prioritising Ecology and Biodiversity
DESCRIPTION:Building on the recent GBCA paper &ldquo;Building with Nature: Prioritising ecology and biodiversity for better buildings and cities&rdquo; this presentation will provide you with an introduction to the importance of healthy ecosystems as part of commercial and urban property development. Focussing on both product and place, the session will be used to explore current methods and tools for supporting the re-introduction of biodiversity into healthy urban environments.
Founded in 2006,&nbsp;The Biodiversity Consultancy (TBC) has become&nbsp;the key player in the world of&nbsp;business&nbsp;and&nbsp;biodiversity&nbsp;through its practical and&nbsp;rigorous approach. Headquartered in Cambridge, UK, with a growing global presence, the consultancy links and works across the academic, NGO, private and public sectors. From this unique perspective, TBC offers a&nbsp;resource for problem solving and a platform for cross-sector engagement.&nbsp;
Key learning points:&nbsp;

Learn how to measure the biodiversity impact of your project through effective science-based targets.
Gain an overview of key environmental stewardship standards as they apply to built products.
Explore possible changes to Green Star to better accommodate the role of biodiversity and ecological value in the built environment.
Understand how you can contribute to changing emerging urban landscapes to serve as connected healthy ecosystems.
Explore new technologies, design and construction practices that value biodiversity throughout life of project.

About the presenter:
Guy Williams works as a Senior Principal Consultant with TBC in biodiversity related aspects of environmental impact assessment and corporate sustainability.
Guy&rsquo;s projects have taken him throughout Australia and Asia-Pacific, including Myanmar, Vietnam, China, Cambodia, Lao, Thailand, Philippines, and Papua New Guinea. He has led and been involved in reviewing projects and program against IFC Performance Standards, the Equator Principles, and various climate change and product stewardship standards.&nbsp; His sector experience includes infrastructure (transport, power, and property), mining, oil and gas, and agro-forestry (oil palm, coffee, timber).
In addition to TBC projects, Guy maintains an ongoing research interest in community lead forest conservation, and the use of film, storytelling and digital media to support effective conservation strategies.
&nbsp;
X-ALT-DESC;FMTTYPE=text/html:Building on the recent GBCA paper &ldquo;Building with Nature: Prioritising ecology and biodiversity for better buildings and cities&rdquo; this presentation will provide you with an introduction to the importance of healthy ecosystems as part of commercial and urban property development. Focussing on both product and place, the session will be used to explore current methods and tools for supporting the re-introduction of biodiversity into healthy urban environments.
Founded in 2006,&nbsp;The Biodiversity Consultancy (TBC) has become&nbsp;the key player in the world of&nbsp;business&nbsp;and&nbsp;biodiversity&nbsp;through its practical and&nbsp;rigorous approach. Headquartered in Cambridge, UK, with a growing global presence, the consultancy links and works across the academic, NGO, private and public sectors. From this unique perspective, TBC offers a&nbsp;resource for problem solving and a platform for cross-sector engagement.&nbsp;
Key learning points:&nbsp;

Learn how to measure the biodiversity impact of your project through effective science-based targets.
Gain an overview of key environmental stewardship standards as they apply to built products.
Explore possible changes to Green Star to better accommodate the role of biodiversity and ecological value in the built environment.
Understand how you can contribute to changing emerging urban landscapes to serve as connected healthy ecosystems.
Explore new technologies, design and construction practices that value biodiversity throughout life of project.

About the presenter:
Guy Williams works as a Senior Principal Consultant with TBC in biodiversity related aspects of environmental impact assessment and corporate sustainability.
Guy&rsquo;s projects have taken him throughout Australia and Asia-Pacific, including Myanmar, Vietnam, China, Cambodia, Lao, Thailand, Philippines, and Papua New Guinea. He has led and been involved in reviewing projects and program against IFC Performance Standards, the Equator Principles, and various climate change and product stewardship standards.&nbsp; His sector experience includes infrastructure (transport, power, and property), mining, oil and gas, and agro-forestry (oil palm, coffee, timber).
In addition to TBC projects, Guy maintains an ongoing research interest in community lead forest conservation, and the use of film, storytelling and digital media to support effective conservation strategies.
&nbsp;
LOCATION:Online
BEGIN:VALARM
TRIGGER:-PT30M
ACTION:DISPLAY
END:VALARM
TRANSP:OPAQUE
END:VEVENT
END:VCALENDAR
