BEGIN:VCALENDAR
VERSION:2.0
PRODID:-//www.gbca.org.au v1.0//EN
BEGIN:VEVENT
DTSTAMP:20260425T025102Z
STATUS:CONFIRMED
UID:34046
DTSTART;TZID="AUS Eastern Standard Time":20190319T000000
DTEND;TZID="AUS Eastern Standard Time":20190320T000000
SUMMARY:Transform
DESCRIPTION:Join us at TRANSFORM in 2019 to be inspired and challenged. Together we can move the industry forward.
The event will build a new dialogue with keynote speakers, case studies, breakout sessions, and facilitated workshops. We will explore the big issues and dive deep into technical topics.&nbsp; Come and hear about the newest technologies and innovations that will inspire future change.
Lead the transformation with us and help shape the future of our industry.
&nbsp;



Register Now
Download Brochure
Find Out More



&nbsp;
X-ALT-DESC;FMTTYPE=text/html:Join us at TRANSFORM in 2019 to be inspired and challenged. Together we can move the industry forward.
The event will build a new dialogue with keynote speakers, case studies, breakout sessions, and facilitated workshops. We will explore the big issues and dive deep into technical topics.&nbsp; Come and hear about the newest technologies and innovations that will inspire future change.
Lead the transformation with us and help shape the future of our industry.
&nbsp;



Register Now
Download Brochure
Find Out More



&nbsp;
LOCATION:Roundhouse, UNSW, Sydney
BEGIN:VALARM
TRIGGER:-PT30M
ACTION:DISPLAY
END:VALARM
TRANSP:OPAQUE
END:VEVENT
END:VCALENDAR
