BEGIN:VCALENDAR
VERSION:2.0
PRODID:-//www.gbca.org.au v1.0//EN
BEGIN:VEVENT
DTSTAMP:20260425T024320Z
STATUS:CONFIRMED
UID:34037
DTSTART;TZID="AUS Eastern Standard Time":20180927T173000
DTEND;TZID="AUS Eastern Standard Time":20180927T193000
SUMMARY:World Green Building Week Perth
DESCRIPTION:&nbsp;

&nbsp;
What is World Green Building Week?
World Green Building Week is an annual event that empowers the green building community to deliver green buildings for everyone, everywhere.
This Year&rsquo;s Theme: Homes
#HomeGreenHome




This year, we want everyone, everywhere to take action and&nbsp;commit to making a change in the homes they build, lease or live in. We can all do something to make our home a&nbsp;greener, healthier and more energy efficient home. Let&rsquo;s start now.
Did you know that buildings - including the homes we live in - account for around 40% of global energy consumption? That&rsquo;s over a third of the world&rsquo;s greenhouse gas emissions. Making a greener world starts at home.
Let&rsquo;s put it in context. The average global electricity consumption per household is 3,500kwh &ndash; that&rsquo;s 2.6 metric tons of C02 or the same as 6,384 miles driven by an average car. If we all reduced our consumption by 20% that would deliver a saving of just over half a metric ton of CO2 per household &ndash; that&rsquo;s the equivalent of 1,277 miles of driving or 21.5 propane cylinders used for home barbecues. Check out this&nbsp;handy calculator&nbsp;and work out your carbon footprint. How do you stack up?
Everyone can do something to make their home greener. We can&rsquo;t change the world overnight, but we can all do our bit, however small you start. You can save energy and money, create a healthier space to live in and make the planet a greener, better, safer home for generations to come. It&rsquo;s easy when you know how.&nbsp;




GBCA Events
Together with SUHO, GBCA is running an event in Perth to celebrate World Green Building Week with the Western Australia community. The event will run from 5.30pm to 7.30pm and will include a discussion of GBCA's Future Homes work, speakers from Sustainability House and LandCorp, with networking drinks and canap&eacute;s.
Special thanks to our Western Australia Sponsor: SUHO&nbsp;

&nbsp;
Get Involved

Attend the Perth event
Join the movement on social media using @gbcaus #WGBW2018 #HomeGreenHome
Download the assets&nbsp;and share across social media
Share your Green Star case studies using&nbsp;this template
Provide a blog for our residential platform&nbsp;Living Green Star
Talk to your network about World Green Building Week
Take a pledge&nbsp;on how you will embed sustainable living at home
Find more resources on the&nbsp;GBCA website
Find out about the global movement on the&nbsp;WGBC website

X-ALT-DESC;FMTTYPE=text/html:&nbsp;

&nbsp;
What is World Green Building Week?
World Green Building Week is an annual event that empowers the green building community to deliver green buildings for everyone, everywhere.
This Year&rsquo;s Theme: Homes
#HomeGreenHome




This year, we want everyone, everywhere to take action and&nbsp;commit to making a change in the homes they build, lease or live in. We can all do something to make our home a&nbsp;greener, healthier and more energy efficient home. Let&rsquo;s start now.
Did you know that buildings - including the homes we live in - account for around 40% of global energy consumption? That&rsquo;s over a third of the world&rsquo;s greenhouse gas emissions. Making a greener world starts at home.
Let&rsquo;s put it in context. The average global electricity consumption per household is 3,500kwh &ndash; that&rsquo;s 2.6 metric tons of C02 or the same as 6,384 miles driven by an average car. If we all reduced our consumption by 20% that would deliver a saving of just over half a metric ton of CO2 per household &ndash; that&rsquo;s the equivalent of 1,277 miles of driving or 21.5 propane cylinders used for home barbecues. Check out this&nbsp;handy calculator&nbsp;and work out your carbon footprint. How do you stack up?
Everyone can do something to make their home greener. We can&rsquo;t change the world overnight, but we can all do our bit, however small you start. You can save energy and money, create a healthier space to live in and make the planet a greener, better, safer home for generations to come. It&rsquo;s easy when you know how.&nbsp;




GBCA Events
Together with SUHO, GBCA is running an event in Perth to celebrate World Green Building Week with the Western Australia community. The event will run from 5.30pm to 7.30pm and will include a discussion of GBCA's Future Homes work, speakers from Sustainability House and LandCorp, with networking drinks and canap&eacute;s.
Special thanks to our Western Australia Sponsor: SUHO&nbsp;

&nbsp;
Get Involved

Attend the Perth event
Join the movement on social media using @gbcaus #WGBW2018 #HomeGreenHome
Download the assets&nbsp;and share across social media
Share your Green Star case studies using&nbsp;this template
Provide a blog for our residential platform&nbsp;Living Green Star
Talk to your network about World Green Building Week
Take a pledge&nbsp;on how you will embed sustainable living at home
Find more resources on the&nbsp;GBCA website
Find out about the global movement on the&nbsp;WGBC website

LOCATION:SpaceCubed 45 St Georges Terrace, Perth WA 6000
BEGIN:VALARM
TRIGGER:-PT30M
ACTION:DISPLAY
END:VALARM
TRANSP:OPAQUE
END:VEVENT
END:VCALENDAR
