{"text_format":"1","workbook":"xlsx","n_sheets":12,"sheets":["Scratch","Disclaimer","Change Log","Inputs","Outputs","Pop","Step by Step Master","Victorian","geoCodingParameters","Step by Step Parameters","Step by Step Join","API cObject names"],"not_rendered":{"charts":0,"images":2,"macros":1,"external_links":1,"defined_names":15,"comments":0,"pivot_tables":0},"unopened":[],"bounds":{"document_bytes":16777216,"sheet_cells":100000,"rows_first":2000,"rows_last":500,"rows_between":2000,"halvings":0,"cell_chars":16384,"cell_head_chars":4096},"cells_cut":0,"cells_raw":0,"read":"whole","date_system":"1900"}

{"sheet":"Scratch","index":0,"n_rows":20,"n_cols":34,"rows_kept":20,"cut":false,"hidden":true,"merged":[[2,29,2,33],[2,4,2,8],[2,9,2,13],[2,14,2,18],[2,19,2,23],[2,24,2,28]]}
[null,null,null,null,-33.904380000000003,151.05843999999999]
["To",{"$f":"Address","v":0},null,null,-37.811102900000002,144.96471399999999]
[null,null,null,null,"Step 1",null,null,null,null,"Step 2",null,null,null,null,"Step 3",null,null,null,null,"Step 4",null,null,null,null,"Step 5",null,null,null,null,"Step 6"]
["GenTime","Duration","Departure","Arrival","Mode","Duration","Line","Departure","Arrival","Mode","Duration","Line","Departure","Arrival","Mode","Duration","Line","Departure","Arrival","Mode","Duration","Line","Departure","Arrival","Mode","Duration","Line","Departure","Arrival","Mode","Duration","Line","Departure","Arrival"]
[]
[]
[]
[]
[]
[]
[]
[]
[]
["Effective Time",{"$f":"IF(OR(MIN(A5:A8)>180,SUM(B5:B8)=0),1000,IF(SUM(H17:H20)=0,0,-1*LN(SUM(H17:H20))))","v":1000}]
[]
[null,null,null,null,"Option","Generalised Time",-0.9]
[null,null,null,null,1,{"$f":"IF(A5>0,A5,1000)","v":1000},{"$f":"$G$16*F17","v":-900},{"$f":"EXP(G17)","v":0}]
[null,null,null,null,2,{"$f":"IF(A6>0,A6,1000)","v":1000},{"$f":"$G$16*F18","v":-900},{"$f":"EXP(G18)","v":0},{"$f":"LN(SUM(H$17:H18))","v":{"$error":"#NUM!"}}]
[null,null,null,null,3,{"$f":"IF(A7>0,A7,1000)","v":1000},{"$f":"$G$16*F19","v":-900},{"$f":"EXP(G19)","v":0},{"$f":"LN(SUM(H$17:H19))","v":{"$error":"#NUM!"}}]
[null,null,null,null,4,{"$f":"IF(A8>0,A8,1000)","v":1000},{"$f":"$G$16*F20","v":-900},{"$f":"EXP(G20)","v":0},{"$f":"LN(SUM(H$17:H20))","v":{"$error":"#NUM!"}}]

{"sheet":"Disclaimer","index":1,"n_rows":13,"n_cols":2,"rows_kept":13,"cut":false,"hidden":false,"merged":[]}
[]
[]
[]
[]
[]
[]
[]
[]
[]
[]
[]
[]
[null,"Disclaimer, Authorisation and Acknowledgement"]

{"sheet":"Change Log","index":2,"n_rows":19,"n_cols":4,"rows_kept":19,"cut":false,"hidden":false,"merged":[[17,1,18,1]]}
[]
[]
[]
[]
[]
[]
[]
[]
[]
[]
[]
[]
[]
[null,"Change Log"]
[]
[null,null,"Calculator Release","Summary of Changes"]
[null,"Green Star - Interiors  Version 1.1","Release 1 - 3/12/2015","Released for Green Star - Interiors v1.1, no changes."]
[null,"Green Star - Interiors \nVersion 1.0","Release 2 - 8/05/2015","Based on industry feedback, the benchmarks used in calculations have been updated from fixed benchmarks to variable, percentage benchmarks based on the Greater Capital City Statistical Area (GCCSA) Population data for the project’s location. This method of calculation is intended to more accurately reflect the accessibility of the site by public transport.\n\nPlease see the Calculator Guide for additional information on the method of calculation."]
[null,null,"Release 1 - 8/01/2015","Initial release."]

{"sheet":"Inputs","index":3,"n_rows":29,"n_cols":17,"rows_kept":29,"cut":false,"hidden":false,"merged":[]}
[]
[null,"Location","Address"]
[null,"Address"]
[null,"Latitude",-33.872059999999998]
[null,"Longitude",151.20979,null,null,100,"% complete",null,2]
[null,"ABS GCCSA Region",{"$f":"IF(C8=0,Outputs!$M$2,INDEX(Pop!$A$2:$A$16,MATCH($C$8,Pop!$F$2:$F$16,0)))","v":"Greater Melbourne"}]
[null,"ABS GCCSA Population",{"$f":"VLOOKUP(C6,Pop!$A$2:$B$16,2,FALSE)","v":3999968}]
[null,"Public Transport Population Catchment",{"$f":"MAX(Pop!F2:F16)","v":757528.48958999966}]
[null,"Percentage Achieved",{"$f":"IFERROR(C8/C7,\"\")","v":0.18938363746659964}]
[null,"Points",{"$f":"VLOOKUP(Inputs!$C$8,Pop!$F$2:$G$16,2,FALSE) & \" / 3\"","v":"3 / 3"}]
[null,"Car Parking Accessibility Index",{"$f":"IF(C10=\"3 / 3\",\"Accessibility Rating 3\",IF(C10=\"2 / 3\",\"Accessibility Rating 2\",\"Accessibility Rating 1\"))","v":"Accessibility Rating 3"}]
[null,"Browser link for map","No outputs or mapping available for Victorian addresses",null,null,null,null,null,null,null,null,null,null,0.5]
[null,null,null,null,null,null,null,null,null,null,null,null,null,"Space Use Type","Accessibility Rating 1","Accessibility Rating 2","Accessibility Rating 3"]
[null,null,null,null,null,null,null,null,null,null,null,null,null,"Multi Unit Residential",3,3,4]
[null,"Car parking",{"$f":"IF(MID(C11,22,1)=0,1,MID(C11,22,1))","v":"3"},"The car parking calculations are not used in Green Star - Interiors v1 and are in this Calculator for information only.",null,null,null,null,null,null,null,null,null,"Office ",5,6,7]
[null,"Number of occupants",null,null,null,null,null,null,null,null,null,null,null,"Public Building",5,6,7]
[null,"Building Type / Space Use","Office ",null,null,null,null,null,null,null,null,null,null,"Retail Centre",4,5,6]
[null,"Carparking spaces for 'Good Practice'",{"$f":"ROUND($C$16/VLOOKUP($C$17,$N$13:$Q$20,$C$15+1,FALSE),0)","v":0},null,null,null,null,null,null,null,null,null,null,"Education ",15,20,25]
[null,"Carparking spaces for 'Best Practice'",{"$f":"ROUND($C$16/VLOOKUP($C$17,$N$22:$Q$29,$C$15+1,FALSE),0)","v":0},null,null,null,null,null,null,null,null,null,null,"Industrial",3,4,5]
[null,null,null,null,null,null,null,null,null,null,null,null,null,"Healthcare",2,3,4]
[null,null,null,null,null,null,null,null,null,null,null,null,null,1]
[null,null,null,null,null,null,null,null,null,null,null,null,null,"Space Use Type","Accessibility Rating 1","Accessibility Rating 2","Accessibility Rating 3"]
[null,"Percentage of GCCSA Population","Points Achieved",null,null,null,null,null,null,null,null,null,null,"Multi Unit Residential",4,4,5]
[null,"<5%",0,null,null,null,null,null,null,null,null,null,null,"Office ",7,8,9]
[null,"5 - 10%",1,null,null,null,null,null,null,null,null,null,null,"Public Building",8,9,10]
[null,"10 - 15%",2,null,null,null,null,null,null,null,null,null,null,"Retail Centre",6,7,8]
[null,"> 15%",3,null,null,null,null,null,null,null,null,null,null,"Education ",20,25,30]
[null,null,null,null,null,null,null,null,null,null,null,null,null,"Industrial",4,5,6]
[null,null,null,null,null,null,null,null,null,null,null,null,null,"Healthcare",3,4,5]

{"sheet":"Outputs","index":4,"n_rows":2197,"n_cols":15,"rows_kept":2197,"cut":false,"hidden":false,"merged":[]}
["SA2_MAIN","SA2","Population","Distance","EffTime","Option1","Option2","Option3","Option4","Lat","Long","State","GCCSA","Capital City","In PT Catchment?"]
[206041122,"Melbourne",20030,0.33783350358048081,null,null,null,null,null,-37.81362,144.96256,"Victoria","Greater Melbourne","Greater Melbourne",{"$f":"IF(AND(E2>0,E2<45),1,0)","v":0}]
[206041117,"Carlton",14104,1.2086183258346086,null,null,null,null,null,-37.800510000000003,144.96780000000001,"Victoria","Greater Melbourne","Greater Melbourne",0]
[206041119,"East Melbourne",4903,1.6189556451633007,null,null,null,null,null,-37.817149999999998,144.98148,"Victoria","Greater Melbourne","Greater Melbourne",0]
[206071142,"Fitzroy",9430,1.6899083757461248,null,null,null,null,null,-37.80104,144.97913,"Victoria","Greater Melbourne","Greater Melbourne",0]
[206041126,"Southbank",11311,1.7128884761449179,null,null,null,null,null,-37.826349999999998,144.9675,"Victoria","Greater Melbourne","Greater Melbourne",0]
[206041123,"North Melbourne",15498,1.9574746141428854,null,null,null,null,null,-37.801189999999998,144.94630000000001,"Victoria","Greater Melbourne","Greater Melbourne",0]
[206041118,"Docklands",5791,2.2775990528028003,null,null,null,null,null,-37.818089999999998,144.94033999999999,"Victoria","Greater Melbourne","Greater Melbourne",0]
[206071141,"Collingwood",6467,2.2889870120732985,null,null,null,null,null,-37.80209,144.98813999999999,"Victoria","Greater Melbourne","Greater Melbourne",0]
[206051132,"South Melbourne",9829,2.5640722984446009,null,null,null,null,null,-37.833379999999998,144.95716999999999,"Victoria","Greater Melbourne","Greater Melbourne",0]
[206071139,"Abbotsford",4906,2.792525272085288,null,null,null,null,null,-37.805529999999997,144.99571,"Victoria","Greater Melbourne","Greater Melbourne",0]
[206071140,"Carlton North - Princes Hill",8296,2.8393324752083067,null,null,null,null,null,-37.785710000000002,144.96813,"Victoria","Greater Melbourne","Greater Melbourne",0]
[206041124,"Parkville",6192,2.9093962185806239,null,null,null,null,null,-37.787100000000002,144.95152999999999,"Victoria","Greater Melbourne","Greater Melbourne",0]
[206071143,"Fitzroy North",11473,3.4625486979130331,null,null,null,null,null,-37.784080000000003,144.98429999999999,"Victoria","Greater Melbourne","Greater Melbourne",0]
[206041125,"South Yarra - West",5997,3.4925350199290821,null,null,null,null,null,-37.839440000000003,144.98186999999999,"Victoria","Greater Melbourne","Greater Melbourne",0]
[206071144,"Richmond (Vic.)",26121,3.6961540873490319,null,null,null,null,null,-37.82291,145.00405000000001,"Victoria","Greater Melbourne","Greater Melbourne",0]
[206041127,"West Melbourne",0,3.792619708188167,null,null,null,null,null,-37.809460000000001,144.92159000000001,"Victoria","Greater Melbourne","Greater Melbourne",0]
[206041121,"Kensington",9719,3.7967716150356541,null,null,null,null,null,-37.794330000000002,144.92706999999999,"Victoria","Greater Melbourne","Greater Melbourne",0]
[206051128,"Albert Park",14132,3.840608281480971,null,null,null,null,null,-37.845640000000003,144.96404999999999,"Victoria","Greater Melbourne","Greater Melbourne",0]
[206051130,"Port Melbourne",14513,3.9693332684118539,null,null,null,null,null,-37.838070000000002,144.93510000000001,"Victoria","Greater Melbourne","Greater Melbourne",0]
[206061137,"South Yarra - East",14664,4.2004754271448173,null,null,null,null,null,-37.839919999999999,144.99564000000001,"Victoria","Greater Melbourne","Greater Melbourne",0]
[206031115,"Flemington",9160,4.2452402394208777,null,null,null,null,null,-37.783830000000002,144.93090000000001,"Victoria","Greater Melbourne","Greater Melbourne",0]
[206051131,"Port Melbourne Industrial",5,4.7488036253731005,null,null,null,null,null,-37.831159999999997,144.91698,"Victoria","Greater Melbourne","Greater Melbourne",0]
[206011106,"Brunswick East",8476,4.8286426262678512,null,null,null,null,null,-37.768900000000002,144.97766999999999,"Victoria","Greater Melbourne","Greater Melbourne",0]
[206071145,"Yarra - North",8133,4.853479609195996,null,null,null,null,null,-37.789839999999998,145.01295999999999,"Victoria","Greater Melbourne","Greater Melbourne",0]
[206011105,"Brunswick",22764,4.9752612427209204,null,null,null,null,null,-37.766440000000003,144.96127000000001,"Victoria","Greater Melbourne","Greater Melbourne",0]
[206041120,"Flemington Racecourse",78,5.2515218575196503,null,null,null,null,null,-37.787999999999997,144.91257999999999,"Victoria","Greater Melbourne","Greater Melbourne",0]
[206021111,"Northcote",22920,5.3278874127234879,null,null,null,null,null,-37.772219999999997,145.00014999999999,"Victoria","Greater Melbourne","Greater Melbourne",0]
[206061136,"Prahran - Windsor",17487,5.4879091742153516,null,null,null,null,null,-37.852849999999997,144.99805000000001,"Victoria","Greater Melbourne","Greater Melbourne",0]
[206011107,"Brunswick West",13149,5.6589854235005888,null,null,null,null,null,-37.76332,144.94254000000001,"Victoria","Greater Melbourne","Greater Melbourne",0]
[206061138,"Toorak",12871,5.7528708217837856,null,null,null,null,null,-37.841619999999999,145.01760999999999,"Victoria","Greater Melbourne","Greater Melbourne",0]
[206051133,"St Kilda",22550,5.8627594642864453,null,null,null,null,null,-37.862400000000001,144.98016000000001,"Victoria","Greater Melbourne","Greater Melbourne",0]
[206031113,"Ascot Vale",13475,5.8738430253578544,null,null,null,null,null,-37.776980000000002,144.91368,"Victoria","Greater Melbourne","Greater Melbourne",0]
[207011151,"Hawthorn",20704,6.0558900645864258,null,null,null,null,null,-37.82441,145.03156999999999,"Victoria","Greater Melbourne","Greater Melbourne",0]
[207011153,"Kew",23587,6.0806077187885181,null,null,null,null,null,-37.803449999999998,145.03325000000001,"Victoria","Greater Melbourne","Greater Melbourne",0]
[213031348,"Footscray",13203,6.0938439499424408,null,null,null,null,null,-37.79813,144.89732000000001,"Victoria","Greater Melbourne","Greater Melbourne",0]
[206031116,"Moonee Ponds",13531,6.326937084913868,null,null,null,null,null,-37.765630000000002,144.92142999999999,"Victoria","Greater Melbourne","Greater Melbourne",0]
[206021110,"Alphington - Fairfield",8205,6.6597701779589427,null,null,null,null,null,-37.774459999999998,145.02466999999999,"Victoria","Greater Melbourne","Greater Melbourne",0]
[206051134,"St Kilda East",15709,6.8829355819297469,null,null,null,null,null,-37.867080000000001,144.99817999999999,"Victoria","Greater Melbourne","Greater Melbourne",0]
[213031350,"Seddon - Kingsville",8358,6.895402236934733,null,null,null,null,null,-37.807670000000002,144.88633999999999,"Victoria","Greater Melbourne","Greater Melbourne",0]
[206021112,"Thornbury",17435,6.9324707816631737,null,null,null,null,null,-37.758159999999997,145.00638000000001,"Victoria","Greater Melbourne","Greater Melbourne",0]
[206061135,"Armadale",8760,7.0670918751676632,null,null,null,null,null,-37.856760000000001,145.02070000000001,"Victoria","Greater Melbourne","Greater Melbourne",0]
[213031352,"Yarraville",13747,7.3083210794291658,null,null,null,null,null,-37.817979999999999,144.88197,"Victoria","Greater Melbourne","Greater Melbourne",0]
[206011108,"Coburg",24977,7.3645466697185125,null,null,null,null,null,-37.744869999999999,144.96420000000001,"Victoria","Greater Melbourne","Greater Melbourne",0]
[207011152,"Hawthorn East",13572,7.811153368737779,null,null,null,null,null,-37.83128,145.04990000000001,"Victoria","Greater Melbourne","Greater Melbourne",0]
[213021344,"Newport",16157,7.8226531780083493,null,null,null,null,null,-37.837629999999997,144.88221999999999,"Victoria","Greater Melbourne","Greater Melbourne",0]
[206011109,"Pascoe Vale South",9533,7.8682031984070768,null,null,null,null,null,-37.743450000000003,144.93845999999999,"Victoria","Greater Melbourne","Greater Melbourne",0]
[206051129,"Elwood",14638,7.975186308788718,null,null,null,null,null,-37.880920000000003,144.98553000000001,"Victoria","Greater Melbourne","Greater Melbourne",0]
[213031349,"Maribyrnong",10165,7.9976778642998569,null,null,null,null,null,-37.772689999999997,144.88775999999999,"Victoria","Greater Melbourne","Greater Melbourne",0]
[207011154,"Kew East",6305,8.0340766734973883,null,null,null,null,null,-37.790570000000002,145.05239,"Victoria","Greater Melbourne","Greater Melbourne",0]
[209011200,"Ivanhoe",11085,8.324680762784114,null,null,null,null,null,-37.769030000000001,145.04308,"Victoria","Greater Melbourne","Greater Melbourne",0]
[206031114,"Essendon - Aberfeldie",24761,8.3926273138784282,null,null,null,null,null,-37.750619999999998,144.90758,"Victoria","Greater Melbourne","Greater Melbourne",0]
[208041194,"Malvern - Glen Iris",19301,8.4713708453929133,null,null,null,null,null,-37.856409999999997,145.04227,"Victoria","Greater Melbourne","Greater Melbourne",0]
[209021206,"Preston",29925,8.5796610380163898,null,null,null,null,null,-37.741869999999999,145.00782000000001,"Victoria","Greater Melbourne","Greater Melbourne",0]
[208021177,"Caulfield - North",19770,8.6501775504018479,null,null,null,null,null,-37.87388,145.02289999999999,"Victoria","Greater Melbourne","Greater Melbourne",0]
[213021346,"Williamstown",14747,8.8191125564322252,null,null,null,null,null,-37.85913,144.88479000000001,"Victoria","Greater Melbourne","Greater Melbourne",0]
[213031351,"West Footscray - Tottenham",10230,8.8604565933652708,null,null,null,null,null,-37.802030000000002,144.86451,"Victoria","Greater Melbourne","Greater Melbourne",0]
[210011231,"Strathmore",9039,9.1892582193989956,null,null,null,null,null,-37.737439999999999,144.91730999999999,"Victoria","Greater Melbourne","Greater Melbourne",0]
[208021179,"Elsternwick",10741,9.2225590191397799,null,null,null,null,null,-37.886960000000002,145.00720000000001,"Victoria","Greater Melbourne","Greater Melbourne",0]
[210031236,"Coburg North",6575,9.3555915524400142,null,null,null,null,null,-37.726990000000001,144.96745999999999,"Victoria","Greater Melbourne","Greater Melbourne",0]
[213031347,"Braybrook",15932,9.407576264880694,null,null,null,null,null,-37.784689999999998,144.86299,"Victoria","Greater Melbourne","Greater Melbourne",0]
[209011201,"Ivanhoe East - Eaglemont",7691,9.8301972006313285,null,null,null,null,null,-37.768569999999997,145.06279000000001,"Victoria","Greater Melbourne","Greater Melbourne",0]
[207011149,"Camberwell",20029,10.069787218670585,null,null,null,null,null,-37.838439999999999,145.07401999999999,"Victoria","Greater Melbourne","Greater Melbourne",0]
[210011230,"Niddrie - Essendon West",6267,10.160440828801754,null,null,null,null,null,-37.744999999999997,144.88489000000001,"Victoria","Greater Melbourne","Greater Melbourne",0]
[207011147,"Balwyn",15586,10.177455926918084,null,null,null,null,null,-37.809809999999999,145.08055999999999,"Victoria","Greater Melbourne","Greater Melbourne",0]
[210031239,"Pascoe Vale",20660,10.226681592816659,null,null,null,null,null,-37.722880000000004,144.93181999999999,"Victoria","Greater Melbourne","Greater Melbourne",{"$f":"IF(AND(E66>0,E66<45),1,0)","v":0}]
[208021178,"Caulfield - South",16435,10.393416505887519,null,null,null,null,null,-37.891379999999998,145.02536000000001,"Victoria","Greater Melbourne","Greater Melbourne",0]
[209011199,"Heidelberg West",13445,10.435827925489182,null,null,null,null,null,-37.742989999999999,145.04641000000001,"Victoria","Greater Melbourne","Greater Melbourne",0]
[207011155,"Surrey Hills (West) - Canterbury",15910,10.585553306108389,null,null,null,null,null,-37.8245,145.08403000000001,"Victoria","Greater Melbourne","Greater Melbourne",0]
[207011150,"Glen Iris - East",15953,10.59188250673408,null,null,null,null,null,-37.85472,145.07194000000001,"Victoria","Greater Melbourne","Greater Melbourne",0]
[207011148,"Balwyn North",19942,10.685946265321707,null,null,null,null,null,-37.791890000000002,145.08389,"Victoria","Greater Melbourne","Greater Melbourne",0]
[210011227,"Essendon Airport",0,10.935243807075057,null,null,null,null,null,-37.726909999999997,144.90040999999999,"Victoria","Greater Melbourne","Greater Melbourne",0]
[210011229,"Keilor East",24245,11.010837757084566,null,null,null,null,null,-37.751800000000003,144.86437000000001,"Victoria","Greater Melbourne","Greater Melbourne",0]
[208011169,"Brighton (Vic.)",21257,11.13508760020879,null,null,null,null,null,-37.908189999999998,144.99582000000001,"Victoria","Greater Melbourne","Greater Melbourne",0]
[208041195,"Malvern East",20066,11.501466905210039,null,null,null,null,null,-37.876840000000001,145.06585000000001,"Victoria","Greater Melbourne","Greater Melbourne",0]
[209021208,"Reservoir - West",22940,11.5478687887825,null,null,null,null,null,-37.709850000000003,144.99395000000001,"Victoria","Greater Melbourne","Greater Melbourne",0]
[213021343,"Altona North",13010,11.623803899628626,null,null,null,null,null,-37.835720000000002,144.83609000000001,"Victoria","Greater Melbourne","Greater Melbourne",0]
[213011336,"Sunshine",8838,11.715243641607632,null,null,null,null,null,-37.789319999999996,144.83425,"Victoria","Greater Melbourne","Greater Melbourne",0]
[207021156,"Bulleen",10868,11.740473914924245,null,null,null,null,null,-37.768880000000003,145.08717999999999,"Victoria","Greater Melbourne","Greater Melbourne",0]
[209011198,"Heidelberg - Rosanna",13614,11.743673508535863,null,null,null,null,null,-37.745710000000003,145.06965,"Victoria","Greater Melbourne","Greater Melbourne",0]
[210031237,"Fawkner",12597,11.779828037725112,null,null,null,null,null,-37.70523,144.96960999999999,"Victoria","Greater Melbourne","Greater Melbourne",0]
[209021207,"Reservoir - East",24692,11.798355942668652,null,null,null,null,null,-37.71499,145.02159,"Victoria","Greater Melbourne","Greater Melbourne",0]
[207011146,"Ashburton (Vic.)",7586,11.947210286304143,null,null,null,null,null,-37.867350000000002,145.08063999999999,"Victoria","Greater Melbourne","Greater Melbourne",0]
[208021182,"Ormond - Glen Huntly",12370,11.994358788717026,null,null,null,null,null,-37.900370000000002,145.04141999999999,"Victoria","Greater Melbourne","Greater Melbourne",0]
[208021176,"Carnegie",16299,12.157437881224084,null,null,null,null,null,-37.893389999999997,145.05590000000001,"Victoria","Greater Melbourne","Greater Melbourne",0]
[210011226,"Airport West",6959,12.163070220244389,null,null,null,null,null,-37.723820000000003,144.88130000000001,"Victoria","Greater Melbourne","Greater Melbourne",0]
[210031238,"Glenroy - Hadfield",27776,12.254508333802088,null,null,null,null,null,-37.704509999999999,144.92928000000001,"Victoria","Greater Melbourne","Greater Melbourne",0]
[213011337,"Sunshine North",10636,12.452218024815043,null,null,null,null,null,-37.763930000000002,144.83618999999999,"Victoria","Greater Melbourne","Greater Melbourne",0]
[207031167,"Surrey Hills (East) - Mont Albert",9772,12.574819504986634,null,null,null,null,null,-37.824289999999998,145.1069,"Victoria","Greater Melbourne","Greater Melbourne",0]
[208011170,"Brighton East",15412,12.631252151253797,null,null,null,null,null,-37.917149999999999,145.01631,"Victoria","Greater Melbourne","Greater Melbourne",0]
[213011338,"Sunshine West",16747,12.90377804758657,null,null,null,null,null,-37.802010000000003,144.81827999999999,"Victoria","Greater Melbourne","Greater Melbourne",0]
[209021205,"Kingsbury",10356,13.045069916151956,null,null,null,null,null,-37.714559999999999,145.04903999999999,"Victoria","Greater Melbourne","Greater Melbourne",0]
[208021181,"Murrumbeena",8592,13.301145696508058,null,null,null,null,null,-37.896839999999997,145.07037,"Victoria","Greater Melbourne","Greater Melbourne",0]
[207031165,"Burwood",10796,13.650658914402653,null,null,null,null,null,-37.848059999999997,145.11294000000001,"Victoria","Greater Melbourne","Greater Melbourne",0]
[208021174,"Bentleigh - McKinnon",20883,13.658759773383519,null,null,null,null,null,-37.91948,145.03797,"Victoria","Greater Melbourne","Greater Melbourne",0]
[212051319,"Ashwood - Chadstone",16252,13.807675333083697,null,null,null,null,null,-37.872430000000001,145.10145,"Victoria","Greater Melbourne","Greater Melbourne",0]
[207031164,"Box Hill North",16427,13.896118395623384,null,null,null,null,null,-37.804690000000001,145.12269000000001,"Victoria","Greater Melbourne","Greater Melbourne",0]
[207021160,"Templestowe Lower",13152,13.989252125054813,null,null,null,null,null,-37.763869999999997,145.11227,"Victoria","Greater Melbourne","Greater Melbourne",0]
[209011203,"Viewbank - Yallambie",18110,14.027253715225983,null,null,null,null,null,-37.73122,145.08824000000001,"Victoria","Greater Melbourne","Greater Melbourne",0]
[213011328,"Ardeer - Albion",7162,14.172311106954929,null,null,null,null,null,-37.776150000000001,144.80959999999999,"Victoria","Greater Melbourne","Greater Melbourne",0]
[208021180,"Hughesdale",7055,14.178671077898317,null,null,null,null,null,-37.899479999999997,145.08114,"Victoria","Greater Melbourne","Greater Melbourne",0]
[207031163,"Box Hill",17370,14.196375399499388,null,null,null,null,null,-37.829039999999999,145.12474,"Victoria","Greater Melbourne","Greater Melbourne",0]
[213021341,"Altona",11779,14.239290520212938,null,null,null,null,null,-37.860309999999998,144.81501,"Victoria","Greater Melbourne","Greater Melbourne",0]
[207021157,"Doncaster",18360,14.283515790774336,null,null,null,null,null,-37.784829999999999,145.12385,"Victoria","Greater Melbourne","Greater Melbourne",0]
[210051242,"Broadmeadows",11695,14.46236837077373,null,null,null,null,null,-37.684080000000002,144.92931999999999,"Victoria","Greater Melbourne","Greater Melbourne",0]
[209041223,"Thomastown",20331,14.65847597845044,null,null,null,null,null,-37.68385,145.00828000000001,"Victoria","Greater Melbourne","Greater Melbourne",0]
[210011228,"Keilor",8313,14.721334639020183,null,null,null,null,null,-37.71895,144.84446,"Victoria","Greater Melbourne","Greater Melbourne",0]
[208011172,"Hampton",16876,14.7281658481627,null,null,null,null,null,-37.937660000000001,145.01425,"Victoria","Greater Melbourne","Greater Melbourne",0]
[210051250,"Tullamarine",6267,14.918001758377224,null,null,null,null,null,-37.69614,144.87723,"Victoria","Greater Melbourne","Greater Melbourne",0]
[213011335,"St Albans - South",16209,15.224284273865837,null,null,null,null,null,-37.753360000000001,144.80762999999999,"Victoria","Greater Melbourne","Greater Melbourne",0]
[209041217,"Bundoora - West",6122,15.242979237016586,null,null,null,null,null,-37.692920000000001,145.05258000000001,"Victoria","Greater Melbourne","Greater Melbourne",0]
[208021175,"Bentleigh East",25924,15.246959924333003,null,null,null,null,null,-37.922110000000004,145.06668999999999,"Victoria","Greater Melbourne","Greater Melbourne",0]
[209011196,"Bundoora - East",9516,15.455351826958102,null,null,null,null,null,-37.698810000000002,145.06833,"Victoria","Greater Melbourne","Greater Melbourne",0]
[212051323,"Mount Waverley - North",14916,15.783714884253662,null,null,null,null,null,-37.866459999999996,145.13023000000001,"Victoria","Greater Melbourne","Greater Melbourne",0]
[209011204,"Watsonia",8984,15.80038821418426,null,null,null,null,null,-37.704909999999998,145.08414999999999,"Victoria","Greater Melbourne","Greater Melbourne",0]
[212051326,"Oakleigh - Huntingdale",20233,16.149581613886223,null,null,null,null,null,-37.908479999999997,145.10121000000001,"Victoria","Greater Melbourne","Greater Melbourne",0]
[207031162,"Blackburn South",10584,16.275370339668509,null,null,null,null,null,-37.839359999999999,145.14653999999999,"Victoria","Greater Melbourne","Greater Melbourne",0]
[213011332,"Keilor Downs",13469,16.338853071808295,null,null,null,null,null,-37.726289999999999,144.81290999999999,"Victoria","Greater Melbourne","Greater Melbourne",0]
[210051245,"Gladstone Park - Westmeadows",17109,16.339979586132454,null,null,null,null,null,-37.676270000000002,144.89080000000001,"Victoria","Greater Melbourne","Greater Melbourne",0]
[210051243,"Campbellfield - Coolaroo",16029,16.404310357957314,null,null,null,null,null,-37.663919999999997,144.95184,"Victoria","Greater Melbourne","Greater Melbourne",0]
[209011202,"Montmorency - Briar Hill",15628,16.406139006392959,null,null,null,null,null,-37.728859999999997,145.11968999999999,"Victoria","Greater Melbourne","Greater Melbourne",0]
[213011334,"St Albans - North",18884,16.465813150565467,null,null,null,null,null,-37.737160000000003,144.80239,"Victoria","Greater Melbourne","Greater Melbourne",0]
[207031161,"Blackburn",19822,16.54236880834241,null,null,null,null,null,-37.816560000000003,145.15290999999999,"Victoria","Greater Melbourne","Greater Melbourne",0]
[213011329,"Cairnlea",8839,16.577769906950156,null,null,null,null,null,-37.759309999999999,144.78781000000001,"Victoria","Greater Melbourne","Greater Melbourne",0]
[212051324,"Mount Waverley - South",17162,16.589881885171181,null,null,null,null,null,-37.887259999999998,145.12719999999999,"Victoria","Greater Melbourne","Greater Melbourne",0]
[213051363,"Laverton",5351,16.697107391450562,null,null,null,null,null,-37.83954,144.77804,"Victoria","Greater Melbourne","Greater Melbourne",0]
[209041219,"Lalor",19873,16.835553149802095,null,null,null,null,null,-37.6629,145.00393,"Victoria","Greater Melbourne","Greater Melbourne",0]
[213011330,"Deer Park - Derrimut",22193,16.941943595743336,null,null,null,null,null,-37.787390000000002,144.77422999999999,"Victoria","Greater Melbourne","Greater Melbourne",0]
[207031166,"Burwood East",10141,16.978867388254645,null,null,null,null,null,-37.853589999999997,145.15042,"Victoria","Greater Melbourne","Greater Melbourne",0]
[209041216,"Bundoora - North",5438,17.061329975811145,null,null,null,null,null,-37.68282,145.07119,"Victoria","Greater Melbourne","Greater Melbourne",{"$f":"IF(AND(E130>0,E130<45),1,0)","v":0}]
[208011173,"Sandringham - Black Rock",15247,17.273521455918598,null,null,null,null,null,-37.960850000000001,145.01711,"Victoria","Greater Melbourne","Greater Melbourne",0]
[207021159,"Templestowe",16484,17.362497563077888,null,null,null,null,null,-37.754049999999999,145.14863,"Victoria","Greater Melbourne","Greater Melbourne",0]
[208011171,"Cheltenham - Highett (West)",10190,17.495819688350728,null,null,null,null,null,-37.957450000000001,145.03796,"Victoria","Greater Melbourne","Greater Melbourne",0]
[209041221,"Mill Park - South",12284,17.617696636601917,null,null,null,null,null,-37.671399999999998,145.05924999999999,"Victoria","Greater Melbourne","Greater Melbourne",0]
[213021342,"Altona Meadows",18746,17.633821216341506,null,null,null,null,null,-37.880989999999997,144.78442999999999,"Victoria","Greater Melbourne","Greater Melbourne",0]
[207021158,"Doncaster East",27047,17.863634703100047,null,null,null,null,null,-37.778860000000002,145.16389000000001,"Victoria","Greater Melbourne","Greater Melbourne",0]
[209011197,"Greensborough",20226,18.009293078332576,null,null,null,null,null,-37.700099999999999,145.1139,"Victoria","Greater Melbourne","Greater Melbourne",0]
[210051247,"Meadow Heights",14842,18.240364924806645,null,null,null,null,null,-37.65117,144.91855000000001,"Victoria","Greater Melbourne","Greater Melbourne",0]
[211041269,"Forest Hill",10051,18.401922109984895,null,null,null,null,null,-37.839869999999998,145.17105000000001,"Victoria","Greater Melbourne","Greater Melbourne",0]
[212041309,"Clarinda - Oakleigh South",11662,18.435181635750983,null,null,null,null,null,-37.938560000000003,145.09905000000001,"Victoria","Greater Melbourne","Greater Melbourne",0]
[208031191,"Moorabbin - Heatherton",8052,18.462471476161994,null,null,null,null,null,-37.950339999999997,145.07933,"Victoria","Greater Melbourne","Greater Melbourne",0]
[212051322,"Glen Waverley - West",18486,18.5446476444395,null,null,null,null,null,-37.881700000000002,145.15607,"Victoria","Greater Melbourne","Greater Melbourne",0]
[211041271,"Nunawading",10947,18.618931539227951,null,null,null,null,null,-37.817360000000001,145.17653000000001,"Victoria","Greater Melbourne","Greater Melbourne",0]
[210051248,"Melbourne Airport",142,18.743075964353931,null,null,null,null,null,-37.67642,144.83652000000001,"Victoria","Greater Melbourne","Greater Melbourne",0]
[212051320,"Clayton",17709,18.761191812145285,null,null,null,null,null,-37.915939999999999,145.13218000000001,"Victoria","Greater Melbourne","Greater Melbourne",0]
[213011333,"Kings Park (Vic.)",13529,18.85562516698317,null,null,null,null,null,-37.73903,144.77051,"Victoria","Greater Melbourne","Greater Melbourne",0]
[208031188,"Cheltenham - Highett (East)",20365,18.909860032159884,null,null,null,null,null,-37.961179999999999,145.06608,"Victoria","Greater Melbourne","Greater Melbourne",0]
[209041220,"Mill Park - North",18236,19.133694961186521,null,null,null,null,null,-37.659520000000001,145.06771000000001,"Victoria","Greater Melbourne","Greater Melbourne",0]
[213011331,"Delahey",8443,19.348750573904976,null,null,null,null,null,-37.719799999999999,144.77732,"Victoria","Greater Melbourne","Greater Melbourne",0]
[213021345,"Seabrook",4972,19.687140595868978,null,null,null,null,null,-37.880920000000003,144.75865999999999,"Victoria","Greater Melbourne","Greater Melbourne",0]
[208011168,"Beaumaris",12834,19.927101516804299,null,null,null,null,null,-37.980800000000002,145.03774999999999,"Victoria","Greater Melbourne","Greater Melbourne",0]
[209031209,"Eltham",22804,20.000522597953367,null,null,null,null,null,-37.714709999999997,145.15682000000001,"Victoria","Greater Melbourne","Greater Melbourne",0]
[211041273,"Vermont South",11416,20.175246340096155,null,null,null,null,null,-37.854390000000002,145.18781999999999,"Victoria","Greater Melbourne","Greater Melbourne",0]
[212051321,"Glen Waverley - East",20722,20.324145234152173,null,null,null,null,null,-37.881529999999998,145.17832000000001,"Victoria","Greater Melbourne","Greater Melbourne",0]
[212041310,"Clayton South",11625,20.339353324067307,null,null,null,null,null,-37.943060000000003,145.12521000000001,"Victoria","Greater Melbourne","Greater Melbourne",0]
[210051249,"Roxburgh Park - Somerton",20051,20.354455423628913,null,null,null,null,null,-37.629429999999999,144.93627000000001,"Victoria","Greater Melbourne","Greater Melbourne",0]
[213051366,"Truganina",11168,20.356996132272101,null,null,null,null,null,-37.832650000000001,144.73455000000001,"Victoria","Greater Melbourne","Greater Melbourne",0]
[211041270,"Mitcham (Vic.)",14811,20.595495880986739,null,null,null,null,null,-37.818179999999998,145.19900999999999,"Victoria","Greater Melbourne","Greater Melbourne",0]
[213011340,"Taylors Lakes",17936,20.802720797356141,null,null,null,null,null,-37.688510000000001,144.78596999999999,"Victoria","Greater Melbourne","Greater Melbourne",0]
[211041272,"Vermont",9902,20.825084173605486,null,null,null,null,null,-37.838430000000002,145.19928999999999,"Victoria","Greater Melbourne","Greater Melbourne",0]
[213041354,"Caroline Springs",26068,20.944389971079328,null,null,null,null,null,-37.74006,144.744,"Victoria","Greater Melbourne","Greater Melbourne",0]
[208031190,"Mentone",11667,21.05619558683528,null,null,null,null,null,-37.981639999999999,145.06905,"Victoria","Greater Melbourne","Greater Melbourne",0]
[211021261,"Donvale - Park Orchards",15499,21.146893075357696,null,null,null,null,null,-37.784570000000002,145.20304999999999,"Victoria","Greater Melbourne","Greater Melbourne",0]
[213051364,"Point Cook",32413,21.376015745832095,null,null,null,null,null,-37.906460000000003,144.75327999999999,"Victoria","Greater Melbourne","Greater Melbourne",0]
[213011339,"Sydenham",11529,21.534891794847756,null,null,null,null,null,-37.699800000000003,144.76424,"Victoria","Greater Melbourne","Greater Melbourne",0]
[213041360,"Taylors Hill",15465,21.787895140404256,null,null,null,null,null,-37.714570000000002,144.74901,"Victoria","Greater Melbourne","Greater Melbourne",0]
[208031192,"Moorabbin Airport",0,21.955842829272264,null,null,null,null,null,-37.977460000000001,145.09952000000001,"Victoria","Greater Melbourne","Greater Melbourne",0]
[212051327,"Wheelers Hill",19105,22.259154789004761,null,null,null,null,null,-37.907589999999999,145.18688,"Victoria","Greater Melbourne","Greater Melbourne",0]
[209031213,"Plenty - Yarrambat",8953,22.423493325109632,null,null,null,null,null,-37.65352,145.12384,"Victoria","Greater Melbourne","Greater Melbourne",0]
[212051325,"Mulgrave",17647,22.491240908271738,null,null,null,null,null,-37.92568,145.17588000000001,"Victoria","Greater Melbourne","Greater Melbourne",0]
[212041317,"Springvale",19771,22.612336370049199,null,null,null,null,null,-37.945700000000002,145.15786,"Victoria","Greater Melbourne","Greater Melbourne",0]
[209041218,"Epping",26855,22.936282991562848,null,null,null,null,null,-37.60763,145.00758999999999,"Victoria","Greater Melbourne","Greater Melbourne",0]
[212041313,"Dingley Village",10170,23.125703402126277,null,null,null,null,null,-37.974899999999998,145.12712999999999,"Victoria","Greater Melbourne","Greater Melbourne",0]
[208031193,"Mordialloc - Parkdale",18722,23.289462217720903,null,null,null,null,null,-37.996000000000002,145.08944,"Victoria","Greater Melbourne","Greater Melbourne",0]
[211011259,"Wantirna",13767,23.397403687726243,null,null,null,null,null,-37.852319999999999,145.22597999999999,"Victoria","Greater Melbourne","Greater Melbourne",0]
[211031268,"Ringwood North",9318,23.43843758573016,null,null,null,null,null,-37.794649999999997,145.23069000000001,"Victoria","Greater Melbourne","Greater Melbourne",0]
[211011260,"Wantirna South",17478,23.546494553506751,null,null,null,null,null,-37.873660000000001,145.22091,"Victoria","Greater Melbourne","Greater Melbourne",0]
[211031266,"Ringwood",16009,23.600608220650425,null,null,null,null,null,-37.811410000000002,145.23338000000001,"Victoria","Greater Melbourne","Greater Melbourne",0]
[210051246,"Greenvale - Bulla",12101,23.747426795858562,null,null,null,null,null,-37.623660000000001,144.83529999999999,"Victoria","Greater Melbourne","Greater Melbourne",0]
[213051361,"Hoppers Crossing - North",18978,23.80695966923215,null,null,null,null,null,-37.862430000000003,144.70151000000001,"Victoria","Greater Melbourne","Greater Melbourne",0]
[209031215,"Wattle Glen - Diamond Creek",13450,23.904126537810939,null,null,null,null,null,-37.667740000000002,145.16730000000001,"Victoria","Greater Melbourne","Greater Melbourne",0]
[212041318,"Springvale South",12184,23.952608006580153,null,null,null,null,null,-37.970840000000003,145.14786000000001,"Victoria","Greater Melbourne","Greater Melbourne",0]
[208031184,"Braeside",14,24.958255153122071,null,null,null,null,null,-37.998019999999997,145.12223,"Victoria","Greater Melbourne","Greater Melbourne",0]
[211031267,"Ringwood East",19003,24.969610758696565,null,null,null,null,null,-37.821489999999997,145.24868000000001,"Victoria","Greater Melbourne","Greater Melbourne",0]
[211011254,"Knoxfield - Scoresby",13032,25.210873208098569,null,null,null,null,null,-37.897199999999998,145.23036999999999,"Victoria","Greater Melbourne","Greater Melbourne",0]
[212041316,"Noble Park North",7390,25.231153773782911,null,null,null,null,null,-37.951250000000002,145.19083000000001,"Victoria","Greater Melbourne","Greater Melbourne",0]
[209041222,"South Morang",38321,25.309950914292845,null,null,null,null,null,-37.607320000000001,145.09291999999999,"Victoria","Greater Melbourne","Greater Melbourne",0]
[213051362,"Hoppers Crossing - South",18620,25.484814032388776,null,null,null,null,null,-37.873280000000001,144.68536,"Victoria","Greater Melbourne","Greater Melbourne",0]
[211021262,"Warrandyte - Wonga Park",10005,25.5893517642441,null,null,null,null,null,-37.743090000000002,145.24288000000001,"Victoria","Greater Melbourne","Greater Melbourne",0]
[212041315,"Noble Park",28377,25.61883570194367,null,null,null,null,null,-37.969529999999999,145.17670000000001,"Victoria","Greater Melbourne","Greater Melbourne",0]
[209031214,"Research - North Warrandyte",6606,25.718591181406403,null,null,null,null,null,-37.699010000000001,145.22062,"Victoria","Greater Melbourne","Greater Melbourne",0]
[211011251,"Bayswater",11240,26.627053754214156,null,null,null,null,null,-37.845440000000004,145.26477,"Victoria","Greater Melbourne","Greater Melbourne",0]
[213041359,"Rockbank - Mount Cottrell",2660,26.741223251428629,null,null,null,null,null,-37.760399999999997,144.66723999999999,"Victoria","Greater Melbourne","Greater Melbourne",0]
[208031183,"Aspendale Gardens - Waterways",8757,26.97862355116008,null,null,null,null,null,-38.019100000000002,145.12307999999999,"Victoria","Greater Melbourne","Greater Melbourne",{"$f":"IF(AND(E194>0,E194<45),1,0)","v":0}]
[211031265,"Croydon Hills - Warranwood",18015,27.046686653326173,null,null,null,null,null,-37.772950000000002,145.26872,"Victoria","Greater Melbourne","Greater Melbourne",0]
[212041312,"Dandenong North",21910,27.179759361418739,null,null,null,null,null,-37.955829999999999,145.21431000000001,"Victoria","Greater Melbourne","Greater Melbourne",0]
[208031189,"Edithvale - Aspendale",12077,27.19678832241901,null,null,null,null,null,-38.028230000000001,145.10748000000001,"Victoria","Greater Melbourne","Greater Melbourne",0]
[211011256,"Rowville - Central",15235,27.246803532280623,null,null,null,null,null,-37.919379999999997,145.24316999999999,"Victoria","Greater Melbourne","Greater Melbourne",0]
[213041355,"Hillside",15543,27.284480079195188,null,null,null,null,null,-37.687359999999998,144.69672,"Victoria","Greater Melbourne","Greater Melbourne",0]
[211011258,"Rowville - South",10828,27.760294420755056,null,null,null,null,null,-37.935450000000003,145.23898,"Victoria","Greater Melbourne","Greater Melbourne",0]
[209031210,"Hurstbridge",3511,27.930071221238261,null,null,null,null,null,-37.63758,145.19434000000001,"Victoria","Greater Melbourne","Greater Melbourne",0]
[213051365,"Tarneit",21975,27.997238247195455,null,null,null,null,null,-37.826619999999998,144.64657,"Victoria","Greater Melbourne","Greater Melbourne",0]
[211011257,"Rowville - North",8079,28.105230145160867,null,null,null,null,null,-37.907139999999998,145.26086000000001,"Victoria","Greater Melbourne","Greater Melbourne",0]
[211031264,"Croydon",29597,28.12070856675415,null,null,null,null,null,-37.798639999999999,145.28442000000001,"Victoria","Greater Melbourne","Greater Melbourne",0]
[210051244,"Craigieburn - Mickleham",34319,28.571212917913051,null,null,null,null,null,-37.557760000000002,144.91042999999999,"Victoria","Greater Melbourne","Greater Melbourne",0]
[212041314,"Keysborough",20044,28.583885678517198,null,null,null,null,null,-38.014539999999997,145.16391999999999,"Victoria","Greater Melbourne","Greater Melbourne",0]
[211031263,"Bayswater North",11476,28.88950145252003,null,null,null,null,null,-37.828479999999999,145.29289,"Victoria","Greater Melbourne","Greater Melbourne",0]
[211011253,"Ferntree Gully",28075,29.289611432689185,null,null,null,null,null,-37.88617,145.28448,"Victoria","Greater Melbourne","Greater Melbourne",0]
[208031187,"Chelsea Heights",5185,29.556548137314888,null,null,null,null,null,-38.040840000000003,145.13424000000001,"Victoria","Greater Melbourne","Greater Melbourne",0]
[211011252,"Boronia - The Basin",25052,29.682147261014542,null,null,null,null,null,-37.856090000000002,145.29787999999999,"Victoria","Greater Melbourne","Greater Melbourne",0]
[208031186,"Chelsea - Bonbeach",12955,30.687784797777024,null,null,null,null,null,-38.056600000000003,145.12460999999999,"Victoria","Greater Melbourne","Greater Melbourne",0]
[212021296,"Endeavour Hills",25504,31.033866941105021,null,null,null,null,null,-37.96613,145.25880000000001,"Victoria","Greater Melbourne","Greater Melbourne",0]
[211051277,"Kilsyth",8530,31.24230764605278,null,null,null,null,null,-37.815429999999999,145.32033999999999,"Victoria","Greater Melbourne","Greater Melbourne",0]
[212021295,"Doveton",10255,31.346090426380698,null,null,null,null,null,-37.99062,145.24019000000001,"Victoria","Greater Melbourne","Greater Melbourne",0]
[211011255,"Lysterfield",6551,31.388736873970757,null,null,null,null,null,-37.926969999999997,145.29080999999999,"Victoria","Greater Melbourne","Greater Melbourne",0]
[213051368,"Werribee - South",10476,31.498245132781985,null,null,null,null,null,-37.951360000000001,144.65288000000001,"Victoria","Greater Melbourne","Greater Melbourne",0]
[211051275,"Chirnside Park",9125,31.764878969681682,null,null,null,null,null,-37.738599999999998,145.31431000000001,"Victoria","Greater Melbourne","Greater Melbourne",0]
[211051281,"Mooroolbark",20689,31.886307584281326,null,null,null,null,null,-37.78134,145.32567,"Victoria","Greater Melbourne","Greater Melbourne",0]
[212041311,"Dandenong",25923,32.503265086822502,null,null,null,null,null,-38.0304,145.20974000000001,"Victoria","Greater Melbourne","Greater Melbourne",0]
[208031185,"Carrum - Patterson Lakes",11187,32.728506972305233,null,null,null,null,null,-38.071309999999997,145.13919000000001,"Victoria","Greater Melbourne","Greater Melbourne",0]
[211051280,"Montrose",6733,33.66487239792373,null,null,null,null,null,-37.811140000000002,145.34795,"Victoria","Greater Melbourne","Greater Melbourne",0]
[211051284,"Upwey - Tecoma",9780,33.759842291027041,null,null,null,null,null,-37.904249999999998,145.33072999999999,"Victoria","Greater Melbourne","Greater Melbourne",0]
[210041241,"Sunbury - South",24215,33.819414382700494,null,null,null,null,null,-37.592820000000003,144.697,"Victoria","Greater Melbourne","Greater Melbourne",0]
[212021297,"Hallam",10162,34.471876612370977,null,null,null,null,null,-38.007750000000001,145.26849999999999,"Victoria","Greater Melbourne","Greater Melbourne",0]
[210041240,"Sunbury",12638,34.833702969497253,null,null,null,null,null,-37.539439999999999,144.76758000000001,"Victoria","Greater Melbourne","Greater Melbourne",0]
[209031212,"Panton Hill - St Andrews",5022,35.629288594812607,null,null,null,null,null,-37.595869999999998,145.26476,"Victoria","Greater Melbourne","Greater Melbourne",0]
[214011375,"Seaford (Vic.)",16033,36.035426203552966,null,null,null,null,null,-38.104819999999997,145.13845000000001,"Victoria","Greater Melbourne","Greater Melbourne",0]
[214011370,"Carrum Downs",19122,36.378502952548367,null,null,null,null,null,-38.092779999999998,145.17579000000001,"Victoria","Greater Melbourne","Greater Melbourne",0]
[211051282,"Mount Dandenong - Olinda",9658,36.526654370710702,null,null,null,null,null,-37.861840000000001,145.37567999999999,"Victoria","Greater Melbourne","Greater Melbourne",0]
[212031305,"Hampton Park - Lynbrook",23767,36.745732184109329,null,null,null,null,null,-38.038600000000002,145.26859999999999,"Victoria","Greater Melbourne","Greater Melbourne",0]
[209041225,"Whittlesea",7414,36.857660631349866,null,null,null,null,null,-37.497929999999997,145.10194999999999,"Victoria","Greater Melbourne","Greater Melbourne",0]
[211051274,"Belgrave - Selby",10063,37.090173238799892,null,null,null,null,null,-37.938720000000004,145.35516000000001,"Victoria","Greater Melbourne","Greater Melbourne",0]
[211051283,"Mount Evelyn",9374,37.301551022109336,null,null,null,null,null,-37.787289999999999,145.38820999999999,"Victoria","Greater Melbourne","Greater Melbourne",0]
[213051369,"Wyndham Vale",17305,37.365245226147977,null,null,null,null,null,-37.841500000000003,144.54101,"Victoria","Greater Melbourne","Greater Melbourne",0]
[213041357,"Melton South",15803,37.495403726135649,null,null,null,null,null,-37.740139999999997,144.54763,"Victoria","Greater Melbourne","Greater Melbourne",0]
[212021299,"Narre Warren North",6986,37.529408830290251,null,null,null,null,null,-37.986269999999998,145.33034000000001,"Victoria","Greater Melbourne","Greater Melbourne",0]
[212031306,"Lynbrook - Lyndhurst",11666,37.656100741706339,null,null,null,null,null,-38.061990000000002,145.25315000000001,"Victoria","Greater Melbourne","Greater Melbourne",0]
[212021298,"Narre Warren",25882,37.750763759150971,null,null,null,null,null,-38.018009999999997,145.30591999999999,"Victoria","Greater Melbourne","Greater Melbourne",0]
[213051367,"Werribee",29742,37.868478946191864,null,null,null,null,null,-37.917679999999997,144.55498,"Victoria","Greater Melbourne","Greater Melbourne",0]
[211051278,"Lilydale - Coldstream",17989,38.818605367868614,null,null,null,null,null,-37.713799999999999,145.38883000000001,"Victoria","Greater Melbourne","Greater Melbourne",0]
[213041356,"Melton",17701,38.845161964555402,null,null,null,null,null,-37.621490000000001,144.59378000000001,"Victoria","Greater Melbourne","Greater Melbourne",0]
[214011376,"Skye - Sandhurst",10550,39.032254308633753,null,null,null,null,null,-38.101379999999999,145.21508,"Victoria","Greater Melbourne","Greater Melbourne",0]
[214011372,"Frankston North",19061,39.661576458322109,null,null,null,null,null,-38.133609999999997,145.15804,"Victoria","Greater Melbourne","Greater Melbourne",0]
[212031307,"Narre Warren South",28594,40.074452319847801,null,null,null,null,null,-38.054369999999999,145.30188000000001,"Victoria","Greater Melbourne","Greater Melbourne",0]
[213041358,"Melton West",14171,40.521907357477964,null,null,null,null,null,-37.664870000000001,144.54259999999999,"Victoria","Greater Melbourne","Greater Melbourne",0]
[212031304,"Cranbourne West",8743,40.787995192229559,null,null,null,null,null,-38.101849999999999,145.2484,"Victoria","Greater Melbourne","Greater Melbourne",0]
[214011371,"Frankston",21583,41.104929391916905,null,null,null,null,null,-38.154110000000003,145.13964999999999,"Victoria","Greater Melbourne","Greater Melbourne",0]
[212021293,"Berwick - North",22250,41.249746806157546,null,null,null,null,null,-38.025149999999996,145.34880999999999,"Victoria","Greater Melbourne","Greater Melbourne",0]
[212031302,"Cranbourne North",14570,41.66140683563065,null,null,null,null,null,-38.077489999999997,145.29884000000001,"Victoria","Greater Melbourne","Greater Melbourne",0]
[212031300,"Cranbourne",18622,42.720686514314117,null,null,null,null,null,-38.106900000000003,145.27571,"Victoria","Greater Melbourne","Greater Melbourne",0]
[214011373,"Frankston South",17612,43.111870814237164,null,null,null,null,null,-38.176450000000003,145.12947,"Victoria","Greater Melbourne","Greater Melbourne",0]
[212021294,"Berwick - South",22987,43.616677020823701,null,null,null,null,null,-38.06118,145.34791000000001,"Victoria","Greater Melbourne","Greater Melbourne",0]
[211051279,"Monbulk - Silvan",5542,43.778710361093559,null,null,null,null,null,-37.864080000000001,145.45873,"Victoria","Greater Melbourne","Greater Melbourne",0]
[214011374,"Langwarrin",22498,44.025027834880476,null,null,null,null,null,-38.162619999999997,145.19593,"Victoria","Greater Melbourne","Greater Melbourne",0]
[214021381,"Mount Eliza",17247,44.146500063106195,null,null,null,null,null,-38.195079999999997,145.09289000000001,"Victoria","Greater Melbourne","Greater Melbourne",0]
[211051285,"Wandin - Seville",7409,44.227947224690134,null,null,null,null,null,-37.760640000000002,145.46395999999999,"Victoria","Greater Melbourne","Greater Melbourne",0]
[203031051,"Portarlington",6497,46.197104930900807,null,null,null,null,null,-38.15334,144.66583,"Victoria","Rest of Vic.","",0]
[212031301,"Cranbourne East",8211,46.466270655855986,null,null,null,null,null,-38.104439999999997,145.34222,"Victoria","Greater Melbourne","Greater Melbourne",{"$f":"IF(AND(E258>0,E258<45),1,0)","v":0}]
[212011287,"Beaconsfield - Officer",8097,46.536294187161836,null,null,null,null,null,-38.046900000000001,145.40309999999999,"Victoria","Greater Melbourne","Greater Melbourne",0]
[214021380,"Mornington",22421,47.370293983690956,null,null,null,null,null,-38.230429999999998,145.06028000000001,"Victoria","Greater Melbourne","Greater Melbourne",0]
[209041224,"Wallan",12029,48.323805997900912,null,null,null,null,null,-37.384819999999998,145.07156000000001,"Victoria","Greater Melbourne","Greater Melbourne",0]
[210021234,"Riddells Creek",3753,48.553945674878634,null,null,null,null,null,-37.43826,144.67769999999999,"Victoria","Greater Melbourne","Greater Melbourne",0]
[212031303,"Cranbourne South",6716,48.614619593796142,null,null,null,null,null,-38.151449999999997,145.31291999999999,"Victoria","Greater Melbourne","Greater Melbourne",0]
[213041353,"Bacchus Marsh",17155,48.82029898499097,null,null,null,null,null,-37.637929999999997,144.4546,"Victoria","Greater Melbourne","Greater Melbourne",0]
[210021232,"Gisborne",11078,50.310051201735028,null,null,null,null,null,-37.495489999999997,144.55520000000001,"Victoria","Greater Melbourne","Greater Melbourne",0]
[214021385,"Somerville",17452,50.89862564514236,null,null,null,null,null,-38.241140000000001,145.16389000000001,"Victoria","Greater Melbourne","Greater Melbourne",0]
[211051276,"Healesville - Yarra Glen",12844,51.068447656504127,null,null,null,null,null,-37.626139999999999,145.49618000000001,"Victoria","Greater Melbourne","Greater Melbourne",0]
[214021382,"Mount Martha",17087,51.952063979556044,null,null,null,null,null,-38.275440000000003,145.03073000000001,"Victoria","Greater Melbourne","Greater Melbourne",0]
[212011291,"Pakenham - North",12648,52.019262539117484,null,null,null,null,null,-38.04522,145.47823,"Victoria","Greater Melbourne","Greater Melbourne",0]
[203031048,"Clifton Springs",11697,52.798722708356429,null,null,null,null,null,-38.173940000000002,144.57602,"Victoria","Rest of Vic.","",0]
[209031211,"Kinglake",3577,52.831694513591508,null,null,null,null,null,-37.491059999999997,145.40828999999999,"Victoria","Greater Melbourne","Greater Melbourne",0]
[212031308,"Pearcedale - Tooradin",7477,53.256490446493359,null,null,null,null,null,-38.204450000000001,145.31156999999999,"Victoria","Greater Melbourne","Greater Melbourne",0]
[203021043,"Lara",15522,53.681545766820534,null,null,null,null,null,-37.947789999999998,144.37807000000001,"Victoria","Rest of Vic.","",0]
[210021235,"Romsey",8622,54.248768412396203,null,null,null,null,null,-37.35,144.76351,"Victoria","Greater Melbourne","Greater Melbourne",0]
[212011289,"Emerald - Cockatoo",17509,54.677137508971562,null,null,null,null,null,-37.95326,145.56115,"Victoria","Greater Melbourne","Greater Melbourne",0]
[212011292,"Pakenham - South",21348,55.763548898483549,null,null,null,null,null,-38.094270000000002,145.48965999999999,"Victoria","Greater Melbourne","Greater Melbourne",0]
[203031052,"Queenscliff",4072,56.069660168026665,null,null,null,null,null,-38.23433,144.61668,"Victoria","Rest of Vic.","",0]
[210021233,"Macedon",3183,56.203312791726674,null,null,null,null,null,-37.411929999999998,144.57325,"Victoria","Greater Melbourne","Greater Melbourne",0]
[214021377,"Dromana",9014,58.425187463103015,null,null,null,null,null,-38.335859999999997,144.99912,"Victoria","Greater Melbourne","Greater Melbourne",0]
[203021044,"Leopold",10111,60.733916072836642,null,null,null,null,null,-38.192819999999998,144.46888999999999,"Victoria","Rest of Vic.","",0]
[201021009,"Bacchus Marsh Region",5547,61.014089047599214,null,null,null,null,null,-37.630330000000001,144.30971,"Victoria","Rest of Vic.","",0]
[214021379,"Hastings - Somers",20299,61.973522878980887,null,null,null,null,null,-38.345790000000001,145.16464999999999,"Victoria","Greater Melbourne","Greater Melbourne",0]
[203021038,"Corio - Norlane",25844,62.208521613847566,null,null,null,null,null,-38.053739999999998,144.32554999999999,"Victoria","Rest of Vic.","",0]
[214021384,"Rosebud - McCrae",19622,62.236568320564601,null,null,null,null,null,-38.369019999999999,144.90745999999999,"Victoria","Greater Melbourne","Greater Melbourne",0]
[204011056,"Kilmore - Broadford",11948,62.814838267773553,null,null,null,null,null,-37.246360000000003,144.98327,"Victoria","Rest of Vic.","",0]
[211051286,"Yarra Valley",15984,63.047241989222982,null,null,null,null,null,-37.767800000000001,145.68012999999999,"Victoria","Greater Melbourne","Greater Melbourne",0]
[203021045,"Newcomb - Moolap",14712,63.079199752039081,null,null,null,null,null,-38.179740000000002,144.41752,"Victoria","Rest of Vic.","",0]
[202021031,"Woodend",6408,64.117237833180255,null,null,null,null,null,-37.35633,144.51731000000001,"Victoria","Rest of Vic.","",0]
[214021383,"Point Nepean",16127,64.791253100199313,null,null,null,null,null,-38.378599999999999,144.79662999999999,"Victoria","Greater Melbourne","Greater Melbourne",0]
[203021047,"North Geelong - Bell Park",13997,65.026440859348682,null,null,null,null,null,-38.102150000000002,144.32137,"Victoria","Rest of Vic.","",0]
[203031050,"Ocean Grove - Barwon Heads",18357,65.236104734129256,null,null,null,null,null,-38.248379999999997,144.46809999999999,"Victoria","Rest of Vic.","",0]
[203021039,"Geelong",12066,65.258154644747918,null,null,null,null,null,-38.163989999999998,144.36967999999999,"Victoria","Rest of Vic.","",0]
[214021378,"Flinders",5331,65.333324918980608,null,null,null,null,null,-38.398029999999999,145.00004000000001,"Victoria","Greater Melbourne","Greater Melbourne",0]
[212011288,"Bunyip - Garfield",8203,66.69673723455054,null,null,null,null,null,-38.079700000000003,145.64484999999999,"Victoria","Greater Melbourne","Greater Melbourne",0]
[203021046,"Newtown (Vic.)",9682,67.066034852452603,null,null,null,null,null,-38.153910000000003,144.33507,"Victoria","Rest of Vic.","",0]
[203021040,"Geelong West - Hamlyn Heights",18874,67.855700747626599,null,null,null,null,null,-38.126469999999998,144.30197000000001,"Victoria","Rest of Vic.","",0]
[212011290,"Koo Wee Rup",6528,67.941795838766339,null,null,null,null,null,-38.209020000000002,145.55327,"Victoria","Greater Melbourne","Greater Melbourne",0]
[203021037,"Belmont",13616,68.157843249026286,null,null,null,null,null,-38.178570000000001,144.34213,"Victoria","Rest of Vic.","",0]
[205031088,"French Island",116,69.406369463682239,null,null,null,null,null,-38.350009999999997,145.36490000000001,"Victoria","Rest of Vic.","",0]
[203021042,"Highton",19321,72.100614594338523,null,null,null,null,null,-38.17774,144.28603000000001,"Victoria","Rest of Vic.","",0]
[203021041,"Grovedale",19702,72.566303197117506,null,null,null,null,null,-38.219940000000001,144.31900999999999,"Victoria","Rest of Vic.","",0]
[204011062,"Yea",3395,73.766111385890881,null,null,null,null,null,-37.261060000000001,145.43249,"Victoria","Rest of Vic.","",0]
[203011034,"Bannockburn",4713,74.688244991784217,null,null,null,null,null,-38.069769999999998,144.17866000000001,"Victoria","Rest of Vic.","",0]
[202021030,"Kyneton",8832,77.086300427454532,null,null,null,null,null,-37.221429999999998,144.50504000000001,"Victoria","Rest of Vic.","",0]
[205031091,"Phillip Island",9406,79.322937709581552,null,null,null,null,null,-38.490670000000001,145.24079,"Victoria","Rest of Vic.","",0]
[205011076,"Drouin",13219,81.765288952998588,null,null,null,null,null,-38.135440000000003,145.80194,"Victoria","Rest of Vic.","",0]
[203031053,"Torquay",15042,82.40283349121006,null,null,null,null,null,-38.320230000000002,144.28067999999999,"Victoria","Rest of Vic.","",0]
[201021012,"Gordon (Vic.)",5413,83.388567710101839,null,null,null,null,null,-37.64734,144.03935999999999,"Victoria","Rest of Vic.","",0]
[204011060,"Seymour Region",4223,85.081089164634449,null,null,null,null,null,-37.045929999999998,144.95838000000001,"Victoria","Rest of Vic.","",0]
[201021011,"Daylesford",8393,87.871908846403869,null,null,null,null,null,-37.317779999999999,144.18581,"Victoria","Rest of Vic.","",0]
[204011059,"Seymour",6369,90.10781694673237,null,null,null,null,null,-37.016019999999997,145.16213999999999,"Victoria","Rest of Vic.","",0]
[204011061,"Upper Yarra Valley",219,90.695555303520919,null,null,null,null,null,-37.651290000000003,145.97608,"Victoria","Rest of Vic.","",0]
[203011035,"Golden Plains - South",6216,91.145889599632284,null,null,null,null,null,-37.94209,143.93953999999999,"Victoria","Rest of Vic.","",0]
[204011054,"Alexandra",6097,91.363621993897269,null,null,null,null,null,-37.318710000000003,145.79461000000001,"Victoria","Rest of Vic.","",0]
[203011036,"Winchelsea",5687,94.663789522207196,null,null,null,null,null,-38.255459999999999,144.04271,"Victoria","Rest of Vic.","",0]
[205031089,"Korumburra",8744,95.987128958240774,null,null,null,null,null,-38.398400000000002,145.7688,"Victoria","Rest of Vic.","",0]
[205031093,"Wonthaggi - Inverloch",20032,96.011610097909681,null,null,null,null,null,-38.516359999999999,145.59841,"Victoria","Rest of Vic.","",0]
[205011079,"Warragul",16722,96.467848038294406,null,null,null,null,null,-38.21405,145.93994000000001,"Victoria","Rest of Vic.","",0]
[201011005,"Buninyong",6600,97.121499344808612,null,null,null,null,null,-37.64387,143.88077000000001,"Victoria","Rest of Vic.","",0]
[201011003,"Ballarat - North",22027,98.926212651732868,null,null,null,null,null,-37.527160000000002,143.89948000000001,"Victoria","Rest of Vic.","",0]
[201011004,"Ballarat - South",22785,99.982875039044501,null,null,null,null,null,-37.593310000000002,143.86203,"Victoria","Rest of Vic.","",0]
[201011002,"Ballarat",12076,103.23114504938023,null,null,null,null,null,-37.556150000000002,143.83665999999999,"Victoria","Rest of Vic.","",{"$f":"IF(AND(E322>0,E322<45),1,0)","v":0}]
[202021027,"Castlemaine",9733,103.3102812585516,null,null,null,null,null,-37.083469999999998,144.23692,"Victoria","Rest of Vic.","",0]
[201011006,"Delacombe",5749,107.42216820459834,null,null,null,null,null,-37.582239999999999,143.77847,"Victoria","Rest of Vic.","",0]
[205011077,"Mount Baw Baw Region",5965,107.59950240535971,null,null,null,null,null,-37.889409999999998,146.18625,"Victoria","Rest of Vic.","",0]
[201011008,"Wendouree - Miners Rest",14211,108.08094717216846,null,null,null,null,null,-37.497570000000003,143.80255,"Victoria","Rest of Vic.","",0]
[203031049,"Lorne - Anglesea",4919,108.41262626761836,null,null,null,null,null,-38.441920000000003,144.01958999999999,"Victoria","Rest of Vic.","",0]
[202021028,"Castlemaine Region",8178,109.10051563922752,null,null,null,null,null,-37.046799999999998,144.18984,"Victoria","Rest of Vic.","",0]
[201011007,"Smythes Creek",3780,109.25404188366295,null,null,null,null,null,-37.620260000000002,143.74623,"Victoria","Rest of Vic.","",0]
[202021029,"Heathcote",4073,109.319917038955,null,null,null,null,null,-36.860770000000002,144.64771999999999,"Victoria","Rest of Vic.","",0]
[201011001,"Alfredton",8345,111.07214691526299,null,null,null,null,null,-37.54175,143.74932000000001,"Victoria","Rest of Vic.","",0]
[204011058,"Nagambie",3558,111.45326060902575,null,null,null,null,null,-36.82029,145.15557000000001,"Victoria","Rest of Vic.","",0]
[205011078,"Trafalgar (Vic.)",7073,111.66655955108467,null,null,null,null,null,-38.22392,146.12682000000001,"Victoria","Rest of Vic.","",0]
[201021010,"Creswick - Clunes",7423,111.72554082647251,null,null,null,null,null,-37.354170000000003,143.83543,"Victoria","Rest of Vic.","",0]
[201031015,"Golden Plains - North",4059,117.64192992024707,null,null,null,null,null,-37.775620000000004,143.62656000000001,"Victoria","Rest of Vic.","",0]
[205031090,"Leongatha",10523,118.21856955908925,null,null,null,null,null,-38.451129999999999,146.04406,"Victoria","Rest of Vic.","",0]
[205041095,"Moe - Newborough",16674,124.25803169921717,null,null,null,null,null,-38.19661,146.29592,"Victoria","Rest of Vic.","",0]
[202011024,"Strathfieldsaye",7031,125.66007946811213,null,null,null,null,null,-36.788829999999997,144.35894999999999,"Victoria","Rest of Vic.","",0]
[202011021,"Flora Hill - Spring Gully",9189,128.22148820467984,null,null,null,null,null,-36.791629999999998,144.28711999999999,"Victoria","Rest of Vic.","",0]
[217021426,"Colac Region",5318,128.29044775126243,null,null,null,null,null,-38.298020000000001,143.63628,"Victoria","Rest of Vic.","",0]
[202011022,"Kangaroo Flat - Golden Square",18409,128.67289269727496,null,null,null,null,null,-36.806420000000003,144.24265,"Victoria","Rest of Vic.","",0]
[204011057,"Mansfield (Vic.)",8153,129.18701681462906,null,null,null,null,null,-37.197049999999997,146.20805999999999,"Victoria","Rest of Vic.","",0]
[202011020,"East Bendigo - Kennington",13681,130.98395935700034,null,null,null,null,null,-36.752339999999997,144.31556,"Victoria","Rest of Vic.","",0]
[204011055,"Euroa",5950,132.33711260845232,null,null,null,null,null,-36.732700000000001,145.59757999999999,"Victoria","Rest of Vic.","",0]
[202011018,"Bendigo",14507,133.17342805535364,null,null,null,null,null,-36.748469999999998,144.27023,"Victoria","Rest of Vic.","",0]
[205041096,"Morwell",14004,134.99384950745616,null,null,null,null,null,-38.207680000000003,146.42111,"Victoria","Rest of Vic.","",0]
[202011023,"Maiden Gully",4401,135.28084166722229,null,null,null,null,null,-36.753889999999998,144.20788999999999,"Victoria","Rest of Vic.","",0]
[217021425,"Colac",11778,135.7395297108356,null,null,null,null,null,-38.358829999999998,143.57855000000001,"Victoria","Rest of Vic.","",0]
[202021026,"Bendigo Region - South",6205,136.98344782424982,null,null,null,null,null,-36.776960000000003,144.12302,"Victoria","Rest of Vic.","",0]
[201031016,"Maryborough (Vic.)",7631,137.20369390996356,null,null,null,null,null,-37.04748,143.74405999999999,"Victoria","Rest of Vic.","",0]
[216011410,"Rushworth",4098,137.41976623571838,null,null,null,null,null,-36.579000000000001,144.84309999999999,"Victoria","Rest of Vic.","",0]
[202011019,"California Gully - Eaglehawk",10127,137.69259229243593,null,null,null,null,null,-36.706740000000003,144.26073,"Victoria","Rest of Vic.","",0]
[205041098,"Yallourn North - Glengarry",4448,138.23630509966856,null,null,null,null,null,-38.084560000000003,146.50271000000001,"Victoria","Rest of Vic.","",0]
[202011025,"White Hills - Ascot",8736,138.42323235933026,null,null,null,null,null,-36.676250000000003,144.32175000000001,"Victoria","Rest of Vic.","",0]
[205031087,"Foster",8190,139.08880144551355,null,null,null,null,null,-38.678959999999996,146.11185,"Victoria","Rest of Vic.","",0]
[205041094,"Churchill",11386,140.9879340840663,null,null,null,null,null,-38.358849999999997,146.41766000000001,"Victoria","Rest of Vic.","",0]
[201031014,"Beaufort",3833,142.70199451710766,null,null,null,null,null,-37.495980000000003,143.39327,"Victoria","Rest of Vic.","",0]
[201031017,"Maryborough Region",5064,144.40364399244302,null,null,null,null,null,-36.981349999999999,143.7071,"Victoria","Rest of Vic.","",0]
[205041097,"Traralgon",25699,148.5498961979267,null,null,null,null,null,-38.194389999999999,146.58895000000001,"Victoria","Rest of Vic.","",0]
[202031032,"Bendigo Region - North",4163,148.57211505208107,null,null,null,null,null,-36.562359999999998,144.36784,"Victoria","Rest of Vic.","",0]
[217021427,"Corangamite - North",5397,151.31899379511617,null,null,null,null,null,-38.022060000000003,143.26048,"Victoria","Rest of Vic.","",0]
[217021431,"Otway",3268,154.01998339961634,null,null,null,null,null,-38.642099999999999,143.5539,"Victoria","Rest of Vic.","",0]
[216031419,"Shepparton Region - West",9792,155.89391084506079,null,null,null,null,null,-36.423070000000003,145.21278000000001,"Victoria","Rest of Vic.","",0]
[216031417,"Shepparton - South",21457,159.01726715299083,null,null,null,null,null,-36.43045,145.43251000000001,"Victoria","Rest of Vic.","",0]
[216031415,"Mooroopna",7813,160.63261789680226,null,null,null,null,null,-36.398809999999997,145.34611000000001,"Victoria","Rest of Vic.","",0]
[201031013,"Avoca",3303,160.63658898938044,null,null,null,null,null,-37.108939999999997,143.37405000000001,"Victoria","Rest of Vic.","",0]
[205051102,"Rosedale",4553,163.96667366019921,null,null,null,null,null,-38.156610000000001,146.78362999999999,"Victoria","Rest of Vic.","",0]
[204021063,"Benalla",10331,164.69947896800701,null,null,null,null,null,-36.57891,145.99677,"Victoria","Rest of Vic.","",0]
[217021424,"Camperdown",3463,164.82163232557645,null,null,null,null,null,-38.2286,143.15921,"Victoria","Rest of Vic.","",0]
[216011409,"Rochester",3798,165.38699424334112,null,null,null,null,null,-36.33484,144.73666,"Victoria","Rest of Vic.","",0]
[205051101,"Maffra",13406,167.10895634104776,null,null,null,null,null,-37.842390000000002,146.86707999999999,"Victoria","Rest of Vic.","",0]
[216031416,"Shepparton - North",17232,167.78844931286775,null,null,null,null,null,-36.342829999999999,145.40136999999999,"Victoria","Rest of Vic.","",0]
[216031418,"Shepparton Region - East",3926,167.79195438512616,null,null,null,null,null,-36.373469999999998,145.53990999999999,"Victoria","Rest of Vic.","",0]
[205051099,"Alps - West",29,170.66029120984476,null,null,null,null,null,-37.448259999999998,146.84783999999999,"Victoria","Rest of Vic.","",0]
[216011407,"Kyabram",10736,172.964286215741,null,null,null,null,null,-36.255560000000003,144.97818000000001,"Victoria","Rest of Vic.","",0]
[205051104,"Yarram",5256,173.72277035143446,null,null,null,null,null,-38.49427,146.75163000000001,"Victoria","Rest of Vic.","",0]
[205031092,"Wilsons Promontory",14,176.85035283175415,null,null,null,null,null,-38.96022,146.36772999999999,"Victoria","Rest of Vic.","",0]
[217021428,"Corangamite - South",7474,177.9535632644853,null,null,null,null,null,-38.463340000000002,143.10648,"Victoria","Rest of Vic.","",0]
[204021064,"Benalla Region",3378,181.33215690220018,null,null,null,null,null,-36.391970000000001,145.97228999999999,"Victoria","Rest of Vic.","",0]
[216011406,"Echuca",14191,183.96186771090032,null,null,null,null,null,-36.163780000000003,144.77213,"Victoria","Rest of Vic.","",0]
[215011386,"Ararat",8076,185.67999288875475,null,null,null,null,null,-37.262450000000001,142.97560999999999,"Victoria","Rest of Vic.","",0]
[205051103,"Sale",14259,186.24251501589373,null,null,null,null,null,-38.104660000000003,147.05627000000001,"Victoria","Rest of Vic.","",0]
[216011408,"Lockington - Gunbower",3726,187.18382068261798,null,null,null,null,null,-36.174579999999999,144.47040000000001,"Victoria","Rest of Vic.","",0]
[204021067,"Wangaratta Region",9127,187.67540891880697,null,null,null,null,null,-36.591900000000003,146.43027000000001,"Victoria","Rest of Vic.","",0]
[202031033,"Loddon",7026,190.82754953025952,null,null,null,null,null,-36.340110000000003,143.85650000000001,"Victoria","Rest of Vic.","",0]
[215011387,"Ararat Region",2907,190.89595813243105,null,null,null,null,null,-37.490200000000002,142.83445,"Victoria","Rest of Vic.","",{"$f":"IF(AND(E386>0,E386<45),1,0)","v":0}]
[109031184,"Moama",5117,195.66228761284054,null,null,null,null,null,-36.057879999999997,144.77572000000001,"New South Wales","Rest of NSW","",0]
[217021429,"Moyne - East",6707,200.09310101422116,null,null,null,null,null,-38.094850000000001,142.71098000000001,"Victoria","Rest of Vic.","",0]
[204021066,"Wangaratta",17687,200.75327355986636,null,null,null,null,null,-36.358899999999998,146.30965,"Victoria","Rest of Vic.","",0]
[216021413,"Numurkah",12262,202.01656643618904,null,null,null,null,null,-36.014310000000002,145.30160000000001,"Victoria","Rest of Vic.","",0]
[216021412,"Moira",2559,202.64949129654283,null,null,null,null,null,-36.147260000000003,145.89598000000001,"Victoria","Rest of Vic.","",0]
[205051100,"Longford - Loch Sport",3835,203.91349757042369,null,null,null,null,null,-38.143740000000001,147.25275999999999,"Victoria","Rest of Vic.","",0]
[215011391,"St Arnaud",3585,205.95347122411502,null,null,null,null,null,-36.675339999999998,143.12657999999999,"Victoria","Rest of Vic.","",0]
[204031069,"Bright - Mount Beauty",7734,206.42066714977108,null,null,null,null,null,-36.896009999999997,146.99683999999999,"Victoria","Rest of Vic.","",0]
[204031071,"Myrtleford",4510,215.21611573062322,null,null,null,null,null,-36.55265,146.8107,"Victoria","Rest of Vic.","",0]
[216021411,"Cobram",6245,216.78583389522538,null,null,null,null,null,-35.944400000000002,145.66836000000001,"Victoria","Rest of Vic.","",0]
[216021414,"Yarrawonga",7057,217.71550347446106,null,null,null,null,null,-36.03754,146.00273999999999,"Victoria","Rest of Vic.","",0]
[215011392,"Stawell",8270,218.73311341264673,null,null,null,null,null,-37.021529999999998,142.69603000000001,"Victoria","Rest of Vic.","",0]
[217021433,"Warrnambool - South",12838,218.83005317050075,null,null,null,null,null,-38.389879999999998,142.57425000000001,"Victoria","Rest of Vic.","",0]
[217021432,"Warrnambool - North",19542,224.08336877117515,null,null,null,null,null,-38.344650000000001,142.49575999999999,"Victoria","Rest of Vic.","",0]
[204031068,"Beechworth",4218,225.3248546814055,null,null,null,null,null,-36.342210000000001,146.71471,"Victoria","Rest of Vic.","",0]
[205021086,"Paynesville",5604,228.3829727420117,null,null,null,null,null,-37.96087,147.56039000000001,"Victoria","Rest of Vic.","",0]
[205021081,"Bairnsdale",13243,232.69398090302195,null,null,null,null,null,-37.829160000000002,147.61398,"Victoria","Rest of Vic.","",0]
[204021065,"Rutherglen",3712,233.49305064181448,null,null,null,null,null,-36.066020000000002,146.42634000000001,"Victoria","Rest of Vic.","",0]
[109031180,"Corowa",5605,237.00653308762648,null,null,null,null,null,-35.993989999999997,146.35833,"New South Wales","Rest of NSW","",0]
[205021082,"Bruthen - Omeo",7290,237.12600581029616,null,null,null,null,null,-37.320079999999997,147.58302,"Victoria","Rest of Vic.","",0]
[204031070,"Chiltern - Indigo Valley",2890,237.1344847166385,null,null,null,null,null,-36.156399999999998,146.64929000000001,"Victoria","Rest of Vic.","",0]
[604031093,"King Island",1565,243.48361088068759,null,null,null,null,null,-39.863819999999997,143.98548,"Tasmania","Rest of Tas.","",0]
[204031075,"Yackandandah",4412,244.24099435370965,null,null,null,null,null,-36.329859999999996,146.99781999999999,"Victoria","Rest of Vic.","",0]
[205021083,"Lake King",0,245.86590173639755,null,null,null,null,null,-37.883069999999996,147.7636,"Victoria","Rest of Vic.","",0]
[204031073,"West Wodonga",14583,248.5667955956757,null,null,null,null,null,-36.1173,146.79088999999999,"Victoria","Rest of Vic.","",0]
[215031402,"Kerang",3873,249.12060231571851,null,null,null,null,null,-35.724609999999998,143.94550000000001,"Victoria","Rest of Vic.","",0]
[217021430,"Moyne - West",8890,249.77172886295921,null,null,null,null,null,-38.156529999999997,142.14845,"Victoria","Rest of Vic.","",0]
[215031401,"Gannawarra",6495,251.30186821817841,null,null,null,null,null,-35.751480000000001,143.80258000000001,"Victoria","Rest of Vic.","",0]
[204031074,"Wodonga",20938,252.78131323584159,null,null,null,null,null,-36.168900000000001,146.93321,"Victoria","Rest of Vic.","",0]
[109031182,"Deniliquin",7120,253.73717192316025,null,null,null,null,null,-35.529089999999997,144.97318000000001,"New South Wales","Rest of NSW","",0]
[109011174,"Albury - South",10525,257.72134711830626,null,null,null,null,null,-36.061750000000004,146.86734999999999,"New South Wales","Rest of NSW","",0]
[217011421,"Hamilton (Vic.)",10104,259.09005163668837,null,null,null,null,null,-37.745840000000001,142.01760999999999,"Victoria","Rest of Vic.","",0]
[217011423,"Southern Grampians",6347,260.14921954961699,null,null,null,null,null,-37.536540000000002,142.029,"Victoria","Rest of Vic.","",0]
[205021084,"Lakes Entrance",9463,260.27048774358053,null,null,null,null,null,-37.839779999999998,147.92806999999999,"Victoria","Rest of Vic.","",0]
[109011173,"Albury - North",9311,261.51973670208628,null,null,null,null,null,-36.040990000000001,146.90234000000001,"New South Wales","Rest of NSW","",0]
[109011176,"Lavington",13922,264.60391606676444,null,null,null,null,null,-36.031730000000003,146.94156000000001,"New South Wales","Rest of NSW","",0]
[109011172,"Albury - East",12802,266.60046510442214,null,null,null,null,null,-36.059649999999998,147.01361,"New South Wales","Rest of NSW","",0]
[109031181,"Corowa Region",6509,268.08639668789084,null,null,null,null,null,-35.643169999999998,146.28142,"New South Wales","Rest of NSW","",0]
[109031185,"Tocumwal - Finley - Jerilderie",9297,271.13260340684889,null,null,null,null,null,-35.454250000000002,145.74446,"New South Wales","Rest of NSW","",0]
[215011388,"Horsham",15894,271.31293883343574,null,null,null,null,null,-36.731760000000001,142.21449000000001,"Victoria","Rest of Vic.","",0]
[215031400,"Buloke",6387,273.94204547502233,null,null,null,null,null,-35.909750000000003,143.00618,"Victoria","Rest of Vic.","",0]
[215011389,"Horsham Region",3410,277.0400446456643,null,null,null,null,null,-36.821919999999999,142.08906999999999,"Victoria","Rest of Vic.","",0]
[109031183,"Deniliquin Region",6806,280.12462983403174,null,null,null,null,null,-35.307650000000002,144.61293000000001,"New South Wales","Rest of NSW","",0]
[204031072,"Towong",5862,284.30784973922016,null,null,null,null,null,-36.354570000000002,147.59931,"Victoria","Rest of Vic.","",0]
[205021080,"Alps - East",0,286.054784452543,null,null,null,null,null,-36.99427,148.03592,"Victoria","Rest of Vic.","",0]
[215031404,"Swan Hill",10430,301.60268509519483,null,null,null,null,null,-35.362180000000002,143.51177999999999,"Victoria","Rest of Vic.","",0]
[217011422,"Portland",10715,301.67068082109279,null,null,null,null,null,-38.340249999999997,141.58412000000001,"Victoria","Rest of Vic.","",0]
[109011175,"Albury Region",10875,302.04768008769804,null,null,null,null,null,-35.756320000000002,147.18368000000001,"New South Wales","Rest of NSW","",0]
[215011394,"Yarriambiack",7028,303.471409380007,null,null,null,null,null,-35.989240000000002,142.42304999999999,"Victoria","Rest of Vic.","",0]
[217011420,"Glenelg (Vic.)",8831,314.56568767436795,null,null,null,null,null,-37.866329999999998,141.38287,"Victoria","Rest of Vic.","",0]
[215011393,"West Wimmera",2883,333.86676520235704,null,null,null,null,null,-36.952970000000001,141.34316999999999,"Victoria","Rest of Vic.","",0]
[604031095,"Smithton",3935,337.59025877542376,null,null,null,null,null,-40.844270000000002,145.13925,"Tasmania","Rest of Tas.","",0]
[205021085,"Orbost",6701,337.88915598527979,null,null,null,null,null,-37.444490000000002,148.77394000000001,"Victoria","Rest of Vic.","",0]
[215031405,"Swan Hill Region",6550,340.65247953550579,null,null,null,null,null,-35.12688,143.1277,"Victoria","Rest of Vic.","",0]
[113021260,"Tumbarumba",3389,344.20956354026561,null,null,null,null,null,-36.022199999999998,148.12526,"New South Wales","Rest of NSW","",0]
[113031271,"Wagga Wagga Region",13987,354.53104351600103,null,null,null,null,null,-35.147179999999999,147.14444,"New South Wales","Rest of NSW","",0]
[101031016,"Jindabyne - Berridale",6663,354.68344838391948,null,null,null,null,null,-36.491680000000002,148.60892000000001,"New South Wales","Rest of NSW","",0]
[215011390,"Nhill Region",7195,356.25949353932032,null,null,null,null,null,-36.098129999999998,141.57577000000001,"Victoria","Rest of Vic.","",0]
[604011084,"Wynyard",5990,361.72833683103033,null,null,null,null,null,-41.010959999999997,145.72480999999999,"Tasmania","Rest of Tas.","",0]
[113031269,"Wagga Wagga - South",20869,363.82392801417927,null,null,null,null,null,-35.153669999999998,147.33974000000001,"New South Wales","Rest of NSW","",0]
[604031094,"North West",4038,363.89142986442977,null,null,null,null,null,-41.083640000000003,145.00851,"Tasmania","Rest of Tas.","",0]
[113031270,"Wagga Wagga - West",11774,364.43831097372112,null,null,null,null,null,-35.129379999999998,147.30871999999999,"New South Wales","Rest of NSW","",0]
[113031267,"Wagga Wagga - East",15909,367.39188040602198,null,null,null,null,null,-35.149880000000003,147.40108000000001,"New South Wales","Rest of NSW","",0]
[113011259,"Narrandera",6121,367.443937443587,null,null,null,null,null,-34.75009,146.51011,"New South Wales","Rest of NSW","",{"$f":"IF(AND(E450>0,E450<45),1,0)","v":0}]
[604011081,"Somerset",3975,367.79111773539438,null,null,null,null,null,-41.055320000000002,145.80062000000001,"Tasmania","Rest of Tas.","",0]
[604011078,"Parklands - Camdale",6304,369.22015453936427,null,null,null,null,null,-41.058549999999997,145.86277999999999,"Tasmania","Rest of Tas.","",0]
[407021153,"Mount Gambier",27755,369.59160058438545,null,null,null,null,null,-37.816020000000002,140.75684999999999,"South Australia","Rest of SA","",0]
[407021156,"Penola",3078,370.43228171174974,null,null,null,null,null,-37.39085,140.79293000000001,"South Australia","Rest of SA","",0]
[602031063,"Scottsdale - Bridport",7598,370.54789328967371,null,null,null,null,null,-40.066789999999997,148.11937,"Tasmania","Rest of Tas.","",0]
[604011075,"Acton - Upper Burnie",3307,371.26029937659416,null,null,null,null,null,-41.071750000000002,145.89615000000001,"Tasmania","Rest of Tas.","",0]
[604011077,"Burnie - Wivenhoe",3789,371.65115041561279,null,null,null,null,null,-41.068680000000001,145.93451999999999,"Tasmania","Rest of Tas.","",0]
[407021150,"Grant",5396,371.81820365797762,null,null,null,null,null,-37.96611,140.73173,"South Australia","Rest of SA","",0]
[604011080,"Romaine - Havenview",3503,373.58025362816568,null,null,null,null,null,-41.092489999999998,145.89997,"Tasmania","Rest of Tas.","",0]
[113031268,"Wagga Wagga - North",3492,374.64775387551617,null,null,null,null,null,-35.073369999999997,147.40701999999999,"New South Wales","Rest of NSW","",0]
[101031013,"Bombala",2419,375.31117619667566,null,null,null,null,null,-36.877929999999999,149.04546999999999,"New South Wales","Rest of NSW","",0]
[604011079,"Penguin - Sulphur Creek",4933,380.06782134349504,null,null,null,null,null,-41.127029999999998,146.04019,"Tasmania","Rest of Tas.","",0]
[604011083,"West Ulverstone",4337,384.13763740010404,null,null,null,null,null,-41.149149999999999,146.11901,"Tasmania","Rest of Tas.","",0]
[407021154,"Naracoorte",5691,385.1302859048061,null,null,null,null,null,-36.947000000000003,140.74319,"South Australia","Rest of SA","",0]
[113011258,"Leeton",9891,386.31752219960663,null,null,null,null,null,-34.538449999999997,146.41059000000001,"New South Wales","Rest of NSW","",0]
[604011082,"Ulverstone",6719,388.04605172790002,null,null,null,null,null,-41.174129999999998,146.17377999999999,"Tasmania","Rest of Tas.","",0]
[604021085,"Devonport",14010,392.53548616354669,null,null,null,null,null,-41.177050000000001,146.34504000000001,"Tasmania","Rest of Tas.","",0]
[604021088,"Miandetta - Don",3076,393.20900286371466,null,null,null,null,null,-41.191130000000001,146.31304,"Tasmania","Rest of Tas.","",0]
[604011076,"Burnie - Ulverstone Region",5108,393.84995310619831,null,null,null,null,null,-41.273949999999999,145.93167,"Tasmania","Rest of Tas.","",0]
[604021092,"Turners Beach - Forth",3055,394.05293358785707,null,null,null,null,null,-41.211979999999997,146.25745000000001,"Tasmania","Rest of Tas.","",0]
[604021086,"East Devonport",4911,394.68481015908066,null,null,null,null,null,-41.18683,146.38767000000001,"Tasmania","Rest of Tas.","",0]
[604021090,"Quoiba - Spreyton",2824,398.02878821159339,null,null,null,null,null,-41.229840000000003,146.34137999999999,"Tasmania","Rest of Tas.","",0]
[604031096,"Waratah",3737,400.21424766531533,null,null,null,null,null,-41.38776,145.48912000000001,"Tasmania","Rest of Tas.","",0]
[113021262,"Tumut Region",4644,400.45893192578609,null,null,null,null,null,-35.452719999999999,148.35753,"New South Wales","Rest of NSW","",0]
[407021155,"Naracoorte Region",2424,401.45569091286399,null,null,null,null,null,-36.978050000000003,140.54222999999999,"South Australia","Rest of SA","",0]
[113021261,"Tumut",6294,401.57745790924844,null,null,null,null,null,-35.317329999999998,148.21818999999999,"New South Wales","Rest of NSW","",0]
[215031403,"Robinvale",3471,402.74185127265207,null,null,null,null,null,-34.65213,142.76693,"Victoria","Rest of Vic.","",0]
[604021089,"Port Sorell",5022,403.62479388073706,null,null,null,null,null,-41.214210000000001,146.60310000000001,"Tasmania","Rest of Tas.","",0]
[113011256,"Griffith (NSW)",17900,404.38028301163251,null,null,null,null,null,-34.281300000000002,146.04847000000001,"New South Wales","Rest of NSW","",0]
[602021053,"Beauty Point - Beaconsfield",3727,406.05243591012589,null,null,null,null,null,-41.183810000000001,146.78037,"Tasmania","Rest of Tas.","",0]
[407021152,"Millicent",5279,406.36340803618276,null,null,null,null,null,-37.606319999999997,140.35192000000001,"South Australia","Rest of SA","",0]
[109021177,"Hay",2996,407.4343132521031,null,null,null,null,null,-34.152700000000003,144.70733999999999,"New South Wales","Rest of NSW","",0]
[101031014,"Cooma",6674,407.52970212792928,null,null,null,null,null,-36.250219999999999,149.11940000000001,"New South Wales","Rest of NSW","",0]
[602031059,"George Town",6694,407.86455807141783,null,null,null,null,null,-41.110579999999999,147.04168000000001,"Tasmania","Rest of Tas.","",0]
[407021158,"Wattle Range",3223,408.03546899537673,null,null,null,null,null,-37.52223,140.34266,"South Australia","Rest of SA","",0]
[604021087,"Latrobe",4223,408.48306358804984,null,null,null,null,null,-41.288969999999999,146.50046,"Tasmania","Rest of Tas.","",0]
[101031015,"Cooma Region",3176,410.86910929838592,null,null,null,null,null,-36.12724,149.08235999999999,"New South Wales","Rest of NSW","",0]
[113031265,"Junee",5821,412.41315659666498,null,null,null,null,null,-34.814320000000002,147.67792,"New South Wales","Rest of NSW","",0]
[604021091,"Sheffield - Railton",6098,418.23266125091192,null,null,null,null,null,-41.452979999999997,146.18695,"Tasmania","Rest of Tas.","",0]
[113031264,"Gundagai",3577,420.69506959261497,null,null,null,null,null,-35.023009999999999,148.14411999999999,"New South Wales","Rest of NSW","",0]
[602021055,"Grindelwald - Lanena",5558,423.46168694457282,null,null,null,null,null,-41.323880000000003,146.87431000000001,"Tasmania","Rest of Tas.","",0]
[407021157,"Tatiara",6556,426.79449688292016,null,null,null,null,null,-36.227919999999997,140.58444,"South Australia","Rest of SA","",0]
[801021029,"Namadgi",33,428.32007000715947,null,null,null,null,null,-35.642969999999998,148.93831,"Australian Capital Territory","Australian Capital Territory","Australian Capital Territory",0]
[101041020,"Bega-Eden Hinterland",8769,431.37033914025312,null,null,null,null,null,-36.92886,149.71907999999999,"New South Wales","Rest of NSW","",0]
[602011039,"Legana",3679,434.36742103861349,null,null,null,null,null,-41.373710000000003,147.04571999999999,"Tasmania","Rest of Tas.","",0]
[113031266,"Temora",6325,437.55950103332196,null,null,null,null,null,-34.393239999999999,147.37979000000001,"New South Wales","Rest of NSW","",0]
[602011041,"Newnham - Mayfield",8577,438.90406551447364,null,null,null,null,null,-41.383020000000002,147.14634000000001,"Tasmania","Rest of Tas.","",0]
[215021398,"Mildura Region",3806,439.20496182490768,null,null,null,null,null,-34.88335,141.67144999999999,"Victoria","Rest of Vic.","",0]
[602011046,"Riverside",6072,439.32599275807746,null,null,null,null,null,-41.421050000000001,147.05086,"Tasmania","Rest of Tas.","",0]
[113011257,"Griffith Region",12683,439.50172451589276,null,null,null,null,null,-33.90128,145.68165999999999,"New South Wales","Rest of NSW","",0]
[602011040,"Mowbray",3751,441.00070443890377,null,null,null,null,null,-41.402430000000003,147.15058999999999,"Tasmania","Rest of Tas.","",0]
[602011036,"Invermay",3087,442.2075393846203,null,null,null,null,null,-41.420780000000001,147.13310000000001,"Tasmania","Rest of Tas.","",0]
[602011049,"Trevallyn",4638,443.3791909215517,null,null,null,null,null,-41.442459999999997,147.10484,"Tasmania","Rest of Tas.","",0]
[602011045,"Ravenswood",3974,443.5148580946593,null,null,null,null,null,-41.415930000000003,147.1825,"Tasmania","Rest of Tas.","",0]
[101041023,"Eden",3205,443.51521143844815,null,null,null,null,null,-37.03134,149.89098000000001,"New South Wales","Rest of NSW","",0]
[602021054,"Deloraine",5583,443.62098124891156,null,null,null,null,null,-41.654110000000003,146.35972000000001,"Tasmania","Rest of Tas.","",0]
[602011038,"Launceston",5136,444.04078800707401,null,null,null,null,null,-41.434609999999999,147.1455,"Tasmania","Rest of Tas.","",0]
[602031058,"Dilston - Lilydale",3931,444.85876938019089,null,null,null,null,null,-41.36504,147.35043999999999,"Tasmania","Rest of Tas.","",0]
[602011051,"West Launceston",4030,445.25766912725294,null,null,null,null,null,-41.45364,147.12609,"Tasmania","Rest of Tas.","",0]
[602011042,"Newstead",4968,445.4566051057638,null,null,null,null,null,-41.44256,147.16265999999999,"Tasmania","Rest of Tas.","",0]
[101041025,"Merimbula - Tura Beach",9781,446.20071267517471,null,null,null,null,null,-36.900170000000003,149.88211999999999,"New South Wales","Rest of NSW","",0]
[602011047,"South Launceston",4447,446.21376441142326,null,null,null,null,null,-41.455550000000002,147.14750000000001,"Tasmania","Rest of Tas.","",0]
[602011044,"Prospect Vale - Blackstone",6313,446.36189082288854,null,null,null,null,null,-41.474469999999997,147.09791000000001,"Tasmania","Rest of Tas.","",0]
[602021056,"Hadspen - Carrick",3175,446.86494269423031,null,null,null,null,null,-41.509219999999999,147.00975,"Tasmania","Rest of Tas.","",{"$f":"IF(AND(E514>0,E514<45),1,0)","v":0}]
[801021027,"ACT - South West",489,446.89101844641283,null,null,null,null,null,-35.384,148.95609999999999,"Australian Capital Territory","Australian Capital Territory","Australian Capital Territory",0]
[602021057,"Westbury",3961,447.07279990409671,null,null,null,null,null,-41.565240000000003,146.83696,"Tasmania","Rest of Tas.","",0]
[602011043,"Norwood (Tas.)",3795,447.77870079770327,null,null,null,null,null,-41.459200000000003,147.18077,"Tasmania","Rest of Tas.","",0]
[602011037,"Kings Meadows - Punchbowl",3813,448.09204887897101,null,null,null,null,null,-41.468989999999998,147.16226,"Tasmania","Rest of Tas.","",0]
[602011048,"Summerhill - Prospect",4600,448.2447000387221,null,null,null,null,null,-41.479509999999998,147.13693000000001,"Tasmania","Rest of Tas.","",0]
[602011050,"Waverley - St Leonards",3467,449.42446429309797,null,null,null,null,null,-41.456130000000002,147.23409000000001,"Tasmania","Rest of Tas.","",0]
[113031263,"Cootamundra",7444,449.92123339779903,null,null,null,null,null,-34.599519999999998,148.01652000000001,"New South Wales","Rest of NSW","",0]
[801071089,"Tuggeranong",32,449.99045887643751,null,null,null,null,null,-35.506100000000004,149.11247,"Australian Capital Territory","Australian Capital Territory","Australian Capital Territory",0]
[602011052,"Youngtown - Relbia",4697,451.04203269619762,null,null,null,null,null,-41.48856,147.18969000000001,"Tasmania","Rest of Tas.","",0]
[801071078,"Gordon (ACT)",7766,451.23272048611375,null,null,null,null,null,-35.456760000000003,149.08498,"Australian Capital Territory","Australian Capital Territory","Australian Capital Territory",0]
[801071071,"Banks",5060,451.29528057970072,null,null,null,null,null,-35.471939999999996,149.09965,"Australian Capital Territory","Australian Capital Territory","Australian Capital Territory",0]
[801071072,"Bonython",3838,452.30862407034869,null,null,null,null,null,-35.433259999999997,149.07821999999999,"Australian Capital Territory","Australian Capital Territory","Australian Capital Territory",0]
[801071075,"Conder",5313,452.46602958444862,null,null,null,null,null,-35.45926,149.10422,"Australian Capital Territory","Australian Capital Territory","Australian Capital Territory",0]
[801071080,"Greenway",1454,452.51723851690002,null,null,null,null,null,-35.415840000000003,149.06493,"Australian Capital Territory","Australian Capital Territory","Australian Capital Territory",0]
[407021151,"Kingston - Robe",3679,452.64736724396926,null,null,null,null,null,-36.778280000000002,140.01410999999999,"South Australia","Rest of SA","",0]
[101041019,"Bega - Tathra",8045,453.21458145356399,null,null,null,null,null,-36.724829999999997,149.90212,"New South Wales","Rest of NSW","",0]
[801071081,"Isabella Plains",4315,453.79843759588448,null,null,null,null,null,-35.428019999999997,149.09396000000001,"Australian Capital Territory","Australian Capital Territory","Australian Capital Territory",0]
[801071073,"Calwell",5833,453.9227403357711,null,null,null,null,null,-35.440420000000003,149.10706999999999,"Australian Capital Territory","Australian Capital Territory","Australian Capital Territory",0]
[801071086,"Oxley (ACT)",1785,453.92865687141307,null,null,null,null,null,-35.409520000000001,149.07859999999999,"Australian Capital Territory","Australian Capital Territory","Australian Capital Territory",0]
[801071082,"Kambah",15449,454.02242951443839,null,null,null,null,null,-35.386240000000001,149.05804000000001,"Australian Capital Territory","Australian Capital Territory","Australian Capital Territory",0]
[801071088,"Theodore",4020,454.23139860506012,null,null,null,null,null,-35.449620000000003,149.11971,"Australian Capital Territory","Australian Capital Territory","Australian Capital Territory",0]
[801071084,"Monash",5423,454.37752848066685,null,null,null,null,null,-35.415770000000002,149.09063,"Australian Capital Territory","Australian Capital Territory","Australian Capital Territory",0]
[801081091,"Chapman",2723,454.59583739084843,null,null,null,null,null,-35.356209999999997,149.03742,"Australian Capital Territory","Australian Capital Territory","Australian Capital Territory",0]
[801071087,"Richardson",3133,455.24420780660063,null,null,null,null,null,-35.427869999999999,149.11376999999999,"Australian Capital Territory","Australian Capital Territory","Australian Capital Territory",0]
[801081095,"Rivett",3121,455.25637744470339,null,null,null,null,null,-35.347090000000001,149.03790000000001,"Australian Capital Territory","Australian Capital Territory","Australian Capital Territory",0]
[801071090,"Wanniassa",7785,455.59997934689773,null,null,null,null,null,-35.397829999999999,149.09085999999999,"Australian Capital Territory","Australian Capital Territory","Australian Capital Territory",0]
[801081093,"Fisher",3015,455.65202927510859,null,null,null,null,null,-35.361260000000001,149.05704,"Australian Capital Territory","Australian Capital Territory","Australian Capital Territory",0]
[801081092,"Duffy",3241,455.68878350615825,null,null,null,null,null,-35.334589999999999,149.03188,"Australian Capital Territory","Australian Capital Territory","Australian Capital Territory",0]
[801081096,"Stirling",2085,455.89098396277524,null,null,null,null,null,-35.349690000000002,149.04929999999999,"Australian Capital Territory","Australian Capital Territory","Australian Capital Territory",0]
[801071079,"Gowrie (ACT)",3072,455.96945203927419,null,null,null,null,null,-35.41187,149.10902999999999,"Australian Capital Territory","Australian Capital Territory","Australian Capital Territory",0]
[604031097,"West Coast (Tas.)",4677,456.05541262549406,null,null,null,null,null,-41.889879999999998,145.52793,"Tasmania","Rest of Tas.","",0]
[801071074,"Chisholm",5238,456.4304983912038,null,null,null,null,null,-35.422029999999999,149.12476000000001,"Australian Capital Territory","Australian Capital Territory","Australian Capital Territory",0]
[801081097,"Waramanga",2597,456.58351086202538,null,null,null,null,null,-35.352969999999999,149.06214,"Australian Capital Territory","Australian Capital Territory","Australian Capital Territory",0]
[801081094,"Holder",2711,456.71735410909366,null,null,null,null,null,-35.334389999999999,149.04614000000001,"Australian Capital Territory","Australian Capital Territory","Australian Capital Territory",0]
[801071085,"Mount Taylor",4,456.84445000262627,null,null,null,null,null,-35.381239999999998,149.09259,"Australian Capital Territory","Australian Capital Territory","Australian Capital Territory",0]
[801091110,"Torrens",2285,457.1189009111776,null,null,null,null,null,-35.372030000000002,149.08772999999999,"Australian Capital Territory","Australian Capital Territory","Australian Capital Territory",0]
[801071076,"Fadden",3083,457.25817779784381,null,null,null,null,null,-35.401940000000003,149.11765,"Australian Capital Territory","Australian Capital Territory","Australian Capital Territory",0]
[801091108,"Pearce",2543,457.47320801834195,null,null,null,null,null,-35.362220000000001,149.08338000000001,"Australian Capital Territory","Australian Capital Territory","Australian Capital Territory",0]
[801081098,"Weston",3255,457.55597846496613,null,null,null,null,null,-35.335819999999998,149.05929,"Australian Capital Territory","Australian Capital Territory","Australian Capital Territory",0]
[801091099,"Chifley",2489,457.60573654574097,null,null,null,null,null,-35.353400000000001,149.07684,"Australian Capital Territory","Australian Capital Territory","Australian Capital Territory",0]
[801071077,"Gilmore",2843,457.85777235592224,null,null,null,null,null,-35.415219999999998,149.13818000000001,"Australian Capital Territory","Australian Capital Territory","Australian Capital Territory",0]
[215021399,"Red Cliffs",5405,457.95227679644387,null,null,null,null,null,-34.336739999999999,142.227,"Victoria","Rest of Vic.","",0]
[801091101,"Farrer",3357,458.04253361984041,null,null,null,null,null,-35.376730000000002,149.10499999999999,"Australian Capital Territory","Australian Capital Territory","Australian Capital Territory",0]
[801071083,"Macarthur",1460,458.0561603946511,null,null,null,null,null,-35.405239999999999,149.13173,"Australian Capital Territory","Australian Capital Territory","Australian Capital Territory",0]
[801091105,"Lyons (ACT)",2733,458.27505342283888,null,null,null,null,null,-35.340600000000002,149.07396,"Australian Capital Territory","Australian Capital Territory","Australian Capital Territory",0]
[801091106,"Mawson",2920,458.48742816445565,null,null,null,null,null,-35.363399999999999,149.09863000000001,"Australian Capital Territory","Australian Capital Territory","Australian Capital Territory",0]
[801091109,"Phillip",2082,459.04712618608409,null,null,null,null,null,-35.347029999999997,149.0909,"Australian Capital Territory","Australian Capital Territory","Australian Capital Territory",0]
[801091104,"Isaacs",2352,459.35021282411162,null,null,null,null,null,-35.36862,149.11555000000001,"Australian Capital Territory","Australian Capital Territory","Australian Capital Territory",0]
[801091100,"Curtin",5175,459.6321385695914,null,null,null,null,null,-35.324640000000002,149.07763,"Australian Capital Territory","Australian Capital Territory","Australian Capital Territory",0]
[602031060,"Longford",3756,460.06166283215811,null,null,null,null,null,-41.609529999999999,147.09875,"Tasmania","Rest of Tas.","",0]
[801091107,"O'Malley",873,460.24303760319509,null,null,null,null,null,-35.352530000000002,149.11279999999999,"Australian Capital Territory","Australian Capital Territory","Australian Capital Territory",0]
[801091103,"Hughes",2956,460.31390478136223,null,null,null,null,null,-35.332689999999999,149.09491,"Australian Capital Territory","Australian Capital Territory","Australian Capital Territory",0]
[801091102,"Garran",3198,460.68967705442117,null,null,null,null,null,-35.341389999999997,149.10846000000001,"Australian Capital Territory","Australian Capital Territory","Australian Capital Territory",0]
[801021028,"Molonglo",27,460.84744260516123,null,null,null,null,null,-35.260950000000001,149.03233,"Australian Capital Territory","Australian Capital Territory","Australian Capital Territory",0]
[101041022,"Deua - Wadbilliga",56,461.78920638650021,null,null,null,null,null,-36.17745,149.74642,"New South Wales","Rest of NSW","",0]
[801061062,"Deakin",2783,461.8169955780059,null,null,null,null,null,-35.319270000000003,149.10308000000001,"Australian Capital Territory","Australian Capital Territory","Australian Capital Territory",0]
[801031031,"Hume",308,461.84478368145056,null,null,null,null,null,-35.385489999999997,149.16580999999999,"Australian Capital Territory","Australian Capital Territory","Australian Capital Territory",0]
[602031062,"Perth - Evandale",4735,461.94637698632829,null,null,null,null,null,-41.574770000000001,147.25247999999999,"Tasmania","Rest of Tas.","",0]
[801011015,"Holt",4814,461.99301778945164,null,null,null,null,null,-35.224409999999999,149.01187999999999,"Australian Capital Territory","Australian Capital Territory","Australian Capital Territory",0]
[801061069,"Red Hill (ACT)",3249,462.10078890263452,null,null,null,null,null,-35.33343,149.12057999999999,"Australian Capital Territory","Australian Capital Territory","Australian Capital Territory",0]
[801011013,"Hawker",2878,462.12788932597562,null,null,null,null,null,-35.247070000000001,149.03666000000001,"Australian Capital Territory","Australian Capital Territory","Australian Capital Territory",0]
[801011014,"Higgins",3091,462.49766347783435,null,null,null,null,null,-35.232419999999998,149.02719999999999,"Australian Capital Territory","Australian Capital Territory","Australian Capital Territory",0]
[801061070,"Yarralumla",2922,462.54691591489239,null,null,null,null,null,-35.304040000000001,149.09863999999999,"Australian Capital Territory","Australian Capital Territory","Australian Capital Territory",0]
[801011026,"Weetangera",2608,462.83075123144101,null,null,null,null,null,-35.250149999999998,149.04973000000001,"Australian Capital Territory","Australian Capital Territory","Australian Capital Territory",{"$f":"IF(AND(E578>0,E578<45),1,0)","v":0}]
[801011019,"Macgregor (ACT)",5506,462.97135555492849,null,null,null,null,null,-35.209800000000001,149.01101,"Australian Capital Territory","Australian Capital Territory","Australian Capital Territory",0]
[801011024,"Scullin",2814,463.16978070203891,null,null,null,null,null,-35.23462,149.03899999999999,"Australian Capital Territory","Australian Capital Territory","Australian Capital Territory",0]
[801011005,"Cook",2901,463.25395598668104,null,null,null,null,null,-35.26014,149.06566000000001,"Australian Capital Territory","Australian Capital Territory","Australian Capital Territory",0]
[801061063,"Forrest",1466,463.50830023626139,null,null,null,null,null,-35.3172,149.12476000000001,"Australian Capital Territory","Australian Capital Territory","Australian Capital Territory",0]
[801011023,"Page",2880,463.65058710785746,null,null,null,null,null,-35.238639999999997,149.04988,"Australian Capital Territory","Australian Capital Territory","Australian Capital Territory",0]
[801011020,"Macquarie",2556,463.71031207464739,null,null,null,null,null,-35.251190000000001,149.06325000000001,"Australian Capital Territory","Australian Capital Territory","Australian Capital Territory",0]
[801061064,"Griffith (ACT)",3900,463.83975419566963,null,null,null,null,null,-35.325330000000001,149.13713999999999,"Australian Capital Territory","Australian Capital Territory","Australian Capital Territory",0]
[801011017,"Latham",3603,463.92072068607177,null,null,null,null,null,-35.216520000000003,149.03144,"Australian Capital Territory","Australian Capital Territory","Australian Capital Territory",0]
[801031030,"ACT - East",915,463.98587464709664,null,null,null,null,null,-35.350760000000001,149.16316,"Australian Capital Territory","Australian Capital Territory","Australian Capital Territory",0]
[801061067,"Narrabundah",5671,464.00302659433481,null,null,null,null,null,-35.335700000000003,149.14923999999999,"Australian Capital Territory","Australian Capital Territory","Australian Capital Territory",0]
[801061066,"Lake Burley Griffin",0,464.2933688736718,null,null,null,null,null,-35.294849999999997,149.11427,"Australian Capital Territory","Australian Capital Territory","Australian Capital Territory",0]
[801011001,"Aranda",2483,464.43281564847808,null,null,null,null,null,-35.25817,149.0804,"Australian Capital Territory","Australian Capital Territory","Australian Capital Territory",0]
[801011008,"Florey",5041,464.55863947192239,null,null,null,null,null,-35.225879999999997,149.05000000000001,"Australian Capital Territory","Australian Capital Territory","Australian Capital Territory",0]
[801011006,"Dunlop",7109,464.71227478344849,null,null,null,null,null,-35.194020000000002,149.01983999999999,"Australian Capital Territory","Australian Capital Territory","Australian Capital Territory",0]
[801061068,"Parkes (ACT)",3,464.73426082797704,null,null,null,null,null,-35.303350000000002,149.12863999999999,"Australian Capital Territory","Australian Capital Territory","Australian Capital Territory",0]
[801061065,"Kingston - Barton",4162,465.03742381799992,null,null,null,null,null,-35.312480000000001,149.14161999999999,"Australian Capital Territory","Australian Capital Territory","Australian Capital Territory",0]
[101021012,"Queanbeyan West - Jerrabomberra",12571,465.05755342547394,null,null,null,null,null,-35.377580000000002,149.20284000000001,"New South Wales","Rest of NSW","",0]
[801011002,"Belconnen",4437,465.10793574156475,null,null,null,null,null,-35.235660000000003,149.06762000000001,"Australian Capital Territory","Australian Capital Territory","Australian Capital Territory",0]
[801011004,"Charnwood",3068,465.26824207438307,null,null,null,null,null,-35.200189999999999,149.03412,"Australian Capital Territory","Australian Capital Territory","Australian Capital Territory",0]
[801051049,"Acton",1966,465.46662096152147,null,null,null,null,null,-35.280419999999999,149.11677,"Australian Capital Territory","Australian Capital Territory","Australian Capital Territory",0]
[801011009,"Flynn (ACT)",3555,465.54293302374219,null,null,null,null,null,-35.205930000000002,149.04389,"Australian Capital Territory","Australian Capital Territory","Australian Capital Territory",0]
[801011022,"Melba",3200,465.95410203419794,null,null,null,null,null,-35.210160000000002,149.05404999999999,"Australian Capital Territory","Australian Capital Territory","Australian Capital Territory",0]
[801011003,"Bruce",6390,466.15598106544923,null,null,null,null,null,-35.244050000000001,149.09083000000001,"Australian Capital Territory","Australian Capital Territory","Australian Capital Territory",0]
[801051053,"Civic",2823,466.29894572922535,null,null,null,null,null,-35.28125,149.12926999999999,"Australian Capital Territory","Australian Capital Territory","Australian Capital Territory",0]
[801011010,"Fraser",2121,466.6557552612058,null,null,null,null,null,-35.191699999999997,149.04534000000001,"Australian Capital Territory","Australian Capital Territory","Australian Capital Territory",0]
[801051059,"Reid",1583,466.68396229560557,null,null,null,null,null,-35.285780000000003,149.13905,"Australian Capital Territory","Australian Capital Territory","Australian Capital Territory",0]
[801051058,"O'Connor (ACT)",5251,466.82302478710051,null,null,null,null,null,-35.256450000000001,149.11248000000001,"Australian Capital Territory","Australian Capital Territory","Australian Capital Territory",0]
[801051060,"Turner",3595,466.8295011366248,null,null,null,null,null,-35.268810000000002,149.12465,"Australian Capital Territory","Australian Capital Territory","Australian Capital Territory",0]
[801011007,"Evatt",5413,466.87198165661772,null,null,null,null,null,-35.211910000000003,149.06890999999999,"Australian Capital Territory","Australian Capital Territory","Australian Capital Territory",0]
[801011021,"McKellar",2798,467.04695494493319,null,null,null,null,null,-35.21752,149.07704000000001,"Australian Capital Territory","Australian Capital Territory","Australian Capital Territory",0]
[801011018,"Lawson",0,467.30349818569346,null,null,null,null,null,-35.22504,149.08821,"Australian Capital Territory","Australian Capital Territory","Australian Capital Territory",0]
[101021008,"Karabar",8601,467.34262343458425,null,null,null,null,null,-35.375950000000003,149.2328,"New South Wales","Rest of NSW","",0]
[801051051,"Braddon",4558,467.47834686643125,null,null,null,null,null,-35.270780000000002,149.13569000000001,"Australian Capital Territory","Australian Capital Territory","Australian Capital Territory",0]
[801011025,"Spence",2560,467.48723817122954,null,null,null,null,null,-35.198729999999998,149.06438,"Australian Capital Territory","Australian Capital Territory","Australian Capital Territory",0]
[801051052,"Campbell",4930,467.50965258930927,null,null,null,null,null,-35.292340000000003,149.15692000000001,"Australian Capital Territory","Australian Capital Territory","Australian Capital Territory",0]
[801011012,"Gooromon",0,468.19322378669773,null,null,null,null,null,-35.184930000000001,149.06046000000001,"Australian Capital Territory","Australian Capital Territory","Australian Capital Territory",0]
[101021009,"Queanbeyan",10234,468.46877495514781,null,null,null,null,null,-35.351039999999998,149.22545,"New South Wales","Rest of NSW","",0]
[801011016,"Kaleen",7314,468.58740978731032,null,null,null,null,null,-35.227809999999998,149.10918000000001,"Australian Capital Territory","Australian Capital Territory","Australian Capital Territory",0]
[801011011,"Giralang",3304,468.84384679825575,null,null,null,null,null,-35.210929999999998,149.096,"Australian Capital Territory","Australian Capital Territory","Australian Capital Territory",0]
[801051050,"Ainslie",5100,468.93261275393019,null,null,null,null,null,-35.262250000000002,149.14785000000001,"Australian Capital Territory","Australian Capital Territory","Australian Capital Territory",0]
[801051054,"Dickson",2139,469.15137432428713,null,null,null,null,null,-35.252809999999997,149.14174,"Australian Capital Territory","Australian Capital Territory","Australian Capital Territory",0]
[215021395,"Irymple",6477,469.17316597207861,null,null,null,null,null,-34.241669999999999,142.18096,"Victoria","Rest of Vic.","",0]
[801051057,"Lyneham",4485,469.2747174590495,null,null,null,null,null,-35.239800000000002,149.13074,"Australian Capital Territory","Australian Capital Territory","Australian Capital Territory",0]
[801041043,"Hall",331,469.69327204607043,null,null,null,null,null,-35.170180000000002,149.0669,"Australian Capital Territory","Australian Capital Territory","Australian Capital Territory",0]
[801051055,"Downer",3555,469.8935588360485,null,null,null,null,null,-35.243949999999998,149.14354,"Australian Capital Territory","Australian Capital Territory","Australian Capital Territory",0]
[101021010,"Queanbeyan - East",4641,470.14922159063428,null,null,null,null,null,-35.355170000000001,149.25241,"New South Wales","Rest of NSW","",0]
[801041037,"Crace",563,470.21363360375847,null,null,null,null,null,-35.202820000000003,149.10736,"Australian Capital Territory","Australian Capital Territory","Australian Capital Territory",0]
[801041047,"Nicholls",6952,470.54314973439216,null,null,null,null,null,-35.187330000000003,149.09648000000001,"Australian Capital Territory","Australian Capital Territory","Australian Capital Territory",0]
[801051056,"Hackett",2914,470.92968455084252,null,null,null,null,null,-35.249479999999998,149.16352000000001,"Australian Capital Territory","Australian Capital Territory","Australian Capital Territory",0]
[801041045,"Mitchell",7,470.94398659091581,null,null,null,null,null,-35.214469999999999,149.12934000000001,"Australian Capital Territory","Australian Capital Territory","Australian Capital Territory",0]
[103021069,"West Wyalong",5847,471.36981710557563,null,null,null,null,null,-33.900170000000003,146.98429999999999,"New South Wales","Rest of NSW","",0]
[801041048,"Palmerston",5679,471.64822467768028,null,null,null,null,null,-35.194470000000003,149.11940000000001,"Australian Capital Territory","Australian Capital Territory","Australian Capital Territory",0]
[801051061,"Watson",5123,471.66087125233287,null,null,null,null,null,-35.234740000000002,149.15943999999999,"Australian Capital Territory","Australian Capital Territory","Australian Capital Territory",0]
[801041036,"Casey",1492,471.8597692720673,null,null,null,null,null,-35.167009999999998,149.09469999999999,"Australian Capital Territory","Australian Capital Territory","Australian Capital Territory",0]
[801031033,"Majura",249,472.47978965152816,null,null,null,null,null,-35.274749999999997,149.20956000000001,"Australian Capital Territory","Australian Capital Territory","Australian Capital Territory",0]
[801041046,"Ngunnawal",8981,472.62229765162363,null,null,null,null,null,-35.172800000000002,149.11147,"Australian Capital Territory","Australian Capital Territory","Australian Capital Territory",0]
[801041039,"Franklin",3804,472.97975868987146,null,null,null,null,null,-35.199460000000002,149.14329000000001,"Australian Capital Territory","Australian Capital Territory","Australian Capital Territory",0]
[801041040,"Gungahlin",5617,473.373313739921,null,null,null,null,null,-35.18674,149.13619,"Australian Capital Territory","Australian Capital Territory","Australian Capital Territory",0]
[801041044,"Harrison",4441,473.9263905964645,null,null,null,null,null,-35.199060000000003,149.15630999999999,"Australian Capital Territory","Australian Capital Territory","Australian Capital Territory",0]
[801041034,"Amaroo",5569,474.00954733932485,null,null,null,null,null,-35.169589999999999,149.12801999999999,"Australian Capital Territory","Australian Capital Territory","Australian Capital Territory",0]
[801041042,"Gungahlin - West",3,474.21562772370191,null,null,null,null,null,-35.149500000000003,149.11059,"Australian Capital Territory","Australian Capital Territory","Australian Capital Territory",0]
[101021011,"Queanbeyan Region",14110,474.54636297580987,null,null,null,null,null,-35.444040000000001,149.39112,"New South Wales","Rest of NSW","",0]
[215021397,"Mildura",30647,475.06854594307913,null,null,null,null,null,-34.207509999999999,142.12569999999999,"Victoria","Rest of Vic.","",0]
[801041038,"Forde",2324,475.37242510568461,null,null,null,null,null,-35.168230000000001,149.14607000000001,"Australian Capital Territory","Australian Capital Territory","Australian Capital Territory",{"$f":"IF(AND(E642>0,E642<45),1,0)","v":0}]
[801041041,"Gungahlin - East",36,475.46066097456986,null,null,null,null,null,-35.191110000000002,149.17016000000001,"Australian Capital Territory","Australian Capital Territory","Australian Capital Territory",0]
[801041035,"Bonner",1494,476.0187472183282,null,null,null,null,null,-35.155990000000003,149.14295000000001,"Australian Capital Territory","Australian Capital Territory","Australian Capital Territory",0]
[801031032,"Kowen",34,477.54738871407784,null,null,null,null,null,-35.310870000000001,149.31363999999999,"Australian Capital Territory","Australian Capital Territory","Australian Capital Territory",0]
[101011004,"Yass Region",10395,479.74130210960243,null,null,null,null,null,-34.876719999999999,148.89314999999999,"New South Wales","Rest of NSW","",0]
[602031064,"St Helens - Scamander",6177,480.2779020537975,null,null,null,null,null,-41.419519999999999,148.04847000000001,"Tasmania","Rest of Tas.","",0]
[215021396,"Merbein",4641,481.88769199302033,null,null,null,null,null,-34.181429999999999,142.03621000000001,"Victoria","Rest of Vic.","",0]
[101041027,"Narooma - Bermagui",8631,482.85660253962772,null,null,null,null,null,-36.313079999999999,150.07371000000001,"New South Wales","Rest of NSW","",0]
[109021179,"Wentworth-Balranald Region",3661,484.83316099266881,null,null,null,null,null,-33.783320000000003,142.90414999999999,"New South Wales","Rest of NSW","",0]
[101011003,"Yass",6328,485.40693337932674,null,null,null,null,null,-34.822859999999999,148.91596000000001,"New South Wales","Rest of NSW","",0]
[109021178,"Wentworth - Buronga",5769,487.97868037416674,null,null,null,null,null,-34.114179999999998,142.04130000000001,"New South Wales","Rest of NSW","",0]
[101011005,"Young",10281,493.19627067936267,null,null,null,null,null,-34.32114,148.35307,"New South Wales","Rest of NSW","",0]
[602031061,"Northern Midlands",3618,500.23501910532804,null,null,null,null,null,-41.862470000000002,147.51405,"Tasmania","Rest of Tas.","",0]
[101041026,"Moruya - Tuross Head",7618,502.04396638099314,null,null,null,null,null,-35.947150000000001,150.10721000000001,"New South Wales","Rest of NSW","",0]
[101011006,"Young Region",7393,502.1905726601974,null,null,null,null,null,-34.309800000000003,148.4956,"New South Wales","Rest of NSW","",0]
[407031161,"Karoonda - Lameroo",3052,503.78665818427163,null,null,null,null,null,-35.217350000000003,140.34089,"South Australia","Rest of SA","",0]
[101021007,"Braidwood",3357,504.11229351767605,null,null,null,null,null,-35.455100000000002,149.79319000000001,"New South Wales","Rest of NSW","",0]
[101041024,"Eurobodalla Hinterland",3210,507.92954775916331,null,null,null,null,null,-35.774610000000003,150.07225,"New South Wales","Rest of NSW","",0]
[603011065,"Central Highlands",2170,509.51038012752144,null,null,null,null,null,-42.197029999999998,146.69879,"Tasmania","Rest of Tas.","",0]
[101041021,"Broulee - Tomakin",2828,511.43839239080728,null,null,null,null,null,-35.845979999999997,150.16171,"New South Wales","Rest of NSW","",0]
[103021066,"Grenfell",3647,516.88409720455468,null,null,null,null,null,-33.87923,148.02587,"New South Wales","Rest of NSW","",0]
[101041018,"Batemans Bay - South",8221,518.50243629243653,null,null,null,null,null,-35.783999999999999,150.21063000000001,"New South Wales","Rest of NSW","",0]
[101041017,"Batemans Bay",7503,520.49912980648696,null,null,null,null,null,-35.70111,150.18174999999999,"New South Wales","Rest of NSW","",0]
[407031169,"The Coorong",5537,522.61281466058688,null,null,null,null,null,-35.700940000000003,139.72121000000001,"South Australia","Rest of SA","",0]
[407031163,"Loxton Region",1735,528.66104480565593,null,null,null,null,null,-34.622599999999998,140.59123,"South Australia","Rest of SA","",0]
[604031098,"Wilderness - West",0,533.93882100635892,null,null,null,null,null,-42.579140000000002,145.7124,"Tasmania","Rest of Tas.","",0]
[407031162,"Loxton",5233,540.73645469003611,null,null,null,null,null,-34.461359999999999,140.59728999999999,"South Australia","Rest of SA","",0]
[101011001,"Goulburn",21484,545.24592464726447,null,null,null,null,null,-34.750540000000001,149.71953999999999,"New South Wales","Rest of NSW","",0]
[407031168,"Renmark Region",4856,549.52569516560993,null,null,null,null,null,-34.182589999999998,140.8151,"South Australia","Rest of SA","",0]
[114011283,"Ulladulla Region",4642,551.88991834202955,null,null,null,null,null,-35.376570000000001,150.35389000000001,"New South Wales","Rest of NSW","",0]
[103021065,"Forbes",9803,552.58885638729532,null,null,null,null,null,-33.461579999999998,147.92488,"New South Wales","Rest of NSW","",0]
[101011002,"Goulburn Region",11614,554.54594107345383,null,null,null,null,null,-34.516480000000001,149.60463999999999,"New South Wales","Rest of NSW","",0]
[407031160,"Berri",4103,554.7029093553175,null,null,null,null,null,-34.277059999999999,140.60771,"South Australia","Rest of SA","",0]
[603011067,"Southern Midlands",6071,554.86407054596577,null,null,null,null,null,-42.438780000000001,147.40907999999999,"Tasmania","Rest of Tas.","",0]
[407031167,"Renmark",4387,554.87999185078172,null,null,null,null,null,-34.167729999999999,140.74780000000001,"South Australia","Rest of SA","",0]
[603031074,"Triabunna - Bicheno",4164,557.19862655456052,null,null,null,null,null,-42.26314,147.97184999999999,"Tasmania","Rest of Tas.","",0]
[103021063,"Cowra",8927,557.47703499947977,null,null,null,null,null,-33.791049999999998,148.66102000000001,"New South Wales","Rest of NSW","",0]
[114011275,"Ettrema - Sassafras - Budawang",38,559.91882055466192,null,null,null,null,null,-35.09657,150.23988,"New South Wales","Rest of NSW","",0]
[114011282,"Ulladulla",14149,561.35667325501481,null,null,null,null,null,-35.343319999999999,150.45115999999999,"New South Wales","Rest of NSW","",0]
[407031159,"Barmera",6524,562.89538542629839,null,null,null,null,null,-34.272820000000003,140.48469,"South Australia","Rest of SA","",0]
[103021064,"Cowra Region",5349,563.25246613764602,null,null,null,null,null,-33.74024,148.68296000000001,"New South Wales","Rest of NSW","",0]
[603011066,"Derwent Valley",3094,573.64112169835244,null,null,null,null,null,-42.775489999999998,146.8074,"Tasmania","Rest of Tas.","",0]
[103021062,"Condobolin",6893,576.49677311104472,null,null,null,null,null,-32.908119999999997,147.03384,"New South Wales","Rest of NSW","",0]
[407031166,"Murray Bridge Region",3396,577.30803440129273,null,null,null,null,null,-35.362000000000002,139.26105999999999,"South Australia","Rest of SA","",0]
[601011001,"Bridgewater - Gagebrook",7490,578.06299537219456,null,null,null,null,null,-42.728299999999997,147.17934,"Tasmania","Greater Hobart","Greater Hobart",0]
[601011002,"Brighton - Pontville",4797,578.7172335860198,null,null,null,null,null,-42.701239999999999,147.30232000000001,"Tasmania","Greater Hobart","Greater Hobart",0]
[601031020,"New Norfolk",6334,580.79911211717206,null,null,null,null,null,-42.773719999999997,147.10408000000001,"Tasmania","Greater Hobart","Greater Hobart",0]
[114011280,"Sussex Inlet - Berrara",4130,581.36311493211804,null,null,null,null,null,-35.146500000000003,150.56164000000001,"New South Wales","Rest of NSW","",0]
[601031013,"Austins Ferry - Granton",3745,582.16770151186802,null,null,null,null,null,-42.763530000000003,147.19448,"Tasmania","Greater Hobart","Greater Hobart",0]
[601031015,"Claremont (Tas.)",7682,585.50429870703363,null,null,null,null,null,-42.78801,147.22256999999999,"Tasmania","Greater Hobart","Greater Hobart",0]
[601011003,"Old Beach - Otago",3730,585.52099266346522,null,null,null,null,null,-42.767940000000003,147.29760999999999,"Tasmania","Greater Hobart","Greater Hobart",0]
[114011281,"Tomerong - Wandandian - Woollamia",3296,586.70915726845067,null,null,null,null,null,-34.996940000000002,150.51279,"New South Wales","Rest of NSW","",0]
[114011279,"St Georges Basin - Erowal Bay",12610,587.85782203115787,null,null,null,null,null,-35.10342,150.61281,"New South Wales","Rest of NSW","",0]
[601031014,"Berriedale - Chigwell",5339,589.34256624134787,null,null,null,null,null,-42.831290000000003,147.19726,"Tasmania","Greater Hobart","Greater Hobart",0]
[603011068,"Wilderness - East",7,589.899252055631,null,null,null,null,null,-43.013469999999998,146.33242999999999,"Tasmania","Rest of Tas.","",0]
[601021010,"Risdon Vale",2906,590.15022743464647,null,null,null,null,null,-42.79589,147.35731000000001,"Tasmania","Greater Hobart","Greater Hobart",0]
[601061035,"Sorell - Richmond",7770,590.19680457194011,null,null,null,null,null,-42.73565,147.56362999999999,"Tasmania","Greater Hobart","Greater Hobart",0]
[601031018,"Montrose - Rosetta",4575,590.21872532949294,null,null,null,null,null,-42.826009999999997,147.24929,"Tasmania","Greater Hobart","Greater Hobart",0]
[901031003,"Jervis Bay",378,590.95059161544498,null,null,null,null,null,-35.152470000000001,150.69051999999999,"Other Territories","Other Territories","",0]
[407031165,"Murray Bridge",16708,591.00909127035175,null,null,null,null,null,-35.126480000000001,139.25789,"South Australia","Rest of SA","",0]
[601031017,"Glenorchy",10534,592.48690085690066,null,null,null,null,null,-42.843429999999998,147.26537999999999,"Tasmania","Greater Hobart","Greater Hobart",0]
[103021067,"Parkes (NSW)",10941,592.52463665264884,null,null,null,null,null,-33.172930000000001,148.18984,"New South Wales","Rest of NSW","",0]
[601021006,"Geilston Bay - Risdon",3183,593.33081489261735,null,null,null,null,null,-42.829549999999998,147.34630000000001,"Tasmania","Greater Hobart","Greater Hobart",0]
[601031019,"Moonah",5126,593.57391032799978,null,null,null,null,null,-42.845709999999997,147.29570000000001,"Tasmania","Greater Hobart","Greater Hobart",0]
[601031021,"West Moonah",3774,593.58195333450135,null,null,null,null,null,-42.849640000000001,147.28137000000001,"Tasmania","Greater Hobart","Greater Hobart",{"$f":"IF(AND(E706>0,E706<45),1,0)","v":0}]
[601031016,"Derwent Park - Lutana",4145,593.82249914882709,null,null,null,null,null,-42.84357,147.3124,"Tasmania","Greater Hobart","Greater Hobart",0]
[114011276,"Huskisson - Vincentia",3820,594.13644373333113,null,null,null,null,null,-35.066110000000002,150.66558000000001,"New South Wales","Rest of NSW","",0]
[601051030,"New Town",5969,595.02683158057175,null,null,null,null,null,-42.856180000000002,147.30849000000001,"Tasmania","Greater Hobart","Greater Hobart",0]
[601021008,"Lindisfarne - Rose Bay",6715,595.49703808138509,null,null,null,null,null,-42.844569999999997,147.36724000000001,"Tasmania","Greater Hobart","Greater Hobart",0]
[601051028,"Lenah Valley - Mount Stuart",8132,595.77254170884771,null,null,null,null,null,-42.87153,147.27791999999999,"Tasmania","Greater Hobart","Greater Hobart",0]
[601041025,"Mount Wellington",0,596.61237873500818,null,null,null,null,null,-42.898350000000001,147.20598000000001,"Tasmania","Greater Hobart","Greater Hobart",0]
[601021009,"Mornington - Warrane",4593,597.46105341154498,null,null,null,null,null,-42.856180000000002,147.39333999999999,"Tasmania","Greater Hobart","Greater Hobart",0]
[601051027,"Hobart",7443,597.48762789259433,null,null,null,null,null,-42.875100000000003,147.32574,"Tasmania","Greater Hobart","Greater Hobart",0]
[601051033,"West Hobart",5800,597.88146559054587,null,null,null,null,null,-42.884329999999999,147.30555000000001,"Tasmania","Greater Hobart","Greater Hobart",0]
[601021005,"Cambridge",7216,598.09913207262696,null,null,null,null,null,-42.841639999999998,147.46589,"Tasmania","Greater Hobart","Greater Hobart",0]
[601021004,"Bellerive - Rosny",5831,598.39369257621968,null,null,null,null,null,-42.871369999999999,147.37105,"Tasmania","Greater Hobart","Greater Hobart",0]
[114011278,"Nowra",18104,598.67895691222782,null,null,null,null,null,-34.906260000000003,150.59653,"New South Wales","Rest of NSW","",0]
[603021072,"Huonville - Franklin",7764,599.45896227341552,null,null,null,null,null,-42.989159999999998,146.93838,"Tasmania","Rest of Tas.","",0]
[601051032,"South Hobart - Fern Tree",5904,600.45228629815949,null,null,null,null,null,-42.91592,147.27931000000001,"Tasmania","Greater Hobart","Greater Hobart",0]
[103041076,"Blayney",7006,600.50585223577286,null,null,null,null,null,-33.607819999999997,149.14386999999999,"New South Wales","Rest of NSW","",0]
[601051029,"Mount Nelson - Dynnyrne",4403,601.70427467274476,null,null,null,null,null,-42.91695,147.32043999999999,"Tasmania","Greater Hobart","Greater Hobart",0]
[601051031,"Sandy Bay",11156,601.77652384274472,null,null,null,null,null,-42.912149999999997,147.34079,"Tasmania","Greater Hobart","Greater Hobart",0]
[114011277,"North Nowra - Bomaderry",15235,601.97953207374826,null,null,null,null,null,-34.830939999999998,150.57705000000001,"New South Wales","Rest of NSW","",0]
[407031164,"Mannum",5831,601.98989639773595,null,null,null,null,null,-34.73265,139.43804,"South Australia","Rest of SA","",0]
[601021007,"Howrah - Tranmere",9635,602.08158858026457,null,null,null,null,null,-42.895290000000003,147.41254000000001,"Tasmania","Greater Hobart","Greater Hobart",0]
[114021289,"Southern Highlands",6150,602.76010619409226,null,null,null,null,null,-34.465530000000001,150.24905000000001,"New South Wales","Rest of NSW","",0]
[601021011,"Rokeby",5493,602.81141969975033,null,null,null,null,null,-42.894770000000001,147.43932000000001,"Tasmania","Greater Hobart","Greater Hobart",0]
[114011273,"Callala Bay - Currarong",3526,603.04669769459451,null,null,null,null,null,-34.990569999999998,150.72255999999999,"New South Wales","Rest of NSW","",0]
[601061034,"Dodges Ferry - Lewisham",7084,604.44756567130719,null,null,null,null,null,-42.812600000000003,147.76104000000001,"Tasmania","Greater Hobart","Greater Hobart",0]
[601041022,"Kingston - Huntingfield",10752,605.43887788853465,null,null,null,null,null,-42.965739999999997,147.27097000000001,"Tasmania","Greater Hobart","Greater Hobart",0]
[601041026,"Taroona - Bonnet Hill",3511,605.77011570463173,null,null,null,null,null,-42.950600000000001,147.34017,"Tasmania","Greater Hobart","Greater Hobart",0]
[407011144,"Goolwa - Port Elliot",10438,605.95834035973496,null,null,null,null,null,-35.508809999999997,138.80494999999999,"South Australia","Rest of SA","",0]
[103021068,"Parkes Region",3391,606.10640414016007,null,null,null,null,null,-32.953719999999997,148.00149999999999,"New South Wales","Rest of NSW","",0]
[114011272,"Berry - Kangaroo Valley",8286,606.66210075180936,null,null,null,null,null,-34.759219999999999,150.578,"New South Wales","Rest of NSW","",0]
[114021287,"Moss Vale - Berrima",8932,606.85892834567505,null,null,null,null,null,-34.53257,150.37264999999999,"New South Wales","Rest of NSW","",0]
[114011274,"Culburra Beach",4789,607.53221499727579,null,null,null,null,null,-34.902230000000003,150.71039999999999,"New South Wales","Rest of NSW","",0]
[407011147,"Strathalbyn Region",6637,608.1402040325803,null,null,null,null,null,-35.345149999999997,138.88316,"South Australia","Rest of SA","",0]
[114021288,"Robertson - Fitzroy Falls",3373,610.7030009141356,null,null,null,null,null,-34.613990000000001,150.50262000000001,"New South Wales","Rest of NSW","",0]
[601041024,"Margate - Snug",7087,611.19206314099972,null,null,null,null,null,-43.03595,147.21048999999999,"Tasmania","Greater Hobart","Greater Hobart",0]
[601041023,"Kingston Beach - Blackmans Bay",9741,612.85509032348943,null,null,null,null,null,-43.024619999999999,147.3167,"Tasmania","Greater Hobart","Greater Hobart",0]
[601021012,"South Arm",4075,612.92328960424766,null,null,null,null,null,-42.9801,147.48232999999999,"Tasmania","Greater Hobart","Greater Hobart",0]
[114021284,"Bowral",12154,613.38812732795645,null,null,null,null,null,-34.486699999999999,150.41941,"New South Wales","Rest of NSW","",0]
[103011061,"Oberon",4459,614.8577551614178,null,null,null,null,null,-33.888030000000001,149.77569,"New South Wales","Rest of NSW","",0]
[407011146,"Strathalbyn",6454,615.07818563365902,null,null,null,null,null,-35.242310000000003,138.86563000000001,"South Australia","Rest of SA","",0]
[407031170,"Waikerie",6329,619.17641734260167,null,null,null,null,null,-34.200339999999997,139.72130000000001,"South Australia","Rest of SA","",0]
[114021286,"Mittagong",8103,620.15731101030622,null,null,null,null,null,-34.45908,150.48715000000001,"New South Wales","Rest of NSW","",0]
[401021008,"Mount Barker Region",5924,620.50389127627818,null,null,null,null,null,-35.090699999999998,138.90450000000001,"South Australia","Greater Adelaide","Greater Adelaide",0]
[407011148,"Victor Harbor",13411,622.50957666444094,null,null,null,null,null,-35.541699999999999,138.58098000000001,"South Australia","Rest of SA","",0]
[603021070,"Cygnet",3887,622.63074840385366,null,null,null,null,null,-43.168770000000002,147.10866999999999,"Tasmania","Rest of Tas.","",0]
[401021009,"Nairne",4417,623.27800459839841,null,null,null,null,null,-35.032539999999997,138.91191000000001,"South Australia","Greater Adelaide","Greater Adelaide",0]
[107031140,"Kiama Hinterland - Gerringong",7024,624.29333118867328,null,null,null,null,null,-34.68909,150.75415000000001,"New South Wales","Rest of NSW","",0]
[401021007,"Mount Barker",14915,624.9223448588981,null,null,null,null,null,-35.069070000000004,138.86373,"South Australia","Greater Adelaide","Greater Adelaide",0]
[103041077,"Orange",19629,626.11362805332021,null,null,null,null,null,-33.30133,149.11259999999999,"New South Wales","Rest of NSW","",0]
[103041079,"Orange Region",10997,626.43207739456352,null,null,null,null,null,-33.146529999999998,148.8476,"New South Wales","Rest of NSW","",0]
[114021285,"Hill Top - Colo Vale",5674,627.38293990136799,null,null,null,null,null,-34.360849999999999,150.49226999999999,"New South Wales","Rest of NSW","",0]
[107031136,"Albion Park - Macquarie Pass",13618,629.02725789625833,null,null,null,null,null,-34.576900000000002,150.71906000000001,"New South Wales","Rest of NSW","",0]
[401021005,"Hahndorf - Echunga",4280,630.50841946477351,null,null,null,null,null,-35.090859999999999,138.77649,"South Australia","Greater Adelaide","Greater Adelaide",0]
[107031138,"Kiama",7164,631.42612201903648,null,null,null,null,null,-34.681800000000003,150.84345999999999,"New South Wales","Rest of NSW","",0]
[401021006,"Lobethal - Woodside",9010,631.44960192875283,null,null,null,null,null,-34.948799999999999,138.86967999999999,"South Australia","Greater Adelaide","Greater Adelaide",0]
[103041078,"Orange - North",16838,631.53309394046028,null,null,null,null,null,-33.249429999999997,149.12597,"New South Wales","Rest of NSW","",0]
[603021071,"Geeveston - Dover",3493,632.07881593709988,null,null,null,null,null,-43.301290000000002,146.90761000000001,"Tasmania","Rest of Tas.","",0]
[107031139,"Kiama Downs - Minnamurra",5737,634.55026485173471,null,null,null,null,null,-34.639589999999998,150.84898000000001,"New South Wales","Rest of NSW","",0]
[107031137,"Albion Park Rail",7003,635.60828160601329,null,null,null,null,null,-34.561880000000002,150.79492999999999,"New South Wales","Rest of NSW","",0]
[107031141,"Shellharbour - Flinders",13446,635.70940382326387,null,null,null,null,null,-34.602130000000002,150.83192,"New South Wales","Rest of NSW","",0]
[107011131,"Dapto - Avondale",22499,636.11711298349087,null,null,null,null,null,-34.522559999999999,150.76647,"New South Wales","Rest of NSW","",0]
[103011060,"Bathurst Region",6610,637.48855905507276,null,null,null,null,null,-33.440449999999998,149.53295,"New South Wales","Rest of NSW","",0]
[405011110,"Barossa - Angaston",5928,637.61743437651671,null,null,null,null,null,-34.628790000000002,139.04864000000001,"South Australia","Rest of SA","",0]
[401021004,"Aldgate - Stirling",17319,637.67024387383412,null,null,null,null,null,-35.034889999999997,138.72551999999999,"South Australia","Greater Adelaide","Greater Adelaide",0]
[107031142,"Shellharbour - Oak Flats",9489,637.74875036349317,null,null,null,null,null,-34.564830000000001,150.82653999999999,"New South Wales","Rest of NSW","",{"$f":"IF(AND(E770>0,E770<45),1,0)","v":0}]
[403041075,"Clarendon",2627,638.22847126799923,null,null,null,null,null,-35.123950000000001,138.65492,"South Australia","Greater Adelaide","Greater Adelaide",0]
[403041088,"Willunga",3286,638.72325651522601,null,null,null,null,null,-35.281500000000001,138.54235,"South Australia","Greater Adelaide","Greater Adelaide",0]
[401021003,"Adelaide Hills",6835,638.8033428401427,null,null,null,null,null,-34.810310000000001,138.88209000000001,"South Australia","Greater Adelaide","Greater Adelaide",0]
[107011132,"Horsley - Kembla Grange",7417,638.96209302577029,null,null,null,null,null,-34.47748,150.76418000000001,"New South Wales","Rest of NSW","",0]
[407011149,"Yankalilla",4990,640.08840096369249,null,null,null,null,null,-35.51699,138.38011,"South Australia","Rest of SA","",0]
[124021456,"Blue Mountains - South",9,640.13116481025816,null,null,null,null,null,-33.993479999999998,150.28792000000001,"New South Wales","Greater Sydney","Greater Sydney",0]
[107031143,"Warilla",20057,640.45145177563461,null,null,null,null,null,-34.554839999999999,150.85423,"New South Wales","Rest of NSW","",0]
[603021069,"Bruny Island - Kettering",2795,640.98303238795131,null,null,null,null,null,-43.301819999999999,147.27928,"Tasmania","Rest of Tas.","",0]
[403041083,"McLaren Vale",5727,641.05066686317127,null,null,null,null,null,-35.20261,138.56541999999999,"South Australia","Greater Adelaide","Greater Adelaide",0]
[603031073,"Forestier - Tasman",2355,641.18410967092723,null,null,null,null,null,-43.165689999999998,147.78261000000001,"Tasmania","Rest of Tas.","",0]
[123031445,"Bargo",5408,641.21730296174655,null,null,null,null,null,-34.272530000000003,150.59939,"New South Wales","Greater Sydney","Greater Sydney",0]
[103011058,"Bathurst",22984,642.57746081555945,null,null,null,null,null,-33.399120000000003,149.55893,"New South Wales","Rest of NSW","",0]
[401021010,"Uraidla - Summertown",5349,642.71701549996919,null,null,null,null,null,-34.923490000000001,138.74329,"South Australia","Greater Adelaide","Greater Adelaide",0]
[107021135,"Illawarra Catchment Reserve",12,642.76376592820998,null,null,null,null,null,-34.369450000000001,150.71546000000001,"New South Wales","Rest of NSW","",0]
[123031447,"Picton - Tahmoor - Buxton",15369,642.95780366403915,null,null,null,null,null,-34.193449999999999,150.54409999999999,"New South Wales","Greater Sydney","Greater Sydney",0]
[403041071,"Aberfoyle Park",11873,644.04896875406234,null,null,null,null,null,-35.077840000000002,138.61350999999999,"South Australia","Greater Adelaide","Greater Adelaide",0]
[403041072,"Aldinga",14153,644.25688432313689,null,null,null,null,null,-35.289290000000001,138.46834999999999,"South Australia","Greater Adelaide","Greater Adelaide",0]
[403041078,"Hackham - Onkaparinga Hills",6419,644.99546811625169,null,null,null,null,null,-35.146540000000002,138.55381,"South Australia","Greater Adelaide","Greater Adelaide",0]
[403041076,"Coromandel Valley",4282,645.09633490751651,null,null,null,null,null,-35.04515,138.62341000000001,"South Australia","Greater Adelaide","Greater Adelaide",0]
[103011059,"Bathurst - East",9497,645.3112616673144,null,null,null,null,null,-33.415230000000001,149.62921,"New South Wales","Rest of NSW","",0]
[107011134,"Unanderra - Mount Kembla",15322,645.72709455630229,null,null,null,null,null,-34.441940000000002,150.82409999999999,"New South Wales","Rest of NSW","",0]
[107011130,"Berkeley - Warrawong - Windang",26649,645.74100701157636,null,null,null,null,null,-34.488799999999998,150.86691999999999,"New South Wales","Rest of NSW","",0]
[403031067,"Blackwood",11227,645.77841149211986,null,null,null,null,null,-35.027529999999999,138.62735000000001,"South Australia","Greater Adelaide","Greater Adelaide",0]
[403031065,"Belair",4547,645.80162670756999,null,null,null,null,null,-34.99776,138.64859000000001,"South Australia","Greater Adelaide","Greater Adelaide",0]
[403041089,"Woodcroft",11072,645.85370213327838,null,null,null,null,null,-35.108600000000003,138.56912,"South Australia","Greater Adelaide","Greater Adelaide",0]
[403041080,"Happy Valley",13633,646.10336023727848,null,null,null,null,null,-35.086860000000001,138.58112,"South Australia","Greater Adelaide","Greater Adelaide",0]
[401031012,"Glenside - Beaumont",8949,647.26949721339088,null,null,null,null,null,-34.958509999999997,138.65857,"South Australia","Greater Adelaide","Greater Adelaide",0]
[403041081,"Happy Valley Reservoir",0,647.75199174029308,null,null,null,null,null,-35.06767,138.5737,"South Australia","Greater Adelaide","Greater Adelaide",0]
[403041084,"Morphett Vale - East",13450,647.8740160908759,null,null,null,null,null,-35.120060000000002,138.53568000000001,"South Australia","Greater Adelaide","Greater Adelaide",0]
[403041087,"Seaford (SA)",18929,647.95030260705073,null,null,null,null,null,-35.197949999999999,138.482,"South Australia","Greater Adelaide","Greater Adelaide",0]
[403041079,"Hackham West - Huntfield Heights",7510,647.97567485715399,null,null,null,null,null,-35.148989999999998,138.51461,"South Australia","Greater Adelaide","Greater Adelaide",0]
[401031011,"Burnside - Wattle Park",17960,648.10872763326518,null,null,null,null,null,-34.925890000000003,138.67202,"South Australia","Greater Adelaide","Greater Adelaide",0]
[403041077,"Flagstaff Hill",10431,648.22406488393744,null,null,null,null,null,-35.047719999999998,138.58180999999999,"South Australia","Greater Adelaide","Greater Adelaide",0]
[401041014,"Athelstone",9258,648.70651918517615,null,null,null,null,null,-34.871490000000001,138.70541,"South Australia","Greater Adelaide","Greater Adelaide",0]
[107011133,"Port Kembla Industrial",28,648.94608599759761,null,null,null,null,null,-34.460970000000003,150.88538,"New South Wales","Rest of NSW","",0]
[402051051,"Highbury - Dernancourt",10362,648.95039639022252,null,null,null,null,null,-34.85436,138.71538000000001,"South Australia","Greater Adelaide","Greater Adelaide",0]
[401041016,"Rostrevor - Magill",20451,649.13736703562176,null,null,null,null,null,-34.89846,138.67937000000001,"South Australia","Greater Adelaide","Greater Adelaide",0]
[403031069,"Mitcham (SA)",15708,649.18728628899703,null,null,null,null,null,-34.978059999999999,138.61966000000001,"South Australia","Greater Adelaide","Greater Adelaide",0]
[403031066,"Bellevue Heights",7257,649.18997820475988,null,null,null,null,null,-35.024529999999999,138.58605,"South Australia","Greater Adelaide","Greater Adelaide",0]
[403041085,"Morphett Vale - West",9150,649.34401965595089,null,null,null,null,null,-35.122430000000001,138.51551000000001,"South Australia","Greater Adelaide","Greater Adelaide",0]
[107041146,"Figtree - Keiraville",19883,649.48439004460045,null,null,null,null,null,-34.419199999999996,150.85461000000001,"New South Wales","Rest of NSW","",0]
[403041086,"Reynella",9781,649.49540005500251,null,null,null,null,null,-35.095219999999998,138.53236999999999,"South Australia","Greater Adelaide","Greater Adelaide",0]
[403041073,"Christie Downs",8626,649.56571545453369,null,null,null,null,null,-35.144829999999999,138.49743000000001,"South Australia","Greater Adelaide","Greater Adelaide",0]
[401031013,"Toorak Gardens",15287,649.84371663145816,null,null,null,null,null,-34.937379999999997,138.64116999999999,"South Australia","Greater Adelaide","Greater Adelaide",0]
[402051055,"St Agnes - Ridgehaven",12156,649.84712055714169,null,null,null,null,null,-34.827199999999998,138.72472999999999,"South Australia","Greater Adelaide","Greater Adelaide",0]
[405011112,"Lyndoch",5676,650.00023139897019,null,null,null,null,null,-34.631300000000003,138.88114999999999,"South Australia","Rest of SA","",0]
[403031070,"Panorama",7847,650.23560300164718,null,null,null,null,null,-35.002609999999997,138.58847,"South Australia","Greater Adelaide","Greater Adelaide",0]
[405011115,"Tanunda",4415,650.26705806851101,null,null,null,null,null,-34.521459999999998,138.97215,"South Australia","Rest of SA","",0]
[403021063,"Sheidow Park - Trott Park",9561,650.28371608709188,null,null,null,null,null,-35.072479999999999,138.53824,"South Australia","Greater Adelaide","Greater Adelaide",0]
[401071024,"Unley - Parkside",19640,650.634692507247,null,null,null,null,null,-34.953789999999998,138.61891,"South Australia","Greater Adelaide","Greater Adelaide",0]
[402051054,"Redwood Park",15821,650.85570083435243,null,null,null,null,null,-34.803100000000001,138.7304,"South Australia","Greater Adelaide","Greater Adelaide",0]
[401041015,"Paradise - Newton",18793,650.94503026703535,null,null,null,null,null,-34.87753,138.67187999999999,"South Australia","Greater Adelaide","Greater Adelaide",0]
[401051017,"Norwood (SA)",9769,651.2383502625969,null,null,null,null,null,-34.922890000000002,138.63401999999999,"South Australia","Greater Adelaide","Greater Adelaide",0]
[107041149,"Wollongong",27882,651.33113108360862,null,null,null,null,null,-34.427030000000002,150.88703000000001,"New South Wales","Rest of NSW","",0]
[401051018,"Payneham - Felixstow",12055,651.45695587633895,null,null,null,null,null,-34.90025,138.64813000000001,"South Australia","Greater Adelaide","Greater Adelaide",0]
[403041074,"Christies Beach",9836,651.62729931782337,null,null,null,null,null,-35.136369999999999,138.47723999999999,"South Australia","Greater Adelaide","Greater Adelaide",0]
[403031068,"Colonel Light Gardens",15071,651.67263324466319,null,null,null,null,null,-34.979320000000001,138.58698000000001,"South Australia","Greater Adelaide","Greater Adelaide",0]
[402051052,"Hope Valley - Modbury",15738,651.73049873010746,null,null,null,null,null,-34.842829999999999,138.68822,"South Australia","Greater Adelaide","Greater Adelaide",0]
[403041082,"Lonsdale",27,651.99130861280264,null,null,null,null,null,-35.106769999999997,138.49288000000001,"South Australia","Greater Adelaide","Greater Adelaide",0]
[403021061,"Mitchell Park",14232,652.03891995471349,null,null,null,null,null,-35.008499999999998,138.56126,"South Australia","Greater Adelaide","Greater Adelaide",0]
[403021060,"Marino - Seaview Downs",9055,652.09976283839956,null,null,null,null,null,-35.044319999999999,138.53501,"South Australia","Greater Adelaide","Greater Adelaide",0]
[402051049,"Golden Grove",9429,652.2668373885956,null,null,null,null,null,-34.768740000000001,138.73904999999999,"South Australia","Greater Adelaide","Greater Adelaide",0]
[403021059,"Hallett Cove",12257,652.41635603171244,null,null,null,null,null,-35.07282,138.51101,"South Australia","Greater Adelaide","Greater Adelaide",0]
[405011114,"Nuriootpa",5968,652.43951013684318,null,null,null,null,null,-34.466810000000002,138.99132,"South Australia","Rest of SA","",{"$f":"IF(AND(E834>0,E834<45),1,0)","v":0}]
[401051019,"St Peters - Marden",13058,652.81598387607096,null,null,null,null,null,-34.90401,138.62782000000001,"South Australia","Greater Adelaide","Greater Adelaide",0]
[401071023,"Goodwood - Millswood",17201,652.82339607246854,null,null,null,null,null,-34.95579,138.58941999999999,"South Australia","Greater Adelaide","Greater Adelaide",0]
[123031448,"The Oaks - Oakdale",8564,653.24776297309131,null,null,null,null,null,-34.057960000000001,150.55045999999999,"New South Wales","Greater Sydney","Greater Sydney",0]
[403021064,"Warradale",13140,653.4405038703502,null,null,null,null,null,-35.012560000000001,138.54051999999999,"South Australia","Greater Adelaide","Greater Adelaide",0]
[403021058,"Edwardstown",12568,653.45699031354877,null,null,null,null,null,-34.977980000000002,138.56516999999999,"South Australia","Greater Adelaide","Greater Adelaide",0]
[401011001,"Adelaide",12962,653.51010739312062,null,null,null,null,null,-34.928559999999997,138.60065,"South Australia","Greater Adelaide","Greater Adelaide",0]
[107041144,"Balgownie - Fairy Meadow",19999,653.56824456483048,null,null,null,null,null,-34.391730000000003,150.88522,"New South Wales","Rest of NSW","",0]
[402031038,"Windsor Gardens",18585,653.74665048753832,null,null,null,null,null,-34.870899999999999,138.64073999999999,"South Australia","Greater Adelaide","Greater Adelaide",0]
[402051053,"Modbury Heights",18952,653.97168027910675,null,null,null,null,null,-34.8095,138.68489,"South Australia","Greater Adelaide","Greater Adelaide",0]
[402021033,"One Tree Hill",2403,653.9860235974719,null,null,null,null,null,-34.702120000000001,138.76992000000001,"South Australia","Greater Adelaide","Greater Adelaide",0]
[401061022,"Walkerville",7000,654.30104823370812,null,null,null,null,null,-34.892789999999998,138.61711,"South Australia","Greater Adelaide","Greater Adelaide",0]
[402051050,"Greenwith",9075,654.38576268742952,null,null,null,null,null,-34.765650000000001,138.71383,"South Australia","Greater Adelaide","Greater Adelaide",0]
[403011056,"Brighton (SA)",13401,654.52190348841577,null,null,null,null,null,-35.018560000000001,138.52250000000001,"South Australia","Greater Adelaide","Greater Adelaide",0]
[402031037,"Northgate - Oakden - Gilles Plains",20793,654.77744735371391,null,null,null,null,null,-34.849069999999998,138.64401000000001,"South Australia","Greater Adelaide","Greater Adelaide",0]
[403021062,"Morphettville",13512,654.78297530501163,null,null,null,null,null,-34.984580000000001,138.54348999999999,"South Australia","Greater Adelaide","Greater Adelaide",0]
[401011002,"North Adelaide",6679,655.08581355082106,null,null,null,null,null,-34.908439999999999,138.59533999999999,"South Australia","Greater Adelaide","Greater Adelaide",0]
[401061020,"Nailsworth - Broadview",5963,655.34295090856983,null,null,null,null,null,-34.883960000000002,138.61032,"South Australia","Greater Adelaide","Greater Adelaide",0]
[402041040,"Ingle Farm",14685,655.6614070784301,null,null,null,null,null,-34.830179999999999,138.64702,"South Australia","Greater Adelaide","Greater Adelaide",0]
[404031107,"Plympton",22761,655.75749536908472,null,null,null,null,null,-34.957799999999999,138.55044000000001,"South Australia","Greater Adelaide","Greater Adelaide",0]
[107041145,"Corrimal - Tarrawanna - Bellambi",15086,655.84525154435926,null,null,null,null,null,-34.370869999999996,150.89715000000001,"New South Wales","Rest of NSW","",0]
[404031108,"Richmond (SA)",15782,656.24908927820161,null,null,null,null,null,-34.927880000000002,138.56603999999999,"South Australia","Greater Adelaide","Greater Adelaide",0]
[402041041,"Para Hills",14456,656.34745908471007,null,null,null,null,null,-34.803930000000001,138.65835999999999,"South Australia","Greater Adelaide","Greater Adelaide",0]
[401061021,"Prospect",13986,656.7089945508751,null,null,null,null,null,-34.884010000000004,138.59270000000001,"South Australia","Greater Adelaide","Greater Adelaide",0]
[403011057,"Glenelg (SA)",19668,656.71984662142472,null,null,null,null,null,-34.983580000000003,138.51953,"South Australia","Greater Adelaide","Greater Adelaide",0]
[123031446,"Douglas Park - Appin",7064,656.88874999415577,null,null,null,null,null,-34.181489999999997,150.72953999999999,"New South Wales","Greater Sydney","Greater Sydney",0]
[402041047,"Salisbury East",17148,656.89211315195939,null,null,null,null,null,-34.771630000000002,138.67644999999999,"South Australia","Greater Adelaide","Greater Adelaide",0]
[402031036,"Enfield - Blair Athol",21560,657.87856043268323,null,null,null,null,null,-34.854289999999999,138.6,"South Australia","Greater Adelaide","Greater Adelaide",0]
[404011093,"Hindmarsh - Brompton",16632,657.9495050447407,null,null,null,null,null,-34.897759999999998,138.56649999999999,"South Australia","Greater Adelaide","Greater Adelaide",0]
[404031104,"Adelaide Airport",0,657.95939891011437,null,null,null,null,null,-34.946129999999997,138.5308,"South Australia","Greater Adelaide","Greater Adelaide",0]
[107041150,"Woonona - Bulli - Russell Vale",18628,658.37806604387606,null,null,null,null,null,-34.340629999999997,150.90383,"New South Wales","Rest of NSW","",0]
[404031106,"Lockleys",12212,658.58433920888285,null,null,null,null,null,-34.925409999999999,138.53795,"South Australia","Greater Adelaide","Greater Adelaide",0]
[402041042,"Parafield",76,658.89193288113165,null,null,null,null,null,-34.79663,138.63099,"South Australia","Greater Adelaide","Greater Adelaide",0]
[402021031,"Elizabeth East",12165,659.01558050579445,null,null,null,null,null,-34.725830000000002,138.68492000000001,"South Australia","Greater Adelaide","Greater Adelaide",0]
[402021028,"Craigmore - Blakeview",16193,659.55322778065272,null,null,null,null,null,-34.685920000000003,138.70988,"South Australia","Greater Adelaide","Greater Adelaide",0]
[402041045,"Pooraka",18294,659.62438282616847,null,null,null,null,null,-34.812350000000002,138.60938999999999,"South Australia","Greater Adelaide","Greater Adelaide",0]
[404031109,"West Beach",4480,659.64790467834814,null,null,null,null,null,-34.945970000000003,138.50935000000001,"South Australia","Greater Adelaide","Greater Adelaide",0]
[402041046,"Salisbury",16002,659.80690180773502,null,null,null,null,null,-34.771129999999999,138.63891000000001,"South Australia","Greater Adelaide","Greater Adelaide",0]
[402021030,"Elizabeth",9878,659.85646624727633,null,null,null,null,null,-34.738230000000001,138.66409999999999,"South Australia","Greater Adelaide","Greater Adelaide",0]
[404011091,"Flinders Park",13661,659.93087512294562,null,null,null,null,null,-34.90672,138.53444999999999,"South Australia","Greater Adelaide","Greater Adelaide",0]
[402011026,"Gawler - South",17625,660.32682881002552,null,null,null,null,null,-34.610419999999998,138.76159000000001,"South Australia","Greater Adelaide","Greater Adelaide",0]
[404031105,"Fulham",2590,660.36920678179035,null,null,null,null,null,-34.927370000000003,138.51367999999999,"South Australia","Greater Adelaide","Greater Adelaide",0]
[404021102,"The Parks",17255,660.53173258290747,null,null,null,null,null,-34.856400000000001,138.56421,"South Australia","Greater Adelaide","Greater Adelaide",0]
[404011090,"Beverley",7219,660.69689948743257,null,null,null,null,null,-34.889879999999998,138.53708,"South Australia","Greater Adelaide","Greater Adelaide",0]
[402021034,"Smithfield - Elizabeth North",12166,660.77682755354806,null,null,null,null,null,-34.691989999999997,138.68893,"South Australia","Greater Adelaide","Greater Adelaide",0]
[402041043,"Parafield Gardens",15317,661.29054191770445,null,null,null,null,null,-34.782539999999997,138.61077,"South Australia","Greater Adelaide","Greater Adelaide",0]
[404011092,"Henley Beach",13937,661.56592029074227,null,null,null,null,null,-34.917900000000003,138.50530000000001,"South Australia","Greater Adelaide","Greater Adelaide",0]
[105011093,"Cobar",4717,661.61992597184985,null,null,null,null,null,-31.87602,145.48478,"New South Wales","Rest of NSW","",0]
[404011097,"Woodville - Cheltenham",15317,661.8015971389832,null,null,null,null,null,-34.868810000000003,138.53856999999999,"South Australia","Greater Adelaide","Greater Adelaide",0]
[123011433,"Camden - Ellis Lane",12135,661.8596112501541,null,null,null,null,null,-34.065460000000002,150.68213,"New South Wales","Greater Sydney","Greater Sydney",0]
[124011449,"Blackheath - Megalong Valley",5461,662.14564561296208,null,null,null,null,null,-33.673850000000002,150.24552,"New South Wales","Greater Sydney","Greater Sydney",0]
[402021029,"Davoren Park",15558,662.76684749865808,null,null,null,null,null,-34.687449999999998,138.66649000000001,"South Australia","Greater Adelaide","Greater Adelaide",0]
[404011095,"Seaton - Grange",15705,662.83667830681281,null,null,null,null,null,-34.89434,138.50633999999999,"South Australia","Greater Adelaide","Greater Adelaide",0]
[402041044,"Paralowie",16053,663.27824915922497,null,null,null,null,null,-34.75788,138.60410999999999,"South Australia","Greater Adelaide","Greater Adelaide",0]
[402041048,"Salisbury North",15631,663.52922768922735,null,null,null,null,null,-34.726559999999999,138.62540000000001,"South Australia","Greater Adelaide","Greater Adelaide",0]
[404011094,"Royal Park - Hendon - Albert Park",5709,663.53624373066759,null,null,null,null,null,-34.873100000000001,138.51309000000001,"South Australia","Greater Adelaide","Greater Adelaide",0]
[404021098,"Dry Creek - South",0,663.75973145921307,null,null,null,null,null,-34.825279999999999,138.54608999999999,"South Australia","Greater Adelaide","Greater Adelaide",0]
[124011452,"Katoomba - Leura",12921,664.02519584408196,null,null,null,null,null,-33.702680000000001,150.30932000000001,"New South Wales","Greater Sydney","Greater Sydney",0]
[107041148,"Thirroul - Austinmer - Coalcliff",10579,664.36959862963613,null,null,null,null,null,-34.289090000000002,150.93805,"New South Wales","Rest of NSW","",0]
[123021444,"Rosemeadow - Glen Alpine",20159,664.40848985048831,null,null,null,null,null,-34.120379999999997,150.77446,"New South Wales","Greater Sydney","Greater Sydney",0]
[402041039,"Dry Creek - North",3,664.50769981427777,null,null,null,null,null,-34.78351,138.56831,"South Australia","Greater Adelaide","Greater Adelaide",0]
[404021101,"Port Adelaide",10775,664.8629546241433,null,null,null,null,null,-34.841419999999999,138.5197,"South Australia","Greater Adelaide","Greater Adelaide",0]
[404011096,"West Lakes",14042,665.57243083731817,null,null,null,null,null,-34.868810000000003,138.49014,"South Australia","Greater Adelaide","Greater Adelaide",0]
[402021032,"Munno Para West - Angle Vale",7781,666.30613534028998,null,null,null,null,null,-34.65014,138.65012999999999,"South Australia","Greater Adelaide","Greater Adelaide",0]
[123011434,"Elderslie - Harrington Park",16075,666.83361524454983,null,null,null,null,null,-34.038119999999999,150.72496000000001,"New South Wales","Greater Sydney","Greater Sydney",{"$f":"IF(AND(E898>0,E898<45),1,0)","v":0}]
[402011025,"Gawler - North",8773,666.91240414998845,null,null,null,null,null,-34.561579999999999,138.71507,"South Australia","Greater Adelaide","Greater Adelaide",0]
[124031465,"Warragamba - Silverdale",5059,666.91666763181934,null,null,null,null,null,-33.918219999999998,150.59889999999999,"New South Wales","Greater Sydney","Greater Sydney",0]
[405011111,"Light",8114,667.08386433578141,null,null,null,null,null,-34.390979999999999,138.86071000000001,"South Australia","Rest of SA","",0]
[124011455,"Wentworth Falls",5934,667.16356821604268,null,null,null,null,null,-33.721679999999999,150.37973,"New South Wales","Greater Sydney","Greater Sydney",0]
[404021103,"Torrens Island",10,667.16679173403077,null,null,null,null,null,-34.790190000000003,138.52878000000001,"South Australia","Greater Adelaide","Greater Adelaide",0]
[123011435,"Mount Annan - Currans Hill",24025,667.28691252047713,null,null,null,null,null,-34.059139999999999,150.75308999999999,"New South Wales","Greater Sydney","Greater Sydney",0]
[123021436,"Bradbury - Wedderburn",19151,667.32136210012618,null,null,null,null,null,-34.126849999999997,150.82205999999999,"New South Wales","Greater Sydney","Greater Sydney",0]
[404021099,"Largs Bay - Semaphore",14505,667.32920201191553,null,null,null,null,null,-34.836239999999997,138.49185,"South Australia","Greater Adelaide","Greater Adelaide",0]
[404021100,"North Haven",14058,669.37692478166707,null,null,null,null,null,-34.791460000000001,138.49925999999999,"South Australia","Greater Adelaide","Greater Adelaide",0]
[103031070,"Lithgow",12249,670.17428332247027,null,null,null,null,null,-33.478650000000002,150.12477000000001,"New South Wales","Rest of NSW","",0]
[123021437,"Campbelltown - Woodbine",15756,670.76037807829971,null,null,null,null,null,-34.064880000000002,150.80832000000001,"New South Wales","Greater Sydney","Greater Sydney",0]
[127011506,"Cobbitty - Leppington",6411,671.08777418141369,null,null,null,null,null,-33.983150000000002,150.72866999999999,"New South Wales","Greater Sydney","Greater Sydney",0]
[402021035,"Virginia - Waterloo Corner",3733,671.78491385698703,null,null,null,null,null,-34.687100000000001,138.54888,"South Australia","Greater Adelaide","Greater Adelaide",0]
[124011453,"Lawson - Hazelbrook - Linden",11081,672.44230752536998,null,null,null,null,null,-33.724049999999998,150.46225000000001,"New South Wales","Greater Sydney","Greater Sydney",0]
[107041147,"Helensburgh",8459,672.51802585372332,null,null,null,null,null,-34.186480000000003,150.95321000000001,"New South Wales","Rest of NSW","",0]
[123021438,"Claymore - Eagle Vale - Raby",21013,673.52869419922433,null,null,null,null,null,-34.024549999999998,150.80652000000001,"New South Wales","Greater Sydney","Greater Sydney",0]
[123021439,"Holsworthy Military Area",0,674.69081371982645,null,null,null,null,null,-34.10107,150.90011999999999,"New South Wales","Greater Sydney","Greater Sydney",0]
[123021441,"Leumeah - Minto Heights",15984,675.2483184901929,null,null,null,null,null,-34.053939999999997,150.86082999999999,"New South Wales","Greater Sydney","Greater Sydney",0]
[123021443,"Minto - St Andrews",17580,675.95080804286067,null,null,null,null,null,-34.02807,150.84456,"New South Wales","Greater Sydney","Greater Sydney",0]
[402011027,"Lewiston - Two Wells",5245,676.16814123623385,null,null,null,null,null,-34.604849999999999,138.55727999999999,"South Australia","Greater Adelaide","Greater Adelaide",0]
[127011505,"Badgerys Creek - Greendale",9876,676.8735367497261,null,null,null,null,null,-33.915349999999997,150.74046000000001,"New South Wales","Greater Sydney","Greater Sydney",0]
[105031106,"Wellington",8624,678.81674873650661,null,null,null,null,null,-32.651609999999998,148.96382,"New South Wales","Rest of NSW","",0]
[123021440,"Ingleburn - Denham Court",16586,679.07583591224591,null,null,null,null,null,-33.990099999999998,150.85017999999999,"New South Wales","Greater Sydney","Greater Sydney",0]
[124031463,"Mulgoa - Luddenham - Orchard Hills",6520,679.18214624148459,null,null,null,null,null,-33.837580000000003,150.6902,"New South Wales","Greater Sydney","Greater Sydney",0]
[103031071,"Lithgow Region",7897,679.81248526205081,null,null,null,null,null,-33.307429999999997,150.05143000000001,"New South Wales","Rest of NSW","",0]
[128021533,"Heathcote - Waterfall",6458,680.05452818957406,null,null,null,null,null,-34.106490000000001,150.98062999999999,"New South Wales","Greater Sydney","Greater Sydney",0]
[124011451,"Blue Mountains - North",28,680.79633966488643,null,null,null,null,null,-33.602490000000003,150.44521,"New South Wales","Greater Sydney","Greater Sydney",0]
[124011450,"Blaxland - Warrimoo - Lapstone",18498,681.67551444479966,null,null,null,null,null,-33.742100000000001,150.62090000000001,"New South Wales","Greater Sydney","Greater Sydney",0]
[124031460,"Glenmore Park - Regentville",20889,682.14392547496539,null,null,null,null,null,-33.786430000000003,150.67738,"New South Wales","Greater Sydney","Greater Sydney",0]
[123021442,"Macquarie Fields - Glenfield",20932,682.47543750093382,null,null,null,null,null,-33.985489999999999,150.89383000000001,"New South Wales","Greater Sydney","Greater Sydney",0]
[127011508,"Hoxton Park - Horningsea Park",18640,682.51122549453453,null,null,null,null,null,-33.932299999999998,150.83946,"New South Wales","Greater Sydney","Greater Sydney",0]
[127031526,"Prestons - Lurnea",25707,683.8727998366553,null,null,null,null,null,-33.945219999999999,150.87235999999999,"New South Wales","Greater Sydney","Greater Sydney",0]
[124011454,"Springwood - Winmalee",21773,683.8764735945449,null,null,null,null,null,-33.690359999999998,150.59478999999999,"New South Wales","Greater Sydney","Greater Sydney",0]
[124031459,"Emu Plains - Leonay",13879,683.90152578786854,null,null,null,null,null,-33.746209999999998,150.65849,"New South Wales","Greater Sydney","Greater Sydney",0]
[124031461,"Jamisontown - South Penrith",16887,684.10319076968563,null,null,null,null,null,-33.771059999999999,150.68916999999999,"New South Wales","Greater Sydney","Greater Sydney",0]
[127031522,"Casula",14697,685.26845965385849,null,null,null,null,null,-33.952219999999997,150.89948999999999,"New South Wales","Greater Sydney","Greater Sydney",0]
[127031524,"Holsworthy - Wattle Grove",19547,685.58841416880182,null,null,null,null,null,-33.99145,150.94404,"New South Wales","Greater Sydney","Greater Sydney",0]
[127011507,"Green Valley - Cecil Hills",28767,685.92734659919506,null,null,null,null,null,-33.902830000000002,150.85767000000001,"New South Wales","Greater Sydney","Greater Sydney",0]
[128021537,"Royal National Park",16,685.95333529516631,null,null,null,null,null,-34.111429999999999,151.06764000000001,"New South Wales","Greater Sydney","Greater Sydney",0]
[105031105,"Narromine",6678,686.18018918133498,null,null,null,null,null,-32.181150000000002,148.05323999999999,"New South Wales","Rest of NSW","",0]
[124031464,"Penrith",11814,686.39494990213609,null,null,null,null,null,-33.747839999999997,150.69712000000001,"New South Wales","Greater Sydney","Greater Sydney",0]
[128021532,"Engadine - Loftus",27734,687.06461064671464,null,null,null,null,null,-34.049300000000002,151.02259000000001,"New South Wales","Greater Sydney","Greater Sydney",0]
[127011504,"Ashcroft - Busby - Miller",16647,687.12006819032115,null,null,null,null,null,-33.915010000000002,150.88747000000001,"New South Wales","Greater Sydney","Greater Sydney",0]
[127021518,"Horsley Park - Kemps Creek",4323,687.30997344484956,null,null,null,null,null,-33.848669999999998,150.82035999999999,"New South Wales","Greater Sydney","Greater Sydney",0]
[128021535,"Menai - Lucas Heights - Woronora",21055,687.44632525415034,null,null,null,null,null,-34.022280000000002,151.00119000000001,"New South Wales","Greater Sydney","Greater Sydney",0]
[124031462,"Kingswood - Werrington",17115,687.96761178106283,null,null,null,null,null,-33.765909999999998,150.74025,"New South Wales","Greater Sydney","Greater Sydney",0]
[127021509,"Bonnyrigg Heights - Bonnyrigg",15189,688.30936502310749,null,null,null,null,null,-33.892580000000002,150.88113000000001,"New South Wales","Greater Sydney","Greater Sydney",0]
[124051469,"Erskine Park",6668,688.38773328546642,null,null,null,null,null,-33.813009999999998,150.79773,"New South Wales","Greater Sydney","Greater Sydney",0]
[124051470,"St Clair",19837,688.6622069542517,null,null,null,null,null,-33.797280000000001,150.78469999999999,"New South Wales","Greater Sydney","Greater Sydney",0]
[124031457,"Cambridge Park",15135,688.99797497308361,null,null,null,null,null,-33.746130000000001,150.73354,"New South Wales","Greater Sydney","Greater Sydney",0]
[127021514,"Edensor Park",9441,689.01504182827216,null,null,null,null,null,-33.879710000000003,150.87778,"New South Wales","Greater Sydney","Greater Sydney",0]
[127031525,"Liverpool - Warwick Farm",28586,689.44609365271174,null,null,null,null,null,-33.918959999999998,150.9248,"New South Wales","Greater Sydney","Greater Sydney",0]
[127021510,"Bossley Park - Abbotsbury",18225,689.61014059181105,null,null,null,null,null,-33.866169999999997,150.87209999999999,"New South Wales","Greater Sydney","Greater Sydney",0]
[127021512,"Cabramatta West - Mount Pritchard",15815,689.67235387707626,null,null,null,null,null,-33.899360000000001,150.90772999999999,"New South Wales","Greater Sydney","Greater Sydney",0]
[124031458,"Castlereagh - Cranebrook",17370,690.62589337855604,null,null,null,null,null,-33.700519999999997,150.70668000000001,"New South Wales","Greater Sydney","Greater Sydney",0]
[124051471,"St Marys - Colyton",25560,690.7992134826211,null,null,null,null,null,-33.764989999999997,150.78071,"New South Wales","Greater Sydney","Greater Sydney",0]
[127031523,"Chipping Norton - Moorebank",15650,690.83345531283067,null,null,null,null,null,-33.927219999999998,150.95307,"New South Wales","Greater Sydney","Greater Sydney",0]
[127021520,"St Johns Park - Wakeley",10632,690.98806822899326,null,null,null,null,null,-33.879040000000003,150.90539999999999,"New South Wales","Greater Sydney","Greater Sydney",0]
[128021538,"Sutherland - Kirrawee",19370,691.2340549572134,null,null,null,null,null,-34.031959999999998,151.06392,"New South Wales","Greater Sydney","Greater Sydney",0]
[127021517,"Greenfield Park - Prairiewood",7761,691.40052836809014,null,null,null,null,null,-33.867939999999997,150.8997,"New South Wales","Greater Sydney","Greater Sydney",0]
[119011359,"Panania - Milperra - Picnic Point",24216,691.61745353895083,null,null,null,null,null,-33.955649999999999,150.99316999999999,"New South Wales","Greater Sydney","Greater Sydney",0]
[128021534,"Illawong - Alfords Point",10640,691.70947907639538,null,null,null,null,null,-33.994810000000001,151.03380999999999,"New South Wales","Greater Sydney","Greater Sydney",0]
[128011529,"Gymea - Grays Point",16846,691.78315466120262,null,null,null,null,null,-34.045549999999999,151.08492000000001,"New South Wales","Greater Sydney","Greater Sydney",0]
[127021511,"Cabramatta - Lansvale",23366,692.3893700466565,null,null,null,null,null,-33.898879999999998,150.94606999999999,"New South Wales","Greater Sydney","Greater Sydney",{"$f":"IF(AND(E962>0,E962<45),1,0)","v":0}]
[127021513,"Canley Vale - Canley Heights",19590,692.74985495434998,null,null,null,null,null,-33.884439999999998,150.93626,"New South Wales","Greater Sydney","Greater Sydney",0]
[116031317,"Mount Druitt - Whalan",21719,693.00097007270529,null,null,null,null,null,-33.764969999999998,150.81285,"New South Wales","Greater Sydney","Greater Sydney",0]
[128021536,"Oyster Bay - Como - Jannali",20632,693.21444925826688,null,null,null,null,null,-34.010330000000003,151.07034999999999,"New South Wales","Greater Sydney","Greater Sydney",0]
[405011113,"Mallala",3104,693.23314604751624,null,null,null,null,null,-34.468200000000003,138.44442000000001,"South Australia","Rest of SA","",0]
[116031318,"Prospect Reservoir",17,693.27785632061546,null,null,null,null,null,-33.80903,150.86439999999999,"New South Wales","Greater Sydney","Greater Sydney",0]
[127021521,"Wetherill Park Industrial",23,693.33723423907645,null,null,null,null,null,-33.840440000000001,150.89861999999999,"New South Wales","Greater Sydney","Greater Sydney",0]
[127021516,"Fairfield - West",17407,693.47196395428045,null,null,null,null,null,-33.868169999999999,150.92966000000001,"New South Wales","Greater Sydney","Greater Sydney",0]
[119011360,"Revesby",14872,693.50639802288936,null,null,null,null,null,-33.952010000000001,151.01622,"New South Wales","Greater Sydney","Greater Sydney",0]
[116031316,"Lethbridge Park - Tregear",16045,693.78345688338732,null,null,null,null,null,-33.73189,150.78808000000001,"New South Wales","Greater Sydney","Greater Sydney",0]
[128011530,"Miranda - Yowie Bay",17602,693.78448548458357,null,null,null,null,null,-34.035870000000003,151.10341,"New South Wales","Greater Sydney","Greater Sydney",0]
[116031319,"Rooty Hill - Minchinbury",19626,693.96733567083925,null,null,null,null,null,-33.780029999999996,150.84325000000001,"New South Wales","Greater Sydney","Greater Sydney",0]
[119011356,"Condell Park",10186,694.17243666243701,null,null,null,null,null,-33.926699999999997,150.99999,"New South Wales","Greater Sydney","Greater Sydney",0]
[119011358,"Padstow",15632,694.22204937654863,null,null,null,null,null,-33.957949999999997,151.03232,"New South Wales","Greater Sydney","Greater Sydney",0]
[128011527,"Caringbah - Lilli Pilli",25618,694.25460468270501,null,null,null,null,null,-34.048360000000002,151.12213,"New South Wales","Greater Sydney","Greater Sydney",0]
[127021519,"Smithfield - Wetherill Park",17011,694.26527484393921,null,null,null,null,null,-33.85333,150.92552000000001,"New South Wales","Greater Sydney","Greater Sydney",0]
[119031372,"Peakhurst - Lugarno",17417,694.70231076174252,null,null,null,null,null,-33.970979999999997,151.05215999999999,"New South Wales","Greater Sydney","Greater Sydney",0]
[127021515,"Fairfield",16850,694.8097715955189,null,null,null,null,null,-33.871119999999998,150.95188999999999,"New South Wales","Greater Sydney","Greater Sydney",0]
[116031313,"Bidwill - Hebersham - Emerton",18597,695.17414002890666,null,null,null,null,null,-33.740720000000003,150.81813,"New South Wales","Greater Sydney","Greater Sydney",0]
[119011354,"Bass Hill - Georges Hall",20071,695.18503568237475,null,null,null,null,null,-33.901119999999999,150.98822999999999,"New South Wales","Greater Sydney","Greater Sydney",0]
[128011531,"Sylvania - Taren Point",15113,695.4846856208535,null,null,null,null,null,-34.015439999999998,151.10717,"New South Wales","Greater Sydney","Greater Sydney",0]
[124041468,"Yarramundi - Londonderry",6846,695.6874778207374,null,null,null,null,null,-33.65184,150.7268,"New South Wales","Greater Sydney","Greater Sydney",0]
[125031480,"Fairfield - East",14403,696.03429710610817,null,null,null,null,null,-33.874470000000002,150.97287,"New South Wales","Greater Sydney","Greater Sydney",0]
[119031369,"Mortdale - Penshurst",22271,696.23730455735074,null,null,null,null,null,-33.970759999999999,151.07355000000001,"New South Wales","Greater Sydney","Greater Sydney",0]
[116031315,"Hassall Grove - Plumpton",19593,696.2978624797239,null,null,null,null,null,-33.743519999999997,150.83760000000001,"New South Wales","Greater Sydney","Greater Sydney",0]
[125031486,"Smithfield Industrial",5,696.3021880737308,null,null,null,null,null,-33.84308,150.94401999999999,"New South Wales","Greater Sydney","Greater Sydney",0]
[119031373,"Riverwood",9455,696.30377249929165,null,null,null,null,null,-33.948720000000002,151.05242999999999,"New South Wales","Greater Sydney","Greater Sydney",0]
[119031371,"Oatley - Hurstville Grove",11945,696.47321705144373,null,null,null,null,null,-33.979410000000001,151.08546999999999,"New South Wales","Greater Sydney","Greater Sydney",0]
[125031487,"Yennora Industrial",8,696.63081100550073,null,null,null,null,null,-33.860100000000003,150.96648999999999,"New South Wales","Greater Sydney","Greater Sydney",0]
[119011353,"Bankstown",30833,696.73568811873702,null,null,null,null,null,-33.922199999999997,151.03175999999999,"New South Wales","Greater Sydney","Greater Sydney",0]
[116011306,"Doonside - Woodcroft",19504,697.06849119049912,null,null,null,null,null,-33.764949999999999,150.87205,"New South Wales","Greater Sydney","Greater Sydney",0]
[125031482,"Greystanes - Pemulwuy",23466,697.23661295568252,null,null,null,null,null,-33.82405,150.93745999999999,"New South Wales","Greater Sydney","Greater Sydney",0]
[125031479,"Chester Hill - Sefton",16644,697.26700386779203,null,null,null,null,null,-33.882019999999997,150.99825000000001,"New South Wales","Greater Sydney","Greater Sydney",0]
[119011361,"Yagoona - Birrong",18952,697.35005416460956,null,null,null,null,null,-33.902209999999997,151.02012999999999,"New South Wales","Greater Sydney","Greater Sydney",0]
[116031314,"Glendenning Dean Park",8130,697.49952227367692,null,null,null,null,null,-33.744140000000002,150.85579999999999,"New South Wales","Greater Sydney","Greater Sydney",0]
[119021366,"Punchbowl",19198,697.52104915191296,null,null,null,null,null,-33.931040000000003,151.05181999999999,"New South Wales","Greater Sydney","Greater Sydney",0]
[119031374,"South Hurstville - Blakehurst",22604,697.57434003321646,null,null,null,null,null,-33.984250000000003,151.10571999999999,"New South Wales","Greater Sydney","Greater Sydney",0]
[116011305,"Blacktown (South)",26616,697.66736628805268,null,null,null,null,null,-33.781750000000002,150.89877999999999,"New South Wales","Greater Sydney","Greater Sydney",0]
[125031484,"Guildford West - Merrylands West",19020,697.9357160563618,null,null,null,null,null,-33.845480000000002,150.96995000000001,"New South Wales","Greater Sydney","Greater Sydney",0]
[119031370,"Narwee - Beverly Hills",12762,698.01242832510218,null,null,null,null,null,-33.948810000000002,151.07661999999999,"New South Wales","Greater Sydney","Greater Sydney",0]
[116011308,"Seven Hills - Toongabbie",22512,698.69298228285743,null,null,null,null,null,-33.793120000000002,150.92572999999999,"New South Wales","Greater Sydney","Greater Sydney",0]
[119021367,"Roselands",13062,698.90870713839217,null,null,null,null,null,-33.93526,151.07567,"New South Wales","Greater Sydney","Greater Sydney",0]
[119031368,"Hurstville",20152,698.96574830450606,null,null,null,null,null,-33.959569999999999,151.10077999999999,"New South Wales","Greater Sydney","Greater Sydney",0]
[125031483,"Guildford - South Granville",18331,699.17401473427549,null,null,null,null,null,-33.859349999999999,151.00206,"New South Wales","Greater Sydney","Greater Sydney",0]
[119041382,"Sans Souci - Ramsgate",14803,699.24561453960609,null,null,null,null,null,-33.992280000000001,151.13704000000001,"New South Wales","Greater Sydney","Greater Sydney",0]
[128011528,"Cronulla - Kurnell - Bundeena",29188,699.38539335706923,null,null,null,null,null,-34.034170000000003,151.17979,"New South Wales","Greater Sydney","Greater Sydney",0]
[119041379,"Kogarah Bay - Carlton - Allawah",14837,699.4029701319231,null,null,null,null,null,-33.976700000000001,151.12389999999999,"New South Wales","Greater Sydney","Greater Sydney",0]
[116011304,"Blacktown (North) - Marayong",16874,699.47013899927606,null,null,null,null,null,-33.748600000000003,150.88930999999999,"New South Wales","Greater Sydney","Greater Sydney",0]
[119011355,"Chullora",0,699.71599850172811,null,null,null,null,null,-33.892670000000003,151.04399000000001,"New South Wales","Greater Sydney","Greater Sydney",0]
[125031485,"Merrylands - Holroyd",25785,699.71982343825482,null,null,null,null,null,-33.830680000000001,150.98007000000001,"New South Wales","Greater Sydney","Greater Sydney",0]
[119021365,"Lakemba - Wiley Park",25208,699.72678994810383,null,null,null,null,null,-33.921019999999999,151.07289,"New South Wales","Greater Sydney","Greater Sydney",0]
[119011357,"Greenacre - Mount Lewis",24313,699.89510296233618,null,null,null,null,null,-33.904380000000003,151.05843999999999,"New South Wales","Greater Sydney","Greater Sydney",0]
[125041488,"Girraween - Westmead",25814,700.05440658727184,null,null,null,null,null,-33.808430000000001,150.96154000000001,"New South Wales","Greater Sydney","Greater Sydney",0]
[116011303,"Blacktown (East) - Kings Park",15543,700.39035257207615,null,null,null,null,null,-33.75685,150.91155000000001,"New South Wales","Greater Sydney","Greater Sydney",0]
[119041376,"Bexley",25118,700.67822467021028,null,null,null,null,null,-33.955539999999999,151.12083999999999,"New South Wales","Greater Sydney","Greater Sydney",0]
[116021312,"Riverstone - Marsden Park",11235,700.71097035817024,null,null,null,null,null,-33.692050000000002,150.84577999999999,"New South Wales","Greater Sydney","Greater Sydney",0]
[105031101,"Dubbo - South",15723,700.72324746330037,null,null,null,null,null,-32.267139999999998,148.62854999999999,"New South Wales","Rest of NSW","",0]
[119041377,"Kingsgrove (South) - Bardwell Park",12010,700.90563360793408,null,null,null,null,null,-33.941789999999997,151.11035000000001,"New South Wales","Greater Sydney","Greater Sydney",0]
[119041378,"Kogarah",9606,700.96495199932804,null,null,null,null,null,-33.968290000000003,151.13749000000001,"New South Wales","Greater Sydney","Greater Sydney",0]
[125031481,"Granville - Clyde",18245,701.10128434099693,null,null,null,null,null,-33.837969999999999,151.00744,"New South Wales","Greater Sydney","Greater Sydney",0]
[125011474,"Lidcombe - Regents Park",29987,701.13072724318852,null,null,null,null,null,-33.869120000000002,151.04001,"New South Wales","Greater Sydney","Greater Sydney",0]
[125011472,"Auburn",33122,701.16306936485,null,null,null,null,null,-33.854790000000001,151.02573000000001,"New South Wales","Greater Sydney","Greater Sydney",0]
[119021362,"Belmore - Belfield",18619,701.34835512586449,null,null,null,null,null,-33.913249999999998,151.08797000000001,"New South Wales","Greater Sydney","Greater Sydney",0]
[116021311,"Quakers Hill - Acacia Gardens",25811,701.48910069216777,null,null,null,null,null,-33.725140000000003,150.89330000000001,"New South Wales","Greater Sydney","Greater Sydney",0]
[405021117,"Gilbert Valley",4744,701.51848202316205,null,null,null,null,null,-34.005629999999996,138.74761000000001,"South Australia","Rest of SA","",{"$f":"IF(AND(E1026>0,E1026<45),1,0)","v":0}]
[125041493,"Toongabbie - Constitution Hill",20709,701.66462889925492,null,null,null,null,null,-33.791879999999999,150.96726000000001,"New South Wales","Greater Sydney","Greater Sydney",0]
[125011475,"Rookwood Cemetery",8,701.86697242840762,null,null,null,null,null,-33.874209999999998,151.05569,"New South Wales","Greater Sydney","Greater Sydney",0]
[116011307,"Lalor Park - Kings Langley",23969,701.92741699435817,null,null,null,null,null,-33.761780000000002,150.93908999999999,"New South Wales","Greater Sydney","Greater Sydney",0]
[124041466,"Richmond - Clarendon",13440,701.93342931523625,null,null,null,null,null,-33.589919999999999,150.74928,"New South Wales","Greater Sydney","Greater Sydney",0]
[105031102,"Dubbo - West",7420,702.06376119081403,null,null,null,null,null,-32.232900000000001,148.58087,"New South Wales","Rest of NSW","",0]
[119021364,"Kingsgrove (North) - Earlwood",22521,702.4224422337378,null,null,null,null,null,-33.928139999999999,151.11806999999999,"New South Wales","Greater Sydney","Greater Sydney",0]
[124041467,"Windsor - Bligh Park",15461,702.43278586714268,null,null,null,null,null,-33.635689999999997,150.80851000000001,"New South Wales","Greater Sydney","Greater Sydney",0]
[119041381,"Rockdale - Banksia",18325,702.44976099789039,null,null,null,null,null,-33.951120000000003,151.14133000000001,"New South Wales","Greater Sydney","Greater Sydney",0]
[119021363,"Canterbury (South) - Campsie",26818,702.47592167659002,null,null,null,null,null,-33.914490000000001,151.10514000000001,"New South Wales","Greater Sydney","Greater Sydney",0]
[119041380,"Monterey - Brighton-le-Sands - Kyeemagh",13125,702.54198589936459,null,null,null,null,null,-33.961419999999997,151.15280999999999,"New South Wales","Greater Sydney","Greater Sydney",0]
[120031397,"Strathfield",26003,702.95117336366604,null,null,null,null,null,-33.883310000000002,151.08035000000001,"New South Wales","Greater Sydney","Greater Sydney",0]
[125041492,"Parramatta - Rosehill",22701,702.97688326034552,null,null,null,null,null,-33.821539999999999,151.01719,"New South Wales","Greater Sydney","Greater Sydney",0]
[116021309,"Glenwood",15325,703.55883588275503,null,null,null,null,null,-33.735680000000002,150.93476000000001,"New South Wales","Greater Sydney","Greater Sydney",0]
[125041494,"Winston Hills",10366,703.59827144312783,null,null,null,null,null,-33.776409999999998,150.97875999999999,"New South Wales","Greater Sydney","Greater Sydney",0]
[125041491,"Northmead",17288,703.65262239660001,null,null,null,null,null,-33.790030000000002,150.99391,"New South Wales","Greater Sydney","Greater Sydney",0]
[119041375,"Arncliffe - Bardwell Valley",14672,703.72100037066559,null,null,null,null,null,-33.936770000000003,151.14493999999999,"New South Wales","Greater Sydney","Greater Sydney",0]
[120031393,"Croydon Park - Enfield",16385,703.73539706503391,null,null,null,null,null,-33.894570000000002,151.10285999999999,"New South Wales","Greater Sydney","Greater Sydney",0]
[120031396,"Homebush",12519,704.05185504678002,null,null,null,null,null,-33.862929999999999,151.0752,"New South Wales","Greater Sydney","Greater Sydney",0]
[125041489,"North Parramatta",20274,704.25456565923287,null,null,null,null,null,-33.799039999999998,151.01201,"New South Wales","Greater Sydney","Greater Sydney",0]
[120031392,"Canterbury (North) - Ashbury",9379,704.2723914137182,null,null,null,null,null,-33.906440000000003,151.1224,"New South Wales","Greater Sydney","Greater Sydney",0]
[116021310,"Parklea - Kellyville Ridge",22404,704.27389314201082,null,null,null,null,null,-33.710340000000002,150.9178,"New South Wales","Greater Sydney","Greater Sydney",0]
[105031100,"Dubbo - East",10850,704.50956172655651,null,null,null,null,null,-32.247349999999997,148.67083,"New South Wales","Rest of NSW","",0]
[405021118,"Goyder",4185,704.84447128019895,null,null,null,null,null,-33.646979999999999,139.07276999999999,"South Australia","Rest of SA","",0]
[125011473,"Homebush Bay - Silverwater",11308,704.89442070867835,null,null,null,null,null,-33.838239999999999,151.06186,"New South Wales","Greater Sydney","Greater Sydney",0]
[115011291,"Baulkham Hills (West) - Bella Vista",18616,705.11074570705136,null,null,null,null,null,-33.742370000000001,150.96440999999999,"New South Wales","Greater Sydney","Greater Sydney",0]
[120031391,"Burwood - Croydon",21014,705.36894516692814,null,null,null,null,null,-33.878140000000002,151.10935000000001,"New South Wales","Greater Sydney","Greater Sydney",0]
[115011290,"Baulkham Hills (East)",21348,705.44713626888711,null,null,null,null,null,-33.759979999999999,150.98801,"New South Wales","Greater Sydney","Greater Sydney",0]
[117011325,"Sydney Airport",4,705.58695737449386,null,null,null,null,null,-33.944330000000001,151.17860999999999,"New South Wales","Greater Sydney","Greater Sydney",0]
[120031390,"Ashfield",22774,705.74378895213806,null,null,null,null,null,-33.889740000000003,151.12637000000001,"New South Wales","Greater Sydney","Greater Sydney",0]
[120031394,"Dulwich Hill - Lewisham",15906,705.92004951338345,null,null,null,null,null,-33.902000000000001,151.14117999999999,"New South Wales","Greater Sydney","Greater Sydney",0]
[125021477,"Ermington - Rydalmere",19217,706.05633497213944,null,null,null,null,null,-33.811030000000002,151.05031,"New South Wales","Greater Sydney","Greater Sydney",0]
[117021326,"Marrickville",24614,706.2825787383332,null,null,null,null,null,-33.911259999999999,151.15555000000001,"New South Wales","Greater Sydney","Greater Sydney",0]
[120011384,"Concord West - North Strathfield",18018,706.4187475359181,null,null,null,null,null,-33.843629999999997,151.08909,"New South Wales","Greater Sydney","Greater Sydney",0]
[125021478,"Oatlands - Dundas Valley",15761,706.51257360820955,null,null,null,null,null,-33.794409999999999,151.03953999999999,"New South Wales","Greater Sydney","Greater Sydney",0]
[125041490,"North Rocks",7626,706.57435443144902,null,null,null,null,null,-33.77223,151.01718,"New South Wales","Greater Sydney","Greater Sydney",0]
[117021328,"Sydenham - Tempe - St Peters",7190,706.62285880333854,null,null,null,null,null,-33.920349999999999,151.16938999999999,"New South Wales","Greater Sydney","Greater Sydney",0]
[115031300,"Kurrajong Heights - Ebenezer",21437,706.71829521683617,null,null,null,null,null,-33.527189999999997,150.74862999999999,"New South Wales","Greater Sydney","Greater Sydney",0]
[117011324,"Port Botany Industrial",3,706.77576107009656,null,null,null,null,null,-33.972140000000003,151.2225,"New South Wales","Greater Sydney","Greater Sydney",0]
[117011321,"Botany",8885,706.82416706611696,null,null,null,null,null,-33.949089999999998,151.20061999999999,"New South Wales","Greater Sydney","Greater Sydney",0]
[120011383,"Concord - Mortlake - Cabarita",19583,706.82486088179894,null,null,null,null,null,-33.854349999999997,151.10580999999999,"New South Wales","Greater Sydney","Greater Sydney",0]
[115011295,"Kellyville",23761,706.98223854446269,null,null,null,null,null,-33.712800000000001,150.95982000000001,"New South Wales","Greater Sydney","Greater Sydney",0]
[120031395,"Haberfield - Summer Hill",13234,707.17931812246309,null,null,null,null,null,-33.882429999999999,151.13928000000001,"New South Wales","Greater Sydney","Greater Sydney",0]
[117011320,"Banksmeadow",12,707.39776801655717,null,null,null,null,null,-33.955820000000003,151.21523999999999,"New South Wales","Greater Sydney","Greater Sydney",0]
[117021327,"Petersham - Stanmore",18806,707.91146056429352,null,null,null,null,null,-33.894730000000003,151.16195999999999,"New South Wales","Greater Sydney","Greater Sydney",0]
[120011386,"Five Dock - Abbotsford",19100,708.01097188860558,null,null,null,null,null,-33.860939999999999,151.12932000000001,"New South Wales","Greater Sydney","Greater Sydney",0]
[115041302,"Rouse Hill - Beaumont Hills",18168,708.03287683689007,null,null,null,null,null,-33.663020000000003,150.92108999999999,"New South Wales","Greater Sydney","Greater Sydney",0]
[117011322,"Mascot - Eastlakes",19866,708.25599730608099,null,null,null,null,null,-33.929400000000001,151.20126999999999,"New South Wales","Greater Sydney","Greater Sydney",0]
[118021350,"Malabar - La Perouse - Chifley",21110,708.28672445097095,null,null,null,null,null,-33.972619999999999,151.24402000000001,"New South Wales","Greater Sydney","Greater Sydney",0]
[115011292,"Castle Hill",27457,708.44718704038849,null,null,null,null,null,-33.729689999999998,150.99912,"New South Wales","Greater Sydney","Greater Sydney",0]
[126021503,"West Ryde - Meadowbank",17000,708.49914286687374,null,null,null,null,null,-33.809570000000001,151.08367999999999,"New South Wales","Greater Sydney","Greater Sydney",0]
[125021476,"Carlingford",24620,708.54670098842746,null,null,null,null,null,-33.77375,151.0471,"New South Wales","Greater Sydney","Greater Sydney",0]
[120021388,"Leichhardt - Annandale",24435,708.80226944043466,null,null,null,null,null,-33.881340000000002,151.16109,"New South Wales","Greater Sydney","Greater Sydney",0]
[117011323,"Pagewood - Hillsdale - Daceyville",10589,708.99966097163269,null,null,null,null,null,-33.940829999999998,151.22292999999999,"New South Wales","Greater Sydney","Greater Sydney",0]
[117031330,"Erskineville - Alexandria",13898,709.03439814200829,null,null,null,null,null,-33.908479999999997,151.19147000000001,"New South Wales","Greater Sydney","Greater Sydney",0]
[115011296,"West Pennant Hills",12446,709.11546430289718,null,null,null,null,null,-33.750019999999999,151.03031999999999,"New South Wales","Greater Sydney","Greater Sydney",0]
[117031332,"Newtown - Camperdown - Darlington",21519,709.41856721467548,null,null,null,null,null,-33.893799999999999,151.18225000000001,"New South Wales","Greater Sydney","Greater Sydney",0]
[120011385,"Drummoyne - Rodd Point",17457,709.74690879299146,null,null,null,null,null,-33.855649999999997,151.14852999999999,"New South Wales","Greater Sydney","Greater Sydney",0]
[115041301,"Pitt Town - McGraths Hill",9015,709.82320267429736,null,null,null,null,null,-33.602440000000001,150.88040000000001,"New South Wales","Greater Sydney","Greater Sydney",0]
[126021497,"Eastwood - Denistone",23003,709.90968405216302,null,null,null,null,null,-33.791980000000002,151.08561,"New South Wales","Greater Sydney","Greater Sydney",0]
[117031338,"Waterloo - Beaconsfield",21090,710.06195677929657,null,null,null,null,null,-33.90925,151.20666,"New South Wales","Greater Sydney","Greater Sydney",0]
[126021498,"Gladesville - Huntleys Point",13424,710.12118705672708,null,null,null,null,null,-33.830379999999998,151.12814,"New South Wales","Greater Sydney","Greater Sydney",0]
[126021502,"Ryde - Putney",26140,710.17366002021356,null,null,null,null,null,-33.813099999999999,151.11117999999999,"New South Wales","Greater Sydney","Greater Sydney",0]
[120021389,"Lilyfield - Rozelle",13019,710.20735846447224,null,null,null,null,null,-33.867440000000002,151.16694000000001,"New South Wales","Greater Sydney","Greater Sydney",0]
[118021351,"Maroubra",29594,710.30788008554759,null,null,null,null,null,-33.944020000000002,151.24432999999999,"New South Wales","Greater Sydney","Greater Sydney",{"$f":"IF(AND(E1090>0,E1090<45),1,0)","v":0}]
[115011294,"Glenhaven",5832,710.46480078900424,null,null,null,null,null,-33.702109999999998,150.99883,"New South Wales","Greater Sydney","Greater Sydney",0]
[117031331,"Glebe - Forest Lodge",16576,710.63437322983975,null,null,null,null,null,-33.879199999999997,151.18476999999999,"New South Wales","Greater Sydney","Greater Sydney",0]
[118021349,"Kensington - Kingsford",26873,710.6699122654876,null,null,null,null,null,-33.918469999999999,151.2243,"New South Wales","Greater Sydney","Greater Sydney",0]
[117031335,"Redfern - Chippendale",16559,710.90497889182859,null,null,null,null,null,-33.892270000000003,151.20162999999999,"New South Wales","Greater Sydney","Greater Sydney",0]
[126021499,"Hunters Hill - Woolwich",9805,711.00561470763375,null,null,null,null,null,-33.826779999999999,151.13702000000001,"New South Wales","Greater Sydney","Greater Sydney",0]
[126011495,"Epping - North Epping",23583,711.2961411994246,null,null,null,null,null,-33.768970000000003,151.08151000000001,"New South Wales","Greater Sydney","Greater Sydney",0]
[117031334,"Pyrmont - Ultimo",18731,711.79912903307786,null,null,null,null,null,-33.873220000000003,151.19519,"New South Wales","Greater Sydney","Greater Sydney",0]
[115011293,"Cherrybrook",24360,711.95635115224979,null,null,null,null,null,-33.722059999999999,151.04166000000001,"New South Wales","Greater Sydney","Greater Sydney",0]
[120021387,"Balmain",14752,712.0447298563995,null,null,null,null,null,-33.855939999999997,151.18129999999999,"New South Wales","Greater Sydney","Greater Sydney",0]
[118021352,"Randwick",27740,712.07888359961169,null,null,null,null,null,-33.915489999999998,151.24109000000001,"New South Wales","Greater Sydney","Greater Sydney",0]
[117031336,"Surry Hills",15342,712.11167969842086,null,null,null,null,null,-33.885620000000003,151.21197000000001,"New South Wales","Greater Sydney","Greater Sydney",0]
[126011496,"Pennant Hills - Cheltenham",19419,712.1870508012654,null,null,null,null,null,-33.744329999999998,151.06849,"New South Wales","Greater Sydney","Greater Sydney",0]
[126021501,"North Ryde - East Ryde",11977,712.61406551757955,null,null,null,null,null,-33.798859999999998,151.13128,"New South Wales","Greater Sydney","Greater Sydney",0]
[103031075,"Wollangambe - Wollemi",0,712.63965257800157,null,null,null,null,null,-33.160519999999998,150.38543000000001,"New South Wales","Rest of NSW","",0]
[118011345,"Paddington - Moore Park",14238,712.71004188579082,null,null,null,null,null,-33.890250000000002,151.22497999999999,"New South Wales","Greater Sydney","Greater Sydney",0]
[118021348,"Coogee - Clovelly",23672,712.71016506336036,null,null,null,null,null,-33.921869999999998,151.25619,"New South Wales","Greater Sydney","Greater Sydney",0]
[118011342,"Centennial Park",0,712.79846553576374,null,null,null,null,null,-33.898359999999997,151.23426000000001,"New South Wales","Greater Sydney","Greater Sydney",0]
[117031337,"Sydney - Haymarket - The Rocks",22760,713.06827168466498,null,null,null,null,null,-33.868130000000001,151.20796999999999,"New South Wales","Greater Sydney","Greater Sydney",0]
[117031329,"Darlinghurst",10061,713.18939883040775,null,null,null,null,null,-33.87791,151.21943999999999,"New South Wales","Greater Sydney","Greater Sydney",0]
[126021500,"Macquarie Park - Marsfield",18492,713.20323054304947,null,null,null,null,null,-33.778640000000003,151.11882,"New South Wales","Greater Sydney","Greater Sydney",0]
[121011400,"Lane Cove - Greenwich",24148,713.47351443170362,null,null,null,null,null,-33.821719999999999,151.16686999999999,"New South Wales","Greater Sydney","Greater Sydney",0]
[118011341,"Bondi Junction - Waverly",15846,714.06103599541723,null,null,null,null,null,-33.897179999999999,151.25078999999999,"New South Wales","Greater Sydney","Greater Sydney",0]
[117031333,"Potts Point - Woolloomooloo",18038,714.07099482676654,null,null,null,null,null,-33.870130000000003,151.22407999999999,"New South Wales","Greater Sydney","Greater Sydney",0]
[118011347,"Woollahra",7180,714.28632097592902,null,null,null,null,null,-33.886789999999998,151.24367000000001,"New South Wales","Greater Sydney","Greater Sydney",0]
[121011399,"Chatswood (West) - Lane Cove North",18123,714.85133513059782,null,null,null,null,null,-33.801200000000001,151.16549000000001,"New South Wales","Greater Sydney","Greater Sydney",0]
[118011339,"Bondi - Tamarama - Bronte",17890,714.87215841695729,null,null,null,null,null,-33.899929999999998,151.26486,"New South Wales","Greater Sydney","Greater Sydney",0]
[121021406,"Normanhurst - Thornleigh - Westleigh",18027,714.94566423587207,null,null,null,null,null,-33.719119999999997,151.08160000000001,"New South Wales","Greater Sydney","Greater Sydney",0]
[121041414,"Crows Nest - Waverton",16620,715.05818563163712,null,null,null,null,null,-33.831910000000001,151.19963000000001,"New South Wales","Greater Sydney","Greater Sydney",0]
[121041417,"North Sydney - Lavender Bay",9515,715.07283730244512,null,null,null,null,null,-33.839120000000001,151.20711,"New South Wales","Greater Sydney","Greater Sydney",0]
[118011343,"Double Bay - Bellevue Hill",23931,715.3555220264974,null,null,null,null,null,-33.877609999999997,151.24957000000001,"New South Wales","Greater Sydney","Greater Sydney",0]
[121011401,"St Leonards - Naremburn",9264,715.67333604556666,null,null,null,null,null,-33.817860000000003,151.19410999999999,"New South Wales","Greater Sydney","Greater Sydney",0]
[103031072,"Mudgee",10483,715.75141406686407,null,null,null,null,null,-32.60398,149.60111000000001,"New South Wales","Rest of NSW","",0]
[121041416,"Neutral Bay - Kirribilli",16710,715.83101646208718,null,null,null,null,null,-33.839019999999998,151.21771000000001,"New South Wales","Greater Sydney","Greater Sydney",0]
[121031409,"Pymble",15736,716.41301543892303,null,null,null,null,null,-33.751609999999999,151.13664,"New South Wales","Greater Sydney","Greater Sydney",0]
[118011340,"Bondi Beach - North Bondi",19328,716.526860350927,null,null,null,null,null,-33.886989999999997,151.27527000000001,"New South Wales","Greater Sydney","Greater Sydney",0]
[121011398,"Chatswood (East) - Artarmon",24341,716.68949585522103,null,null,null,null,null,-33.797849999999997,151.18816000000001,"New South Wales","Greater Sydney","Greater Sydney",0]
[121041413,"Cremorne - Cammeray",18056,717.02796676547212,null,null,null,null,null,-33.826709999999999,151.22220999999999,"New South Wales","Greater Sydney","Greater Sydney",0]
[121031408,"Lindfield - Roseville",21173,717.28038570815306,null,null,null,null,null,-33.777729999999998,151.17597000000001,"New South Wales","Greater Sydney","Greater Sydney",0]
[121021405,"Hornsby - Waitara",29373,717.51091444169811,null,null,null,null,null,-33.700249999999997,151.09859,"New South Wales","Greater Sydney","Greater Sydney",0]
[121031407,"Gordon - Killara",18754,717.5868163179947,null,null,null,null,null,-33.760550000000002,151.16265000000001,"New South Wales","Greater Sydney","Greater Sydney",0]
[121031412,"Wahroonga - Warrawee",17247,717.87133720089378,null,null,null,null,null,-33.716349999999998,151.12072000000001,"New South Wales","Greater Sydney","Greater Sydney",0]
[118011344,"Dover Heights",10423,717.9698406382289,null,null,null,null,null,-33.871049999999997,151.27974,"New South Wales","Greater Sydney","Greater Sydney",0]
[121011402,"Willoughby - Castle Cove - Northbridge",24324,718.25975756074251,null,null,null,null,null,-33.799700000000001,151.2123,"New South Wales","Greater Sydney","Greater Sydney",0]
[118011346,"Rose Bay - Vaucluse - Watsons Bay",11712,718.3527216109062,null,null,null,null,null,-33.85998,151.27413999999999,"New South Wales","Greater Sydney","Greater Sydney",0]
[121041415,"Mosman",27452,718.44869908884834,null,null,null,null,null,-33.829079999999998,151.24464,"New South Wales","Greater Sydney","Greater Sydney",0]
[122031427,"Forestville - Killarney Heights",12288,720.89195565365185,null,null,null,null,null,-33.766509999999997,151.2158,"New South Wales","Greater Sydney","Greater Sydney",0]
[115021297,"Dural - Kenthurst - Wisemans Ferry",20242,720.97533778583272,null,null,null,null,null,-33.546500000000002,150.98232999999999,"New South Wales","Greater Sydney","Greater Sydney",0]
[121031410,"St Ives",18645,721.03709295533451,null,null,null,null,null,-33.720869999999998,151.17079000000001,"New South Wales","Greater Sydney","Greater Sydney",0]
[122011418,"Balgowlah - Clontarf - Seaforth",19182,721.32954078419755,null,null,null,null,null,-33.797809999999998,151.25380999999999,"New South Wales","Greater Sydney","Greater Sydney",0]
[407011145,"Kangaroo Island",4417,721.83279779970633,null,null,null,null,null,-35.827820000000003,137.23974000000001,"South Australia","Rest of SA","",0]
[121021403,"Asquith - Mount Colah",17734,722.03687737580708,null,null,null,null,null,-33.659849999999999,151.12100000000001,"New South Wales","Greater Sydney","Greater Sydney",0]
[121031411,"Turramurra",18028,722.83053559670634,null,null,null,null,null,-33.68018,151.15392,"New South Wales","Greater Sydney","Greater Sydney",0]
[122031430,"Manly Vale - Allambie Heights",15901,722.88004953041923,null,null,null,null,null,-33.773609999999998,151.25122999999999,"New South Wales","Greater Sydney","Greater Sydney",0]
[122011419,"Manly - Fairlight",20566,723.39631808969057,null,null,null,null,null,-33.803060000000002,151.28826000000001,"New South Wales","Greater Sydney","Greater Sydney",0]
[122031428,"Frenchs Forest - Belrose",24083,723.58695834811715,null,null,null,null,null,-33.732370000000003,151.21907999999999,"New South Wales","Greater Sydney","Greater Sydney",0]
[105031103,"Dubbo Region",5166,724.17689399868095,null,null,null,null,null,-32.065510000000003,148.71025,"New South Wales","Rest of NSW","",0]
[405021116,"Clare",3926,724.89797147437343,null,null,null,null,null,-33.817740000000001,138.60536999999999,"South Australia","Rest of SA","",0]
[122031429,"Freshwater - Brookvale",19236,724.98217003097989,null,null,null,null,null,-33.771000000000001,151.27833000000001,"New South Wales","Greater Sydney","Greater Sydney",0]
[122031424,"Beacon Hill - Narraweena",13043,725.41142024291582,null,null,null,null,null,-33.751390000000001,151.26449,"New South Wales","Greater Sydney","Greater Sydney",0]
[105021097,"Broken Hill",18517,725.53959537920866,null,null,null,null,null,-31.944179999999999,141.47917000000001,"New South Wales","Rest of NSW","",0]
[103031073,"Mudgee Region - East",3346,726.45163953680651,null,null,null,null,null,-32.748370000000001,150.02822,"New South Wales","Rest of NSW","",0]
[122031426,"Dee Why - North Curl Curl",22758,726.87353105711406,null,null,null,null,null,-33.755699999999997,151.28958,"New South Wales","Greater Sydney","Greater Sydney",0]
[122031425,"Cromer",7209,727.03482252326205,null,null,null,null,null,-33.731740000000002,151.26746,"New South Wales","Greater Sydney","Greater Sydney",0]
[115021298,"Galston - Laughtondale",5097,727.31791992380113,null,null,null,null,null,-33.549480000000003,151.07861,"New South Wales","Greater Sydney","Greater Sydney",{"$f":"IF(AND(E1154>0,E1154<45),1,0)","v":0}]
[122031432,"Terrey Hills - Duffys Forest",3534,727.66951091275985,null,null,null,null,null,-33.669589999999999,151.21223000000001,"New South Wales","Greater Sydney","Greater Sydney",0]
[115031299,"Bilpin - Colo - St Albans",2639,729.04168038813759,null,null,null,null,null,-33.27084,150.78289000000001,"New South Wales","Greater Sydney","Greater Sydney",0]
[122031431,"Narrabeen - Collaroy",22690,729.06398792881737,null,null,null,null,null,-33.729349999999997,151.29381000000001,"New South Wales","Greater Sydney","Greater Sydney",0]
[103031074,"Mudgee Region - West",9951,730.97679698343336,null,null,null,null,null,-32.40578,149.54344,"New South Wales","Rest of NSW","",0]
[121021404,"Berowra - Brooklyn - Cowan",11394,731.56188077498678,null,null,null,null,null,-33.58343,151.17707999999999,"New South Wales","Greater Sydney","Greater Sydney",0]
[122021423,"Warriewood - Mona Vale",21847,732.46201472190285,null,null,null,null,null,-33.686259999999997,151.29794000000001,"New South Wales","Greater Sydney","Greater Sydney",0]
[105011095,"Nyngan - Warren",5210,733.1858859819265,null,null,null,null,null,-31.450489999999999,147.08067,"New South Wales","Rest of NSW","",0]
[122021421,"Bayview - Elanora Heights",10206,734.11091024121879,null,null,null,null,null,-33.633119999999998,151.26635999999999,"New South Wales","Greater Sydney","Greater Sydney",0]
[122021422,"Newport - Bilgola",12899,736.21934014794749,null,null,null,null,null,-33.65213,151.31625,"New South Wales","Greater Sydney","Greater Sydney",0]
[122021420,"Avalon - Palm Beach",12197,738.61232318418354,null,null,null,null,null,-33.629840000000002,151.32730000000001,"New South Wales","Greater Sydney","Greater Sydney",0]
[405021119,"Wakefield - Barunga West",9195,743.83260257657457,null,null,null,null,null,-33.927079999999997,138.23863,"South Australia","Rest of SA","",0]
[102011040,"Umina - Booker Bay - Patonga",22535,743.95793806686527,null,null,null,null,null,-33.529049999999998,151.29809,"New South Wales","Greater Sydney","Greater Sydney",0]
[102011042,"Woy Woy - Blackwall",13253,747.72860088212667,null,null,null,null,null,-33.48518,151.30568,"New South Wales","Greater Sydney","Greater Sydney",0]
[102011030,"Calga - Kulnura",4423,749.75821733471776,null,null,null,null,null,-33.339680000000001,151.17531,"New South Wales","Greater Sydney","Greater Sydney",0]
[405041127,"Yorke Peninsula - North",7049,750.19972489088423,null,null,null,null,null,-34.453850000000003,137.7141,"South Australia","Rest of SA","",0]
[405041128,"Yorke Peninsula - South",3975,750.29319757849737,null,null,null,null,null,-35.05115,137.30744000000001,"South Australia","Rest of SA","",0]
[102011033,"Kariong",6451,750.34191788514659,null,null,null,null,null,-33.439720000000001,151.29453000000001,"New South Wales","Greater Sydney","Greater Sydney",0]
[102011037,"Point Clare - Koolewong",6314,751.20936278743739,null,null,null,null,null,-33.448219999999999,151.31632999999999,"New South Wales","Greater Sydney","Greater Sydney",0]
[102011029,"Box Head - MacMasters Beach",10336,751.48835856889605,null,null,null,null,null,-33.50853,151.38475,"New South Wales","Greater Sydney","Greater Sydney",0]
[102011038,"Saratoga - Davistown",6635,751.88691467642423,null,null,null,null,null,-33.477499999999999,151.35756000000001,"New South Wales","Greater Sydney","Greater Sydney",0]
[102011032,"Gosford - Springfield",18070,755.09588774536678,null,null,null,null,null,-33.425249999999998,151.34791000000001,"New South Wales","Greater Sydney","Greater Sydney",0]
[102011034,"Kincumber - Picketts Valley",7108,755.61473012466365,null,null,null,null,null,-33.469810000000003,151.40312,"New South Wales","Greater Sydney","Greater Sydney",0]
[102011035,"Narara",6492,756.32820493726456,null,null,null,null,null,-33.396099999999997,151.33421000000001,"New South Wales","Greater Sydney","Greater Sydney",0]
[102011028,"Avoca Beach - Copacabana",7008,757.08292541902097,null,null,null,null,null,-33.47542,151.43018000000001,"New South Wales","Greater Sydney","Greater Sydney",0]
[102011043,"Wyoming",11190,757.73583027223276,null,null,null,null,null,-33.404730000000001,151.36403999999999,"New South Wales","Greater Sydney","Greater Sydney",0]
[102011031,"Erina - Green Point",13592,759.01371453503339,null,null,null,null,null,-33.423250000000003,151.4025,"New South Wales","Greater Sydney","Greater Sydney",0]
[102011039,"Terrigal - North Avoca",12567,759.17361267366198,null,null,null,null,null,-33.445039999999999,151.42806999999999,"New South Wales","Greater Sydney","Greater Sydney",0]
[102011036,"Niagara Park - Lisarow",8051,759.86569517458429,null,null,null,null,null,-33.38429,151.37282999999999,"New South Wales","Greater Sydney","Greater Sydney",0]
[102021051,"Ourimbah - Fountaindale",4792,762.37050069263637,null,null,null,null,null,-33.316519999999997,151.33512999999999,"New South Wales","Greater Sydney","Greater Sydney",0]
[102011041,"Wamberal - Forresters Beach",9091,763.30125821987394,null,null,null,null,null,-33.409709999999997,151.44995,"New South Wales","Greater Sydney","Greater Sydney",0]
[102021047,"Chittaway Bay - Tumbi Umbi",15346,765.913945961678,null,null,null,null,null,-33.354399999999998,151.42829,"New South Wales","Greater Sydney","Greater Sydney",0]
[105031104,"Gilgandra",4458,766.0420687563709,null,null,null,null,null,-31.618500000000001,148.64259999999999,"New South Wales","Rest of NSW","",0]
[102021044,"Bateau Bay - Killarney Vale",21380,766.74298981474828,null,null,null,null,null,-33.379600000000003,151.46745000000001,"New South Wales","Greater Sydney","Greater Sydney",0]
[102021055,"Tuggerah - Kangy Angy",5035,768.51498642734123,null,null,null,null,null,-33.304830000000003,151.41212999999999,"New South Wales","Greater Sydney","Greater Sydney",0]
[102021053,"The Entrance",13988,770.07228882651077,null,null,null,null,null,-33.35763,151.49202,"New South Wales","Greater Sydney","Greater Sydney",0]
[405041124,"Kadina",5070,770.97067251134081,null,null,null,null,null,-33.986069999999998,137.82024999999999,"South Australia","Rest of SA","",0]
[405031120,"Jamestown",4560,771.19758122360099,null,null,null,null,null,-33.273290000000003,138.51277999999999,"South Australia","Rest of SA","",0]
[102021057,"Wyong",8153,772.22076105995382,null,null,null,null,null,-33.27657,151.43521999999999,"New South Wales","Greater Sydney","Greater Sydney",0]
[102021049,"Jilliby - Yarramalong",3008,772.55465193472082,null,null,null,null,null,-33.172989999999999,151.32417000000001,"New South Wales","Greater Sydney","Greater Sydney",0]
[105021098,"Far West",2684,774.65651382476938,null,null,null,null,null,-31.09403,142.71889999999999,"New South Wales","Rest of NSW","",0]
[102021056,"Warnervale - Wadalba",12495,776.39060436902321,null,null,null,null,null,-33.24203,151.45814999999999,"New South Wales","Greater Sydney","Greater Sydney",0]
[102021048,"Gorokan - Kanwal - Charmhaven",20678,777.69987959540663,null,null,null,null,null,-33.257939999999998,151.49475000000001,"New South Wales","Greater Sydney","Greater Sydney",0]
[405041125,"Moonta",4238,778.52175142288809,null,null,null,null,null,-34.043799999999997,137.67123000000001,"South Australia","Rest of SA","",0]
[106011109,"Cessnock Region",7035,779.99108878319782,null,null,null,null,null,-32.962719999999997,151.18905000000001,"New South Wales","Rest of NSW","",0]
[102021054,"Toukley - Norah Head",9001,780.68357479076997,null,null,null,null,null,-33.273069999999997,151.55458999999999,"New South Wales","Greater Sydney","Greater Sydney",0]
[102021045,"Blue Haven - San Remo",10782,783.76712406473223,null,null,null,null,null,-33.204059999999998,151.52417,"New South Wales","Greater Sydney","Greater Sydney",0]
[106041127,"Muswellbrook Region",3998,786.12909443077149,null,null,null,null,null,-32.450389999999999,150.60711000000001,"New South Wales","Rest of NSW","",0]
[102021046,"Budgewoi - Buff Point - Halekulani",8968,787.01208174740862,null,null,null,null,null,-33.217149999999997,151.58581000000001,"New South Wales","Greater Sydney","Greater Sydney",0]
[111021218,"Morisset - Cooranbong",13840,788.19377549434398,null,null,null,null,null,-33.082700000000003,151.45344,"New South Wales","Rest of NSW","",0]
[405041126,"Wallaroo",3674,788.39860701076384,null,null,null,null,null,-33.893459999999997,137.66781,"South Australia","Rest of SA","",0]
[102021050,"Lake Munmorah - Mannering Park",10065,789.08929410905421,null,null,null,null,null,-33.180459999999997,151.57595000000001,"New South Wales","Greater Sydney","Greater Sydney",0]
[405031123,"Port Pirie Region",3239,791.73431967933482,null,null,null,null,null,-33.374169999999999,138.11024,"South Australia","Rest of SA","",0]
[111021216,"Bonnells Bay - Silverwater",7934,792.04748444028519,null,null,null,null,null,-33.109439999999999,151.54057,"New South Wales","Rest of NSW","",0]
[102021052,"Summerland Point - Gwandalan",5401,792.13141345432166,null,null,null,null,null,-33.140979999999999,151.57689999999999,"New South Wales","Greater Sydney","Greater Sydney",0]
[106011113,"Singleton Region",4759,795.54181703325719,null,null,null,null,null,-32.629440000000002,151.01008999999999,"New South Wales","Rest of NSW","",0]
[111011212,"Swansea - Caves Beach",10731,796.33091646372031,null,null,null,null,null,-33.130180000000003,151.62639999999999,"New South Wales","Rest of NSW","",0]
[111021220,"Wangi Wangi - Rathmines",8707,799.06007425947917,null,null,null,null,null,-33.053199999999997,151.58078,"New South Wales","Rest of NSW","",0]
[111021219,"Toronto - Awaba",13267,800.404172430416,null,null,null,null,null,-33.016289999999998,151.55892,"New South Wales","Rest of NSW","",0]
[106011108,"Cessnock",20261,801.68452302379626,null,null,null,null,null,-32.831960000000002,151.36207999999999,"New South Wales","Rest of NSW","",0]
[111011207,"Belmont South - Blacksmiths",5619,803.2056407160286,null,null,null,null,null,-33.064050000000002,151.65387000000001,"New South Wales","Rest of NSW","",0]
[111021221,"West Wallsend - Barnsley - Killingworth",6133,807.0376719341092,null,null,null,null,null,-32.929450000000003,151.55806999999999,"New South Wales","Rest of NSW","",0]
[111011213,"Valentine - Eleebana",11969,807.12456243483791,null,null,null,null,null,-33.004809999999999,151.64526000000001,"New South Wales","Rest of NSW","",0]
[111021215,"Bolton Point - Teralba",8699,807.35918703079847,null,null,null,null,null,-32.962679999999999,151.601,"New South Wales","Rest of NSW","",0]
[111011206,"Belmont - Bennetts Green",17145,808.2986407064418,null,null,null,null,null,-33.018940000000001,151.67838,"New South Wales","Rest of NSW","",{"$f":"IF(AND(E1218>0,E1218<45),1,0)","v":0}]
[405031121,"Peterborough - Mount Remarkable",5429,808.32279032098143,null,null,null,null,null,-32.707459999999998,138.61815000000001,"South Australia","Rest of SA","",0]
[106011107,"Branxton - Greta - Pokolbin",9271,809.04774717252792,null,null,null,null,null,-32.709879999999998,151.32551000000001,"New South Wales","Rest of NSW","",0]
[111011214,"Warners Bay - Boolaroo",12760,810.01588795113673,null,null,null,null,null,-32.963270000000001,151.64104,"New South Wales","Rest of NSW","",0]
[111011210,"Mount Hutton - Windale",8660,810.06299863908134,null,null,null,null,null,-32.990169999999999,151.67211,"New South Wales","Rest of NSW","",0]
[106011112,"Singleton",16136,810.51849554233024,null,null,null,null,null,-32.575240000000001,151.17729,"New South Wales","Rest of NSW","",0]
[106011111,"Kurri Kurri - Abermain",16196,810.66340870430929,null,null,null,null,null,-32.80068,151.46111999999999,"New South Wales","Rest of NSW","",0]
[111011211,"Redhead",3461,811.18535183637982,null,null,null,null,null,-33.009030000000003,151.70972,"New South Wales","Rest of NSW","",0]
[111021217,"Edgeworth - Cameron Park",11423,812.05339572778178,null,null,null,null,null,-32.91375,151.61474000000001,"New South Wales","Rest of NSW","",0]
[405031122,"Port Pirie",14043,812.74377932590539,null,null,null,null,null,-33.188650000000003,138.00328999999999,"South Australia","Rest of SA","",0]
[111011209,"Glendale - Cardiff - Hillsborough",22964,812.894821966564,null,null,null,null,null,-32.942300000000003,151.65985000000001,"New South Wales","Rest of NSW","",0]
[111011208,"Charlestown - Dudley",23555,813.59604567072404,null,null,null,null,null,-32.9758,151.70801,"New South Wales","Rest of NSW","",0]
[111031233,"Wallsend - Elermore Vale",19037,815.63712371288614,null,null,null,null,null,-32.903300000000002,151.65604999999999,"New South Wales","Rest of NSW","",0]
[106041126,"Muswellbrook",11791,815.80794384557885,null,null,null,null,null,-32.314079999999997,150.90826000000001,"New South Wales","Rest of NSW","",0]
[105011094,"Coonamble",4260,816.16874852478816,null,null,null,null,null,-30.979659999999999,148.22403,"New South Wales","Rest of NSW","",0]
[111031222,"Adamstown - Kotara",15045,816.26172513055906,null,null,null,null,null,-32.944189999999999,151.71174999999999,"New South Wales","Rest of NSW","",0]
[111031226,"Maryland - Fletcher - Minmi",11213,816.57518000157279,null,null,null,null,null,-32.875459999999997,151.63802000000001,"New South Wales","Rest of NSW","",0]
[111031225,"Lambton - New Lambton",16407,817.31535134318835,null,null,null,null,null,-32.924039999999998,151.70454000000001,"New South Wales","Rest of NSW","",0]
[111031228,"Merewether - The Junction",13396,818.17789261526366,null,null,null,null,null,-32.94726,151.74343999999999,"New South Wales","Rest of NSW","",0]
[106021114,"Maitland",4773,818.98500395312726,null,null,null,null,null,-32.760080000000002,151.53881000000001,"New South Wales","Rest of NSW","",0]
[111031234,"Waratah - North Lambton",11859,819.72757334738128,null,null,null,null,null,-32.904029999999999,151.71753000000001,"New South Wales","Rest of NSW","",0]
[111031224,"Hamilton - Broadmeadow",11738,819.74524319570367,null,null,null,null,null,-32.924329999999998,151.74074999999999,"New South Wales","Rest of NSW","",0]
[111031231,"Shortland - Jesmond",10083,819.97182614537871,null,null,null,null,null,-32.881860000000003,151.69589999999999,"New South Wales","Rest of NSW","",0]
[106021117,"Maitland - West",18286,821.33550628004036,null,null,null,null,null,-32.684690000000003,151.48361,"New South Wales","Rest of NSW","",0]
[111031229,"Newcastle - Cooks Hill",10135,821.50415143709768,null,null,null,null,null,-32.931049999999999,151.77421000000001,"New South Wales","Rest of NSW","",0]
[111031227,"Mayfield - Warabrook",14642,821.54547747714253,null,null,null,null,null,-32.891599999999997,151.73032000000001,"New South Wales","Rest of NSW","",0]
[111031235,"Wickham - Carrington - Tighes Hill",7668,821.5972375323322,null,null,null,null,null,-32.912799999999997,151.75506999999999,"New South Wales","Rest of NSW","",0]
[111031223,"Beresfield - Hexham",8362,821.78526315760985,null,null,null,null,null,-32.827390000000001,151.66019,"New South Wales","Rest of NSW","",0]
[106021115,"Maitland - East",25808,823.51363737433417,null,null,null,null,null,-32.75432,151.60047,"New South Wales","Rest of NSW","",0]
[111031230,"Newcastle Port - Kooragang",18,824.201347778529,null,null,null,null,null,-32.869500000000002,151.74451999999999,"New South Wales","Rest of NSW","",0]
[105031099,"Coonabarabran",8173,824.76611580709027,null,null,null,null,null,-31.355119999999999,149.40736999999999,"New South Wales","Rest of NSW","",0]
[106021118,"Thornton - Millers Forest",8726,827.48964448104346,null,null,null,null,null,-32.763120000000001,151.67071000000001,"New South Wales","Rest of NSW","",0]
[106021116,"Maitland - North",6615,828.19161780063098,null,null,null,null,null,-32.677059999999997,151.57903999999999,"New South Wales","Rest of NSW","",0]
[111031232,"Stockton - Fullerton Cove",6121,830.86916286692087,null,null,null,null,null,-32.853920000000002,151.82543000000001,"New South Wales","Rest of NSW","",0]
[106031122,"Raymond Terrace",13737,832.66452778227176,null,null,null,null,null,-32.770400000000002,151.75664,"New South Wales","Rest of NSW","",0]
[106041129,"Scone Region",7870,835.36888425590098,null,null,null,null,null,-31.967089999999999,150.7278,"New South Wales","Rest of NSW","",0]
[106041128,"Scone",5881,835.60298930511226,null,null,null,null,null,-32.050190000000001,150.85799,"New South Wales","Rest of NSW","",0]
[106031123,"Seaham - Woodville",5303,838.05354030553542,null,null,null,null,null,-32.65925,151.70726999999999,"New South Wales","Rest of NSW","",0]
[106031125,"Williamtown - Medowie - Karuah",12577,845.96132882584652,null,null,null,null,null,-32.717140000000001,151.89323999999999,"New South Wales","Rest of NSW","",0]
[106031120,"Lemon Tree Passage - Tanilba Bay",6316,851.23435645110453,null,null,null,null,null,-32.744259999999997,152.00198,"New South Wales","Rest of NSW","",0]
[106031119,"Anna Bay",5429,851.56085578150089,null,null,null,null,null,-32.773629999999997,152.03962999999999,"New South Wales","Rest of NSW","",0]
[406011136,"Whyalla",21991,856.36018389837943,null,null,null,null,null,-33.041400000000003,137.53652,"South Australia","Rest of SA","",0]
[106011110,"Dungog",8318,856.38384051636103,null,null,null,null,null,-32.34948,151.60828000000001,"New South Wales","Rest of NSW","",0]
[110041201,"Quirindi",7478,856.94759862758599,null,null,null,null,null,-31.5505,150.43804,"New South Wales","Rest of NSW","",0]
[406011137,"Whyalla - North",0,857.98830878154888,null,null,null,null,null,-32.972619999999999,137.58386999999999,"South Australia","Rest of SA","",0]
[106031121,"Nelson Bay Peninsula",19645,860.32499636949308,null,null,null,null,null,-32.736519999999999,152.12665999999999,"New South Wales","Rest of NSW","",0]
[106031124,"Tea Gardens - Hawks Nest",4499,868.62898736238867,null,null,null,null,null,-32.627839999999999,152.12697,"New South Wales","Rest of NSW","",0]
[406021142,"Port Augusta",13658,878.7181925388885,null,null,null,null,null,-32.49776,137.80155999999999,"South Australia","Rest of SA","",0]
[105011092,"Bourke - Brewarrina",4284,881.20538128969451,null,null,null,null,null,-29.912379999999999,145.74643,"New South Wales","Rest of NSW","",0]
[108011151,"Bulahdelah - Stroud",4729,885.28011150043585,null,null,null,null,null,-32.365070000000003,152.07074,"New South Wales","Rest of NSW","",0]
[406011133,"Port Lincoln",15221,889.49119961532779,null,null,null,null,null,-34.713909999999998,135.81074000000001,"South Australia","Rest of SA","",0]
[110041199,"Gunnedah",8732,898.99460411094174,null,null,null,null,null,-30.98442,150.22302999999999,"New South Wales","Rest of NSW","",0]
[108051167,"Gloucester",4869,904.62047963705015,null,null,null,null,null,-31.905529999999999,151.79322999999999,"New South Wales","Rest of NSW","",0]
[406011131,"Kimba - Cleve - Franklin Harbour",4250,911.02327163258371,null,null,null,null,null,-33.392760000000003,136.47045,"South Australia","Rest of SA","",0]
[406011130,"Eyre Peninsula",6376,913.2673996137861,null,null,null,null,null,-34.335270000000001,135.75035,"South Australia","Rest of SA","",0]
[108011153,"Forster-Tuncurry Region",5617,916.42702734701209,null,null,null,null,null,-32.250579999999999,152.40331,"New South Wales","Rest of NSW","",0]
[406021140,"Flinders Ranges",2272,918.08805017043767,null,null,null,null,null,-32.465739999999997,137.2602,"South Australia","Rest of SA","",0]
[110041200,"Gunnedah Region",4522,919.67747058446014,null,null,null,null,null,-30.7256,150.13676000000001,"New South Wales","Rest of NSW","",0]
[110041202,"Tamworth - East",19902,920.96733868434865,null,null,null,null,null,-31.155460000000001,150.95502999999999,"New South Wales","Rest of NSW","",0]
[110041204,"Tamworth - West",5323,921.77253700698111,null,null,null,null,null,-31.09104,150.86078000000001,"New South Wales","Rest of NSW","",0]
[110041203,"Tamworth - North",13512,927.09864327215996,null,null,null,null,null,-31.092220000000001,150.96161000000001,"New South Wales","Rest of NSW","",0]
[108011152,"Forster",13702,927.35987524225584,null,null,null,null,null,-32.22128,152.53197,"New South Wales","Rest of NSW","",0]
[108011154,"Tuncurry",5800,928.95769056778397,null,null,null,null,null,-32.160670000000003,152.48560000000001,"New South Wales","Rest of NSW","",0]
[110031198,"Narrabri Region",4810,931.04451306378439,null,null,null,null,null,-30.333590000000001,149.52237,"New South Wales","Rest of NSW","",0]
[105011096,"Walgett - Lightning Ridge",6823,939.29096661129302,null,null,null,null,null,-29.764690000000002,148.06618,"New South Wales","Rest of NSW","",{"$f":"IF(AND(E1282>0,E1282<45),1,0)","v":0}]
[110031197,"Narrabri",6930,940.99061919915368,null,null,null,null,null,-30.35313,149.80283,"New South Wales","Rest of NSW","",0]
[110041205,"Tamworth Region",17341,942.5377278687323,null,null,null,null,null,-30.876799999999999,150.87941000000001,"New South Wales","Rest of NSW","",0]
[108051171,"Wingham",5313,944.41331111172622,null,null,null,null,null,-31.858129999999999,152.35572999999999,"New South Wales","Rest of NSW","",0]
[108051170,"Taree Region",11516,944.58147811778838,null,null,null,null,null,-31.776119999999999,152.25523000000001,"New South Wales","Rest of NSW","",0]
[108051169,"Taree",20106,947.57294171172794,null,null,null,null,null,-31.909320000000001,152.46696,"New South Wales","Rest of NSW","",0]
[108051168,"Old Bar - Manning Point - Red Head",9560,947.63732331429844,null,null,null,null,null,-31.972570000000001,152.54406,"New South Wales","Rest of NSW","",0]
[110011189,"Walcha",3191,965.25885051856983,null,null,null,null,null,-31.166399999999999,151.75321,"New South Wales","Rest of NSW","",0]
[108041162,"Laurieton - Bonny Hills",15741,985.70389364176413,null,null,null,null,null,-31.61863,152.69327000000001,"New South Wales","Rest of NSW","",0]
[108041165,"Port Macquarie Region",5036,992.2281340192585,null,null,null,null,null,-31.366489999999999,152.47387000000001,"New South Wales","Rest of NSW","",0]
[110011188,"Armidale Region - South",6001,997.69293617150629,null,null,null,null,null,-30.57751,151.39481000000001,"New South Wales","Rest of NSW","",0]
[108041166,"Wauchope",10216,1002.7935871006653,null,null,null,null,null,-31.467649999999999,152.76838000000001,"New South Wales","Rest of NSW","",0]
[406011132,"Le Hunte - Elliston",2255,1004.3846670002545,null,null,null,null,null,-33.33184,135.31066999999999,"South Australia","Rest of SA","",0]
[108041163,"Port Macquarie - East",26713,1010.3865206420028,null,null,null,null,null,-31.478840000000002,152.89872,"New South Wales","Rest of NSW","",0]
[108041164,"Port Macquarie - West",15009,1011.1884824408096,null,null,null,null,null,-31.437889999999999,152.86044000000001,"New South Wales","Rest of NSW","",0]
[110011186,"Armidale",22468,1019.4483951071225,null,null,null,null,null,-30.503150000000002,151.66776999999999,"New South Wales","Rest of NSW","",0]
[110031195,"Moree",8398,1031.3543651745897,null,null,null,null,null,-29.46106,149.82653999999999,"New South Wales","Rest of NSW","",0]
[110021193,"Inverell Region - West",5617,1036.1796923852662,null,null,null,null,null,-29.744309999999999,150.58985000000001,"New South Wales","Rest of NSW","",0]
[108021156,"Kempsey Region",8944,1036.2037476287403,null,null,null,null,null,-30.919630000000002,152.57753,"New South Wales","Rest of NSW","",0]
[108021155,"Kempsey",14294,1038.3322902260161,null,null,null,null,null,-31.081440000000001,152.82857999999999,"New South Wales","Rest of NSW","",0]
[110011187,"Armidale Region - North",4289,1049.1844369719024,null,null,null,null,null,-30.336649999999999,151.93093999999999,"New South Wales","Rest of NSW","",0]
[110031196,"Moree Region",5550,1050.030466643178,null,null,null,null,null,-29.22954,149.70365000000001,"New South Wales","Rest of NSW","",0]
[110021191,"Inverell",11400,1059.2601293282053,null,null,null,null,null,-29.76258,151.11002999999999,"New South Wales","Rest of NSW","",0]
[108021160,"South West Rocks",4954,1066.1982279748313,null,null,null,null,null,-30.914459999999998,153.04935,"New South Wales","Rest of NSW","",0]
[108021159,"Nambucca Heads Region",7337,1067.0110535542153,null,null,null,null,null,-30.689119999999999,152.75966,"New South Wales","Rest of NSW","",0]
[108021157,"Macksville - Scotts Head",4642,1076.3244476895354,null,null,null,null,null,-30.720970000000001,152.95357000000001,"New South Wales","Rest of NSW","",0]
[108021158,"Nambucca Heads",6665,1084.6318856445034,null,null,null,null,null,-30.645669999999999,152.98498000000001,"New South Wales","Rest of NSW","",0]
[104021083,"Bellingen",5702,1085.2864635255635,null,null,null,null,null,-30.447949999999999,152.71986000000001,"New South Wales","Rest of NSW","",0]
[110021192,"Inverell Region - East",5284,1088.5950195537994,null,null,null,null,null,-29.46048,151.11681999999999,"New South Wales","Rest of NSW","",0]
[307011171,"Balonne",4719,1095.6348464422992,null,null,null,null,null,-28.31588,148.11582999999999,"Queensland","Rest of Qld","",0]
[104021090,"Urunga",4542,1098.7223567807468,null,null,null,null,null,-30.48978,152.99909,"New South Wales","Rest of NSW","",0]
[104021087,"Dorrigo",3292,1099.7947372588665,null,null,null,null,null,-30.213609999999999,152.62049999999999,"New South Wales","Rest of NSW","",0]
[406021143,"Roxby Downs",4717,1102.5787566227068,null,null,null,null,null,-30.483910000000002,136.87597,"South Australia","Rest of SA","",0]
[104021089,"Sawtell - Boambee",18941,1110.7528104429969,null,null,null,null,null,-30.37613,153.03708,"New South Wales","Rest of NSW","",0]
[110021190,"Glen Innes",8656,1111.0013224863005,null,null,null,null,null,-29.645009999999999,151.90305000000001,"New South Wales","Rest of NSW","",0]
[104021085,"Coffs Harbour - South",9817,1119.5693706706531,null,null,null,null,null,-30.315149999999999,153.09581,"New South Wales","Rest of NSW","",0]
[104021084,"Coffs Harbour - North",16342,1122.9078049603365,null,null,null,null,null,-30.282139999999998,153.10418999999999,"New South Wales","Rest of NSW","",0]
[104021086,"Coramba - Nana Glen - Bucca",3585,1124.8965157480839,null,null,null,null,null,-30.208410000000001,153.03287,"New South Wales","Rest of NSW","",0]
[104021088,"Korora - Emerald Beach",7696,1131.6643906270986,null,null,null,null,null,-30.206109999999999,153.14079000000001,"New South Wales","Rest of NSW","",0]
[104021091,"Woolgoolga - Arrawarra",11446,1148.6161162057147,null,null,null,null,null,-30.027750000000001,153.16686999999999,"New South Wales","Rest of NSW","",0]
[315031411,"Far South West",3242,1157.4820806388491,null,null,null,null,null,-27.442589999999999,143.85908000000001,"Queensland","Rest of Qld","",0]
[104011081,"Grafton Region",15034,1157.996337004646,null,null,null,null,null,-29.634879999999999,152.73794000000001,"New South Wales","Rest of NSW","",0]
[307011173,"Goondiwindi",6397,1160.3372242784883,null,null,null,null,null,-28.397950000000002,150.35721000000001,"Queensland","Rest of Qld","",0]
[104011080,"Grafton",18359,1165.6044366602437,null,null,null,null,null,-29.677250000000001,152.93548999999999,"New South Wales","Rest of NSW","",0]
[307011174,"Inglewood - Waggamba",4193,1168.5318149896448,null,null,null,null,null,-28.673380000000002,151.18769,"Queensland","Rest of Qld","",0]
[406021141,"Outback",3438,1171.2664394786743,null,null,null,null,null,-29.297699999999999,137.50291000000001,"South Australia","Rest of SA","",0]
[110021194,"Tenterfield",6811,1186.2391782655468,null,null,null,null,null,-28.943860000000001,152.08644000000001,"New South Wales","Rest of NSW","",0]
[307031188,"Stanthorpe Region",5490,1187.4784993755386,null,null,null,null,null,-28.739419999999999,151.72311999999999,"Queensland","Rest of Qld","",0]
[307031187,"Stanthorpe",5385,1205.6899080126655,null,null,null,null,null,-28.659890000000001,151.93765999999999,"Queensland","Rest of Qld","",0]
[104011082,"Maclean - Yamba - Iluka",15842,1207.6729865928889,null,null,null,null,null,-29.420559999999998,153.26625000000001,"New South Wales","Rest of NSW","",0]
[406011129,"Ceduna",2642,1214.6649515766699,null,null,null,null,null,-32.04956,133.62598,"South Australia","Rest of SA","",0]
[112021245,"Casino Region",6895,1228.0853892631897,null,null,null,null,null,-28.92943,152.84656000000001,"New South Wales","Rest of NSW","",0]
[112011241,"Evans Head",4989,1235.4530710550539,null,null,null,null,null,-29.139279999999999,153.31377000000001,"New South Wales","Rest of NSW","",0]
[307011178,"Tara",4139,1244.699089649007,null,null,null,null,null,-27.503990000000002,150.16892000000001,"Queensland","Rest of Qld","",0]
[307031186,"Southern Downs - West",4393,1246.2947003032643,null,null,null,null,null,-28.180489999999999,151.82182,"Queensland","Rest of Qld","",0]
[112021244,"Casino",11832,1246.6154884031321,null,null,null,null,null,-28.844090000000001,153.04039,"New South Wales","Rest of NSW","",0]
[307021181,"Millmerran",3116,1246.8421599341625,null,null,null,null,null,-27.853719999999999,151.12069,"Queensland","Rest of Qld","",0]
[307031189,"Warwick",14607,1250.1139773551281,null,null,null,null,null,-28.23245,152.00582,"Queensland","Rest of Qld","",0]
[307031185,"Southern Downs - East",4093,1261.944752308862,null,null,null,null,null,-28.224519999999998,152.23077000000001,"Queensland","Rest of Qld","",0]
[112021248,"Lismore",15565,1262.6244592892942,null,null,null,null,null,-28.819510000000001,153.28599,"New South Wales","Rest of NSW","",0]
[112021246,"Goonellabah",12717,1264.9105722083739,null,null,null,null,null,-28.822970000000002,153.33185,"New South Wales","Rest of NSW","",0]
[112021249,"Lismore Region",14770,1267.9337967700187,null,null,null,null,null,-28.750910000000001,153.26985999999999,"New South Wales","Rest of NSW","",0]
[112021247,"Kyogle",7510,1268.2879454316007,null,null,null,null,null,-28.51324,152.87952999999999,"New South Wales","Rest of NSW","",0]
[112011237,"Ballina Region",15695,1269.5755696850556,null,null,null,null,null,-28.860099999999999,153.47201999999999,"New South Wales","Rest of NSW","",0]
[112011236,"Ballina",16166,1275.4909880421544,null,null,null,null,null,-28.847380000000001,153.55486999999999,"New South Wales","Rest of NSW","",{"$f":"IF(AND(E1346>0,E1346<45),1,0)","v":0}]
[307021182,"Pittsworth",5291,1280.9098152778149,null,null,null,null,null,-27.714559999999999,151.58166,"Queensland","Rest of Qld","",0]
[307031184,"Clifton - Greenmount",4533,1281.1515593830584,null,null,null,null,null,-27.86711,151.91325000000001,"Queensland","Rest of Qld","",0]
[112011242,"Lennox Head - Skennars Head",7340,1282.5324147055658,null,null,null,null,null,-28.78745,153.58386999999999,"New South Wales","Rest of NSW","",0]
[112011238,"Bangalow",5321,1288.0295470831472,null,null,null,null,null,-28.673390000000001,153.50084000000001,"New South Wales","Rest of NSW","",0]
[307011177,"Roma Region",6167,1290.905768815375,null,null,null,null,null,-26.544260000000001,148.28667999999999,"Queensland","Rest of Qld","",0]
[112011240,"Byron Bay",8655,1293.019758671594,null,null,null,null,null,-28.681039999999999,153.60015000000001,"New South Wales","Rest of NSW","",0]
[406011134,"West Coast (SA)",3554,1293.2683491858584,null,null,null,null,null,-31.904019999999999,132.73339000000001,"South Australia","Rest of SA","",0]
[112011243,"Mullumbimby",7335,1296.1109850387015,null,null,null,null,null,-28.547899999999998,153.44288,"New South Wales","Rest of NSW","",0]
[317011445,"Cambooya - Wyreema",5701,1296.5661183707984,null,null,null,null,null,-27.690449999999998,151.87299999999999,"Queensland","Rest of Qld","",0]
[315031409,"Charleville",4619,1300.0939001329291,null,null,null,null,null,-26.189689999999999,146.48940999999999,"Queensland","Rest of Qld","",0]
[307011176,"Roma",6906,1301.4313802045906,null,null,null,null,null,-26.56317,148.804,"Queensland","Rest of Qld","",0]
[112011239,"Brunswick Heads - Ocean Shores",7732,1301.8410628764343,null,null,null,null,null,-28.5474,153.54347000000001,"New South Wales","Rest of NSW","",0]
[310021277,"Boonah",10938,1303.0950417408535,null,null,null,null,null,-27.99464,152.61268999999999,"Queensland","Greater Brisbane","Greater Brisbane",0]
[112031252,"Murwillumbah Region",9549,1303.4466741289884,null,null,null,null,null,-28.378740000000001,153.29716999999999,"New South Wales","Rest of NSW","",0]
[307021180,"Jondaryan",7339,1305.0824960149268,null,null,null,null,null,-27.42981,151.48833999999999,"Queensland","Rest of Qld","",0]
[311011305,"Beaudesert",12380,1305.4528243677748,null,null,null,null,null,-28.137640000000001,152.91924,"Queensland","Greater Brisbane","Greater Brisbane",0]
[317011458,"Toowoomba - West",11398,1307.5664792592822,null,null,null,null,null,-27.565429999999999,151.84497999999999,"Queensland","Rest of Qld","",0]
[317011446,"Darling Heights",12270,1307.7436041664607,null,null,null,null,null,-27.605250000000002,151.93382,"Queensland","Rest of Qld","",0]
[317011447,"Drayton - Harristown",10102,1308.1317154981368,null,null,null,null,null,-27.591329999999999,151.91266999999999,"Queensland","Rest of Qld","",0]
[317011452,"Middle Ridge",6561,1309.0978559832668,null,null,null,null,null,-27.607089999999999,151.96688,"Queensland","Rest of Qld","",0]
[317011456,"Toowoomba - Central",13299,1311.7019796543757,null,null,null,null,null,-27.57489,151.95495,"Queensland","Rest of Qld","",0]
[317011455,"Rangeville",8217,1312.1830934229938,null,null,null,null,null,-27.584849999999999,151.98634000000001,"Queensland","Rest of Qld","",0]
[317011453,"Newtown (Qld)",9565,1312.5182404454097,null,null,null,null,null,-27.55602,151.93254999999999,"Queensland","Rest of Qld","",0]
[112031251,"Murwillumbah",8237,1313.056938316018,null,null,null,null,null,-28.334879999999998,153.39823999999999,"New South Wales","Rest of NSW","",0]
[112031253,"Pottsville",12141,1313.2176098116247,null,null,null,null,null,-28.400289999999998,153.50833,"New South Wales","Rest of NSW","",0]
[317011451,"Lockyer Valley - West",10239,1314.970289450468,null,null,null,null,null,-27.644780000000001,152.16987,"Queensland","Rest of Qld","",0]
[317011459,"Wilsonton",12917,1315.0222409120295,null,null,null,null,null,-27.526129999999998,151.92314999999999,"Queensland","Rest of Qld","",0]
[317011457,"Toowoomba - East",10054,1315.3129696147462,null,null,null,null,null,-27.550129999999999,151.98043000000001,"Queensland","Rest of Qld","",0]
[317011454,"North Toowoomba - Harlaxton",5896,1316.2383403476792,null,null,null,null,null,-27.527529999999999,151.95249999999999,"Queensland","Rest of Qld","",0]
[317011449,"Gowrie (Qld)",5573,1319.5574016941791,null,null,null,null,null,-27.453990000000001,151.86706000000001,"Queensland","Rest of Qld","",0]
[309041242,"Tamborine - Canungra",13137,1321.5866434496927,null,null,null,null,null,-28.095759999999999,153.14926,"Queensland","Rest of Qld","",0]
[310021280,"Lockyer Valley - East",17540,1325.1734853122825,null,null,null,null,null,-27.643519999999999,152.37934000000001,"Queensland","Greater Brisbane","Greater Brisbane",0]
[309051243,"Currumbin Valley - Tallebudgera",6818,1325.426716780584,null,null,null,null,null,-28.18873,153.37898999999999,"Queensland","Rest of Qld","",0]
[309041241,"Guanaba - Springbrook",3998,1325.4722386129065,null,null,null,null,null,-28.115349999999999,153.25528,"Queensland","Rest of Qld","",0]
[112031254,"Tweed Heads",18194,1326.7192442388584,null,null,null,null,null,-28.216889999999999,153.44953000000001,"New South Wales","Rest of NSW","",0]
[317011450,"Highfields",11246,1326.988927621102,null,null,null,null,null,-27.423279999999998,151.96337,"Queensland","Rest of Qld","",0]
[112031255,"Tweed Heads - South",26052,1328.0270933670386,null,null,null,null,null,-28.236049999999999,153.50487000000001,"New South Wales","Rest of NSW","",0]
[112031250,"Kingscliff - Fingal Head",10928,1328.6178698506444,null,null,null,null,null,-28.25827,153.55199999999999,"New South Wales","Rest of NSW","",0]
[317011448,"Gatton",7180,1328.6431949538662,null,null,null,null,null,-27.562100000000001,152.28775999999999,"Queensland","Rest of Qld","",0]
[309051244,"Mudgeeraba - Bonogin",17386,1330.118927915936,null,null,null,null,null,-28.12107,153.35060999999999,"Queensland","Rest of Qld","",0]
[310021282,"Rosewood",11673,1331.2182015856536,null,null,null,null,null,-27.682400000000001,152.57850999999999,"Queensland","Greater Brisbane","Greater Brisbane",0]
[307021183,"Wambo",16541,1331.6810183960533,null,null,null,null,null,-27.033169999999998,151.17307,"Queensland","Rest of Qld","",0]
[309021232,"Currumbin Waters",8883,1333.198837604122,null,null,null,null,null,-28.15429,153.46270000000001,"Queensland","Rest of Qld","",0]
[309051245,"Reedy Creek - Andrews",6872,1333.6193232785333,null,null,null,null,null,-28.11346,153.40183999999999,"Queensland","Rest of Qld","",0]
[309021233,"Elanora",11645,1334.1661348678865,null,null,null,null,null,-28.135770000000001,153.44931,"Queensland","Rest of Qld","",0]
[309061250,"Worongary - Tallai",7427,1335.3510490671758,null,null,null,null,null,-28.05321,153.33132000000001,"Queensland","Rest of Qld","",0]
[309021231,"Currumbin - Tugun",10420,1335.367764419567,null,null,null,null,null,-28.1496,153.49421000000001,"Queensland","Rest of Qld","",0]
[309021230,"Coolangatta",5192,1335.7051368763402,null,null,null,null,null,-28.169750000000001,153.53373999999999,"Queensland","Rest of Qld","",0]
[309081262,"Varsity Lakes",14366,1336.3916033580163,null,null,null,null,null,-28.088899999999999,153.41108,"Queensland","Rest of Qld","",0]
[309011225,"Burleigh Heads",8027,1336.4680991914117,null,null,null,null,null,-28.10238,153.43520000000001,"Queensland","Rest of Qld","",0]
[309021234,"Palm Beach",13956,1336.7452859333348,null,null,null,null,null,-28.115919999999999,153.46297999999999,"Queensland","Rest of Qld","",0]
[309081261,"Robina",20522,1337.1006838973244,null,null,null,null,null,-28.070709999999998,153.39329000000001,"Queensland","Rest of Qld","",0]
[309011226,"Burleigh Waters",13868,1337.6891001096255,null,null,null,null,null,-28.087389999999999,153.43225000000001,"Queensland","Rest of Qld","",0]
[309081260,"Merrimac",6321,1337.8364983744057,null,null,null,null,null,-28.050850000000001,153.37307000000001,"Queensland","Rest of Qld","",0]
[311041321,"Jimboomba",19707,1338.5405239208458,null,null,null,null,null,-27.85502,153.0437,"Queensland","Greater Brisbane","Greater Brisbane",0]
[311041320,"Greenbank",11782,1339.0379387570608,null,null,null,null,null,-27.777380000000001,152.91207,"Queensland","Greater Brisbane","Greater Brisbane",0]
[309061247,"Highland Park",8474,1339.0540410446197,null,null,null,null,null,-28.01567,153.33542,"Queensland","Rest of Qld","",0]
[309061248,"Nerang - Mount Nathan",18828,1339.5474758683538,null,null,null,null,null,-27.98996,153.30034000000001,"Queensland","Rest of Qld","",0]
[309011229,"Miami",6364,1339.6560832236896,null,null,null,null,null,-28.068210000000001,153.43584999999999,"Queensland","Rest of Qld","",0]
[309081259,"Clear Island Waters",3986,1339.9803978711095,null,null,null,null,null,-28.041930000000001,153.3973,"Queensland","Rest of Qld","",0]
[309061246,"Carrara",11570,1340.1884992916159,null,null,null,null,null,-28.021509999999999,153.36635000000001,"Queensland","Rest of Qld","",0]
[309011228,"Mermaid Waters",11789,1340.5741871990901,null,null,null,null,null,-28.049790000000002,153.42151999999999,"Queensland","Rest of Qld","",0]
[310031294,"Ripley",2845,1341.4533100669232,null,null,null,null,null,-27.699590000000001,152.81487000000001,"Queensland","Greater Brisbane","Greater Brisbane",0]
[309011224,"Broadbeach Waters",7534,1342.3242221037774,null,null,null,null,null,-28.026959999999999,153.41490999999999,"Queensland","Rest of Qld","",{"$f":"IF(AND(E1410>0,E1410<45),1,0)","v":0}]
[309011227,"Mermaid Beach - Broadbeach",10337,1342.3563957504582,null,null,null,null,null,-28.037939999999999,153.43411,"Queensland","Rest of Qld","",0]
[310031285,"Churchill - Yamanto",5918,1342.5244684511765,null,null,null,null,null,-27.649920000000002,152.74236999999999,"Queensland","Greater Brisbane","Greater Brisbane",0]
[309101267,"Benowa",7979,1342.5261908729449,null,null,null,null,null,-28.00769,153.38583,"Queensland","Rest of Qld","",0]
[309101268,"Bundall",4188,1343.239852563762,null,null,null,null,null,-28.011109999999999,153.40478999999999,"Queensland","Rest of Qld","",0]
[309091263,"Ashmore",11586,1343.7662621112365,null,null,null,null,null,-27.98883,153.37647000000001,"Queensland","Rest of Qld","",0]
[309091264,"Molendinar",6213,1344.2792053862693,null,null,null,null,null,-27.97409,153.36069000000001,"Queensland","Rest of Qld","",0]
[310031293,"Raceview",14215,1344.6474776769032,null,null,null,null,null,-27.643730000000001,152.77276000000001,"Queensland","Greater Brisbane","Greater Brisbane",0]
[309061249,"Pacific Pines - Gaven",16374,1344.754472097489,null,null,null,null,null,-27.947209999999998,153.32321999999999,"Queensland","Rest of Qld","",0]
[309101270,"Surfers Paradise",19668,1345.0348385896727,null,null,null,null,null,-28.002579999999998,153.42327,"Queensland","Rest of Qld","",0]
[310031291,"Leichhardt - One Mile",6713,1345.4602462385064,null,null,null,null,null,-27.605519999999999,152.71625,"Queensland","Greater Brisbane","Greater Brisbane",0]
[309071256,"Oxenford - Maudsland",14370,1345.5485586516311,null,null,null,null,null,-27.92052,153.29176000000001,"Queensland","Rest of Qld","",0]
[309091265,"Parkwood",8436,1346.2145439885087,null,null,null,null,null,-27.954609999999999,153.36304000000001,"Queensland","Rest of Qld","",0]
[310031286,"Ipswich - Central",6678,1346.2845779006618,null,null,null,null,null,-27.617090000000001,152.75473,"Queensland","Greater Brisbane","Greater Brisbane",0]
[309091266,"Southport",28315,1346.4537577923682,null,null,null,null,null,-27.973759999999999,153.40027000000001,"Queensland","Rest of Qld","",0]
[310041304,"Springfield Lakes",10253,1347.4053956702046,null,null,null,null,null,-27.685020000000002,152.90440000000001,"Queensland","Greater Brisbane","Greater Brisbane",0]
[309031235,"Arundel",9575,1347.7858344435253,null,null,null,null,null,-27.93768,153.36302000000001,"Queensland","Rest of Qld","",0]
[310041302,"Redbank Plains",14976,1347.8583947597217,null,null,null,null,null,-27.651209999999999,152.85024000000001,"Queensland","Greater Brisbane","Greater Brisbane",0]
[310031283,"Brassall",9245,1347.9461032556746,null,null,null,null,null,-27.590070000000001,152.73634000000001,"Queensland","Greater Brisbane","Greater Brisbane",0]
[310031287,"Ipswich - East",16846,1348.2669134757984,null,null,null,null,null,-27.61177,152.78399999999999,"Queensland","Greater Brisbane","Greater Brisbane",0]
[309071258,"Upper Coomera - Willow Vale",23920,1348.4141707437775,null,null,null,null,null,-27.861059999999998,153.24152000000001,"Queensland","Rest of Qld","",0]
[309031238,"Labrador",16402,1348.8805023304153,null,null,null,null,null,-27.94622,153.39793,"Queensland","Rest of Qld","",0]
[311031318,"Munruben - Park Ridge South",4590,1349.1214179877336,null,null,null,null,null,-27.737870000000001,153.03478000000001,"Queensland","Greater Brisbane","Greater Brisbane",0]
[309101269,"Main Beach",3496,1349.3867377074057,null,null,null,null,null,-27.956910000000001,153.42554000000001,"Queensland","Rest of Qld","",0]
[310031292,"North Ipswich - Tivoli",6326,1349.7178615718483,null,null,null,null,null,-27.59064,152.77270999999999,"Queensland","Greater Brisbane","Greater Brisbane",0]
[311041322,"Logan Village",5851,1349.7242972744396,null,null,null,null,null,-27.77216,153.10835,"Queensland","Greater Brisbane","Greater Brisbane",0]
[310041296,"Bellbird Park - Brookwater",8464,1349.7849560281134,null,null,null,null,null,-27.6508,152.88731000000001,"Queensland","Greater Brisbane","Greater Brisbane",0]
[309071252,"Helensvale",15987,1349.8190664654751,null,null,null,null,null,-27.90091,153.33729,"Queensland","Rest of Qld","",0]
[310031284,"Bundamba",7854,1350.0504163477212,null,null,null,null,null,-27.607489999999999,152.81124,"Queensland","Greater Brisbane","Greater Brisbane",0]
[309031236,"Biggera Waters",6338,1350.0510179726778,null,null,null,null,null,-27.92981,153.39142000000001,"Queensland","Rest of Qld","",0]
[310041301,"New Chum",0,1350.1238891797436,null,null,null,null,null,-27.618040000000001,152.83259000000001,"Queensland","Greater Brisbane","Greater Brisbane",0]
[309031237,"Coombabah",9774,1350.7168518670474,null,null,null,null,null,-27.910730000000001,153.37092999999999,"Queensland","Rest of Qld","",0]
[310041303,"Springfield",6618,1350.7856080317767,null,null,null,null,null,-27.652539999999998,152.91014999999999,"Queensland","Greater Brisbane","Greater Brisbane",0]
[307011175,"Miles - Wandoan",3800,1350.9342893075259,null,null,null,null,null,-26.403490000000001,149.91955999999999,"Queensland","Rest of Qld","",0]
[309031240,"Runaway Bay",8912,1351.8740520776244,null,null,null,null,null,-27.91386,153.39775,"Queensland","Rest of Qld","",0]
[311031313,"Chambers Flat - Logan Reserve",3767,1352.0392247595994,null,null,null,null,null,-27.73676,153.08883,"Queensland","Greater Brisbane","Greater Brisbane",0]
[310031288,"Ipswich - North",4299,1352.0740580177271,null,null,null,null,null,-27.546469999999999,152.73537999999999,"Queensland","Greater Brisbane","Greater Brisbane",0]
[311031315,"Greenbank Military Camp",0,1352.0953332788265,null,null,null,null,null,-27.671479999999999,152.97076000000001,"Queensland","Greater Brisbane","Greater Brisbane",0]
[310041299,"Collingwood Park - Redbank",7750,1352.2611162432111,null,null,null,null,null,-27.612480000000001,152.86428000000001,"Queensland","Greater Brisbane","Greater Brisbane",0]
[307021179,"Crows Nest - Rosalie",8071,1352.3159639083885,null,null,null,null,null,-27.135719999999999,151.89546999999999,"Queensland","Rest of Qld","",0]
[311031311,"Boronia Heights - Park Ridge",11718,1352.5379227960477,null,null,null,null,null,-27.70506,153.04087999999999,"Queensland","Greater Brisbane","Greater Brisbane",0]
[310031295,"Riverview",3243,1353.1281384023778,null,null,null,null,null,-27.591380000000001,152.8417,"Queensland","Greater Brisbane","Greater Brisbane",0]
[310041297,"Camira - Gailes",9034,1353.3057741639618,null,null,null,null,null,-27.631209999999999,152.91979000000001,"Queensland","Greater Brisbane","Greater Brisbane",0]
[310041300,"Goodna",9252,1353.7683799100018,null,null,null,null,null,-27.611660000000001,152.89239000000001,"Queensland","Greater Brisbane","Greater Brisbane",0]
[310021281,"Lowood",12024,1354.3365784226437,null,null,null,null,null,-27.441479999999999,152.57696999999999,"Queensland","Greater Brisbane","Greater Brisbane",0]
[311021310,"Wolffdene - Bahrs Scrub",5300,1354.3978173216242,null,null,null,null,null,-27.759830000000001,153.17529999999999,"Queensland","Greater Brisbane","Greater Brisbane",0]
[309031239,"Paradise Point - Hollywell",8612,1354.4071793790959,null,null,null,null,null,-27.885149999999999,153.39527000000001,"Queensland","Rest of Qld","",0]
[310041298,"Carole Park",3,1354.7469879940631,null,null,null,null,null,-27.621289999999998,152.92954,"Queensland","Greater Brisbane","Greater Brisbane",0]
[311031316,"Hillcrest",7753,1354.8010123550441,null,null,null,null,null,-27.665179999999999,153.01168999999999,"Queensland","Greater Brisbane","Greater Brisbane",0]
[309071251,"Coomera",8793,1354.9643300079717,null,null,null,null,null,-27.846900000000002,153.33941999999999,"Queensland","Rest of Qld","",0]
[310031289,"Karalee - Barellan Point",4791,1355.2064688402816,null,null,null,null,null,-27.563009999999998,152.82924,"Queensland","Greater Brisbane","Greater Brisbane",0]
[311031319,"Regents Park - Heritage Park",15529,1355.4695190936945,null,null,null,null,null,-27.67963,153.05106000000001,"Queensland","Greater Brisbane","Greater Brisbane",0]
[311031314,"Crestmead",11210,1356.450025776777,null,null,null,null,null,-27.68759,153.08444,"Queensland","Greater Brisbane","Greater Brisbane",0]
[309071255,"Ormeau - Yatala",15891,1356.5180076532536,null,null,null,null,null,-27.76803,153.23008999999999,"Queensland","Rest of Qld","",0]
[309071257,"Pimpama",3211,1356.7643667397981,null,null,null,null,null,-27.812950000000001,153.31385,"Queensland","Rest of Qld","",0]
[304021086,"Bellbowrie - Moggill",9020,1356.820124915193,null,null,null,null,null,-27.572410000000001,152.87886,"Queensland","Greater Brisbane","Greater Brisbane",0]
[310011273,"Forest Lake - Doolandella",25355,1356.9050419822186,null,null,null,null,null,-27.618010000000002,152.96562,"Queensland","Greater Brisbane","Greater Brisbane",0]
[310011276,"Wacol",4937,1357.4145163483799,null,null,null,null,null,-27.588920000000002,152.92148,"Queensland","Greater Brisbane","Greater Brisbane",0]
[310031290,"Karana Downs",5952,1357.5429776299691,null,null,null,null,null,-27.51961,152.79320999999999,"Queensland","Greater Brisbane","Greater Brisbane",0]
[311031312,"Browns Plains",6663,1357.6728035321346,null,null,null,null,null,-27.662690000000001,153.06267,"Queensland","Greater Brisbane","Greater Brisbane",0]
[311051328,"Waterford West",7010,1358.1015307697207,null,null,null,null,null,-27.69276,153.12550999999999,"Queensland","Greater Brisbane","Greater Brisbane",0]
[303051075,"Parkinson - Drewvale",14407,1358.1556195439505,null,null,null,null,null,-27.644490000000001,153.03872000000001,"Queensland","Greater Brisbane","Greater Brisbane",0]
[311031317,"Marsden",11489,1358.4640943533727,null,null,null,null,null,-27.673490000000001,153.09756999999999,"Queensland","Greater Brisbane","Greater Brisbane",0]
[303051074,"Pallara - Willawong",3789,1358.5011168966885,null,null,null,null,null,-27.621559999999999,153.00326999999999,"Queensland","Greater Brisbane","Greater Brisbane",0]
[311021309,"Mount Warren Park",5665,1358.6868993359749,null,null,null,null,null,-27.731089999999998,153.20549,"Queensland","Greater Brisbane","Greater Brisbane",{"$f":"IF(AND(E1474>0,E1474<45),1,0)","v":0}]
[311021308,"Edens Landing - Holmview",6574,1358.7552079211487,null,null,null,null,null,-27.710540000000002,153.17001999999999,"Queensland","Greater Brisbane","Greater Brisbane",0]
[311051323,"Bethania - Waterford",8525,1358.7644524801749,null,null,null,null,null,-27.698609999999999,153.14875000000001,"Queensland","Greater Brisbane","Greater Brisbane",0]
[310011274,"Inala - Richlands",15434,1359.2575162113915,null,null,null,null,null,-27.59178,152.96289999999999,"Queensland","Greater Brisbane","Greater Brisbane",0]
[304011083,"Riverhills",3819,1359.3788490837042,null,null,null,null,null,-27.56195,152.90961999999999,"Queensland","Greater Brisbane","Greater Brisbane",0]
[311021306,"Beenleigh",8245,1359.5616178218863,null,null,null,null,null,-27.715109999999999,153.19356999999999,"Queensland","Greater Brisbane","Greater Brisbane",0]
[406021139,"Coober Pedy",1695,1360.1284865642372,null,null,null,null,null,-29.01586,134.75235000000001,"South Australia","Rest of SA","",0]
[309071253,"Hope Island",8584,1360.559798187624,null,null,null,null,null,-27.814219999999999,153.38695999999999,"Queensland","Rest of Qld","",0]
[311061330,"Kingston",10184,1360.6234426692702,null,null,null,null,null,-27.659230000000001,153.11320000000001,"Queensland","Greater Brisbane","Greater Brisbane",0]
[310011272,"Durack",6545,1360.6750785368886,null,null,null,null,null,-27.589179999999999,152.98576,"Queensland","Greater Brisbane","Greater Brisbane",0]
[310011271,"Darra - Sumner",4377,1360.6886116782841,null,null,null,null,null,-27.568460000000002,152.94750999999999,"Queensland","Greater Brisbane","Greater Brisbane",0]
[304011085,"Westlake",4381,1360.8084578709388,null,null,null,null,null,-27.54862,152.91275999999999,"Queensland","Greater Brisbane","Greater Brisbane",0]
[303051072,"Algester",8262,1360.8316474684825,null,null,null,null,null,-27.61279,153.03238999999999,"Queensland","Greater Brisbane","Greater Brisbane",0]
[304011082,"Middle Park - Jamboree Heights",7085,1360.8338520081925,null,null,null,null,null,-27.55612,152.92731000000001,"Queensland","Greater Brisbane","Greater Brisbane",0]
[311051326,"Loganlea",9314,1360.9141502989912,null,null,null,null,null,-27.67033,153.13888,"Queensland","Greater Brisbane","Greater Brisbane",0]
[311061331,"Logan Central",6260,1360.9976171679307,null,null,null,null,null,-27.647259999999999,153.09864999999999,"Queensland","Greater Brisbane","Greater Brisbane",0]
[303051073,"Calamvale - Stretton",18469,1361.1687600799523,null,null,null,null,null,-27.628270000000001,153.06730999999999,"Queensland","Greater Brisbane","Greater Brisbane",0]
[304021091,"Pinjarra Hills - Pullenvale",5365,1361.3093596683207,null,null,null,null,null,-27.525110000000002,152.87841,"Queensland","Greater Brisbane","Greater Brisbane",0]
[311051325,"Loganholme - Tanah Merah",10730,1362.2318455299235,null,null,null,null,null,-27.680140000000002,153.18176,"Queensland","Greater Brisbane","Greater Brisbane",0]
[311021307,"Eagleby",11971,1362.4649097095773,null,null,null,null,null,-27.698599999999999,153.21926999999999,"Queensland","Greater Brisbane","Greater Brisbane",0]
[304011081,"Jindalee - Mount Ommaney",7268,1362.7575229793533,null,null,null,null,null,-27.540040000000001,152.93502000000001,"Queensland","Greater Brisbane","Greater Brisbane",0]
[310011275,"Oxley (Qld)",6919,1362.784495159427,null,null,null,null,null,-27.561630000000001,152.97583,"Queensland","Greater Brisbane","Greater Brisbane",0]
[304011084,"Seventeen Mile Rocks - Sinnamon Park",9511,1363.0802228761668,null,null,null,null,null,-27.545770000000001,152.95206999999999,"Queensland","Greater Brisbane","Greater Brisbane",0]
[311061336,"Woodridge",12787,1363.1360647018214,null,null,null,null,null,-27.628530000000001,153.10575,"Queensland","Greater Brisbane","Greater Brisbane",0]
[311061333,"Slacks Creek",10436,1363.3996364078496,null,null,null,null,null,-27.641089999999998,153.13364000000001,"Queensland","Greater Brisbane","Greater Brisbane",0]
[303061080,"Sunnybank Hills",16830,1363.4445405411568,null,null,null,null,null,-27.595960000000002,153.05214000000001,"Queensland","Greater Brisbane","Greater Brisbane",0]
[303051076,"Rocklea - Acacia Ridge",8707,1364.0554611438417,null,null,null,null,null,-27.567879999999999,153.01223999999999,"Queensland","Greater Brisbane","Greater Brisbane",0]
[309071254,"Jacobs Well - Alberton",3309,1364.1357193676276,null,null,null,null,null,-27.748159999999999,153.33856,"Queensland","Rest of Qld","",0]
[303061078,"Runcorn",13369,1364.4982386091033,null,null,null,null,null,-27.59826,153.07677000000001,"Queensland","Greater Brisbane","Greater Brisbane",0]
[303061077,"Kuraby",7777,1364.5615354052236,null,null,null,null,null,-27.606829999999999,153.09367,"Queensland","Greater Brisbane","Greater Brisbane",0]
[311051327,"Shailer Park",11275,1364.868070341435,null,null,null,null,null,-27.649799999999999,153.17752999999999,"Queensland","Greater Brisbane","Greater Brisbane",0]
[304031093,"Corinda",4696,1364.9358511934292,null,null,null,null,null,-27.54326,152.98374999999999,"Queensland","Greater Brisbane","Greater Brisbane",0]
[304021090,"Kenmore",8483,1365.1021528121237,null,null,null,null,null,-27.51688,152.93773999999999,"Queensland","Greater Brisbane","Greater Brisbane",0]
[311061335,"Underwood",5328,1365.2841916205773,null,null,null,null,null,-27.60885,153.1113,"Queensland","Greater Brisbane","Greater Brisbane",0]
[304021089,"Fig Tree Pocket",3652,1365.2878214198292,null,null,null,null,null,-27.527840000000001,152.96190000000001,"Queensland","Greater Brisbane","Greater Brisbane",0]
[303061079,"Sunnybank",8090,1365.4806409439138,null,null,null,null,null,-27.578510000000001,153.05956,"Queensland","Greater Brisbane","Greater Brisbane",0]
[303041067,"Coopers Plains",4546,1365.5104917104943,null,null,null,null,null,-27.565660000000001,153.03647000000001,"Queensland","Greater Brisbane","Greater Brisbane",0]
[311061334,"Springwood",8990,1365.5945743319674,null,null,null,null,null,-27.620419999999999,153.13831999999999,"Queensland","Greater Brisbane","Greater Brisbane",0]
[311061329,"Daisy Hill",6254,1365.6824195287481,null,null,null,null,null,-27.63026,153.15783999999999,"Queensland","Greater Brisbane","Greater Brisbane",0]
[304021087,"Brookfield - Kenmore Hills",6932,1365.7651532345151,null,null,null,null,null,-27.476949999999999,152.87556000000001,"Queensland","Greater Brisbane","Greater Brisbane",0]
[304031095,"Sherwood",5246,1366.0147479010475,null,null,null,null,null,-27.530529999999999,152.98116999999999,"Queensland","Greater Brisbane","Greater Brisbane",0]
[310021279,"Lake Manchester - England Creek",3,1366.1770166663609,null,null,null,null,null,-27.414290000000001,152.76389,"Queensland","Greater Brisbane","Greater Brisbane",0]
[311051324,"Cornubia - Carbrook",8031,1366.3080637894268,null,null,null,null,null,-27.66872,153.23894000000001,"Queensland","Greater Brisbane","Greater Brisbane",0]
[303041069,"Robertson",4867,1366.6148731760418,null,null,null,null,null,-27.565370000000001,153.0574,"Queensland","Greater Brisbane","Greater Brisbane",0]
[303031060,"Eight Mile Plains",14080,1367.0822463536638,null,null,null,null,null,-27.579339999999998,153.09210999999999,"Queensland","Greater Brisbane","Greater Brisbane",0]
[304031092,"Chelmer - Graceville",6561,1367.1078949487994,null,null,null,null,null,-27.517779999999998,152.97882000000001,"Queensland","Greater Brisbane","Greater Brisbane",0]
[304021088,"Chapel Hill",10168,1367.3580976084945,null,null,null,null,null,-27.49888,152.94837999999999,"Queensland","Greater Brisbane","Greater Brisbane",0]
[303031061,"Macgregor (Qld)",5576,1367.4266676636739,null,null,null,null,null,-27.565390000000001,153.07319000000001,"Queensland","Greater Brisbane","Greater Brisbane",0]
[303041070,"Salisbury - Nathan",7153,1367.4999459084756,null,null,null,null,null,-27.54889,153.04422,"Queensland","Greater Brisbane","Greater Brisbane",0]
[311061332,"Rochedale South - Priestdale",15121,1367.7081688220774,null,null,null,null,null,-27.603590000000001,153.14840000000001,"Queensland","Greater Brisbane","Greater Brisbane",0]
[303041068,"Moorooka",9985,1367.8723899696788,null,null,null,null,null,-27.53436,153.02459999999999,"Queensland","Greater Brisbane","Greater Brisbane",0]
[304031094,"Indooroopilly",11670,1368.2497048765204,null,null,null,null,null,-27.506340000000002,152.97986,"Queensland","Greater Brisbane","Greater Brisbane",0]
[303031065,"Upper Mount Gravatt",8851,1368.9854407354176,null,null,null,null,null,-27.553429999999999,153.08143999999999,"Queensland","Greater Brisbane","Greater Brisbane",0]
[303021059,"Yeronga",8386,1369.0223872645943,null,null,null,null,null,-27.519629999999999,153.01973000000001,"Queensland","Greater Brisbane","Greater Brisbane",0]
[304031097,"Taringa",7932,1369.5785433982123,null,null,null,null,null,-27.493500000000001,152.98195000000001,"Queensland","Greater Brisbane","Greater Brisbane",0]
[303041071,"Tarragindi",9964,1369.6403391729864,null,null,null,null,null,-27.527080000000002,153.04559,"Queensland","Greater Brisbane","Greater Brisbane",0]
[304041102,"Mount Coot-tha",0,1369.6516364113108,null,null,null,null,null,-27.474900000000002,152.94853000000001,"Queensland","Greater Brisbane","Greater Brisbane",0]
[304041099,"Enoggera Reservoir",24,1369.6683120601651,null,null,null,null,null,-27.43347,152.87049999999999,"Queensland","Greater Brisbane","Greater Brisbane",0]
[303031066,"Wishart",10461,1369.8991035606816,null,null,null,null,null,-27.554480000000002,153.10106999999999,"Queensland","Greater Brisbane","Greater Brisbane",0]
[304031096,"St Lucia",11195,1370.3151529778195,null,null,null,null,null,-27.498069999999998,153.00492,"Queensland","Greater Brisbane","Greater Brisbane",0]
[303021052,"Annerley",10664,1370.3737103319729,null,null,null,null,null,-27.512280000000001,153.03247999999999,"Queensland","Greater Brisbane","Greater Brisbane",0]
[310021278,"Esk",4777,1370.3985117195366,null,null,null,null,null,-27.206900000000001,152.43831,"Queensland","Greater Brisbane","Greater Brisbane",0]
[303021057,"Holland Park West",5965,1370.4828432419397,null,null,null,null,null,-27.526250000000001,153.06046000000001,"Queensland","Greater Brisbane","Greater Brisbane",0]
[303031063,"Mount Gravatt",14127,1370.8171794607476,null,null,null,null,null,-27.5336,153.08051,"Queensland","Greater Brisbane","Greater Brisbane",0]
[305041137,"Toowong",10499,1370.8299824552814,null,null,null,null,null,-27.481470000000002,152.98402999999999,"Queensland","Greater Brisbane","Greater Brisbane",{"$f":"IF(AND(E1538>0,E1538<45),1,0)","v":0}]
[301021011,"Sheldon - Mount Cotton",6495,1370.8929919094273,null,null,null,null,null,-27.607700000000001,153.21688,"Queensland","Greater Brisbane","Greater Brisbane",0]
[303021054,"Fairfield - Dutton Park",4026,1370.9409163068697,null,null,null,null,null,-27.502109999999998,153.02467999999999,"Queensland","Greater Brisbane","Greater Brisbane",0]
[301021009,"Redland Bay",13625,1370.9967406184203,null,null,null,null,null,-27.6479,153.29080999999999,"Queensland","Greater Brisbane","Greater Brisbane",0]
[303031064,"Rochedale - Burbank",4077,1371.365994650582,null,null,null,null,null,-27.563739999999999,153.14633000000001,"Queensland","Greater Brisbane","Greater Brisbane",0]
[303021055,"Greenslopes",8565,1371.6449571503458,null,null,null,null,null,-27.50712,153.04772,"Queensland","Greater Brisbane","Greater Brisbane",0]
[303021056,"Holland Park",7849,1371.7151938536374,null,null,null,null,null,-27.51849,153.07011,"Queensland","Greater Brisbane","Greater Brisbane",0]
[305011112,"West End",8061,1371.7655413740304,null,null,null,null,null,-27.4834,153.00599,"Queensland","Greater Brisbane","Greater Brisbane",0]
[305011107,"Highgate Hill",5824,1371.9587754202003,null,null,null,null,null,-27.487539999999999,153.01749000000001,"Queensland","Greater Brisbane","Greater Brisbane",0]
[303031062,"Mansfield (Qld)",8493,1371.9723797947731,null,null,null,null,null,-27.53481,153.10514000000001,"Queensland","Greater Brisbane","Greater Brisbane",0]
[304041103,"The Gap",15949,1372.0492646244311,null,null,null,null,null,-27.445900000000002,152.94125,"Queensland","Greater Brisbane","Greater Brisbane",0]
[305041133,"Auchenflower",5351,1372.120853505781,null,null,null,null,null,-27.473839999999999,152.99511000000001,"Queensland","Greater Brisbane","Greater Brisbane",0]
[303021058,"Woolloongabba",4789,1372.4101726379383,null,null,null,null,null,-27.493069999999999,153.03659999999999,"Queensland","Greater Brisbane","Greater Brisbane",0]
[305041134,"Bardon",9256,1372.5342850891545,null,null,null,null,null,-27.460999999999999,152.97919999999999,"Queensland","Greater Brisbane","Greater Brisbane",0]
[305011110,"South Brisbane",5416,1372.8810397339814,null,null,null,null,null,-27.47916,153.01993999999999,"Queensland","Greater Brisbane","Greater Brisbane",0]
[303021053,"Coorparoo",14944,1373.1334607031758,null,null,null,null,null,-27.498899999999999,153.06152,"Queensland","Greater Brisbane","Greater Brisbane",0]
[305041135,"Paddington - Milton",9975,1373.3839413693061,null,null,null,null,null,-27.46302,152.99968000000001,"Queensland","Greater Brisbane","Greater Brisbane",0]
[305021115,"East Brisbane",5598,1373.7937233667719,null,null,null,null,null,-27.484120000000001,153.04701,"Queensland","Greater Brisbane","Greater Brisbane",0]
[303011050,"Carina Heights",6110,1373.8732177625036,null,null,null,null,null,-27.507210000000001,153.09126000000001,"Queensland","Greater Brisbane","Greater Brisbane",0]
[305011108,"Kangaroo Point",7000,1373.9629364282341,null,null,null,null,null,-27.476790000000001,153.0367,"Queensland","Greater Brisbane","Greater Brisbane",0]
[304041104,"Upper Kedron - Ferny Grove",9042,1374.0212061512705,null,null,null,null,null,-27.41433,152.92060000000001,"Queensland","Greater Brisbane","Greater Brisbane",0]
[305011105,"Brisbane City",8705,1374.0733030756496,null,null,null,null,null,-27.468119999999999,153.02271999999999,"Queensland","Greater Brisbane","Greater Brisbane",0]
[303011047,"Camp Hill",10534,1374.2255179624112,null,null,null,null,null,-27.496310000000001,153.078,"Queensland","Greater Brisbane","Greater Brisbane",0]
[305041132,"Ashgrove",12916,1374.2646247237983,null,null,null,null,null,-27.444289999999999,152.98191,"Queensland","Greater Brisbane","Greater Brisbane",0]
[305041136,"Red Hill (Qld)",5547,1374.5108996616004,null,null,null,null,null,-27.452470000000002,153.00208000000001,"Queensland","Greater Brisbane","Greater Brisbane",0]
[303011051,"Carindale",15561,1374.6856687786405,null,null,null,null,null,-27.510580000000001,153.11322999999999,"Queensland","Greater Brisbane","Greater Brisbane",0]
[305021118,"Norman Park",6003,1374.988115854009,null,null,null,null,null,-27.480149999999998,153.06296,"Queensland","Greater Brisbane","Greater Brisbane",0]
[305011111,"Spring Hill",5628,1374.993290600612,null,null,null,null,null,-27.45946,153.02459999999999,"Queensland","Greater Brisbane","Greater Brisbane",0]
[314011387,"Samford Valley",10931,1375.344748742396,null,null,null,null,null,-27.357240000000001,152.83798999999999,"Queensland","Greater Brisbane","Greater Brisbane",0]
[305011109,"New Farm",11727,1375.4062150211637,null,null,null,null,null,-27.466429999999999,153.04566,"Queensland","Greater Brisbane","Greater Brisbane",0]
[304041098,"Enoggera",7685,1375.5685954195294,null,null,null,null,null,-27.427150000000001,152.97540000000001,"Queensland","Greater Brisbane","Greater Brisbane",0]
[304041100,"Keperra",7011,1375.6042500834633,null,null,null,null,null,-27.414470000000001,152.95221000000001,"Queensland","Greater Brisbane","Greater Brisbane",0]
[305031126,"Kelvin Grove - Herston",7848,1375.6095694000373,null,null,null,null,null,-27.44886,153.01689999999999,"Queensland","Greater Brisbane","Greater Brisbane",0]
[305011106,"Fortitude Valley",5217,1375.8445835583673,null,null,null,null,null,-27.45627,153.03532999999999,"Queensland","Greater Brisbane","Greater Brisbane",0]
[303011049,"Carina",10302,1376.1246414665407,null,null,null,null,null,-27.487559999999998,153.09879000000001,"Queensland","Greater Brisbane","Greater Brisbane",0]
[301011004,"Capalaba",16917,1376.2588414147915,null,null,null,null,null,-27.543099999999999,153.20294999999999,"Queensland","Greater Brisbane","Greater Brisbane",0]
[305021116,"Hawthorne",4775,1376.3354201258137,null,null,null,null,null,-27.46396,153.05923000000001,"Queensland","Greater Brisbane","Greater Brisbane",0]
[305031127,"Newmarket",4444,1376.4395686356042,null,null,null,null,null,-27.435289999999998,153.00782000000001,"Queensland","Greater Brisbane","Greater Brisbane",0]
[301021013,"Victoria Point",14817,1376.4960483715658,null,null,null,null,null,-27.587119999999999,153.28677999999999,"Queensland","Greater Brisbane","Greater Brisbane",0]
[304041101,"Mitchelton",7659,1376.7536430014065,null,null,null,null,null,-27.412099999999999,152.97045,"Queensland","Greater Brisbane","Greater Brisbane",0]
[305031128,"Newstead - Bowen Hills",7282,1376.908559176112,null,null,null,null,null,-27.44791,153.04059000000001,"Queensland","Greater Brisbane","Greater Brisbane",0]
[305021117,"Morningside - Seven Hills",11430,1376.9366599075533,null,null,null,null,null,-27.46687,153.07635999999999,"Queensland","Greater Brisbane","Greater Brisbane",0]
[301021012,"Thornlands",12807,1376.9737660698479,null,null,null,null,null,-27.56757,153.26082,"Queensland","Greater Brisbane","Greater Brisbane",0]
[305031120,"Alderley",5679,1377.0237934654131,null,null,null,null,null,-27.425529999999998,153.00102000000001,"Queensland","Greater Brisbane","Greater Brisbane",0]
[305031129,"Wilston",3872,1377.0422655626767,null,null,null,null,null,-27.434740000000001,153.01863,"Queensland","Greater Brisbane","Greater Brisbane",0]
[301011002,"Belmont - Gumdale",7441,1377.3511590699682,null,null,null,null,null,-27.507149999999999,153.15853000000001,"Queensland","Greater Brisbane","Greater Brisbane",0]
[303011048,"Cannon Hill",4507,1377.3583884792552,null,null,null,null,null,-27.472370000000002,153.09475,"Queensland","Greater Brisbane","Greater Brisbane",0]
[305021113,"Balmoral",3827,1377.5037249959485,null,null,null,null,null,-27.456150000000001,153.06755000000001,"Queensland","Greater Brisbane","Greater Brisbane",0]
[305031130,"Windsor",6389,1377.6793605768862,null,null,null,null,null,-27.434229999999999,153.03018,"Queensland","Greater Brisbane","Greater Brisbane",0]
[305021114,"Bulimba",5941,1377.798606534499,null,null,null,null,null,-27.448589999999999,153.05927,"Queensland","Greater Brisbane","Greater Brisbane",0]
[305031123,"Grange",4163,1378.0362193624512,null,null,null,null,null,-27.422509999999999,153.01526999999999,"Queensland","Greater Brisbane","Greater Brisbane",0]
[314011386,"Hills District",22633,1378.2380176780446,null,null,null,null,null,-27.381119999999999,152.94127,"Queensland","Greater Brisbane","Greater Brisbane",0]
[305031119,"Albion",2551,1378.5672379004125,null,null,null,null,null,-27.432559999999999,153.04446999999999,"Queensland","Greater Brisbane","Greater Brisbane",0]
[301011001,"Alexandra Hills",16710,1378.644929704066,null,null,null,null,null,-27.53229,153.22916000000001,"Queensland","Greater Brisbane","Greater Brisbane",0]
[302011025,"Everton Park",8325,1378.6935698008258,null,null,null,null,null,-27.400759999999998,152.98738,"Queensland","Greater Brisbane","Greater Brisbane",0]
[301031018,"Tingalpa",8539,1378.9030864059382,null,null,null,null,null,-27.473600000000001,153.12703999999999,"Queensland","Greater Brisbane","Greater Brisbane",0]
[302021032,"Stafford",6041,1379.0255072582368,null,null,null,null,null,-27.40944,153.01023000000001,"Queensland","Greater Brisbane","Greater Brisbane",0]
[305031124,"Hamilton (Qld)",4721,1379.0711495552737,null,null,null,null,null,-27.436589999999999,153.06183999999999,"Queensland","Greater Brisbane","Greater Brisbane",0]
[301031019,"Wakerley",7804,1379.5010226608479,null,null,null,null,null,-27.483000000000001,153.15589,"Queensland","Greater Brisbane","Greater Brisbane",0]
[301031017,"Murarrie",3957,1379.7795105026021,null,null,null,null,null,-27.454160000000002,153.10822999999999,"Queensland","Greater Brisbane","Greater Brisbane",0]
[305031131,"Wooloowin - Lutwyche",8738,1379.8420438699789,null,null,null,null,null,-27.417110000000001,153.04062999999999,"Queensland","Greater Brisbane","Greater Brisbane",0]
[305031121,"Ascot",5165,1379.9275400486526,null,null,null,null,null,-27.429870000000001,153.06609,"Queensland","Greater Brisbane","Greater Brisbane",0]
[302021033,"Stafford Heights",6780,1380.1715907962514,null,null,null,null,null,-27.39687,153.00919999999999,"Queensland","Greater Brisbane","Greater Brisbane",0]
[305031122,"Clayfield",10007,1380.3522807799604,null,null,null,null,null,-27.419149999999998,153.05444,"Queensland","Greater Brisbane","Greater Brisbane",0]
[302021031,"Kedron - Gordon Park",12610,1380.369839803692,null,null,null,null,null,-27.406140000000001,153.03048000000001,"Queensland","Greater Brisbane","Greater Brisbane",{"$f":"IF(AND(E1602>0,E1602<45),1,0)","v":0}]
[301021007,"Cleveland",14414,1380.5839416187755,null,null,null,null,null,-27.532979999999998,153.26752999999999,"Queensland","Greater Brisbane","Greater Brisbane",0]
[302011026,"McDowall",7089,1380.6646655342836,null,null,null,null,null,-27.382429999999999,152.99176,"Queensland","Greater Brisbane","Greater Brisbane",0]
[301011003,"Birkdale",14344,1380.7646785963611,null,null,null,null,null,-27.499700000000001,153.21075999999999,"Queensland","Greater Brisbane","Greater Brisbane",0]
[307011172,"Chinchilla",7086,1380.827525785186,null,null,null,null,null,-26.370740000000001,150.68885,"Queensland","Rest of Qld","",0]
[302031037,"Eagle Farm - Pinkenba",262,1381.0105620363647,null,null,null,null,null,-27.434840000000001,153.09647000000001,"Queensland","Greater Brisbane","Greater Brisbane",0]
[305031125,"Hendra",4417,1381.2929717178824,null,null,null,null,null,-27.417750000000002,153.07024999999999,"Queensland","Greater Brisbane","Greater Brisbane",0]
[301031016,"Manly West",10715,1381.4860099054631,null,null,null,null,null,-27.467580000000002,153.16604000000001,"Queensland","Greater Brisbane","Greater Brisbane",0]
[302021029,"Chermside West",6121,1381.6417989512813,null,null,null,null,null,-27.383209999999998,153.01249999999999,"Queensland","Greater Brisbane","Greater Brisbane",0]
[301011005,"Thorneside",3548,1381.6877898550786,null,null,null,null,null,-27.484580000000001,153.20101,"Queensland","Greater Brisbane","Greater Brisbane",0]
[301031021,"Wynnum West - Hemmant",14335,1381.8772564287617,null,null,null,null,null,-27.449819999999999,153.14099999999999,"Queensland","Greater Brisbane","Greater Brisbane",0]
[314011385,"Eatons Hill",7993,1381.9559433615941,null,null,null,null,null,-27.339980000000001,152.93696,"Queensland","Greater Brisbane","Greater Brisbane",0]
[301021008,"Ormiston",5641,1382.0842380617134,null,null,null,null,null,-27.51022,153.25516999999999,"Queensland","Greater Brisbane","Greater Brisbane",0]
[314011382,"Albany Creek",15860,1382.1990778992881,null,null,null,null,null,-27.354320000000001,152.96901,"Queensland","Greater Brisbane","Greater Brisbane",0]
[302031040,"Nundah",10386,1382.3238471115528,null,null,null,null,null,-27.402509999999999,153.06204,"Queensland","Greater Brisbane","Greater Brisbane",0]
[302021028,"Chermside",8170,1382.4309354423078,null,null,null,null,null,-27.385370000000002,153.03209000000001,"Queensland","Greater Brisbane","Greater Brisbane",0]
[302021034,"Wavell Heights",9435,1382.5688334655624,null,null,null,null,null,-27.392189999999999,153.04757000000001,"Queensland","Greater Brisbane","Greater Brisbane",0]
[301011006,"Wellington Point",10987,1382.8253893017065,null,null,null,null,null,-27.494810000000001,153.24149,"Queensland","Greater Brisbane","Greater Brisbane",0]
[301031015,"Manly - Lota",7133,1382.9314933998785,null,null,null,null,null,-27.462800000000001,153.18523999999999,"Queensland","Greater Brisbane","Greater Brisbane",0]
[302021027,"Aspley",12447,1383.4965816180074,null,null,null,null,null,-27.36693,153.01845,"Queensland","Greater Brisbane","Greater Brisbane",0]
[302011023,"Bridgeman Downs",7638,1383.6933221850766,null,null,null,null,null,-27.352080000000001,152.99435,"Queensland","Greater Brisbane","Greater Brisbane",0]
[301031020,"Wynnum",12526,1384.1164688954193,null,null,null,null,null,-27.4404,153.16711000000001,"Queensland","Greater Brisbane","Greater Brisbane",0]
[302031038,"Northgate - Virginia",6363,1384.3925688803431,null,null,null,null,null,-27.383859999999999,153.06779,"Queensland","Greater Brisbane","Greater Brisbane",0]
[302021030,"Geebung",4299,1384.4318042956443,null,null,null,null,null,-27.372540000000001,153.04739000000001,"Queensland","Greater Brisbane","Greater Brisbane",0]
[314011383,"Cashmere",15425,1385.15599937345,null,null,null,null,null,-27.298349999999999,152.92128,"Queensland","Greater Brisbane","Greater Brisbane",0]
[302011024,"Carseldine",7769,1385.2034794219378,null,null,null,null,null,-27.347470000000001,153.01549,"Queensland","Greater Brisbane","Greater Brisbane",0]
[302041046,"Zillmere",8105,1385.3468236277795,null,null,null,null,null,-27.358429999999998,153.03892999999999,"Queensland","Greater Brisbane","Greater Brisbane",0]
[301031014,"Brisbane Port - Lytton",6,1385.7374207775763,null,null,null,null,null,-27.418199999999999,153.15772000000001,"Queensland","Greater Brisbane","Greater Brisbane",0]
[302031036,"Brisbane Airport",90,1386.1456403644504,null,null,null,null,null,-27.39217,153.11754999999999,"Queensland","Greater Brisbane","Greater Brisbane",0]
[314031394,"Strathpine - Brendale",11125,1386.7471752743975,null,null,null,null,null,-27.31429,152.98330999999999,"Queensland","Greater Brisbane","Greater Brisbane",0]
[302041045,"Taigum - Fitzgibbon",8905,1387.0398268961617,null,null,null,null,null,-27.340610000000002,153.03880000000001,"Queensland","Greater Brisbane","Greater Brisbane",0]
[302031039,"Nudgee - Banyo",8722,1387.0569533396501,null,null,null,null,null,-27.367260000000002,153.08904000000001,"Queensland","Greater Brisbane","Greater Brisbane",0]
[314011384,"Dayboro",7670,1387.430752704103,null,null,null,null,null,-27.218869999999999,152.81344999999999,"Queensland","Greater Brisbane","Greater Brisbane",0]
[302031035,"Boondall",8747,1387.8361330096491,null,null,null,null,null,-27.348759999999999,153.06976,"Queensland","Greater Brisbane","Greater Brisbane",0]
[314031391,"Bray Park",10002,1388.0562805255522,null,null,null,null,null,-27.292459999999998,152.96782999999999,"Queensland","Greater Brisbane","Greater Brisbane",0]
[302041041,"Bracken Ridge",16799,1388.793623532011,null,null,null,null,null,-27.319649999999999,153.03394,"Queensland","Greater Brisbane","Greater Brisbane",0]
[302011022,"Bald Hills",6946,1389.2275470726092,null,null,null,null,null,-27.307469999999999,153.01953,"Queensland","Greater Brisbane","Greater Brisbane",0]
[302041043,"Deagon",3459,1389.3108996958049,null,null,null,null,null,-27.32779,153.05945,"Queensland","Greater Brisbane","Greater Brisbane",0]
[314031392,"Lawnton",5725,1389.874094478133,null,null,null,null,null,-27.28105,152.98226,"Queensland","Greater Brisbane","Greater Brisbane",0]
[302041044,"Sandgate - Shorncliffe",6539,1390.4698953226377,null,null,null,null,null,-27.320340000000002,153.06827999999999,"Queensland","Greater Brisbane","Greater Brisbane",0]
[314031393,"Petrie",8499,1390.9280067720786,null,null,null,null,null,-27.264880000000002,152.97243,"Queensland","Greater Brisbane","Greater Brisbane",0]
[302041042,"Brighton (Qld)",9012,1392.088006234153,null,null,null,null,null,-27.296469999999999,153.05529000000001,"Queensland","Greater Brisbane","Greater Brisbane",0]
[314021389,"Murrumba Downs - Griffin",11756,1393.3638820976807,null,null,null,null,null,-27.270289999999999,153.03108,"Queensland","Greater Brisbane","Greater Brisbane",0]
[314021388,"Dakabin - Kallangur",20426,1394.2307567312098,null,null,null,null,null,-27.239560000000001,152.98991000000001,"Queensland","Greater Brisbane","Greater Brisbane",0]
[313041375,"Narangba",16222,1396.1023061963872,null,null,null,null,null,-27.185580000000002,152.92376999999999,"Queensland","Greater Brisbane","Greater Brisbane",0]
[319021509,"Nanango",9411,1396.466169670148,null,null,null,null,null,-26.708670000000001,151.93307999999999,"Queensland","Rest of Qld","",0]
[314021390,"North Lakes - Mango Hill",19381,1396.9122544644295,null,null,null,null,null,-27.233630000000002,153.03192999999999,"Queensland","Greater Brisbane","Greater Brisbane",0]
[319021507,"Kingaroy Region - South",3715,1397.398299213666,null,null,null,null,null,-26.563880000000001,151.61541,"Queensland","Rest of Qld","",0]
[313051377,"Clontarf",7910,1398.1824658109781,null,null,null,null,null,-27.246860000000002,153.0821,"Queensland","Greater Brisbane","Greater Brisbane",0]
[313051378,"Margate - Woody Point",11095,1399.1233659335323,null,null,null,null,null,-27.247959999999999,153.10273000000001,"Queensland","Greater Brisbane","Greater Brisbane",0]
[301021010,"Redland Islands",8659,1399.2807852147055,null,null,null,null,null,-27.453250000000001,153.48026999999999,"Queensland","Greater Brisbane","Greater Brisbane",0]
[313041376,"Upper Caboolture",2823,1399.3492517259097,null,null,null,null,null,-27.12274,152.86725000000001,"Queensland","Greater Brisbane","Greater Brisbane",0]
[313041374,"Morayfield",4817,1400.0636928679451,null,null,null,null,null,-27.143180000000001,152.92146,"Queensland","Greater Brisbane","Greater Brisbane",0]
[313051380,"Rothwell - Kippa-Ring",16615,1400.2494165753005,null,null,null,null,null,-27.216059999999999,153.06478000000001,"Queensland","Greater Brisbane","Greater Brisbane",0]
[313041372,"Burpengary",12963,1400.431692382138,null,null,null,null,null,-27.158390000000001,152.95824999999999,"Queensland","Greater Brisbane","Greater Brisbane",0]
[313041373,"Deception Bay",21761,1401.0167411892876,null,null,null,null,null,-27.178809999999999,153.00915000000001,"Queensland","Greater Brisbane","Greater Brisbane",0]
[313051379,"Redcliffe",9201,1401.3686533914743,null,null,null,null,null,-27.226900000000001,153.10737,"Queensland","Greater Brisbane","Greater Brisbane",0]
[313051381,"Scarborough - Newport",11170,1402.7468353943025,null,null,null,null,null,-27.207460000000001,153.09792999999999,"Queensland","Greater Brisbane","Greater Brisbane",0]
[313021366,"Caboolture - South",18607,1404.6919721773693,null,null,null,null,null,-27.102530000000002,152.93592000000001,"Queensland","Greater Brisbane","Greater Brisbane",0]
[313021364,"Burpengary - East",3675,1405.4641777716556,null,null,null,null,null,-27.128640000000001,153.00185999999999,"Queensland","Greater Brisbane","Greater Brisbane",0]
[313021368,"Morayfield - East",7166,1405.6565104885171,null,null,null,null,null,-27.10754,152.96504999999999,"Queensland","Greater Brisbane","Greater Brisbane",0]
[313021369,"Wamuran",3583,1407.3359719901787,null,null,null,null,null,-27.04251,152.87226999999999,"Queensland","Greater Brisbane","Greater Brisbane",0]
[313031370,"Kilcoy",4840,1409.3097485007609,null,null,null,null,null,-26.783480000000001,152.38356999999999,"Queensland","Greater Brisbane","Greater Brisbane",0]
[319021505,"Kingaroy",9808,1410.1669429968899,null,null,null,null,null,-26.531860000000002,151.84089,"Queensland","Rest of Qld","",0]
[313021365,"Caboolture",22298,1410.2341404336346,null,null,null,null,null,-27.06326,152.97147000000001,"Queensland","Greater Brisbane","Greater Brisbane",{"$f":"IF(AND(E1666>0,E1666<45),1,0)","v":0}]
[313031371,"Woodford - D'Aguilar",6452,1410.89266393759,null,null,null,null,null,-26.950790000000001,152.76310000000001,"Queensland","Greater Brisbane","Greater Brisbane",0]
[313011362,"Beachmere - Sandstone Point",13486,1414.7261110014474,null,null,null,null,null,-27.06439,153.06379000000001,"Queensland","Greater Brisbane","Greater Brisbane",0]
[313021367,"Elimbah",3722,1415.7636978012827,null,null,null,null,null,-27.000430000000001,152.96095,"Queensland","Greater Brisbane","Greater Brisbane",0]
[316061441,"Glass House Mountains",5543,1423.2843889895075,null,null,null,null,null,-26.92559,152.96708000000001,"Queensland","Rest of Qld","",0]
[313011363,"Bribie Island",17045,1425.5344386746317,null,null,null,null,null,-26.98977,153.13667000000001,"Queensland","Greater Brisbane","Greater Brisbane",0]
[316061439,"Beerwah",7199,1429.6497807061019,null,null,null,null,null,-26.85755,152.96286000000001,"Queensland","Rest of Qld","",0]
[316061440,"Caloundra Hinterland",7979,1431.6589393390368,null,null,null,null,null,-26.737290000000002,152.76310000000001,"Queensland","Rest of Qld","",0]
[319021506,"Kingaroy Region - North",9329,1431.8563634892962,null,null,null,null,null,-26.19868,151.55444,"Queensland","Rest of Qld","",0]
[316061442,"Landsborough",9487,1438.2154925738309,null,null,null,null,null,-26.783930000000002,152.99239,"Queensland","Rest of Qld","",0]
[316021421,"Golden Beach - Pelican Waters",10226,1439.2874147478492,null,null,null,null,null,-26.83024,153.10496000000001,"Queensland","Rest of Qld","",0]
[316021420,"Caloundra - West",15126,1440.9966600757928,null,null,null,null,null,-26.797699999999999,153.07607999999999,"Queensland","Rest of Qld","",0]
[316021419,"Caloundra - Kings Beach",6084,1443.5574969035324,null,null,null,null,null,-26.7988,153.13001,"Queensland","Rest of Qld","",0]
[316061444,"Palmwoods",10156,1443.6189768607376,null,null,null,null,null,-26.702909999999999,152.94213999999999,"Queensland","Rest of Qld","",0]
[316021422,"Moffat Beach - Battery Hill",7781,1444.9568721994453,null,null,null,null,null,-26.78734,153.13596999999999,"Queensland","Rest of Qld","",0]
[316021417,"Aroona - Currimundi",9675,1445.508129217779,null,null,null,null,null,-26.773589999999999,153.12034,"Queensland","Rest of Qld","",0]
[316061443,"Maroochy Hinterland",5931,1445.6159227413791,null,null,null,null,null,-26.597010000000001,152.76866000000001,"Queensland","Rest of Qld","",0]
[316021424,"Wurtulla - Birtinya",5896,1447.9441667135861,null,null,null,null,null,-26.750070000000001,153.12374,"Queensland","Rest of Qld","",0]
[316011416,"Sippy Downs",9087,1448.4318089612448,null,null,null,null,null,-26.722770000000001,153.08015,"Queensland","Rest of Qld","",0]
[316011414,"Buderim - South",14356,1448.6064658710843,null,null,null,null,null,-26.705829999999999,153.05032,"Queensland","Rest of Qld","",0]
[316021423,"Parrearra - Warana",9101,1450.7352429518592,null,null,null,null,null,-26.722280000000001,153.12597,"Queensland","Rest of Qld","",0]
[316041432,"Nambour",18134,1450.8046341258748,null,null,null,null,null,-26.633050000000001,152.95043999999999,"Queensland","Rest of Qld","",0]
[316011413,"Buderim - North",15280,1451.1400333842091,null,null,null,null,null,-26.676110000000001,153.04330999999999,"Queensland","Rest of Qld","",0]
[316011415,"Mountain Creek",7015,1451.4043283219539,null,null,null,null,null,-26.702780000000001,153.10132999999999,"Queensland","Rest of Qld","",0]
[316041430,"Diddillibah - Rosemount",3365,1452.8156292503654,null,null,null,null,null,-26.642600000000002,153.01105999999999,"Queensland","Rest of Qld","",0]
[316021418,"Buddina - Minyama",6146,1453.4068057977715,null,null,null,null,null,-26.695689999999999,153.12809999999999,"Queensland","Rest of Qld","",0]
[316031428,"Mooloolaba - Alexandra Headland",11054,1454.0494875547604,null,null,null,null,null,-26.680440000000001,153.11123000000001,"Queensland","Rest of Qld","",0]
[316031427,"Maroochydore - Kuluin",16701,1454.9079463155624,null,null,null,null,null,-26.65456,153.07771,"Queensland","Rest of Qld","",0]
[316041429,"Bli Bli",6696,1457.3941491765875,null,null,null,null,null,-26.597729999999999,153.01570000000001,"Queensland","Rest of Qld","",0]
[316031426,"Marcoola - Mudjimba",10184,1459.0614925426103,null,null,null,null,null,-26.6113,153.077,"Queensland","Rest of Qld","",0]
[316041431,"Eumundi - Yandina",9415,1463.7001210852106,null,null,null,null,null,-26.515160000000002,152.98013,"Queensland","Rest of Qld","",0]
[108031161,"Lord Howe Island",360,1463.7009259493589,null,null,null,null,null,-31.55255,159.07680999999999,"New South Wales","Rest of NSW","",0]
[316031425,"Coolum Beach",13154,1466.3420827959887,null,null,null,null,null,-26.540649999999999,153.08589000000001,"Queensland","Rest of Qld","",0]
[319031515,"Kilkivan",3574,1466.5197717721512,null,null,null,null,null,-26.114750000000001,152.17805999999999,"Queensland","Rest of Qld","",0]
[316051436,"Peregian",7774,1472.6872419300514,null,null,null,null,null,-26.474509999999999,153.08438000000001,"Queensland","Rest of Qld","",0]
[319031514,"Gympie Region",16882,1473.2288979600787,null,null,null,null,null,-26.245450000000002,152.6199,"Queensland","Rest of Qld","",0]
[316051435,"Noosaville",7731,1476.5603551686647,null,null,null,null,null,-26.422879999999999,153.0607,"Queensland","Rest of Qld","",0]
[316051438,"Tewantin",10045,1477.2657389342119,null,null,null,null,null,-26.39358,153.01605000000001,"Queensland","Rest of Qld","",0]
[319031513,"Gympie - South",6298,1477.4113536647189,null,null,null,null,null,-26.217410000000001,152.65074000000001,"Queensland","Rest of Qld","",0]
[316051437,"Sunshine Beach",6344,1478.9738460320846,null,null,null,null,null,-26.41855,153.10194000000001,"Queensland","Rest of Qld","",0]
[316051434,"Noosa Heads",3999,1480.5386492951548,null,null,null,null,null,-26.398,153.09298999999999,"Queensland","Rest of Qld","",0]
[316041433,"Noosa Hinterland",20255,1480.5799050706191,null,null,null,null,null,-26.321059999999999,152.93708000000001,"Queensland","Rest of Qld","",0]
[319021503,"Gayndah - Mundubbera",6429,1481.628428846549,null,null,null,null,null,-25.669029999999999,151.44646,"Queensland","Rest of Qld","",0]
[319031512,"Gympie - North",13209,1482.3603007454299,null,null,null,null,null,-26.17679,152.67119,"Queensland","Rest of Qld","",0]
[308021194,"Banana",8568,1506.8114673296011,null,null,null,null,null,-24.935510000000001,149.93838,"Queensland","Rest of Qld","",0]
[319031511,"Cooloola",5720,1514.0674854570746,null,null,null,null,null,-25.988399999999999,152.95538999999999,"Queensland","Rest of Qld","",0]
[319051525,"Maryborough Region - South",7647,1521.6167740224589,null,null,null,null,null,-25.69519,152.47882999999999,"Queensland","Rest of Qld","",0]
[319021508,"Monto - Eidsvold",3715,1522.9985191397213,null,null,null,null,null,-25.114930000000001,151.01831999999999,"Queensland","Rest of Qld","",0]
[406011135,"Western",108,1532.4531985977567,null,null,null,null,null,-29.774460000000001,131.45611,"South Australia","Rest of SA","",0]
[319051523,"Granville",3165,1543.0088152032636,null,null,null,null,null,-25.587779999999999,152.72042999999999,"Queensland","Rest of Qld","",0]
[319051526,"Tinana",4877,1544.1580098951913,null,null,null,null,null,-25.551960000000001,152.66589999999999,"Queensland","Rest of Qld","",0]
[319051524,"Maryborough (Qld)",18179,1549.0699686989085,null,null,null,null,null,-25.50554,152.6722,"Queensland","Rest of Qld","",0]
[308011191,"Central Highlands - West",8893,1554.0839477765578,null,null,null,null,null,-24.079180000000001,148.01777000000001,"Queensland","Rest of Qld","",0]
[319051522,"Burrum - Fraser",8662,1558.9792419247779,null,null,null,null,null,-25.357250000000001,152.55940000000001,"Queensland","Rest of Qld","",0]
[315031408,"Barcaldine - Blackall",5418,1567.7370012628608,null,null,null,null,null,-23.726579999999998,145.72927999999999,"Queensland","Rest of Qld","",0]
[319021504,"Gin Gin",5064,1567.7744393804242,null,null,null,null,null,-24.95824,151.78767999999999,"Queensland","Rest of Qld","",0]
[319011499,"Bundaberg Region - South",9385,1568.0648384515546,null,null,null,null,null,-25.149339999999999,152.27955,"Queensland","Rest of Qld","",0]
[315031412,"Longreach",4189,1569.910583902205,null,null,null,null,null,-23.718060000000001,143.95926,"Queensland","Rest of Qld","",0]
[319041516,"Booral - River Heads",4159,1570.3154418965316,null,null,null,null,null,-25.36637,152.83817999999999,"Queensland","Rest of Qld","",0]
[319041517,"Craignish - Dundowran Beach",4487,1574.4845516123526,null,null,null,null,null,-25.286670000000001,152.75266999999999,"Queensland","Rest of Qld","",0]
[319041518,"Pialba - Eli Waters",12596,1577.4687591670474,null,null,null,null,null,-25.285720000000001,152.81813,"Queensland","Rest of Qld","",0]
[319041521,"Urangan - Wondunna",11393,1577.8823625953917,null,null,null,null,null,-25.309139999999999,152.87998999999999,"Queensland","Rest of Qld","",0]
[319041520,"Torquay - Scarness - Kawungan",14513,1578.0990729540028,null,null,null,null,null,-25.29663,152.85686000000001,"Queensland","Rest of Qld","",0]
[319041519,"Point Vernon",5692,1580.301705038404,null,null,null,null,null,-25.257010000000001,152.81737000000001,"Queensland","Rest of Qld","",0]
[308021195,"Biloela",5885,1581.4154751317167,null,null,null,null,null,-24.39818,150.51691,"Queensland","Rest of Qld","",{"$f":"IF(AND(E1730>0,E1730<45),1,0)","v":0}]
[319021510,"North Burnett",6,1585.8831170267272,null,null,null,null,null,-24.659410000000001,151.45072999999999,"Queensland","Rest of Qld","",0]
[319011494,"Branyan - Kensington",3888,1592.1658965744766,null,null,null,null,null,-24.9146,152.28667999999999,"Queensland","Rest of Qld","",0]
[319011502,"Walkervale - Avenell Heights",10998,1596.7369750274181,null,null,null,null,null,-24.89968,152.36087000000001,"Queensland","Rest of Qld","",0]
[319011501,"Svensson Heights - Norville",5758,1596.7873470159313,null,null,null,null,null,-24.890239999999999,152.3389,"Queensland","Rest of Qld","",0]
[319011500,"Millbank - Avoca",7649,1596.9252376025311,null,null,null,null,null,-24.877590000000001,152.31104999999999,"Queensland","Rest of Qld","",0]
[308011190,"Central Highlands - East",7551,1598.6971966709873,null,null,null,null,null,-23.924199999999999,149.32830000000001,"Queensland","Rest of Qld","",0]
[319011495,"Bundaberg",6178,1599.1092538495889,null,null,null,null,null,-24.871300000000002,152.3486,"Queensland","Rest of Qld","",0]
[319011492,"Ashfield - Kepnock",4978,1600.4918638974184,null,null,null,null,null,-24.873799999999999,152.38819000000001,"Queensland","Rest of Qld","",0]
[319011498,"Bundaberg Region - North",8014,1600.7084928773759,null,null,null,null,null,-24.765440000000002,152.12262000000001,"Queensland","Rest of Qld","",0]
[319011497,"Bundaberg North - Gooburrum",7287,1601.8118772466862,null,null,null,null,null,-24.83455,152.3236,"Queensland","Rest of Qld","",0]
[315031410,"Far Central West",2446,1602.6781291361815,null,null,null,null,null,-23.85699,140.73656,"Queensland","Rest of Qld","",0]
[319011496,"Bundaberg East - Kalkie",5216,1602.6994809115286,null,null,null,null,null,-24.84928,152.38145,"Queensland","Rest of Qld","",0]
[319011493,"Bargara - Burnett Heads",15386,1604.4949983024608,null,null,null,null,null,-24.850860000000001,152.42864,"Queensland","Rest of Qld","",0]
[308011192,"Emerald",13218,1616.1698071326048,null,null,null,null,null,-23.535620000000002,148.16273000000001,"Queensland","Rest of Qld","",0]
[308021193,"Agnes Water - Miriam Vale",5533,1622.6705966643262,null,null,null,null,null,-24.39472,151.70491999999999,"Queensland","Rest of Qld","",0]
[308021200,"Gladstone Hinterland",10386,1635.3268710400775,null,null,null,null,null,-24.058599999999998,151.07425000000001,"Queensland","Rest of Qld","",0]
[308031212,"Mount Morgan",3015,1649.4960465479078,null,null,null,null,null,-23.72073,150.3947,"Queensland","Rest of Qld","",0]
[308021196,"Boyne Island - Tannum Sands",9656,1654.0364466528615,null,null,null,null,null,-23.973659999999999,151.36106000000001,"Queensland","Rest of Qld","",0]
[308021203,"Telina - Toolooa",5551,1657.243821378768,null,null,null,null,null,-23.912420000000001,151.26857000000001,"Queensland","Rest of Qld","",0]
[308021198,"Clinton - New Auckland",11043,1658.3672940600522,null,null,null,null,null,-23.88682,151.22296,"Queensland","Rest of Qld","",0]
[308021201,"Kin Kora - Sun Valley",4151,1660.4023701971373,null,null,null,null,null,-23.87641,151.25067999999999,"Queensland","Rest of Qld","",0]
[308021202,"South Trees",0,1661.1851616294753,null,null,null,null,null,-23.88289,151.29336000000001,"Queensland","Rest of Qld","",0]
[308021204,"West Gladstone",5201,1662.1649155123434,null,null,null,null,null,-23.8582,151.24643,"Queensland","Rest of Qld","",0]
[308021197,"Callemondah",51,1662.5982746814714,null,null,null,null,null,-23.840219999999999,151.2037,"Queensland","Rest of Qld","",0]
[308021199,"Gladstone",6312,1663.3086858232066,null,null,null,null,null,-23.851939999999999,151.26074,"Queensland","Rest of Qld","",0]
[308031206,"Bouldercombe",1881,1666.2087353775478,null,null,null,null,null,-23.628550000000001,150.62392,"Queensland","Rest of Qld","",0]
[308031210,"Gracemere",8870,1674.7860629555232,null,null,null,null,null,-23.487860000000001,150.41202000000001,"Queensland","Rest of Qld","",0]
[308031220,"Rockhampton Region - West",2689,1678.7830479785589,null,null,null,null,null,-23.35397,150.04982000000001,"Queensland","Rest of Qld","",0]
[308031216,"Rockhampton - West",6160,1686.105111019647,null,null,null,null,null,-23.397849999999998,150.47094999999999,"Queensland","Rest of Qld","",0]
[308031217,"Rockhampton City",3637,1686.1118807417611,null,null,null,null,null,-23.416530000000002,150.53796,"Queensland","Rest of Qld","",0]
[308031222,"The Range - Allenstown",8285,1687.48229187021,null,null,null,null,null,-23.39282,150.49936,"Queensland","Rest of Qld","",0]
[308031205,"Berserker",7246,1690.4764981521355,null,null,null,null,null,-23.373460000000001,150.53077999999999,"Queensland","Rest of Qld","",0]
[308031214,"Park Avenue",5366,1691.5916141719292,null,null,null,null,null,-23.357700000000001,150.51193000000001,"Queensland","Rest of Qld","",0]
[308031211,"Lakes Creek",5061,1692.0165173638604,null,null,null,null,null,-23.36863,150.56511,"Queensland","Rest of Qld","",0]
[308031215,"Parkhurst - Kawana",6489,1696.0441660169365,null,null,null,null,null,-23.313949999999998,150.50511,"Queensland","Rest of Qld","",0]
[308031208,"Frenchville - Mount Archer",9243,1696.3436807849819,null,null,null,null,null,-23.33042,150.57398000000001,"Queensland","Rest of Qld","",0]
[308031218,"Rockhampton Region - East",3129,1696.5385580104562,null,null,null,null,null,-23.36618,150.70569,"Queensland","Rest of Qld","",0]
[308031213,"Norman Gardens",8832,1698.7567086792867,null,null,null,null,null,-23.302070000000001,150.55386999999999,"Queensland","Rest of Qld","",0]
[308031209,"Glenlee - Rockyview",4490,1703.4315773252317,null,null,null,null,null,-23.23161,150.45822000000001,"Queensland","Rest of Qld","",0]
[308031207,"Emu Park",4544,1710.7378867504449,null,null,null,null,null,-23.258900000000001,150.79749000000001,"Queensland","Rest of Qld","",0]
[308031223,"Yeppoon",16372,1719.9374060413074,null,null,null,null,null,-23.154800000000002,150.73749000000001,"Queensland","Rest of Qld","",0]
[312011339,"Clermont",3745,1733.8645804529685,null,null,null,null,null,-22.320489999999999,147.04661999999999,"Queensland","Rest of Qld","",0]
[308031219,"Rockhampton Region - North",4024,1737.7260520397963,null,null,null,null,null,-22.796779999999998,150.01939999999999,"Queensland","Rest of Qld","",0]
[406021138,"APY Lands",2440,1754.473035057337,null,null,null,null,null,-27.077310000000001,131.20555999999999,"South Australia","Rest of SA","",0]
[308031221,"Shoalwater Bay",8,1767.834848669235,null,null,null,null,null,-22.62847,150.45981,"Queensland","Rest of Qld","",0]
[312011338,"Broadsound - Nebo",9876,1774.0286777997319,null,null,null,null,null,-22.18826,148.72796,"Queensland","Rest of Qld","",0]
[702011050,"Petermann - Simpson",2163,1780.3535376672517,null,null,null,null,null,-25.099640000000001,133.49551,"Northern Territory","Rest of NT","",0]
[312011341,"Moranbah",8965,1785.9886041933098,null,null,null,null,null,-21.94744,147.88971000000001,"Queensland","Rest of Qld","",0]
[312021352,"Sarina",11594,1853.1574455283103,null,null,null,null,null,-21.5532,149.21585999999999,"Queensland","Rest of Qld","",0]
[702011052,"Sandover - Plenty",3727,1860.7870255724795,null,null,null,null,null,-23.15626,135.53183999999999,"Northern Territory","Rest of NT","",0]
[312021357,"Walkerston - Eton",8406,1880.2495077721414,null,null,null,null,null,-21.274429999999999,149.0564,"Queensland","Rest of Qld","",0]
[312021351,"Pioneer Valley",7081,1884.2284534061596,null,null,null,null,null,-21.18094,148.73293000000001,"Queensland","Rest of Qld","",0]
[702011051,"Ross",2305,1884.8564636198023,null,null,null,null,null,-23.772960000000001,133.84073000000001,"Northern Territory","Rest of NT","",0]
[702011049,"Mount Johns",3642,1886.2506610839584,null,null,null,null,null,-23.721450000000001,133.90662,"Northern Territory","Rest of NT","",0]
[702011046,"East Side",5233,1888.8963927464367,null,null,null,null,null,-23.689060000000001,133.91481999999999,"Northern Territory","Rest of NT","",0]
[702011047,"Flynn (NT)",4505,1890.5922738199808,null,null,null,null,null,-23.712810000000001,133.84013999999999,"Northern Territory","Rest of NT","",0]
[312021350,"Ooralea - Bakers Creek",4125,1891.2129262891131,null,null,null,null,null,-21.19258,149.15693999999999,"Queensland","Rest of Qld","",0]
[702011045,"Charles",4459,1891.9770314493992,null,null,null,null,null,-23.678830000000001,133.87491,"Northern Territory","Rest of NT","",0]
[312021345,"Eungella Hinterland",3,1893.5718007261769,null,null,null,null,null,-21.050909999999998,148.45696000000001,"Queensland","Rest of Qld","",0]
[312021356,"South Mackay",7416,1894.7364032462071,null,null,null,null,null,-21.164809999999999,149.18116000000001,"Queensland","Rest of Qld","",0]
[702011048,"Larapinta",5042,1894.9215776943902,null,null,null,null,null,-23.658550000000002,133.85567,"Northern Territory","Rest of NT","",0]
[312021358,"West Mackay",6507,1895.816599717002,null,null,null,null,null,-21.151440000000001,149.16276999999999,"Queensland","Rest of Qld","",0]
[312021343,"East Mackay",3636,1896.920332069011,null,null,null,null,null,-21.148769999999999,149.20232999999999,"Queensland","Rest of Qld","",0]
[312021346,"Mackay",4071,1897.1165015666406,null,null,null,null,null,-21.143190000000001,149.18232,"Queensland","Rest of Qld","",{"$f":"IF(AND(E1794>0,E1794<45),1,0)","v":0}]
[312021349,"North Mackay",6746,1899.5156696352428,null,null,null,null,null,-21.12181,149.18567999999999,"Queensland","Rest of Qld","",0]
[312021348,"Mount Pleasant - Glenella",10751,1900.0664926871136,null,null,null,null,null,-21.106000000000002,149.12816000000001,"Queensland","Rest of Qld","",0]
[312021347,"Mackay Harbour",527,1900.5921153547192,null,null,null,null,null,-21.117429999999999,149.21476999999999,"Queensland","Rest of Qld","",0]
[312021342,"Andergrove - Beaconsfield",14405,1902.4310635048055,null,null,null,null,null,-21.093990000000002,149.17998,"Queensland","Rest of Qld","",0]
[312021355,"Slade Point",3859,1904.3470946667776,null,null,null,null,null,-21.08286,149.21419,"Queensland","Rest of Qld","",0]
[312021344,"Eimeo - Rural View",9905,1905.9385026073915,null,null,null,null,null,-21.059799999999999,149.16923,"Queensland","Rest of Qld","",0]
[312021354,"Shoal Point - Bucasia",5343,1909.1398998420632,null,null,null,null,null,-21.02655,149.14837,"Queensland","Rest of Qld","",0]
[315021407,"Northern Highlands",3668,1912.128638174966,null,null,null,null,null,-20.702970000000001,142.94855999999999,"Queensland","Rest of Qld","",0]
[312011340,"Collinsville",4044,1914.9998173116899,null,null,null,null,null,-20.742159999999998,147.61761000000001,"Queensland","Rest of Qld","",0]
[312021353,"Seaforth - Calen",8420,1918.3584598765183,null,null,null,null,null,-20.878270000000001,148.7878,"Queensland","Rest of Qld","",0]
[312031361,"Proserpine",7984,1964.431207277275,null,null,null,null,null,-20.409279999999999,148.48424,"Queensland","Rest of Qld","",0]
[318011463,"Dalrymple",3934,1965.48409878544,null,null,null,null,null,-20.148679999999999,145.78792999999999,"Queensland","Rest of Qld","",0]
[315021405,"Mount Isa",20570,1970.9456724013253,null,null,null,null,null,-20.725940000000001,139.5103,"Queensland","Rest of Qld","",0]
[312031360,"Cape Conway",0,1971.0718965978565,null,null,null,null,null,-20.395589999999999,148.78088,"Queensland","Rest of Qld","",0]
[318011462,"Charters Towers",8234,1976.7885626014529,null,null,null,null,null,-20.068650000000002,146.26857000000001,"Queensland","Rest of Qld","",0]
[315021406,"Mount Isa Region",3859,1987.3361866732307,null,null,null,null,null,-20.539760000000001,139.65674000000001,"Queensland","Rest of Qld","",0]
[312031359,"Airlie - Whitsundays",10551,1990.0244138830931,null,null,null,null,null,-20.256499999999999,148.98362,"Queensland","Rest of Qld","",0]
[312011337,"Bowen",8850,2003.4670838886987,null,null,null,null,null,-20.01717,148.22976,"Queensland","Rest of Qld","",0]
[318011461,"Burdekin",8138,2011.3468119544611,null,null,null,null,null,-19.8306,147.24430000000001,"Queensland","Rest of Qld","",0]
[508031202,"Kambalda - Coolgardie - Norseman",5407,2025.6853328364311,null,null,null,null,null,-31.349959999999999,124.21178999999999,"Western Australia","Rest of WA","",0]
[318021489,"Townsville - South",3962,2039.5767664686639,null,null,null,null,null,-19.541650000000001,146.85344000000001,"Queensland","Rest of Qld","",0]
[318011460,"Ayr",9153,2041.2325718842139,null,null,null,null,null,-19.576879999999999,147.41195999999999,"Queensland","Rest of Qld","",0]
[318021480,"Kelso",10245,2049.7957534459451,null,null,null,null,null,-19.436489999999999,146.67928000000001,"Queensland","Rest of Qld","",0]
[318021474,"Douglas",7189,2057.8118719795561,null,null,null,null,null,-19.370719999999999,146.76952,"Queensland","Rest of Qld","",0]
[318021471,"Condon - Rasmussen",10346,2059.5479776469183,null,null,null,null,null,-19.34956,146.69374999999999,"Queensland","Rest of Qld","",0]
[318021470,"Bohle Plains",5508,2063.0191821912954,null,null,null,null,null,-19.314869999999999,146.64535000000001,"Queensland","Rest of Qld","",0]
[318021468,"Annandale",9468,2063.1388444866911,null,null,null,null,null,-19.324200000000001,146.79015999999999,"Queensland","Rest of Qld","",0]
[318021491,"Wulguru - Roseneath",6074,2063.3783268029833,null,null,null,null,null,-19.32667,146.851,"Queensland","Rest of Qld","",0]
[318021482,"Kirwan - West",15852,2064.8176982973755,null,null,null,null,null,-19.30395,146.72060999999999,"Queensland","Rest of Qld","",0]
[318021472,"Cranbrook",6146,2064.9021411362987,null,null,null,null,null,-19.305530000000001,146.75286,"Queensland","Rest of Qld","",0]
[318021481,"Kirwan - East",8141,2065.1187449806885,null,null,null,null,null,-19.302630000000001,146.73990000000001,"Queensland","Rest of Qld","",0]
[318021487,"Oonoonba",5259,2065.4717612927393,null,null,null,null,null,-19.305319999999998,146.81890999999999,"Queensland","Rest of Qld","",0]
[318021467,"Aitkenvale",4909,2065.7082385054514,null,null,null,null,null,-19.299499999999998,146.76973000000001,"Queensland","Rest of Qld","",0]
[318021485,"Mundingburra",3878,2066.1690890114551,null,null,null,null,null,-19.296479999999999,146.78505000000001,"Queensland","Rest of Qld","",0]
[318021477,"Heatley",4215,2066.5905406411298,null,null,null,null,null,-19.29035,146.75354999999999,"Queensland","Rest of Qld","",0]
[318021478,"Hermit Park - Rosslea",5124,2067.0671274221299,null,null,null,null,null,-19.289739999999998,146.80323000000001,"Queensland","Rest of Qld","",0]
[318021476,"Gulliver - Currajong - Vincent",8105,2067.8192689933694,null,null,null,null,null,-19.280760000000001,146.77384000000001,"Queensland","Rest of Qld","",0]
[318021479,"Hyde Park - Pimlico",4858,2067.9494203526465,null,null,null,null,null,-19.280950000000001,146.79217,"Queensland","Rest of Qld","",0]
[318021488,"South Townsville - Railway Estate",5095,2069.6763616083899,null,null,null,null,null,-19.267890000000001,146.82558,"Queensland","Rest of Qld","",0]
[318021484,"Mount Louisa",7881,2070.1844632763591,null,null,null,null,null,-19.256060000000002,146.72779,"Queensland","Rest of Qld","",0]
[318021475,"Garbutt - West End",6725,2070.3007056338674,null,null,null,null,null,-19.25816,146.77094,"Queensland","Rest of Qld","",0]
[318021490,"Townsville City - North Ward",8606,2071.0412547000374,null,null,null,null,null,-19.254239999999999,146.80795000000001,"Queensland","Rest of Qld","",0]
[318021473,"Deeragun",15216,2072.4703053867338,null,null,null,null,null,-19.231280000000002,146.66900999999999,"Queensland","Rest of Qld","",0]
[318021469,"Belgian Gardens - Pallarenda",3455,2075.2950748353619,null,null,null,null,null,-19.21162,146.75067000000001,"Queensland","Rest of Qld","",0]
[318021486,"Northern Beaches",6076,2079.0876690618043,null,null,null,null,null,-19.156759999999998,146.43966,"Queensland","Rest of Qld","",0]
[318021483,"Magnetic Island",2199,2084.0438190905174,null,null,null,null,null,-19.138829999999999,146.83313000000001,"Queensland","Rest of Qld","",0]
[508011194,"Esperance",11432,2125.3048520358243,null,null,null,null,null,-33.799750000000003,121.85477,"Western Australia","Rest of WA","",0]
[318011466,"Palm Island",2337,2127.415870780047,null,null,null,null,null,-18.73124,146.60046,"Queensland","Rest of Qld","",0]
[702011054,"Yuendumu - Anmatjere",2060,2130.0215334132708,null,null,null,null,null,-21.895399999999999,132.58619999999999,"Northern Territory","Rest of NT","",0]
[318011465,"Ingham Region",6799,2131.7419450622601,null,null,null,null,null,-18.662210000000002,146.04549,"Queensland","Rest of Qld","",0]
[318011464,"Ingham",4767,2133.0771564616603,null,null,null,null,null,-18.655110000000001,146.15440000000001,"Queensland","Rest of Qld","",0]
[508011195,"Esperance Region",4171,2145.7329901796429,null,null,null,null,null,-33.302599999999998,121.83128000000001,"Western Australia","Rest of WA","",0]
[315011397,"Croydon - Etheridge",1208,2152.4148399908972,null,null,null,null,null,-18.526160000000001,143.04085000000001,"Queensland","Rest of Qld","",0]
[508031203,"Leinster - Leonora",5565,2171.2095486565527,null,null,null,null,null,-27.455870000000001,125.21711999999999,"Western Australia","Rest of WA","",0]
[306031161,"Tully",10196,2191.4643481882272,null,null,null,null,null,-18.119800000000001,145.92590000000001,"Queensland","Rest of Qld","",0]
[306051167,"Herberton",5485,2199.1055118802674,null,null,null,null,null,-18.035019999999999,145.27784,"Queensland","Rest of Qld","",0]
[306031160,"Johnstone",7526,2239.1853142583827,null,null,null,null,null,-17.69049,145.93135000000001,"Queensland","Rest of Qld","",0]
[306031159,"Innisfail",9222,2258.3715535518463,null,null,null,null,null,-17.52168,146.03181000000001,"Queensland","Rest of Qld","",0]
[702021056,"Tennant Creek",3061,2271.8478665187231,null,null,null,null,null,-19.654800000000002,134.18707000000001,"Northern Territory","Rest of NT","",0]
[702021055,"Barkly",2660,2272.5670467686996,null,null,null,null,null,-19.280619999999999,135.06299999999999,"Northern Territory","Rest of NT","",0]
[306031162,"Wooroonooran",6,2273.1153755627474,null,null,null,null,null,-17.380669999999999,145.80069,"Queensland","Rest of Qld","",0]
[306051169,"Malanda - Yungaburra",8061,2273.9551608656479,null,null,null,null,null,-17.36787,145.61321000000001,"Queensland","Rest of Qld","",0]
[306031158,"Babinda",4113,2277.0556556214506,null,null,null,null,null,-17.349959999999999,145.93994000000001,"Queensland","Rest of Qld","",0]
[315021404,"Carpentaria",5035,2278.0032828513513,null,null,null,null,null,-17.740200000000002,140.27383,"Queensland","Rest of Qld","",{"$f":"IF(AND(E1858>0,E1858<45),1,0)","v":0}]
[508031204,"Trafalgar (WA)",0,2283.9199738095508,null,null,null,null,null,-30.770530000000001,121.52070000000001,"Western Australia","Rest of WA","",0]
[508031198,"Boulder",7734,2285.2809705842296,null,null,null,null,null,-30.789429999999999,121.4939,"Western Australia","Rest of WA","",0]
[508031201,"Kalgoorlie Airport",0,2287.6519376848196,null,null,null,null,null,-30.794550000000001,121.46326000000001,"Western Australia","Rest of WA","",0]
[508031199,"Kalgoorlie",13949,2288.9375152544444,null,null,null,null,null,-30.75826,121.46916,"Western Australia","Rest of WA","",0]
[306051166,"Atherton",10168,2290.4890221369847,null,null,null,null,null,-17.215910000000001,145.46369999999999,"Queensland","Rest of Qld","",0]
[508031200,"Kalgoorlie - North",9161,2291.621335285698,null,null,null,null,null,-30.73556,121.45092,"Western Australia","Rest of WA","",0]
[702011053,"Tanami",2930,2306.2612952118075,null,null,null,null,null,-21.743369999999999,129.74185,"Northern Territory","Rest of NT","",0]
[306021148,"Gordonvale - Trinity",8042,2308.7891529343392,null,null,null,null,null,-17.059249999999999,145.78738999999999,"Queensland","Rest of Qld","",0]
[306021150,"Lamb Range",0,2309.1706044666153,null,null,null,null,null,-17.052779999999998,145.68127000000001,"Queensland","Rest of Qld","",0]
[306051170,"Mareeba",10182,2310.3395575718087,null,null,null,null,null,-17.037970000000001,145.49620999999999,"Queensland","Rest of Qld","",0]
[306021147,"Edmonton",9934,2313.2817096143917,null,null,null,null,null,-17.017440000000001,145.74073999999999,"Queensland","Rest of Qld","",0]
[306021144,"Bentley Park",7419,2314.2407478270443,null,null,null,null,null,-17.008279999999999,145.72209000000001,"Queensland","Rest of Qld","",0]
[306031163,"Yarrabah",2409,2316.3777181005025,null,null,null,null,null,-16.994540000000001,145.89716000000001,"Queensland","Rest of Qld","",0]
[306021153,"Mount Sheridan",7994,2316.4308642364563,null,null,null,null,null,-16.988859999999999,145.73219,"Queensland","Rest of Qld","",0]
[306021155,"White Rock",4491,2317.661225979306,null,null,null,null,null,-16.978529999999999,145.75778,"Queensland","Rest of Qld","",0]
[315011400,"Tablelands",5493,2317.8432915331996,null,null,null,null,null,-16.985379999999999,143.92223000000001,"Queensland","Rest of Qld","",0]
[306021157,"Woree",4826,2319.7652524532277,null,null,null,null,null,-16.959250000000001,145.74583999999999,"Queensland","Rest of Qld","",0]
[306021146,"Earlville - Bayview Heights",7996,2320.1321511732526,null,null,null,null,null,-16.955449999999999,145.72841,"Queensland","Rest of Qld","",0]
[306021154,"Westcourt - Bungalow",6297,2321.8287904424824,null,null,null,null,null,-16.94117,145.76250999999999,"Queensland","Rest of Qld","",0]
[306021149,"Kanimbla - Mooroobool",9174,2322.9594890371436,null,null,null,null,null,-16.929960000000001,145.72660999999999,"Queensland","Rest of Qld","",0]
[306021151,"Manoora",5688,2324.424864194616,null,null,null,null,null,-16.917059999999999,145.73665,"Queensland","Rest of Qld","",0]
[306021152,"Manunda",4963,2324.4483402119627,null,null,null,null,null,-16.917210000000001,145.7492,"Queensland","Rest of Qld","",0]
[306021145,"Cairns City",9853,2324.7948896060075,null,null,null,null,null,-16.914580000000001,145.76585,"Queensland","Rest of Qld","",0]
[306021156,"Whitfield - Edge Hill",8048,2326.3191398172817,null,null,null,null,null,-16.899999999999999,145.73608999999999,"Queensland","Rest of Qld","",0]
[306011138,"Brinsmead",5234,2326.3426923676934,null,null,null,null,null,-16.89921,145.71554,"Queensland","Rest of Qld","",0]
[306011141,"Redlynch",11510,2326.7677622621459,null,null,null,null,null,-16.89472,145.69116,"Queensland","Rest of Qld","",0]
[306011140,"Freshwater - Stratford",3621,2328.7472965983916,null,null,null,null,null,-16.878450000000001,145.74646999999999,"Queensland","Rest of Qld","",0]
[306011143,"Yorkeys Knob - Machans Beach",5993,2333.1532522544994,null,null,null,null,null,-16.838229999999999,145.72621000000001,"Queensland","Rest of Qld","",0]
[306051168,"Kuranda",4337,2333.3186201483736,null,null,null,null,null,-16.832709999999999,145.56565000000001,"Queensland","Rest of Qld","",0]
[306011142,"Trinity Beach - Smithfield",10900,2335.6214853276965,null,null,null,null,null,-16.815110000000001,145.69297,"Queensland","Rest of Qld","",0]
[306011139,"Clifton Beach - Kewarra Beach",9961,2340.1242701275473,null,null,null,null,null,-16.773759999999999,145.66099,"Queensland","Rest of Qld","",0]
[306041165,"Port Douglas",4772,2360.7069925677006,null,null,null,null,null,-16.58466,145.48430999999999,"Queensland","Rest of Qld","",0]
[509011229,"Gnowangerup",2833,2401.8078014675339,null,null,null,null,null,-33.862639999999999,118.67482,"Western Australia","Rest of WA","",0]
[306041164,"Daintree",6009,2404.0068940765204,null,null,null,null,null,-16.191980000000001,145.26963000000001,"Queensland","Rest of Qld","",0]
[509011226,"Albany Region",2997,2414.9320569780311,null,null,null,null,null,-34.718899999999998,118.20734,"Western Australia","Rest of WA","",0]
[509031247,"Kulin",4583,2418.8748917881308,null,null,null,null,null,-32.836849999999998,118.91109,"Western Australia","Rest of WA","",0]
[509011227,"Bayonet Head - Lower King",4260,2432.5345515899367,null,null,null,null,null,-34.963940000000001,117.92288000000001,"Western Australia","Rest of WA","",0]
[509011225,"Albany",13680,2433.2730688275619,null,null,null,null,null,-35.008380000000002,117.89955,"Western Australia","Rest of WA","",0]
[509011232,"Little Grove - Elleker",3274,2438.2126946113176,null,null,null,null,null,-35.056719999999999,117.82719,"Western Australia","Rest of WA","",0]
[509011233,"McKail - Willyung",9440,2438.4391772857648,null,null,null,null,null,-34.947920000000003,117.86105999999999,"Western Australia","Rest of WA","",0]
[509011235,"Stirling Range National Park",0,2439.2884247050324,null,null,null,null,null,-34.397640000000003,118.04491,"Western Australia","Rest of WA","",0]
[509011234,"Plantagenet",4883,2479.6889628773729,null,null,null,null,null,-34.61448,117.50691,"Western Australia","Rest of WA","",0]
[509011228,"Denmark",5194,2505.3440855968697,null,null,null,null,null,-34.890479999999997,117.11882,"Western Australia","Rest of WA","",0]
[509021240,"Merredin",5070,2505.7382556230996,null,null,null,null,null,-31.84422,118.38269,"Western Australia","Rest of WA","",0]
[509011230,"Katanning",4598,2510.9031926164089,null,null,null,null,null,-33.599420000000002,117.5368,"Western Australia","Rest of WA","",0]
[509021242,"Mukinbudin",3470,2510.9692659506522,null,null,null,null,null,-30.790900000000001,118.8702,"Western Australia","Rest of WA","",0]
[509011231,"Kojonup",4193,2514.9753428810322,null,null,null,null,null,-34.078969999999998,117.30215,"Western Australia","Rest of WA","",0]
[315011398,"Kowanyama - Pormpuraaw",1694,2562.0370343350492,null,null,null,null,null,-14.93914,141.80841000000001,"Queensland","Rest of Qld","",0]
[509031249,"Narrogin",4731,2571.3337146357508,null,null,null,null,null,-32.950400000000002,117.12014000000001,"Western Australia","Rest of WA","",0]
[509031250,"Wagin",4865,2574.030003835257,null,null,null,null,null,-33.181399999999996,116.99036,"Western Australia","Rest of WA","",0]
[509031246,"Brookton",3602,2582.8217771921263,null,null,null,null,null,-32.435229999999997,117.21903,"Western Australia","Rest of WA","",0]
[702051066,"Gulf",4044,2588.1100028018441,null,null,null,null,null,-15.962999999999999,135.86213000000001,"Northern Territory","Rest of NT","",0]
[509021237,"Cunderdin",3932,2590.7635293643798,null,null,null,null,null,-31.7148,117.47112,"Western Australia","Rest of WA","",0]
[501031017,"Bridgetown - Boyup Brook",5905,2597.8233696646321,null,null,null,null,null,-33.927909999999997,116.41691,"Western Australia","Rest of WA","",0]
[501031020,"Pemberton",5030,2606.0004589663367,null,null,null,null,null,-34.438850000000002,116.13203,"Western Australia","Rest of WA","",0]
[501031019,"Manjimup",5415,2607.9054067992442,null,null,null,null,null,-34.27261,116.17140999999999,"Western Australia","Rest of WA","",0]
[315011396,"Cape York",7054,2634.475706553822,null,null,null,null,null,-14.16643,143.25138000000001,"Queensland","Rest of Qld","",0]
[509021245,"York - Beverley",4959,2637.7292437146839,null,null,null,null,null,-32.057270000000003,116.76767,"Western Australia","Rest of WA","",0]
[501021009,"Collie",9128,2638.6063822435599,null,null,null,null,null,-33.283549999999998,116.21156000000001,"Western Australia","Rest of WA","",0]
[501031018,"Donnybrook - Balingup",5320,2645.6843229588371,null,null,null,null,null,-33.66957,115.97354,"Western Australia","Rest of WA","",0]
[509031248,"Murray",2926,2649.4822798900491,null,null,null,null,null,-32.754759999999997,116.31435999999999,"Western Australia","Rest of WA","",0]
[509021238,"Dowerin",4058,2659.1287417533754,null,null,null,null,null,-30.899090000000001,117.10269,"Western Australia","Rest of WA","",0]
[508041207,"Halls Creek",3566,2664.0504178855467,null,null,null,null,null,-19.22627,127.59430999999999,"Western Australia","Rest of WA","",0]
[509021243,"Northam",10557,2664.8816144582775,null,null,null,null,null,-31.685949999999998,116.636,"Western Australia","Rest of WA","",{"$f":"IF(AND(E1922>0,E1922<45),1,0)","v":0}]
[501021010,"Dardanup",2983,2665.1380695073371,null,null,null,null,null,-33.417189999999998,115.8541,"Western Australia","Rest of WA","",0]
[501021014,"Harvey",8392,2671.1221592715933,null,null,null,null,null,-33.094740000000002,115.92053,"Western Australia","Rest of WA","",0]
[501021012,"Eaton - Pelican Point",10238,2679.944787966806,null,null,null,null,null,-33.306510000000003,115.73112,"Western Australia","Rest of WA","",0]
[501021007,"Capel",4688,2679.9507281903093,null,null,null,null,null,-33.551670000000001,115.63069,"Western Australia","Rest of WA","",0]
[501021016,"Waroona",3583,2680.0879322056821,null,null,null,null,null,-32.85792,115.92018,"Western Australia","Rest of WA","",0]
[501011003,"Busselton Region",8383,2680.3513316949134,null,null,null,null,null,-33.715760000000003,115.56047,"Western Australia","Rest of WA","",0]
[506011111,"Ashendon - Lesley",0,2681.4841109239046,null,null,null,null,null,-32.184980000000003,116.20752,"Western Australia","Greater Perth","Greater Perth",0]
[501021011,"Davenport",10,2681.5243928460018,null,null,null,null,null,-33.374049999999997,115.68521,"Western Australia","Rest of WA","",0]
[501021015,"Koombana",6894,2683.2857923855317,null,null,null,null,null,-33.334530000000001,115.68146,"Western Australia","Rest of WA","",0]
[501021005,"Australind - Leschenault",14843,2683.3402115235835,null,null,null,null,null,-33.2577,115.71275,"Western Australia","Rest of WA","",0]
[504021052,"Malmalling - Reservoir",17,2683.6911702712937,null,null,null,null,null,-31.965229999999998,116.28583,"Western Australia","Greater Perth","Greater Perth",0]
[501021008,"College Grove - Carey Park",6521,2684.2944988864592,null,null,null,null,null,-33.367040000000003,115.65655,"Western Australia","Rest of WA","",0]
[501021013,"Gelorup - Dalyellup - Stratham",9997,2685.180389154913,null,null,null,null,null,-33.444609999999997,115.61463000000001,"Western Australia","Rest of WA","",0]
[506061144,"Serpentine - Jarrahdale",3960,2685.8641082803701,null,null,null,null,null,-32.388950000000001,116.06341,"Western Australia","Greater Perth","Greater Perth",0]
[501021006,"Bunbury",17111,2686.8142289320822,null,null,null,null,null,-33.353760000000001,115.63333,"Western Australia","Rest of WA","",0]
[504021049,"Chidlow",4025,2688.6206006526381,null,null,null,null,null,-31.809750000000001,116.30403,"Western Australia","Greater Perth","Greater Perth",0]
[508051215,"Meekatharra",4075,2689.961318666742,null,null,null,null,null,-26.061430000000001,119.89237,"Western Australia","Rest of WA","",0]
[506011116,"Roleystone",6773,2693.0078550531107,null,null,null,null,null,-32.114899999999999,116.10863000000001,"Western Australia","Greater Perth","Greater Perth",0]
[502011029,"Pinjarra",7978,2693.4503935547223,null,null,null,null,null,-32.63711,115.86499999999999,"Western Australia","Greater Perth","Greater Perth",0]
[506051141,"Lesmurdie - Bickley - Carmel",11322,2693.7031096919482,null,null,null,null,null,-32.027299999999997,116.14193,"Western Australia","Greater Perth","Greater Perth",0]
[506011115,"Mount Nasura - Mount Richon - Bedfordale",7330,2694.5372876103443,null,null,null,null,null,-32.177590000000002,116.06186,"Western Australia","Greater Perth","Greater Perth",0]
[501011001,"Augusta",4436,2696.3170519966197,null,null,null,null,null,-34.03246,115.25542,"Western Australia","Rest of WA","",0]
[509021244,"Toodyay",4388,2696.4460840498282,null,null,null,null,null,-31.47109,116.38065,"Western Australia","Rest of WA","",0]
[504021053,"Mundaring",12654,2696.8311805603216,null,null,null,null,null,-31.885750000000002,116.17355000000001,"Western Australia","Greater Perth","Greater Perth",0]
[506061143,"Mundijong",5686,2698.1003385861741,null,null,null,null,null,-32.26764,115.97941,"Western Australia","Greater Perth","Greater Perth",0]
[506061142,"Byford",8156,2698.7789550930279,null,null,null,null,null,-32.213389999999997,115.99677,"Western Australia","Greater Perth","Greater Perth",0]
[506011114,"Kelmscott",10019,2700.2841445421132,null,null,null,null,null,-32.115139999999997,116.02539,"Western Australia","Greater Perth","Greater Perth",0]
[504031060,"Gidgegannup",2532,2701.1511307676692,null,null,null,null,null,-31.75441,116.18746,"Western Australia","Greater Perth","Greater Perth",0]
[506011110,"Armadale - Wungong - Brookdale",16241,2701.3383611567469,null,null,null,null,null,-32.163469999999997,115.99075999999999,"Western Australia","Greater Perth","Greater Perth",0]
[501011002,"Busselton",21898,2701.995024414703,null,null,null,null,null,-33.676009999999998,115.32984999999999,"Western Australia","Rest of WA","",0]
[506041136,"Maddington - Orange Grove - Martin",11798,2702.0519705300953,null,null,null,null,null,-32.06024,116.03098,"Western Australia","Greater Perth","Greater Perth",0]
[506011117,"Seville Grove",9217,2702.5923961989774,null,null,null,null,null,-32.136450000000004,115.98905000000001,"Western Australia","Greater Perth","Greater Perth",0]
[502011026,"Mandurah - East",4913,2703.0204506475516,null,null,null,null,null,-32.564549999999997,115.78824,"Western Australia","Greater Perth","Greater Perth",0]
[504021050,"Glen Forrest - Darlington",7042,2703.1711320735189,null,null,null,null,null,-31.89583,116.09623000000001,"Western Australia","Greater Perth","Greater Perth",0]
[506011112,"Camillo - Champion Lakes",5254,2703.1933606357807,null,null,null,null,null,-32.117159999999998,115.99121,"Western Australia","Greater Perth","Greater Perth",0]
[506041134,"Gosnells",19169,2704.4515572293826,null,null,null,null,null,-32.084870000000002,115.99198,"Western Australia","Greater Perth","Greater Perth",0]
[506051140,"Kalamunda - Maida Vale - Gooseberry Hill",14524,2705.0790436307407,null,null,null,null,null,-31.960979999999999,116.04335,"Western Australia","Greater Perth","Greater Perth",0]
[504031055,"Avon Valley National Park",0,2706.0828480299178,null,null,null,null,null,-31.63607,116.18873000000001,"Western Australia","Greater Perth","Greater Perth",0]
[506041135,"Huntingdale - Southern River",14530,2706.5383617451689,null,null,null,null,null,-32.100340000000003,115.96088,"Western Australia","Greater Perth","Greater Perth",0]
[502011023,"Greenfields",9940,2706.8039394283242,null,null,null,null,null,-32.524290000000001,115.76315,"Western Australia","Greater Perth","Greater Perth",0]
[504021051,"Helena Valley - Koongamia",4661,2706.840800969519,null,null,null,null,null,-31.918130000000001,116.04362,"Western Australia","Greater Perth","Greater Perth",0]
[506011113,"Forrestdale - Harrisdale - Piara Waters",7459,2707.2247899282697,null,null,null,null,null,-32.146979999999999,115.93122,"Western Australia","Greater Perth","Greater Perth",0]
[506051138,"Forrestfield - Wattle Grove",15934,2707.2982728138154,null,null,null,null,null,-31.989730000000002,116.00434,"Western Australia","Greater Perth","Greater Perth",0]
[504021054,"Swan View - Greenmount - Midvale",12017,2707.5317241122798,null,null,null,null,null,-31.88963,116.04934,"Western Australia","Greater Perth","Greater Perth",0]
[502011027,"Mandurah - North",12486,2707.6514206558436,null,null,null,null,null,-32.481659999999998,115.77269,"Western Australia","Greater Perth","Greater Perth",0]
[502011028,"Mandurah - South",9274,2707.7136779325397,null,null,null,null,null,-32.552070000000001,115.7403,"Western Australia","Greater Perth","Greater Perth",0]
[507051185,"Baldivis",16594,2707.9460590636531,null,null,null,null,null,-32.364870000000003,115.82237000000001,"Western Australia","Greater Perth","Greater Perth",0]
[504031067,"Stratton - Jane Brook",6722,2708.0245439855189,null,null,null,null,null,-31.83877,116.0681,"Western Australia","Greater Perth","Greater Perth",0]
[507031171,"Casuarina - Wellard (East)",1934,2708.4202310165774,null,null,null,null,null,-32.251730000000002,115.86893000000001,"Western Australia","Greater Perth","Greater Perth",0]
[506041137,"Thornlie",22965,2708.7106109863444,null,null,null,null,null,-32.060029999999998,115.955,"Western Australia","Greater Perth","Greater Perth",0]
[506041132,"Beckenham - Kenwick - Langford",17613,2708.8659961283979,null,null,null,null,null,-32.028619999999997,115.96803,"Western Australia","Greater Perth","Greater Perth",0]
[315011395,"Aurukun",1294,2709.2085199988901,null,null,null,null,null,-13.60571,141.82785999999999,"Queensland","Rest of Qld","",0]
[506051139,"High Wycombe",11781,2709.2624031705777,null,null,null,null,null,-31.94444,116.0034,"Western Australia","Greater Perth","Greater Perth",0]
[502011025,"Mandurah",8571,2709.3821582409532,null,null,null,null,null,-32.523800000000001,115.73396,"Western Australia","Greater Perth","Greater Perth",0]
[502011021,"Dawesville - Bouvard",5550,2709.6557877546279,null,null,null,null,null,-32.716380000000001,115.6451,"Western Australia","Greater Perth","Greater Perth",0]
[506041133,"Canning Vale - East",20509,2709.8188221258065,null,null,null,null,null,-32.086239999999997,115.93002,"Western Australia","Greater Perth","Greater Perth",0]
[504031061,"Hazelmere - South Guildford",3634,2710.7258768863194,null,null,null,null,null,-31.91563,116.0004,"Western Australia","Greater Perth","Greater Perth",0]
[507031168,"Anketell - Wandi",1133,2710.8682061491809,null,null,null,null,null,-32.200200000000002,115.86484,"Western Australia","Greater Perth","Greater Perth",0]
[507031169,"Bertram - Wellard (West)",7830,2711.1565980321047,null,null,null,null,null,-32.26061,115.83359,"Western Australia","Greater Perth","Greater Perth",0]
[507051191,"Singleton - Golden Bay - Secret Harbour",15614,2711.254392007168,null,null,null,null,null,-32.421199999999999,115.75896,"Western Australia","Greater Perth","Greater Perth",0]
[504031066,"Midland - Guildford",9587,2711.3326462187147,null,null,null,null,null,-31.8947,116.00346,"Western Australia","Greater Perth","Greater Perth",0]
[504031065,"Middle Swan - Herne Hill",5186,2711.5469909209442,null,null,null,null,null,-31.844429999999999,116.02509999999999,"Western Australia","Greater Perth","Greater Perth",0]
[506031127,"Cannington - Queens Park",14948,2711.5637646407895,null,null,null,null,null,-32.010359999999999,115.94583,"Western Australia","Greater Perth","Greater Perth",0]
[506021120,"Kewdale Commercial",3,2711.6353762814301,null,null,null,null,null,-31.980139999999999,115.95932000000001,"Western Australia","Greater Perth","Greater Perth",{"$f":"IF(AND(E1986>0,E1986<45),1,0)","v":0}]
[502011024,"Halls Head - Erskine",17145,2711.6356895822387,null,null,null,null,null,-32.547620000000002,115.69756,"Western Australia","Greater Perth","Greater Perth",0]
[507011148,"Banjup",14201,2711.6388383749745,null,null,null,null,null,-32.144100000000002,115.88215,"Western Australia","Greater Perth","Greater Perth",0]
[506031125,"Canning Vale - West",10158,2711.7927522100795,null,null,null,null,null,-32.088500000000003,115.90640999999999,"Western Australia","Greater Perth","Greater Perth",0]
[506031130,"Welshpool",16,2712.0261847509764,null,null,null,null,null,-31.992619999999999,115.94893999999999,"Western Australia","Greater Perth","Greater Perth",0]
[506021121,"Perth Airport",54,2712.0430817808774,null,null,null,null,null,-31.945609999999999,115.97105999999999,"Western Australia","Greater Perth","Greater Perth",0]
[504031069,"Walyunga National Park",0,2712.235701001393,null,null,null,null,null,-31.721910000000001,116.07642,"Western Australia","Greater Perth","Greater Perth",0]
[506031126,"Canning Vale Commercial",0,2712.3387670166676,null,null,null,null,null,-32.064959999999999,115.91123,"Western Australia","Greater Perth","Greater Perth",0]
[506031128,"Parkwood - Ferndale - Lynwood",13538,2712.4903866238615,null,null,null,null,null,-32.039490000000001,115.92149000000001,"Western Australia","Greater Perth","Greater Perth",0]
[507031174,"Parmelia - Orelia",10840,2712.6909808697665,null,null,null,null,null,-32.241689999999998,115.82481,"Western Australia","Greater Perth","Greater Perth",0]
[504031068,"The Vines",5402,2712.9791404734847,null,null,null,null,null,-31.773990000000001,116.04267,"Western Australia","Greater Perth","Greater Perth",0]
[507051189,"Rockingham Lakes",12,2713.4650377272246,null,null,null,null,null,-32.31823,115.78073000000001,"Western Australia","Greater Perth","Greater Perth",0]
[502011022,"Falcon - Wannanup",7435,2713.6656124193028,null,null,null,null,null,-32.58811,115.65629,"Western Australia","Greater Perth","Greater Perth",0]
[507051187,"Port Kennedy",14105,2713.8140135737926,null,null,null,null,null,-32.373420000000003,115.75149999999999,"Western Australia","Greater Perth","Greater Perth",0]
[507011157,"Jandakot Airport",222,2713.9291985597824,null,null,null,null,null,-32.094630000000002,115.87913,"Western Australia","Greater Perth","Greater Perth",0]
[507011161,"Success - Hammond Park",10945,2714.1394525828346,null,null,null,null,null,-32.151519999999998,115.85012999999999,"Western Australia","Greater Perth","Greater Perth",0]
[507031170,"Calista",7370,2714.3377198940952,null,null,null,null,null,-32.255719999999997,115.79953,"Western Australia","Greater Perth","Greater Perth",0]
[506021122,"Rivervale - Kewdale - Cloverdale",21862,2714.6667420332797,null,null,null,null,null,-31.965420000000002,115.93165999999999,"Western Australia","Greater Perth","Greater Perth",0]
[507011156,"Jandakot",2518,2714.7707598099973,null,null,null,null,null,-32.107900000000001,115.8633,"Western Australia","Greater Perth","Greater Perth",0]
[507051193,"Warnbro",11101,2714.7971771838484,null,null,null,null,null,-32.337969999999999,115.75648,"Western Australia","Greater Perth","Greater Perth",0]
[506031124,"Bentley - Wilson - St James",19558,2714.8088066114019,null,null,null,null,null,-32.009810000000002,115.90900999999999,"Western Australia","Greater Perth","Greater Perth",0]
[506031131,"Willetton",17391,2714.9006081087887,null,null,null,null,null,-32.052509999999998,115.88782,"Western Australia","Greater Perth","Greater Perth",0]
[507031172,"Hope Valley - Postans",108,2714.9164366287746,null,null,null,null,null,-32.207389999999997,115.81528,"Western Australia","Greater Perth","Greater Perth",0]
[504031062,"Lockridge - Kiara",8057,2715.0278033717473,null,null,null,null,null,-31.876629999999999,115.96986,"Western Australia","Greater Perth","Greater Perth",0]
[506021118,"Belmont - Ascot - Redcliffe",13288,2715.4203970101985,null,null,null,null,null,-31.941549999999999,115.93438999999999,"Western Australia","Greater Perth","Greater Perth",0]
[506031129,"Riverton - Shelley - Rossmoyne",13158,2715.7411505552764,null,null,null,null,null,-32.034269999999999,115.88681,"Western Australia","Greater Perth","Greater Perth",0]
[506021119,"East Victoria Park - Carlisle",14990,2715.7769487467808,null,null,null,null,null,-31.985099999999999,115.90964,"Western Australia","Greater Perth","Greater Perth",0]
[507051192,"Waikiki",11983,2715.8415887945825,null,null,null,null,null,-32.31606,115.7546,"Western Australia","Greater Perth","Greater Perth",0]
[507041180,"Leeming",11093,2715.8690934562219,null,null,null,null,null,-32.075110000000002,115.86613,"Western Australia","Greater Perth","Greater Perth",0]
[504011044,"Bassendean - Eden Hill - Ashfield",14404,2716.0448355165045,null,null,null,null,null,-31.903849999999998,115.94522000000001,"Western Australia","Greater Perth","Greater Perth",0]
[507051186,"Cooloongup",8630,2716.2151766984011,null,null,null,null,null,-32.292729999999999,115.76105,"Western Australia","Greater Perth","Greater Perth",0]
[507011159,"South Lake - Cockburn Central",11042,2716.6271528523685,null,null,null,null,null,-32.106290000000001,115.84285,"Western Australia","Greater Perth","Greater Perth",0]
[507011162,"Wattleup",570,2716.9009699088901,null,null,null,null,null,-32.163589999999999,115.81297000000001,"Western Australia","Greater Perth","Greater Perth",0]
[507041179,"Bull Creek",7541,2716.9698855129209,null,null,null,null,null,-32.056249999999999,115.86242,"Western Australia","Greater Perth","Greater Perth",0]
[507011149,"Beeliar",5963,2717.0337002634192,null,null,null,null,null,-32.141500000000001,115.82174999999999,"Western Australia","Greater Perth","Greater Perth",0]
[507051188,"Rockingham",14827,2717.1011635227692,null,null,null,null,null,-32.262749999999997,115.76474,"Western Australia","Greater Perth","Greater Perth",0]
[506071146,"Manning - Waterford",10973,2717.5462233917842,null,null,null,null,null,-32.016269999999999,115.87468,"Western Australia","Greater Perth","Greater Perth",0]
[504031059,"Ellenbrook",23399,2717.7717159084827,null,null,null,null,null,-31.790130000000001,115.98005999999999,"Western Australia","Greater Perth","Greater Perth",0]
[506021123,"Victoria Park - Lathlain - Burswood",13609,2717.8162718149356,null,null,null,null,null,-31.964970000000001,115.89588000000001,"Western Australia","Greater Perth","Greater Perth",0]
[507031173,"Kwinana Industrial",10,2717.8904748581749,null,null,null,null,null,-32.219700000000003,115.77562,"Western Australia","Greater Perth","Greater Perth",0]
[504031057,"Beechboro",15207,2718.2984924229718,null,null,null,null,null,-31.837,115.95147,"Western Australia","Greater Perth","Greater Perth",0]
[507041176,"Bateman",3738,2718.3194115411279,null,null,null,null,null,-32.05547,115.84737,"Western Australia","Greater Perth","Greater Perth",0]
[507011163,"Yangebup",7125,2718.3696451579481,null,null,null,null,null,-32.120649999999998,115.81623,"Western Australia","Greater Perth","Greater Perth",0]
[504011045,"Bayswater - Embleton - Bedford",21209,2718.45693796262,null,null,null,null,null,-31.91422,115.9127,"Western Australia","Greater Perth","Greater Perth",0]
[504011046,"Maylands",12354,2718.6159794770124,null,null,null,null,null,-31.93694,115.90006,"Western Australia","Greater Perth","Greater Perth",0]
[507011151,"Bibra Lake",0,2718.6808606026857,null,null,null,null,null,-32.088410000000003,115.82777,"Western Australia","Greater Perth","Greater Perth",0]
[506071145,"Como",13399,2718.8633770791316,null,null,null,null,null,-31.999659999999999,115.86748,"Western Australia","Greater Perth","Greater Perth",0]
[504031058,"Bullsbrook",4326,2718.8909420931877,null,null,null,null,null,-31.663080000000001,116.02893,"Western Australia","Greater Perth","Greater Perth",0]
[507051190,"Safety Bay - Shoalwater",11238,2719.201587529265,null,null,null,null,null,-32.301310000000001,115.72302000000001,"Western Australia","Greater Perth","Greater Perth",0]
[501011004,"Margaret River",7322,2719.3124121394503,null,null,null,null,null,-33.931190000000001,115.03258,"Western Australia","Rest of WA","",0]
[506071147,"South Perth - Kensington",16436,2719.445685681786,null,null,null,null,null,-31.98104,115.86964,"Western Australia","Greater Perth","Greater Perth",0]
[507041178,"Booragoon",13870,2719.5859899095021,null,null,null,null,null,-32.035209999999999,115.84244,"Western Australia","Greater Perth","Greater Perth",0]
[507011150,"Bibra Industrial",19,2719.619692512008,null,null,null,null,null,-32.105820000000001,115.80889000000001,"Western Australia","Greater Perth","Greater Perth",0]
[507041182,"Murdoch - Kardinya",12115,2719.6828860781925,null,null,null,null,null,-32.067709999999998,115.82604000000001,"Western Australia","Greater Perth","Greater Perth",0]
[504011047,"Morley",20302,2719.8074452671499,null,null,null,null,null,-31.88775,115.90989999999999,"Western Australia","Greater Perth","Greater Perth",0]
[507011155,"Henderson",14,2719.8909858720835,null,null,null,null,null,-32.162399999999998,115.77938,"Western Australia","Greater Perth","Greater Perth",0]
[507041184,"Winthrop",6204,2720.0007424544879,null,null,null,null,null,-32.052160000000001,115.82971999999999,"Western Australia","Greater Perth","Greater Perth",0]
[507011153,"Coolbellup",7744,2720.6491976259304,null,null,null,null,null,-32.083350000000003,115.80766,"Western Australia","Greater Perth","Greater Perth",0]
[507041175,"Applecross - Ardross",10626,2720.8048233837171,null,null,null,null,null,-32.019170000000003,115.83608,"Western Australia","Greater Perth","Greater Perth",0]
[503021039,"Mount Lawley - Inglewood",16207,2721.1814842610747,null,null,null,null,null,-31.924499999999998,115.87666,"Western Australia","Greater Perth","Greater Perth",0]
[503021041,"Perth City",25504,2721.2928967354269,null,null,null,null,null,-31.950520000000001,115.86301,"Western Australia","Greater Perth","Greater Perth",0]
[504011048,"Noranda",8079,2721.3633943464388,null,null,null,null,null,-31.873329999999999,115.89901,"Western Australia","Greater Perth","Greater Perth",0]
[507011152,"Coogee",7524,2721.8014452448369,null,null,null,null,null,-32.128839999999997,115.77321000000001,"Western Australia","Greater Perth","Greater Perth",0]
[507011160,"Spearwood",9096,2721.9587091048602,null,null,null,null,null,-32.10425,115.78291,"Western Australia","Greater Perth","Greater Perth",0]
[507041183,"Willagee",4768,2722.1440255876123,null,null,null,null,null,-32.051960000000001,115.80533,"Western Australia","Greater Perth","Greater Perth",{"$f":"IF(AND(E2050>0,E2050<45),1,0)","v":0}]
[504031063,"Malaga",13,2722.3974823926619,null,null,null,null,null,-31.858730000000001,115.89418000000001,"Western Australia","Greater Perth","Greater Perth",0]
[507041181,"Melville",15455,2722.8030332192102,null,null,null,null,null,-32.033740000000002,115.80638,"Western Australia","Greater Perth","Greater Perth",0]
[507021167,"O'Connor (WA)",0,2723.0272190113542,null,null,null,null,null,-32.059150000000002,115.79186,"Western Australia","Greater Perth","Greater Perth",0]
[507011154,"Hamilton Hill",9855,2723.0704540093134,null,null,null,null,null,-32.084510000000002,115.77946,"Western Australia","Greater Perth","Greater Perth",0]
[503021040,"North Perth",8544,2723.1483108785437,null,null,null,null,null,-31.92698,115.85299999999999,"Western Australia","Greater Perth","Greater Perth",0]
[504031056,"Ballajura",19082,2723.2052629877107,null,null,null,null,null,-31.825880000000002,115.90071,"Western Australia","Greater Perth","Greater Perth",0]
[505021086,"Dianella",23112,2723.2346635916279,null,null,null,null,null,-31.88692,115.87112,"Western Australia","Greater Perth","Greater Perth",0]
[503021037,"Kings Park (WA)",33,2723.5368400090497,null,null,null,null,null,-31.962520000000001,115.83167,"Western Australia","Greater Perth","Greater Perth",0]
[505021097,"Yokine - Coolbinia - Menora",14824,2723.8775784431386,null,null,null,null,null,-31.90569,115.85481,"Western Australia","Greater Perth","Greater Perth",0]
[507021166,"Fremantle - South",13446,2724.0848458242913,null,null,null,null,null,-32.069450000000003,115.77494,"Western Australia","Greater Perth","Greater Perth",0]
[507011158,"North Coogee",579,2724.4764903330306,null,null,null,null,null,-32.093110000000003,115.75937,"Western Australia","Greater Perth","Greater Perth",0]
[507041177,"Bicton - Palmyra",12959,2724.507962552098,null,null,null,null,null,-32.035719999999998,115.78597000000001,"Western Australia","Greater Perth","Greater Perth",0]
[503021038,"Mount Hawthorn - Leederville",10298,2724.6230377683069,null,null,null,null,null,-31.92445,115.83735,"Western Australia","Greater Perth","Greater Perth",0]
[503011035,"Nedlands - Dalkeith - Crawley",17551,2724.8727646798397,null,null,null,null,null,-31.985109999999999,115.8057,"Western Australia","Greater Perth","Greater Perth",0]
[509021241,"Moora",4642,2724.8751098331381,null,null,null,null,null,-30.39744,116.61512999999999,"Western Australia","Rest of WA","",0]
[503021042,"Subiaco - Shenton Park",15056,2725.5488142224326,null,null,null,null,null,-31.95234,115.81350999999999,"Western Australia","Greater Perth","Greater Perth",0]
[503021043,"Wembley - West Leederville - Glendalough",16566,2725.6417228419236,null,null,null,null,null,-31.932829999999999,115.82172,"Western Australia","Greater Perth","Greater Perth",0]
[505021095,"Tuart Hill - Joondanna",11269,2725.6528475544746,null,null,null,null,null,-31.902899999999999,115.83584999999999,"Western Australia","Greater Perth","Greater Perth",0]
[504031064,"Melaleuca - Lexia",4,2725.7743980377163,null,null,null,null,null,-31.729500000000002,115.91786,"Western Australia","Greater Perth","Greater Perth",0]
[505031098,"Alexander Heights - Koondoola",11591,2725.8800328089778,null,null,null,null,null,-31.834869999999999,115.86581,"Western Australia","Greater Perth","Greater Perth",0]
[507021164,"East Fremantle",6930,2725.974601064413,null,null,null,null,null,-32.037939999999999,115.76817,"Western Australia","Greater Perth","Greater Perth",0]
[505021090,"Nollamara - Westminster",15060,2726.1762780534541,null,null,null,null,null,-31.875299999999999,115.84305000000001,"Western Australia","Greater Perth","Greater Perth",0]
[505021085,"Balga - Mirrabooka",18044,2726.2050615786429,null,null,null,null,null,-31.856249999999999,115.85184,"Western Australia","Greater Perth","Greater Perth",0]
[509021236,"Chittering",4428,2727.0487654760523,null,null,null,null,null,-31.374389999999998,116.07834,"Western Australia","Rest of WA","",0]
[503011031,"Claremont (WA)",7593,2727.0915701060899,null,null,null,null,null,-31.98124,115.78218,"Western Australia","Greater Perth","Greater Perth",0]
[503011034,"Mosman Park - Peppermint Grove",10126,2727.2576427308704,null,null,null,null,null,-32.011749999999999,115.76586,"Western Australia","Greater Perth","Greater Perth",0]
[507021165,"Fremantle",13245,2727.3034765868078,null,null,null,null,null,-32.051859999999998,115.74644000000001,"Western Australia","Greater Perth","Greater Perth",0]
[505021091,"Osborne Park Industrial",8,2727.5825210376138,null,null,null,null,null,-31.905719999999999,115.81245,"Western Australia","Greater Perth","Greater Perth",0]
[505021087,"Herdsman",3,2727.5990672708394,null,null,null,null,null,-31.92014,115.80539,"Western Australia","Greater Perth","Greater Perth",0]
[505031102,"Girrawheen",8334,2727.8982812537974,null,null,null,null,null,-31.84103,115.83978,"Western Australia","Greater Perth","Greater Perth",0]
[503011033,"Floreat",7229,2727.9918302565279,null,null,null,null,null,-31.93862,115.79210999999999,"Western Australia","Greater Perth","Greater Perth",0]
[505021093,"Stirling - Osborne Park",13204,2728.0629819758256,null,null,null,null,null,-31.889579999999999,115.81466,"Western Australia","Greater Perth","Greater Perth",0]
[503011036,"Swanbourne - Mount Claremont",7885,2728.2737357112896,null,null,null,null,null,-31.965920000000001,115.77593,"Western Australia","Greater Perth","Greater Perth",0]
[505031104,"Marangaroo",10519,2728.6380891073391,null,null,null,null,null,-31.827660000000002,115.83774,"Western Australia","Greater Perth","Greater Perth",0]
[503011032,"Cottesloe",7399,2728.6547869930414,null,null,null,null,null,-31.994260000000001,115.75816,"Western Australia","Greater Perth","Greater Perth",0]
[505031103,"Madeley - Darch - Landsdale",18976,2728.7292241941968,null,null,null,null,null,-31.80509,115.84755,"Western Australia","Greater Perth","Greater Perth",0]
[505021084,"Balcatta - Hamersley",14973,2728.8649827595996,null,null,null,null,null,-31.865069999999999,115.81721,"Western Australia","Greater Perth","Greater Perth",0]
[505021096,"Wembley Downs - Churchlands - Woodlands",12599,2729.5942495563004,null,null,null,null,null,-31.916650000000001,115.78425,"Western Australia","Greater Perth","Greater Perth",0]
[505021088,"Innaloo - Doubleview",15218,2730.109598200283,null,null,null,null,null,-31.894310000000001,115.78901,"Western Australia","Greater Perth","Greater Perth",0]
[503011030,"City Beach",6354,2730.4359453070197,null,null,null,null,null,-31.935590000000001,115.76562,"Western Australia","Greater Perth","Greater Perth",0]
[505011073,"Greenwood - Warwick",13427,2731.3568312086336,null,null,null,null,null,-31.831779999999998,115.80468,"Western Australia","Greater Perth","Greater Perth",0]
[505031108,"Wanneroo",22953,2731.5534782357731,null,null,null,null,null,-31.765239999999999,115.83447,"Western Australia","Greater Perth","Greater Perth",0]
[505021089,"Karrinyup - Gwelup - Carine",18927,2731.886592454262,null,null,null,null,null,-31.865490000000001,115.78247,"Western Australia","Greater Perth","Greater Perth",0]
[505021092,"Scarborough",14271,2732.0744818740136,null,null,null,null,null,-31.89658,115.76546999999999,"Western Australia","Greater Perth","Greater Perth",0]
[505031107,"Tapping - Ashby - Sinagra",12536,2732.5161826832364,null,null,null,null,null,-31.723230000000001,115.84379,"Western Australia","Greater Perth","Greater Perth",0]
[505011078,"Kingsley",13218,2732.5989965278186,null,null,null,null,null,-31.810359999999999,115.80077,"Western Australia","Greater Perth","Greater Perth",0]
[505011072,"Duncraig",15026,2733.8269171732595,null,null,null,null,null,-31.832909999999998,115.77589999999999,"Western Australia","Greater Perth","Greater Perth",0]
[505011083,"Woodvale",9202,2733.8371978727228,null,null,null,null,null,-31.789280000000002,115.79676000000001,"Western Australia","Greater Perth","Greater Perth",0]
[508061219,"East Pilbara",7746,2733.8790867696557,null,null,null,null,null,-21.728480000000001,123.36484,"Western Australia","Rest of WA","",0]
[505021094,"Trigg - North Beach - Watermans Bay",6926,2733.9746842329146,null,null,null,null,null,-31.86514,115.75877,"Western Australia","Greater Perth","Greater Perth",0]
[505011081,"Padbury",8366,2735.5598149625471,null,null,null,null,null,-31.806450000000002,115.7688,"Western Australia","Greater Perth","Greater Perth",0]
[505011082,"Sorrento - Marmion",9539,2735.7720351755893,null,null,null,null,null,-31.831209999999999,115.75448,"Western Australia","Greater Perth","Greater Perth",0]
[505011070,"Craigie - Beldon",9592,2736.6287946534217,null,null,null,null,null,-31.783390000000001,115.76768,"Western Australia","Greater Perth","Greater Perth",0]
[505011077,"Joondalup - Edgewater",13727,2737.5858602731751,null,null,null,null,null,-31.745909999999999,115.77482999999999,"Western Australia","Greater Perth","Greater Perth",0]
[505011075,"Hillarys",10680,2737.6811188136217,null,null,null,null,null,-31.808879999999998,115.74338,"Western Australia","Greater Perth","Greater Perth",0]
[505011079,"Mullaloo - Kallaroo",11006,2738.7219548505309,null,null,null,null,null,-31.784320000000001,115.7433,"Western Australia","Greater Perth","Greater Perth",0]
[505011074,"Heathridge - Connolly",10419,2738.7572850163592,null,null,null,null,null,-31.756989999999998,115.75608,"Western Australia","Greater Perth","Greater Perth",0]
[505031100,"Carramar",11332,2739.4200779505413,null,null,null,null,null,-31.684010000000001,115.78386999999999,"Western Australia","Greater Perth","Greater Perth",0]
[505011080,"Ocean Reef",8108,2740.4398825595522,null,null,null,null,null,-31.758710000000001,115.73600999999999,"Western Australia","Greater Perth","Greater Perth",0]
[505011071,"Currambine - Kinross",13947,2741.2766155076556,null,null,null,null,null,-31.726330000000001,115.74209999999999,"Western Australia","Greater Perth","Greater Perth",0]
[505011076,"Iluka - Burns Beach",6165,2742.7993058321681,null,null,null,null,null,-31.727129999999999,115.7243,"Western Australia","Greater Perth","Greater Perth",0]
[505031106,"Neerabup National Park",0,2742.9910287039875,null,null,null,null,null,-31.681370000000001,115.74431,"Western Australia","Greater Perth","Greater Perth",0]
[505031101,"Clarkson",11687,2743.9942089286865,null,null,null,null,null,-31.694389999999999,115.72651,"Western Australia","Greater Perth","Greater Perth",0]
[505031099,"Butler - Merriwa - Ridgewood",19227,2747.238012499804,null,null,null,null,null,-31.651979999999998,115.71004000000001,"Western Australia","Greater Perth","Greater Perth",{"$f":"IF(AND(E2114>0,E2114<45),1,0)","v":0}]
[505031105,"Mindarie - Quinns Rocks - Jindalee",17508,2747.6439344858309,null,null,null,null,null,-31.667560000000002,115.69781,"Western Australia","Greater Perth","Greater Perth",0]
[505031109,"Yanchep",7443,2748.0296365452059,null,null,null,null,null,-31.560790000000001,115.74561,"Western Australia","Greater Perth","Greater Perth",0]
[702051068,"Victoria River",2515,2748.8439293513611,null,null,null,null,null,-16.577459999999999,130.57205999999999,"Northern Territory","Rest of NT","",0]
[702041062,"Anindilyakwa",2571,2774.7330498635938,null,null,null,null,null,-13.988300000000001,136.59780000000001,"Northern Territory","Rest of NT","",0]
[702051065,"Elsey",2054,2787.5279139151608,null,null,null,null,null,-14.90868,133.44507999999999,"Northern Territory","Rest of NT","",0]
[509021239,"Gingin - Dandaragan",7870,2799.345707167598,null,null,null,null,null,-30.751429999999999,115.56881,"Western Australia","Rest of WA","",0]
[315011403,"Weipa",3334,2815.4258588761309,null,null,null,null,null,-12.642060000000001,141.86100999999999,"Queensland","Rest of Qld","",0]
[508051216,"Morawa",4501,2818.1366060415576,null,null,null,null,null,-29.517569999999999,116.03358,"Western Australia","Rest of WA","",0]
[702051067,"Katherine",9209,2861.983073664423,null,null,null,null,null,-14.690160000000001,132.19508999999999,"Northern Territory","Rest of NT","",0]
[508061221,"Newman",5478,2884.3543806936182,null,null,null,null,null,-23.366890000000001,119.74214000000001,"Western Australia","Rest of WA","",0]
[508051214,"Irwin",3567,2909.1369174433589,null,null,null,null,null,-29.326450000000001,115.09175,"Western Australia","Rest of WA","",0]
[702041063,"East Arnhem",7511,2925.1877522974146,null,null,null,null,null,-12.844099999999999,135.66346999999999,"Northern Territory","Rest of NT","",0]
[508041206,"Derby - West Kimberley",8414,2957.564918252654,null,null,null,null,null,-17.84835,124.8751,"Western Australia","Rest of WA","",0]
[702041064,"Nhulunbuy",3933,2963.574397924046,null,null,null,null,null,-12.181430000000001,136.77699999999999,"Northern Territory","Rest of NT","",0]
[508051211,"Geraldton - East",7745,2971.4698500125742,null,null,null,null,null,-28.811050000000002,114.67377999999999,"Western Australia","Rest of WA","",0]
[508051213,"Geraldton - South",9168,2972.1110528425647,null,null,null,null,null,-28.850619999999999,114.64277,"Western Australia","Rest of WA","",0]
[508051217,"Northampton - Mullewa - Greenough",5770,2976.1724464358654,null,null,null,null,null,-28.135149999999999,115.03254,"Western Australia","Rest of WA","",0]
[508051210,"Geraldton",12339,2978.5309582977643,null,null,null,null,null,-28.760339999999999,114.62229000000001,"Western Australia","Rest of WA","",0]
[508051212,"Geraldton - North",6497,2981.7811108478641,null,null,null,null,null,-28.661370000000002,114.64404999999999,"Western Australia","Rest of WA","",0]
[702031058,"Daly",1927,2986.5395710828243,null,null,null,null,null,-14.0267,130.90683000000001,"Northern Territory","Rest of NT","",0]
[315011399,"Northern Peninsula",2298,2992.2735083192342,null,null,null,null,null,-11.004960000000001,142.31295,"Queensland","Rest of Qld","",0]
[702031059,"Thamarrurr",2304,3025.938008123549,null,null,null,null,null,-14.203480000000001,129.70399,"Northern Territory","Rest of NT","",0]
[508041208,"Kununurra",7803,3029.9357548247572,null,null,null,null,null,-15.62332,127.03872,"Western Australia","Rest of WA","",0]
[315011401,"Torres",3255,3034.7943934096083,null,null,null,null,null,-10.63142,142.18725000000001,"Queensland","Rest of Qld","",0]
[508041209,"Roebuck",2238,3047.7478845034852,null,null,null,null,null,-18.65982,122.47535000000001,"Western Australia","Rest of WA","",0]
[702031061,"West Arnhem",4705,3048.6724587928561,null,null,null,null,null,-12.33347,133.61693,"Northern Territory","Rest of NT","",0]
[702031057,"Alligator",4234,3063.1946401505697,null,null,null,null,null,-12.88369,131.80350000000001,"Northern Territory","Rest of NT","",0]
[315011402,"Torres Strait Islands",4248,3083.8518478069191,null,null,null,null,null,-10.182449999999999,142.26517999999999,"Queensland","Rest of Qld","",0]
[701031035,"Weddell",3647,3113.2967982759587,null,null,null,null,null,-12.68858,131.10081,"Northern Territory","Greater Darwin","Greater Darwin",0]
[701031032,"Humpty Doo",7801,3125.0306540311612,null,null,null,null,null,-12.5604,131.13095999999999,"Northern Territory","Greater Darwin","Greater Darwin",0]
[508041205,"Broome",12767,3125.3913278023319,null,null,null,null,null,-17.94472,122.22299,"Western Australia","Rest of WA","",0]
[701031034,"Virginia",2852,3129.4857306841673,null,null,null,null,null,-12.55686,131.03711999999999,"Northern Territory","Greater Darwin","Greater Darwin",0]
[701041043,"Rosebery - Bellamack",3745,3136.366039755374,null,null,null,null,null,-12.51046,130.98779999999999,"Northern Territory","Greater Darwin","Greater Darwin",0]
[701041042,"Palmerston - South",8,3136.4561364672377,null,null,null,null,null,-12.52108,130.96111999999999,"Northern Territory","Greater Darwin","Greater Darwin",0]
[701041040,"Moulden",3191,3137.5045144180185,null,null,null,null,null,-12.50559,130.97313,"Northern Territory","Greater Darwin","Greater Darwin",0]
[701041036,"Bakewell",3191,3137.5045720915937,null,null,null,null,null,-12.496840000000001,130.99343999999999,"Northern Territory","Greater Darwin","Greater Darwin",0]
[701041044,"Woodroffe",3419,3137.5889301650227,null,null,null,null,null,-12.50173,130.98016000000001,"Northern Territory","Greater Darwin","Greater Darwin",0]
[701041039,"Gray",3311,3138.6526630498488,null,null,null,null,null,-12.490360000000001,130.98228,"Northern Territory","Greater Darwin","Greater Darwin",0]
[701031031,"Howard Springs",4298,3138.7638040925799,null,null,null,null,null,-12.4635,131.04226,"Northern Territory","Greater Darwin","Greater Darwin",0]
[701041041,"Palmerston - North",4131,3139.2412119149749,null,null,null,null,null,-12.480119999999999,130.99262999999999,"Northern Territory","Greater Darwin","Greater Darwin",0]
[701041037,"Driver",2959,3139.3960833018268,null,null,null,null,null,-12.48602,130.97539,"Northern Territory","Greater Darwin","Greater Darwin",0]
[701041038,"Durack - Marlow Lagoon",3664,3140.8896181512432,null,null,null,null,null,-12.472479999999999,130.97273999999999,"Northern Territory","Greater Darwin","Greater Darwin",0]
[701021017,"East Arm",8,3142.4824954632404,null,null,null,null,null,-12.474460000000001,130.93183999999999,"Northern Territory","Greater Darwin","Greater Darwin",0]
[701031033,"Koolpinyah",18,3145.9375392476582,null,null,null,null,null,-12.344200000000001,131.15706,"Northern Territory","Greater Darwin","Greater Darwin",0]
[701021012,"Berrimah",2522,3146.8781772661987,null,null,null,null,null,-12.42858,130.93799999999999,"Northern Territory","Greater Darwin","Greater Darwin",0]
[701021015,"Charles Darwin",11,3146.9854451467481,null,null,null,null,null,-12.448549999999999,130.88933,"Northern Territory","Greater Darwin","Greater Darwin",0]
[701011002,"Darwin City",4545,3147.649260887938,null,null,null,null,null,-12.461790000000001,130.84372999999999,"Northern Territory","Greater Darwin","Greater Darwin",0]
[701011008,"Stuart Park",3749,3149.106592462746,null,null,null,null,null,-12.44679,130.84523999999999,"Northern Territory","Greater Darwin","Greater Darwin",0]
[701011005,"Larrakeyah",3242,3149.1154008289805,null,null,null,null,null,-12.455209999999999,130.82566,"Northern Territory","Greater Darwin","Greater Darwin",0]
[701011009,"Woolner - Bayview - Winnellie",2650,3149.3034281739151,null,null,null,null,null,-12.43182,130.87530000000001,"Northern Territory","Greater Darwin","Greater Darwin",0]
[701011007,"Parap",1976,3150.5567982893326,null,null,null,null,null,-12.43263,130.84497999999999,"Northern Territory","Greater Darwin","Greater Darwin",0]
[701011004,"Fannie Bay - The Gardens",3257,3150.627762837169,null,null,null,null,null,-12.4352,130.83744999999999,"Northern Territory","Greater Darwin","Greater Darwin",0]
[701021019,"Karama",4845,3150.7318333102662,null,null,null,null,null,-12.400090000000001,130.91621000000001,"Northern Territory","Greater Darwin","Greater Darwin",0]
[701011001,"Darwin Airport",451,3151.0456253416323,null,null,null,null,null,-12.41173,130.88211999999999,"Northern Territory","Greater Darwin","Greater Darwin",0]
[508021197,"Exmouth",3941,3151.7272753701523,null,null,null,null,null,-24.820869999999999,115.24706999999999,"Western Australia","Rest of WA","",0]
[701021022,"Malak - Marrara",4754,3151.8236099764058,null,null,null,null,null,-12.397690000000001,130.89689999999999,"Northern Territory","Greater Darwin","Greater Darwin",0]
[701011006,"Ludmilla - The Narrows",2864,3151.8359601940874,null,null,null,null,null,-12.41672,130.85264000000001,"Northern Territory","Greater Darwin","Greater Darwin",0]
[701021011,"Anula",2405,3152.7609266059476,null,null,null,null,null,-12.391249999999999,130.89046999999999,"Northern Territory","Greater Darwin","Greater Darwin",0]
[701021030,"Wulagi",2620,3153.3362720421842,null,null,null,null,null,-12.38345,130.89543,"Northern Territory","Greater Darwin","Greater Darwin",0]
[701011003,"East Point",40,3153.3534498258095,null,null,null,null,null,-12.41159,130.83004,"Northern Territory","Greater Darwin","Greater Darwin",0]
[701021014,"Buffalo Creek",3,3153.441407518063,null,null,null,null,null,-12.371029999999999,130.92183,"Northern Territory","Greater Darwin","Greater Darwin",0]
[701021024,"Moil",2026,3153.4619479937537,null,null,null,null,null,-12.388500000000001,130.88087999999999,"Northern Territory","Greater Darwin","Greater Darwin",0]
[701021018,"Jingili",1816,3153.7709697209912,null,null,null,null,null,-12.388949999999999,130.87280999999999,"Northern Territory","Greater Darwin","Greater Darwin",0]
[701021023,"Millner",2465,3153.9277624146976,null,null,null,null,null,-12.391859999999999,130.86251999999999,"Northern Territory","Greater Darwin","Greater Darwin",{"$f":"IF(AND(E2178>0,E2178<45),1,0)","v":0}]
[701021016,"Coconut Grove",2851,3153.9741335529707,null,null,null,null,null,-12.39602,130.85185999999999,"Northern Territory","Greater Darwin","Greater Darwin",0]
[701021028,"Wagaman",2109,3154.053259015991,null,null,null,null,null,-12.380739999999999,130.88538,"Northern Territory","Greater Darwin","Greater Darwin",0]
[701021020,"Leanyer",4692,3154.135035764737,null,null,null,null,null,-12.37396,130.89922000000001,"Northern Territory","Greater Darwin","Greater Darwin",0]
[701021010,"Alawa",2123,3154.7105406732439,null,null,null,null,null,-12.37954,130.8732,"Northern Territory","Greater Darwin","Greater Darwin",0]
[701021029,"Wanguri",1775,3154.8925698907838,null,null,null,null,null,-12.37129,130.88815,"Northern Territory","Greater Darwin","Greater Darwin",0]
[701021026,"Rapid Creek",3268,3155.2372180259781,null,null,null,null,null,-12.380420000000001,130.85919000000001,"Northern Territory","Greater Darwin","Greater Darwin",0]
[701021025,"Nightcliff",3655,3155.3823924953936,null,null,null,null,null,-12.38359,130.84857,"Northern Territory","Greater Darwin","Greater Darwin",0]
[701021013,"Brinkin - Nakara",3054,3155.5717611781438,null,null,null,null,null,-12.3711,130.87313,"Northern Territory","Greater Darwin","Greater Darwin",0]
[701021027,"Tiwi",2510,3156.6125691727766,null,null,null,null,null,-12.35876,130.87799999999999,"Northern Territory","Greater Darwin","Greater Darwin",0]
[701021021,"Lyons (NT)",2072,3156.9039281869627,null,null,null,null,null,-12.34895,130.89409000000001,"Northern Territory","Greater Darwin","Greater Darwin",0]
[508061218,"Ashburton (WA)",10002,3184.8395515672582,null,null,null,null,null,-22.494070000000001,116.72851,"Western Australia","Rest of WA","",0]
[508061224,"South Hedland",9375,3190.3949633340535,null,null,null,null,null,-20.406549999999999,118.60069,"Western Australia","Rest of WA","",0]
[508061222,"Port Hedland",4393,3192.5864276638167,null,null,null,null,null,-20.349920000000001,118.62842999999999,"Western Australia","Rest of WA","",0]
[702031060,"Tiwi Islands",2579,3240.6860937019833,null,null,null,null,null,-11.56,130.81621000000001,"Northern Territory","Rest of NT","",0]
[508061223,"Roebourne",6426,3263.0947460984303,null,null,null,null,null,-21.052109999999999,117.03823,"Western Australia","Rest of WA","",0]
[508021196,"Carnarvon",5347,3277.9210826266362,null,null,null,null,null,-24.863379999999999,113.70689,"Western Australia","Rest of WA","",0]
[508061220,"Karratha",16476,3302.2158660934406,null,null,null,null,null,-20.74888,116.8216,"Western Australia","Rest of WA","",0]
[901011001,"Christmas Island",2072,4954.9565608117664,null,null,null,null,null,-10.48536,105.63647,"Other Territories","Other Territories","",0]
[901021002,"Cocos (Keeling) Islands",550,5540.2889187599849,null,null,null,null,null,-12.129899999999999,96.908410000000003,"Other Territories","Other Territories","",0]

{"sheet":"Pop","index":5,"n_rows":16,"n_cols":7,"rows_kept":16,"cut":false,"hidden":true,"merged":[]}
[null,"Population",3,2,1,"Score","Points"]
["Greater Sydney",{"$f":"SUMIF(Outputs!$M$2:$M$2197,A2,Outputs!$C$2:$C$2197)","v":4391680},{"$f":"B2*0.15","v":658752},{"$f":"B2*0.1","v":439168},{"$f":"B2*0.05","v":219584},{"$f":"SUMIFS(Outputs!$C$2:$C$2197,Outputs!$M$2:$M$2197,Pop!A2,Outputs!$O$2:$O$2197,\"1\")","v":0},{"$f":"IF(F2>C2,C$1,IF(F2>D2,D$1,IF(F2>E2,E$1,0)))","v":0}]
["Australian Capital Territory",{"$f":"SUMIF(Outputs!$M$2:$M$2197,A3,Outputs!$C$2:$C$2197)","v":356587},{"$f":"B3*0.15","v":53488.049999999996},{"$f":"B3*0.1","v":35658.700000000004},{"$f":"B3*0.05","v":17829.350000000002},{"$f":"SUMIFS(Outputs!$C$2:$C$2197,Outputs!$M$2:$M$2197,Pop!A3,Outputs!$O$2:$O$2197,\"1\")","v":0},{"$f":"IF(F3>C3,C$1,IF(F3>D3,D$1,IF(F3>E3,E$1,0)))","v":0}]
["Greater Brisbane",{"$f":"SUMIF(Outputs!$M$2:$M$2197,A4,Outputs!$C$2:$C$2197)","v":2066000},309900,206600,103300,{"$f":"SUMIFS(Outputs!$C$2:$C$2197,Outputs!$M$2:$M$2197,Pop!A4,Outputs!$O$2:$O$2197,\"1\")","v":0},0]
["Greater Melbourne",{"$f":"SUMIF(Outputs!$M$2:$M$2197,A5,Outputs!$C$2:$C$2197)","v":3999968},599995.19999999995,399996.80000000005,199998.40000000002,{"$f":"IF(VITMZone<>0,IF(Outputs!$M$2=\"Rest of Vic.\",0,\nVLOOKUP(VITMZone,Victorian!$A$2:$C$5596,3,FALSE)),0)","v":757528.48958999966},3]
["Greater Hobart",{"$f":"SUMIF(Outputs!$M$2:$M$2197,A6,Outputs!$C$2:$C$2197)","v":211670},31750.5,21167,10583.5,{"$f":"SUMIFS(Outputs!$C$2:$C$2197,Outputs!$M$2:$M$2197,Pop!A6,Outputs!$O$2:$O$2197,\"1\")","v":0},0]
["Greater Adelaide",{"$f":"SUMIF(Outputs!$M$2:$M$2197,A7,Outputs!$C$2:$C$2197)","v":1225229},183784.35,122522.90000000001,61261.450000000004,{"$f":"SUMIFS(Outputs!$C$2:$C$2197,Outputs!$M$2:$M$2197,Pop!A7,Outputs!$O$2:$O$2197,\"1\")","v":0},0]
["Greater Darwin",{"$f":"SUMIF(Outputs!$M$2:$M$2197,A8,Outputs!$C$2:$C$2197)","v":120593},18088.95,12059.300000000001,6029.6500000000005,{"$f":"SUMIFS(Outputs!$C$2:$C$2197,Outputs!$M$2:$M$2197,Pop!A8,Outputs!$O$2:$O$2197,\"1\")","v":0},0]
["Greater Perth",{"$f":"SUMIF(Outputs!$M$2:$M$2197,A9,Outputs!$C$2:$C$2197)","v":1728875},259331.25,172887.5,86443.75,{"$f":"SUMIFS(Outputs!$C$2:$C$2197,Outputs!$M$2:$M$2197,Pop!A9,Outputs!$O$2:$O$2197,\"1\")","v":0},0]
["Rest of NSW",{"$f":"SUMIF(Outputs!$M$2:$M$2197,A10,Outputs!$C$2:$C$2197)","v":2512946},{"$f":"B10*0.15","v":376941.89999999997},{"$f":"B10*0.1","v":251294.6},{"$f":"B10*0.05","v":125647.3},{"$f":"SUMIFS(Outputs!$C$2:$C$2197,Outputs!$M$2:$M$2197,Pop!A10,Outputs!$O$2:$O$2197,\"1\")","v":0},{"$f":"IF(F10>C10,C$1,IF(F10>D10,D$1,IF(F10>E10,E$1,0)))","v":0}]
["Rest of NT",{"$f":"SUMIF(Outputs!$M$2:$M$2197,A11,Outputs!$C$2:$C$2197)","v":89373},13405.949999999999,8937.3000000000011,4468.6500000000005,{"$f":"SUMIFS(Outputs!$C$2:$C$2197,Outputs!$M$2:$M$2197,Pop!A11,Outputs!$O$2:$O$2197,\"1\")","v":0},0]
["Rest of Qld",{"$f":"SUMIF(Outputs!$M$2:$M$2197,A12,Outputs!$C$2:$C$2197)","v":2253721},338058.14999999997,225372.1,112686.05,{"$f":"SUMIFS(Outputs!$C$2:$C$2197,Outputs!$M$2:$M$2197,Pop!A12,Outputs!$O$2:$O$2197,\"1\")","v":0},0]
["Rest of SA",{"$f":"SUMIF(Outputs!$M$2:$M$2197,A13,Outputs!$C$2:$C$2197)","v":368268},55240.2,36826.800000000003,18413.400000000001,{"$f":"SUMIFS(Outputs!$C$2:$C$2197,Outputs!$M$2:$M$2197,Pop!A13,Outputs!$O$2:$O$2197,\"1\")","v":0},0]
["Rest of Tas.",{"$f":"SUMIF(Outputs!$M$2:$M$2197,A14,Outputs!$C$2:$C$2197)","v":282493},42373.95,28249.300000000003,14124.650000000001,{"$f":"SUMIFS(Outputs!$C$2:$C$2197,Outputs!$M$2:$M$2197,Pop!A14,Outputs!$O$2:$O$2197,\"1\")","v":0},0]
["Rest of Vic.",{"$f":"SUMIF(Outputs!$M$2:$M$2197,A15,Outputs!$C$2:$C$2197)","v":1345727},201859.05,134572.70000000001,67286.350000000006,{"$f":"IF(VITMZone<>0,IF(Outputs!$M$2=\"Rest of Vic.\",VLOOKUP(VITMZone,Victorian!$A$2:$C$5596,3,FALSE),0),0)","v":0},0]
["Rest of WA",{"$f":"SUMIF(Outputs!$M$2:$M$2197,A16,Outputs!$C$2:$C$2197)","v":502583},75387.45,50258.3,25129.15,{"$f":"SUMIFS(Outputs!$C$2:$C$2197,Outputs!$M$2:$M$2197,Pop!A16,Outputs!$O$2:$O$2197,\"1\")","v":0},0]

{"sheet":"Step by Step Master","index":6,"n_rows":400,"n_cols":17,"rows_kept":400,"cut":false,"hidden":true,"merged":[]}
["Address ID","Input Address","Label","content","markerImage","markerCategory","venue size","markerColor","markerSize","capacity","latitude","longtitude","EffTime","Option1","Option2","Option3","Option4"]
[1,null,{"$f":"Inputs!C3","v":0},{"$f":"\"<b>Destination: </b>\" &C2","v":"<b>Destination: </b>0"},"http://www.google.com/mapfiles/dd-end.png",null,null,null,null,null,{"$f":"Scratch!E2","v":-37.811102900000002},{"$f":"Scratch!F2","v":144.96471399999999}]
[{"$f":"IF(Outputs!E2<>\"\",Outputs!A2,\"\")","v":""},{"$f":"IF(Outputs!E2<>\"\",Outputs!B2,\"\")","v":""},{"$f":"B3","v":""},{"$f":"IF(C3=\"\",\"\",\"<b>\" & B3 & \"</b><br>\" & \"<b>Population attributed:</b> \" & J3 & \"</br>\" & \"<b> Effective Time:</b>  \" & M3 & \" minutes\" & \"</br>\"& \"<b> Option 1:</b>  \" & N3 & \"</br>\"& \"<b> Option 2:</b>  \" &O3 & \"</br>\"& \"<b> Option 3:</b>  \" & P3 & \"</br>\"& \"<b> Option 4:</b>  \" & Q3)","v":""},{"$f":"IF(D3=\"\",\"\",IF(M3<45,\"http://labs.google.com/ridefinder/images/mm_20_green.png\",\"http://labs.google.com/ridefinder/images/mm_20_red.png\"))","v":""},{"$f":"IF(E3=\"\",\"\",IF(J3>15000,\"big\",IF(J3>10000,\"medium\",\"small\")))","v":""},{"$f":"F3","v":""},{"$f":"IF(G3=\"\",\"\",IF(M3<45,\"#458B00\",\"#D41243\"))","v":""},{"$f":"IF(H3=\"\",\"\",SQRT(J3/PI())*10)","v":""},{"$f":"IF(A3=\"\",\"\",Outputs!C2)","v":""},{"$f":"IF(A3=\"\",\"\",Outputs!J2)","v":""},{"$f":"IF(B3=\"\",\"\",Outputs!K2)","v":""},{"$f":"IF(Outputs!E2=\"\",\"\",Outputs!E2)","v":""},{"$f":"IF(Outputs!F2=\"\",\"\",Outputs!F2)","v":""},{"$f":"IF(Outputs!G2=\"\",\"\",Outputs!G2)","v":""},{"$f":"IF(Outputs!H2=\"\",\"\",Outputs!H2)","v":""},{"$f":"IF(Outputs!I2=\"\",\"\",Outputs!I2)","v":""}]
[{"$f":"IF(Outputs!E3<>\"\",Outputs!A3,\"\")","v":""},{"$f":"IF(Outputs!E3<>\"\",Outputs!B3,\"\")","v":""},{"$f":"B4","v":""},"","",{"$f":"IF(E4=\"\",\"\",IF(J4>15000,\"big\",IF(J4>10000,\"medium\",\"small\")))","v":""},{"$f":"F4","v":""},"",{"$f":"IF(H4=\"\",\"\",SQRT(J4/PI())*10)","v":""},{"$f":"IF(A4=\"\",\"\",Outputs!C3)","v":""},{"$f":"IF(A4=\"\",\"\",Outputs!J3)","v":""},{"$f":"IF(B4=\"\",\"\",Outputs!K3)","v":""},{"$f":"IF(Outputs!E3=\"\",\"\",Outputs!E3)","v":""},{"$f":"IF(Outputs!F3=\"\",\"\",Outputs!F3)","v":""},{"$f":"IF(Outputs!G3=\"\",\"\",Outputs!G3)","v":""},{"$f":"IF(Outputs!H3=\"\",\"\",Outputs!H3)","v":""},{"$f":"IF(Outputs!I3=\"\",\"\",Outputs!I3)","v":""}]
[{"$f":"IF(Outputs!E4<>\"\",Outputs!A4,\"\")","v":""},{"$f":"IF(Outputs!E4<>\"\",Outputs!B4,\"\")","v":""},"","","",{"$f":"IF(E5=\"\",\"\",IF(J5>15000,\"big\",IF(J5>10000,\"medium\",\"small\")))","v":""},"","","",{"$f":"IF(A5=\"\",\"\",Outputs!C4)","v":""},{"$f":"IF(A5=\"\",\"\",Outputs!J4)","v":""},{"$f":"IF(B5=\"\",\"\",Outputs!K4)","v":""},{"$f":"IF(Outputs!E4=\"\",\"\",Outputs!E4)","v":""},{"$f":"IF(Outputs!F4=\"\",\"\",Outputs!F4)","v":""},{"$f":"IF(Outputs!G4=\"\",\"\",Outputs!G4)","v":""},{"$f":"IF(Outputs!H4=\"\",\"\",Outputs!H4)","v":""},{"$f":"IF(Outputs!I4=\"\",\"\",Outputs!I4)","v":""}]
[{"$f":"IF(Outputs!E5<>\"\",Outputs!A5,\"\")","v":""},{"$f":"IF(Outputs!E5<>\"\",Outputs!B5,\"\")","v":""},"","","",{"$f":"IF(E6=\"\",\"\",IF(J6>15000,\"big\",IF(J6>10000,\"medium\",\"small\")))","v":""},"","","",{"$f":"IF(A6=\"\",\"\",Outputs!C5)","v":""},{"$f":"IF(A6=\"\",\"\",Outputs!J5)","v":""},{"$f":"IF(B6=\"\",\"\",Outputs!K5)","v":""},{"$f":"IF(Outputs!E5=\"\",\"\",Outputs!E5)","v":""},{"$f":"IF(Outputs!F5=\"\",\"\",Outputs!F5)","v":""},{"$f":"IF(Outputs!G5=\"\",\"\",Outputs!G5)","v":""},{"$f":"IF(Outputs!H5=\"\",\"\",Outputs!H5)","v":""},{"$f":"IF(Outputs!I5=\"\",\"\",Outputs!I5)","v":""}]
[{"$f":"IF(Outputs!E6<>\"\",Outputs!A6,\"\")","v":""},{"$f":"IF(Outputs!E6<>\"\",Outputs!B6,\"\")","v":""},"","","","","","","",{"$f":"IF(A7=\"\",\"\",Outputs!C6)","v":""},{"$f":"IF(A7=\"\",\"\",Outputs!J6)","v":""},{"$f":"IF(B7=\"\",\"\",Outputs!K6)","v":""},{"$f":"IF(Outputs!E6=\"\",\"\",Outputs!E6)","v":""},{"$f":"IF(Outputs!F6=\"\",\"\",Outputs!F6)","v":""},{"$f":"IF(Outputs!G6=\"\",\"\",Outputs!G6)","v":""},{"$f":"IF(Outputs!H6=\"\",\"\",Outputs!H6)","v":""},{"$f":"IF(Outputs!I6=\"\",\"\",Outputs!I6)","v":""}]
[{"$f":"IF(Outputs!E7<>\"\",Outputs!A7,\"\")","v":""},{"$f":"IF(Outputs!E7<>\"\",Outputs!B7,\"\")","v":""},"","","","","","","",{"$f":"IF(A8=\"\",\"\",Outputs!C7)","v":""},{"$f":"IF(A8=\"\",\"\",Outputs!J7)","v":""},{"$f":"IF(B8=\"\",\"\",Outputs!K7)","v":""},{"$f":"IF(Outputs!E7=\"\",\"\",Outputs!E7)","v":""},{"$f":"IF(Outputs!F7=\"\",\"\",Outputs!F7)","v":""},{"$f":"IF(Outputs!G7=\"\",\"\",Outputs!G7)","v":""},{"$f":"IF(Outputs!H7=\"\",\"\",Outputs!H7)","v":""},{"$f":"IF(Outputs!I7=\"\",\"\",Outputs!I7)","v":""}]
[{"$f":"IF(Outputs!E8<>\"\",Outputs!A8,\"\")","v":""},{"$f":"IF(Outputs!E8<>\"\",Outputs!B8,\"\")","v":""},"","","","","","","",{"$f":"IF(A9=\"\",\"\",Outputs!C8)","v":""},{"$f":"IF(A9=\"\",\"\",Outputs!J8)","v":""},{"$f":"IF(B9=\"\",\"\",Outputs!K8)","v":""},{"$f":"IF(Outputs!E8=\"\",\"\",Outputs!E8)","v":""},{"$f":"IF(Outputs!F8=\"\",\"\",Outputs!F8)","v":""},{"$f":"IF(Outputs!G8=\"\",\"\",Outputs!G8)","v":""},{"$f":"IF(Outputs!H8=\"\",\"\",Outputs!H8)","v":""},{"$f":"IF(Outputs!I8=\"\",\"\",Outputs!I8)","v":""}]
[{"$f":"IF(Outputs!E9<>\"\",Outputs!A9,\"\")","v":""},{"$f":"IF(Outputs!E9<>\"\",Outputs!B9,\"\")","v":""},"","","","","","","",{"$f":"IF(A10=\"\",\"\",Outputs!C9)","v":""},{"$f":"IF(A10=\"\",\"\",Outputs!J9)","v":""},{"$f":"IF(B10=\"\",\"\",Outputs!K9)","v":""},{"$f":"IF(Outputs!E9=\"\",\"\",Outputs!E9)","v":""},{"$f":"IF(Outputs!F9=\"\",\"\",Outputs!F9)","v":""},{"$f":"IF(Outputs!G9=\"\",\"\",Outputs!G9)","v":""},{"$f":"IF(Outputs!H9=\"\",\"\",Outputs!H9)","v":""},{"$f":"IF(Outputs!I9=\"\",\"\",Outputs!I9)","v":""}]
[{"$f":"IF(Outputs!E10<>\"\",Outputs!A10,\"\")","v":""},{"$f":"IF(Outputs!E10<>\"\",Outputs!B10,\"\")","v":""},"","","","","","","",{"$f":"IF(A11=\"\",\"\",Outputs!C10)","v":""},{"$f":"IF(A11=\"\",\"\",Outputs!J10)","v":""},{"$f":"IF(B11=\"\",\"\",Outputs!K10)","v":""},{"$f":"IF(Outputs!E10=\"\",\"\",Outputs!E10)","v":""},{"$f":"IF(Outputs!F10=\"\",\"\",Outputs!F10)","v":""},{"$f":"IF(Outputs!G10=\"\",\"\",Outputs!G10)","v":""},{"$f":"IF(Outputs!H10=\"\",\"\",Outputs!H10)","v":""},{"$f":"IF(Outputs!I10=\"\",\"\",Outputs!I10)","v":""}]
[{"$f":"IF(Outputs!E11<>\"\",Outputs!A11,\"\")","v":""},{"$f":"IF(Outputs!E11<>\"\",Outputs!B11,\"\")","v":""},"","","","","","","",{"$f":"IF(A12=\"\",\"\",Outputs!C11)","v":""},{"$f":"IF(A12=\"\",\"\",Outputs!J11)","v":""},{"$f":"IF(B12=\"\",\"\",Outputs!K11)","v":""},{"$f":"IF(Outputs!E11=\"\",\"\",Outputs!E11)","v":""},{"$f":"IF(Outputs!F11=\"\",\"\",Outputs!F11)","v":""},{"$f":"IF(Outputs!G11=\"\",\"\",Outputs!G11)","v":""},{"$f":"IF(Outputs!H11=\"\",\"\",Outputs!H11)","v":""},{"$f":"IF(Outputs!I11=\"\",\"\",Outputs!I11)","v":""}]
[{"$f":"IF(Outputs!E12<>\"\",Outputs!A12,\"\")","v":""},{"$f":"IF(Outputs!E12<>\"\",Outputs!B12,\"\")","v":""},"","","","","","","",{"$f":"IF(A13=\"\",\"\",Outputs!C12)","v":""},{"$f":"IF(A13=\"\",\"\",Outputs!J12)","v":""},{"$f":"IF(B13=\"\",\"\",Outputs!K12)","v":""},{"$f":"IF(Outputs!E12=\"\",\"\",Outputs!E12)","v":""},{"$f":"IF(Outputs!F12=\"\",\"\",Outputs!F12)","v":""},{"$f":"IF(Outputs!G12=\"\",\"\",Outputs!G12)","v":""},{"$f":"IF(Outputs!H12=\"\",\"\",Outputs!H12)","v":""},{"$f":"IF(Outputs!I12=\"\",\"\",Outputs!I12)","v":""}]
[{"$f":"IF(Outputs!E13<>\"\",Outputs!A13,\"\")","v":""},{"$f":"IF(Outputs!E13<>\"\",Outputs!B13,\"\")","v":""},"","","","","","","",{"$f":"IF(A14=\"\",\"\",Outputs!C13)","v":""},{"$f":"IF(A14=\"\",\"\",Outputs!J13)","v":""},{"$f":"IF(B14=\"\",\"\",Outputs!K13)","v":""},{"$f":"IF(Outputs!E13=\"\",\"\",Outputs!E13)","v":""},{"$f":"IF(Outputs!F13=\"\",\"\",Outputs!F13)","v":""},{"$f":"IF(Outputs!G13=\"\",\"\",Outputs!G13)","v":""},{"$f":"IF(Outputs!H13=\"\",\"\",Outputs!H13)","v":""},{"$f":"IF(Outputs!I13=\"\",\"\",Outputs!I13)","v":""}]
[{"$f":"IF(Outputs!E14<>\"\",Outputs!A14,\"\")","v":""},{"$f":"IF(Outputs!E14<>\"\",Outputs!B14,\"\")","v":""},"","","","","","","",{"$f":"IF(A15=\"\",\"\",Outputs!C14)","v":""},{"$f":"IF(A15=\"\",\"\",Outputs!J14)","v":""},{"$f":"IF(B15=\"\",\"\",Outputs!K14)","v":""},{"$f":"IF(Outputs!E14=\"\",\"\",Outputs!E14)","v":""},{"$f":"IF(Outputs!F14=\"\",\"\",Outputs!F14)","v":""},{"$f":"IF(Outputs!G14=\"\",\"\",Outputs!G14)","v":""},{"$f":"IF(Outputs!H14=\"\",\"\",Outputs!H14)","v":""},{"$f":"IF(Outputs!I14=\"\",\"\",Outputs!I14)","v":""}]
[{"$f":"IF(Outputs!E15<>\"\",Outputs!A15,\"\")","v":""},{"$f":"IF(Outputs!E15<>\"\",Outputs!B15,\"\")","v":""},"","","","","","","",{"$f":"IF(A16=\"\",\"\",Outputs!C15)","v":""},{"$f":"IF(A16=\"\",\"\",Outputs!J15)","v":""},{"$f":"IF(B16=\"\",\"\",Outputs!K15)","v":""},{"$f":"IF(Outputs!E15=\"\",\"\",Outputs!E15)","v":""},{"$f":"IF(Outputs!F15=\"\",\"\",Outputs!F15)","v":""},{"$f":"IF(Outputs!G15=\"\",\"\",Outputs!G15)","v":""},{"$f":"IF(Outputs!H15=\"\",\"\",Outputs!H15)","v":""},{"$f":"IF(Outputs!I15=\"\",\"\",Outputs!I15)","v":""}]
[{"$f":"IF(Outputs!E16<>\"\",Outputs!A16,\"\")","v":""},{"$f":"IF(Outputs!E16<>\"\",Outputs!B16,\"\")","v":""},"","","","","","","",{"$f":"IF(A17=\"\",\"\",Outputs!C16)","v":""},{"$f":"IF(A17=\"\",\"\",Outputs!J16)","v":""},{"$f":"IF(B17=\"\",\"\",Outputs!K16)","v":""},{"$f":"IF(Outputs!E16=\"\",\"\",Outputs!E16)","v":""},{"$f":"IF(Outputs!F16=\"\",\"\",Outputs!F16)","v":""},{"$f":"IF(Outputs!G16=\"\",\"\",Outputs!G16)","v":""},{"$f":"IF(Outputs!H16=\"\",\"\",Outputs!H16)","v":""},{"$f":"IF(Outputs!I16=\"\",\"\",Outputs!I16)","v":""}]
[{"$f":"IF(Outputs!E17<>\"\",Outputs!A17,\"\")","v":""},{"$f":"IF(Outputs!E17<>\"\",Outputs!B17,\"\")","v":""},"","","","","","","",{"$f":"IF(A18=\"\",\"\",Outputs!C17)","v":""},{"$f":"IF(A18=\"\",\"\",Outputs!J17)","v":""},{"$f":"IF(B18=\"\",\"\",Outputs!K17)","v":""},{"$f":"IF(Outputs!E17=\"\",\"\",Outputs!E17)","v":""},{"$f":"IF(Outputs!F17=\"\",\"\",Outputs!F17)","v":""},{"$f":"IF(Outputs!G17=\"\",\"\",Outputs!G17)","v":""},{"$f":"IF(Outputs!H17=\"\",\"\",Outputs!H17)","v":""},{"$f":"IF(Outputs!I17=\"\",\"\",Outputs!I17)","v":""}]
[{"$f":"IF(Outputs!E18<>\"\",Outputs!A18,\"\")","v":""},{"$f":"IF(Outputs!E18<>\"\",Outputs!B18,\"\")","v":""},"","","","","","","",{"$f":"IF(A19=\"\",\"\",Outputs!C18)","v":""},{"$f":"IF(A19=\"\",\"\",Outputs!J18)","v":""},{"$f":"IF(B19=\"\",\"\",Outputs!K18)","v":""},{"$f":"IF(Outputs!E18=\"\",\"\",Outputs!E18)","v":""},{"$f":"IF(Outputs!F18=\"\",\"\",Outputs!F18)","v":""},{"$f":"IF(Outputs!G18=\"\",\"\",Outputs!G18)","v":""},{"$f":"IF(Outputs!H18=\"\",\"\",Outputs!H18)","v":""},{"$f":"IF(Outputs!I18=\"\",\"\",Outputs!I18)","v":""}]
[{"$f":"IF(Outputs!E19<>\"\",Outputs!A19,\"\")","v":""},{"$f":"IF(Outputs!E19<>\"\",Outputs!B19,\"\")","v":""},"","","","","","","",{"$f":"IF(A20=\"\",\"\",Outputs!C19)","v":""},{"$f":"IF(A20=\"\",\"\",Outputs!J19)","v":""},{"$f":"IF(B20=\"\",\"\",Outputs!K19)","v":""},{"$f":"IF(Outputs!E19=\"\",\"\",Outputs!E19)","v":""},{"$f":"IF(Outputs!F19=\"\",\"\",Outputs!F19)","v":""},{"$f":"IF(Outputs!G19=\"\",\"\",Outputs!G19)","v":""},{"$f":"IF(Outputs!H19=\"\",\"\",Outputs!H19)","v":""},{"$f":"IF(Outputs!I19=\"\",\"\",Outputs!I19)","v":""}]
[{"$f":"IF(Outputs!E20<>\"\",Outputs!A20,\"\")","v":""},{"$f":"IF(Outputs!E20<>\"\",Outputs!B20,\"\")","v":""},"","","","","","","",{"$f":"IF(A21=\"\",\"\",Outputs!C20)","v":""},{"$f":"IF(A21=\"\",\"\",Outputs!J20)","v":""},{"$f":"IF(B21=\"\",\"\",Outputs!K20)","v":""},{"$f":"IF(Outputs!E20=\"\",\"\",Outputs!E20)","v":""},{"$f":"IF(Outputs!F20=\"\",\"\",Outputs!F20)","v":""},{"$f":"IF(Outputs!G20=\"\",\"\",Outputs!G20)","v":""},{"$f":"IF(Outputs!H20=\"\",\"\",Outputs!H20)","v":""},{"$f":"IF(Outputs!I20=\"\",\"\",Outputs!I20)","v":""}]
[{"$f":"IF(Outputs!E21<>\"\",Outputs!A21,\"\")","v":""},{"$f":"IF(Outputs!E21<>\"\",Outputs!B21,\"\")","v":""},"","","","","","","",{"$f":"IF(A22=\"\",\"\",Outputs!C21)","v":""},{"$f":"IF(A22=\"\",\"\",Outputs!J21)","v":""},{"$f":"IF(B22=\"\",\"\",Outputs!K21)","v":""},{"$f":"IF(Outputs!E21=\"\",\"\",Outputs!E21)","v":""},{"$f":"IF(Outputs!F21=\"\",\"\",Outputs!F21)","v":""},{"$f":"IF(Outputs!G21=\"\",\"\",Outputs!G21)","v":""},{"$f":"IF(Outputs!H21=\"\",\"\",Outputs!H21)","v":""},{"$f":"IF(Outputs!I21=\"\",\"\",Outputs!I21)","v":""}]
[{"$f":"IF(Outputs!E22<>\"\",Outputs!A22,\"\")","v":""},{"$f":"IF(Outputs!E22<>\"\",Outputs!B22,\"\")","v":""},"","","","","","",{"$f":"IF(H23=\"\",\"\",SQRT(J23/PI())*10)","v":""},{"$f":"IF(A23=\"\",\"\",Outputs!C22)","v":""},{"$f":"IF(A23=\"\",\"\",Outputs!J22)","v":""},{"$f":"IF(B23=\"\",\"\",Outputs!K22)","v":""},{"$f":"IF(Outputs!E22=\"\",\"\",Outputs!E22)","v":""},{"$f":"IF(Outputs!F22=\"\",\"\",Outputs!F22)","v":""},{"$f":"IF(Outputs!G22=\"\",\"\",Outputs!G22)","v":""},{"$f":"IF(Outputs!H22=\"\",\"\",Outputs!H22)","v":""},{"$f":"IF(Outputs!I22=\"\",\"\",Outputs!I22)","v":""}]
[{"$f":"IF(Outputs!E23<>\"\",Outputs!A23,\"\")","v":""},{"$f":"IF(Outputs!E23<>\"\",Outputs!B23,\"\")","v":""},"","","","","","","",{"$f":"IF(A24=\"\",\"\",Outputs!C23)","v":""},{"$f":"IF(A24=\"\",\"\",Outputs!J23)","v":""},{"$f":"IF(B24=\"\",\"\",Outputs!K23)","v":""},{"$f":"IF(Outputs!E23=\"\",\"\",Outputs!E23)","v":""},{"$f":"IF(Outputs!F23=\"\",\"\",Outputs!F23)","v":""},{"$f":"IF(Outputs!G23=\"\",\"\",Outputs!G23)","v":""},{"$f":"IF(Outputs!H23=\"\",\"\",Outputs!H23)","v":""},{"$f":"IF(Outputs!I23=\"\",\"\",Outputs!I23)","v":""}]
[{"$f":"IF(Outputs!E24<>\"\",Outputs!A24,\"\")","v":""},{"$f":"IF(Outputs!E24<>\"\",Outputs!B24,\"\")","v":""},"","","","","","","",{"$f":"IF(A25=\"\",\"\",Outputs!C24)","v":""},{"$f":"IF(A25=\"\",\"\",Outputs!J24)","v":""},{"$f":"IF(B25=\"\",\"\",Outputs!K24)","v":""},{"$f":"IF(Outputs!E24=\"\",\"\",Outputs!E24)","v":""},{"$f":"IF(Outputs!F24=\"\",\"\",Outputs!F24)","v":""},{"$f":"IF(Outputs!G24=\"\",\"\",Outputs!G24)","v":""},{"$f":"IF(Outputs!H24=\"\",\"\",Outputs!H24)","v":""},{"$f":"IF(Outputs!I24=\"\",\"\",Outputs!I24)","v":""}]
[{"$f":"IF(Outputs!E25<>\"\",Outputs!A25,\"\")","v":""},{"$f":"IF(Outputs!E25<>\"\",Outputs!B25,\"\")","v":""},"","","","","","","",{"$f":"IF(A26=\"\",\"\",Outputs!C25)","v":""},{"$f":"IF(A26=\"\",\"\",Outputs!J25)","v":""},{"$f":"IF(B26=\"\",\"\",Outputs!K25)","v":""},{"$f":"IF(Outputs!E25=\"\",\"\",Outputs!E25)","v":""},{"$f":"IF(Outputs!F25=\"\",\"\",Outputs!F25)","v":""},{"$f":"IF(Outputs!G25=\"\",\"\",Outputs!G25)","v":""},{"$f":"IF(Outputs!H25=\"\",\"\",Outputs!H25)","v":""},{"$f":"IF(Outputs!I25=\"\",\"\",Outputs!I25)","v":""}]
[{"$f":"IF(Outputs!E26<>\"\",Outputs!A26,\"\")","v":""},{"$f":"IF(Outputs!E26<>\"\",Outputs!B26,\"\")","v":""},"",{"$f":"IF(C27=\"\",\"\",\"<b>\" & B27 & \"</b><br>\" & \"<b>Population attributed:</b> \" & J27 & \"</br>\" & \"<b> Effective Time:</b>  \" & M27 & \" minutes\" & \"</br>\"& \"<b> Option 1:</b>  \" & N27 & \"</br>\"& \"<b> Option 2:</b>  \" &O27 & \"</br>\"& \"<b> Option 3:</b>  \" & P27 & \"</br>\"& \"<b> Option 4:</b>  \" & Q27)","v":""},{"$f":"IF(D27=\"\",\"\",IF(M27<45,\"http://labs.google.com/ridefinder/images/mm_20_green.png\",\"http://labs.google.com/ridefinder/images/mm_20_red.png\"))","v":""},{"$f":"IF(E27=\"\",\"\",IF(J27>15000,\"big\",IF(J27>10000,\"medium\",\"small\")))","v":""},{"$f":"F27","v":""},{"$f":"IF(G27=\"\",\"\",IF(M27<45,\"#458B00\",\"#D41243\"))","v":""},"",{"$f":"IF(A27=\"\",\"\",Outputs!C26)","v":""},{"$f":"IF(A27=\"\",\"\",Outputs!J26)","v":""},{"$f":"IF(B27=\"\",\"\",Outputs!K26)","v":""},{"$f":"IF(Outputs!E26=\"\",\"\",Outputs!E26)","v":""},{"$f":"IF(Outputs!F26=\"\",\"\",Outputs!F26)","v":""},{"$f":"IF(Outputs!G26=\"\",\"\",Outputs!G26)","v":""},{"$f":"IF(Outputs!H26=\"\",\"\",Outputs!H26)","v":""},{"$f":"IF(Outputs!I26=\"\",\"\",Outputs!I26)","v":""}]
[{"$f":"IF(Outputs!E27<>\"\",Outputs!A27,\"\")","v":""},{"$f":"IF(Outputs!E27<>\"\",Outputs!B27,\"\")","v":""},"","","","","","","",{"$f":"IF(A28=\"\",\"\",Outputs!C27)","v":""},{"$f":"IF(A28=\"\",\"\",Outputs!J27)","v":""},{"$f":"IF(B28=\"\",\"\",Outputs!K27)","v":""},{"$f":"IF(Outputs!E27=\"\",\"\",Outputs!E27)","v":""},{"$f":"IF(Outputs!F27=\"\",\"\",Outputs!F27)","v":""},{"$f":"IF(Outputs!G27=\"\",\"\",Outputs!G27)","v":""},{"$f":"IF(Outputs!H27=\"\",\"\",Outputs!H27)","v":""},{"$f":"IF(Outputs!I27=\"\",\"\",Outputs!I27)","v":""}]
[{"$f":"IF(Outputs!E28<>\"\",Outputs!A28,\"\")","v":""},{"$f":"IF(Outputs!E28<>\"\",Outputs!B28,\"\")","v":""},"","","","","","","",{"$f":"IF(A29=\"\",\"\",Outputs!C28)","v":""},{"$f":"IF(A29=\"\",\"\",Outputs!J28)","v":""},{"$f":"IF(B29=\"\",\"\",Outputs!K28)","v":""},{"$f":"IF(Outputs!E28=\"\",\"\",Outputs!E28)","v":""},{"$f":"IF(Outputs!F28=\"\",\"\",Outputs!F28)","v":""},{"$f":"IF(Outputs!G28=\"\",\"\",Outputs!G28)","v":""},{"$f":"IF(Outputs!H28=\"\",\"\",Outputs!H28)","v":""},{"$f":"IF(Outputs!I28=\"\",\"\",Outputs!I28)","v":""}]
[{"$f":"IF(Outputs!E29<>\"\",Outputs!A29,\"\")","v":""},{"$f":"IF(Outputs!E29<>\"\",Outputs!B29,\"\")","v":""},"","","","","","","",{"$f":"IF(A30=\"\",\"\",Outputs!C29)","v":""},{"$f":"IF(A30=\"\",\"\",Outputs!J29)","v":""},{"$f":"IF(B30=\"\",\"\",Outputs!K29)","v":""},{"$f":"IF(Outputs!E29=\"\",\"\",Outputs!E29)","v":""},{"$f":"IF(Outputs!F29=\"\",\"\",Outputs!F29)","v":""},{"$f":"IF(Outputs!G29=\"\",\"\",Outputs!G29)","v":""},{"$f":"IF(Outputs!H29=\"\",\"\",Outputs!H29)","v":""},{"$f":"IF(Outputs!I29=\"\",\"\",Outputs!I29)","v":""}]
[{"$f":"IF(Outputs!E30<>\"\",Outputs!A30,\"\")","v":""},{"$f":"IF(Outputs!E30<>\"\",Outputs!B30,\"\")","v":""},"","","","","","","",{"$f":"IF(A31=\"\",\"\",Outputs!C30)","v":""},{"$f":"IF(A31=\"\",\"\",Outputs!J30)","v":""},{"$f":"IF(B31=\"\",\"\",Outputs!K30)","v":""},{"$f":"IF(Outputs!E30=\"\",\"\",Outputs!E30)","v":""},{"$f":"IF(Outputs!F30=\"\",\"\",Outputs!F30)","v":""},{"$f":"IF(Outputs!G30=\"\",\"\",Outputs!G30)","v":""},{"$f":"IF(Outputs!H30=\"\",\"\",Outputs!H30)","v":""},{"$f":"IF(Outputs!I30=\"\",\"\",Outputs!I30)","v":""}]
[{"$f":"IF(Outputs!E31<>\"\",Outputs!A31,\"\")","v":""},{"$f":"IF(Outputs!E31<>\"\",Outputs!B31,\"\")","v":""},"","","","","","","",{"$f":"IF(A32=\"\",\"\",Outputs!C31)","v":""},{"$f":"IF(A32=\"\",\"\",Outputs!J31)","v":""},{"$f":"IF(B32=\"\",\"\",Outputs!K31)","v":""},{"$f":"IF(Outputs!E31=\"\",\"\",Outputs!E31)","v":""},{"$f":"IF(Outputs!F31=\"\",\"\",Outputs!F31)","v":""},{"$f":"IF(Outputs!G31=\"\",\"\",Outputs!G31)","v":""},{"$f":"IF(Outputs!H31=\"\",\"\",Outputs!H31)","v":""},{"$f":"IF(Outputs!I31=\"\",\"\",Outputs!I31)","v":""}]
[{"$f":"IF(Outputs!E32<>\"\",Outputs!A32,\"\")","v":""},{"$f":"IF(Outputs!E32<>\"\",Outputs!B32,\"\")","v":""},"","","","","","","",{"$f":"IF(A33=\"\",\"\",Outputs!C32)","v":""},{"$f":"IF(A33=\"\",\"\",Outputs!J32)","v":""},{"$f":"IF(B33=\"\",\"\",Outputs!K32)","v":""},{"$f":"IF(Outputs!E32=\"\",\"\",Outputs!E32)","v":""},{"$f":"IF(Outputs!F32=\"\",\"\",Outputs!F32)","v":""},{"$f":"IF(Outputs!G32=\"\",\"\",Outputs!G32)","v":""},{"$f":"IF(Outputs!H32=\"\",\"\",Outputs!H32)","v":""},{"$f":"IF(Outputs!I32=\"\",\"\",Outputs!I32)","v":""}]
[{"$f":"IF(Outputs!E33<>\"\",Outputs!A33,\"\")","v":""},{"$f":"IF(Outputs!E33<>\"\",Outputs!B33,\"\")","v":""},"","","","","","","",{"$f":"IF(A34=\"\",\"\",Outputs!C33)","v":""},{"$f":"IF(A34=\"\",\"\",Outputs!J33)","v":""},{"$f":"IF(B34=\"\",\"\",Outputs!K33)","v":""},{"$f":"IF(Outputs!E33=\"\",\"\",Outputs!E33)","v":""},{"$f":"IF(Outputs!F33=\"\",\"\",Outputs!F33)","v":""},{"$f":"IF(Outputs!G33=\"\",\"\",Outputs!G33)","v":""},{"$f":"IF(Outputs!H33=\"\",\"\",Outputs!H33)","v":""},{"$f":"IF(Outputs!I33=\"\",\"\",Outputs!I33)","v":""}]
[{"$f":"IF(Outputs!E34<>\"\",Outputs!A34,\"\")","v":""},{"$f":"IF(Outputs!E34<>\"\",Outputs!B34,\"\")","v":""},"","","","","","","",{"$f":"IF(A35=\"\",\"\",Outputs!C34)","v":""},{"$f":"IF(A35=\"\",\"\",Outputs!J34)","v":""},{"$f":"IF(B35=\"\",\"\",Outputs!K34)","v":""},{"$f":"IF(Outputs!E34=\"\",\"\",Outputs!E34)","v":""},{"$f":"IF(Outputs!F34=\"\",\"\",Outputs!F34)","v":""},{"$f":"IF(Outputs!G34=\"\",\"\",Outputs!G34)","v":""},{"$f":"IF(Outputs!H34=\"\",\"\",Outputs!H34)","v":""},{"$f":"IF(Outputs!I34=\"\",\"\",Outputs!I34)","v":""}]
[{"$f":"IF(Outputs!E35<>\"\",Outputs!A35,\"\")","v":""},{"$f":"IF(Outputs!E35<>\"\",Outputs!B35,\"\")","v":""},"","","","","","","",{"$f":"IF(A36=\"\",\"\",Outputs!C35)","v":""},{"$f":"IF(A36=\"\",\"\",Outputs!J35)","v":""},{"$f":"IF(B36=\"\",\"\",Outputs!K35)","v":""},{"$f":"IF(Outputs!E35=\"\",\"\",Outputs!E35)","v":""},{"$f":"IF(Outputs!F35=\"\",\"\",Outputs!F35)","v":""},{"$f":"IF(Outputs!G35=\"\",\"\",Outputs!G35)","v":""},{"$f":"IF(Outputs!H35=\"\",\"\",Outputs!H35)","v":""},{"$f":"IF(Outputs!I35=\"\",\"\",Outputs!I35)","v":""}]
[{"$f":"IF(Outputs!E36<>\"\",Outputs!A36,\"\")","v":""},{"$f":"IF(Outputs!E36<>\"\",Outputs!B36,\"\")","v":""},"","","","","","","",{"$f":"IF(A37=\"\",\"\",Outputs!C36)","v":""},{"$f":"IF(A37=\"\",\"\",Outputs!J36)","v":""},{"$f":"IF(B37=\"\",\"\",Outputs!K36)","v":""},{"$f":"IF(Outputs!E36=\"\",\"\",Outputs!E36)","v":""},{"$f":"IF(Outputs!F36=\"\",\"\",Outputs!F36)","v":""},{"$f":"IF(Outputs!G36=\"\",\"\",Outputs!G36)","v":""},{"$f":"IF(Outputs!H36=\"\",\"\",Outputs!H36)","v":""},{"$f":"IF(Outputs!I36=\"\",\"\",Outputs!I36)","v":""}]
[{"$f":"IF(Outputs!E37<>\"\",Outputs!A37,\"\")","v":""},{"$f":"IF(Outputs!E37<>\"\",Outputs!B37,\"\")","v":""},"","","","","","","",{"$f":"IF(A38=\"\",\"\",Outputs!C37)","v":""},{"$f":"IF(A38=\"\",\"\",Outputs!J37)","v":""},{"$f":"IF(B38=\"\",\"\",Outputs!K37)","v":""},{"$f":"IF(Outputs!E37=\"\",\"\",Outputs!E37)","v":""},{"$f":"IF(Outputs!F37=\"\",\"\",Outputs!F37)","v":""},{"$f":"IF(Outputs!G37=\"\",\"\",Outputs!G37)","v":""},{"$f":"IF(Outputs!H37=\"\",\"\",Outputs!H37)","v":""},{"$f":"IF(Outputs!I37=\"\",\"\",Outputs!I37)","v":""}]
[{"$f":"IF(Outputs!E38<>\"\",Outputs!A38,\"\")","v":""},{"$f":"IF(Outputs!E38<>\"\",Outputs!B38,\"\")","v":""},"","","","","","","",{"$f":"IF(A39=\"\",\"\",Outputs!C38)","v":""},{"$f":"IF(A39=\"\",\"\",Outputs!J38)","v":""},{"$f":"IF(B39=\"\",\"\",Outputs!K38)","v":""},{"$f":"IF(Outputs!E38=\"\",\"\",Outputs!E38)","v":""},{"$f":"IF(Outputs!F38=\"\",\"\",Outputs!F38)","v":""},{"$f":"IF(Outputs!G38=\"\",\"\",Outputs!G38)","v":""},{"$f":"IF(Outputs!H38=\"\",\"\",Outputs!H38)","v":""},{"$f":"IF(Outputs!I38=\"\",\"\",Outputs!I38)","v":""}]
[{"$f":"IF(Outputs!E39<>\"\",Outputs!A39,\"\")","v":""},{"$f":"IF(Outputs!E39<>\"\",Outputs!B39,\"\")","v":""},"","","","","","","",{"$f":"IF(A40=\"\",\"\",Outputs!C39)","v":""},{"$f":"IF(A40=\"\",\"\",Outputs!J39)","v":""},{"$f":"IF(B40=\"\",\"\",Outputs!K39)","v":""},{"$f":"IF(Outputs!E39=\"\",\"\",Outputs!E39)","v":""},{"$f":"IF(Outputs!F39=\"\",\"\",Outputs!F39)","v":""},{"$f":"IF(Outputs!G39=\"\",\"\",Outputs!G39)","v":""},{"$f":"IF(Outputs!H39=\"\",\"\",Outputs!H39)","v":""},{"$f":"IF(Outputs!I39=\"\",\"\",Outputs!I39)","v":""}]
[{"$f":"IF(Outputs!E40<>\"\",Outputs!A40,\"\")","v":""},{"$f":"IF(Outputs!E40<>\"\",Outputs!B40,\"\")","v":""},"","","","","","","",{"$f":"IF(A41=\"\",\"\",Outputs!C40)","v":""},{"$f":"IF(A41=\"\",\"\",Outputs!J40)","v":""},{"$f":"IF(B41=\"\",\"\",Outputs!K40)","v":""},{"$f":"IF(Outputs!E40=\"\",\"\",Outputs!E40)","v":""},{"$f":"IF(Outputs!F40=\"\",\"\",Outputs!F40)","v":""},{"$f":"IF(Outputs!G40=\"\",\"\",Outputs!G40)","v":""},{"$f":"IF(Outputs!H40=\"\",\"\",Outputs!H40)","v":""},{"$f":"IF(Outputs!I40=\"\",\"\",Outputs!I40)","v":""}]
[{"$f":"IF(Outputs!E41<>\"\",Outputs!A41,\"\")","v":""},{"$f":"IF(Outputs!E41<>\"\",Outputs!B41,\"\")","v":""},"","","","","","","",{"$f":"IF(A42=\"\",\"\",Outputs!C41)","v":""},{"$f":"IF(A42=\"\",\"\",Outputs!J41)","v":""},{"$f":"IF(B42=\"\",\"\",Outputs!K41)","v":""},{"$f":"IF(Outputs!E41=\"\",\"\",Outputs!E41)","v":""},{"$f":"IF(Outputs!F41=\"\",\"\",Outputs!F41)","v":""},{"$f":"IF(Outputs!G41=\"\",\"\",Outputs!G41)","v":""},{"$f":"IF(Outputs!H41=\"\",\"\",Outputs!H41)","v":""},{"$f":"IF(Outputs!I41=\"\",\"\",Outputs!I41)","v":""}]
[{"$f":"IF(Outputs!E42<>\"\",Outputs!A42,\"\")","v":""},{"$f":"IF(Outputs!E42<>\"\",Outputs!B42,\"\")","v":""},"","","","","","","",{"$f":"IF(A43=\"\",\"\",Outputs!C42)","v":""},{"$f":"IF(A43=\"\",\"\",Outputs!J42)","v":""},{"$f":"IF(B43=\"\",\"\",Outputs!K42)","v":""},{"$f":"IF(Outputs!E42=\"\",\"\",Outputs!E42)","v":""},{"$f":"IF(Outputs!F42=\"\",\"\",Outputs!F42)","v":""},{"$f":"IF(Outputs!G42=\"\",\"\",Outputs!G42)","v":""},{"$f":"IF(Outputs!H42=\"\",\"\",Outputs!H42)","v":""},{"$f":"IF(Outputs!I42=\"\",\"\",Outputs!I42)","v":""}]
[{"$f":"IF(Outputs!E43<>\"\",Outputs!A43,\"\")","v":""},{"$f":"IF(Outputs!E43<>\"\",Outputs!B43,\"\")","v":""},"","","","","","","",{"$f":"IF(A44=\"\",\"\",Outputs!C43)","v":""},{"$f":"IF(A44=\"\",\"\",Outputs!J43)","v":""},{"$f":"IF(B44=\"\",\"\",Outputs!K43)","v":""},{"$f":"IF(Outputs!E43=\"\",\"\",Outputs!E43)","v":""},{"$f":"IF(Outputs!F43=\"\",\"\",Outputs!F43)","v":""},{"$f":"IF(Outputs!G43=\"\",\"\",Outputs!G43)","v":""},{"$f":"IF(Outputs!H43=\"\",\"\",Outputs!H43)","v":""},{"$f":"IF(Outputs!I43=\"\",\"\",Outputs!I43)","v":""}]
[{"$f":"IF(Outputs!E44<>\"\",Outputs!A44,\"\")","v":""},{"$f":"IF(Outputs!E44<>\"\",Outputs!B44,\"\")","v":""},"","","","","","","",{"$f":"IF(A45=\"\",\"\",Outputs!C44)","v":""},{"$f":"IF(A45=\"\",\"\",Outputs!J44)","v":""},{"$f":"IF(B45=\"\",\"\",Outputs!K44)","v":""},{"$f":"IF(Outputs!E44=\"\",\"\",Outputs!E44)","v":""},{"$f":"IF(Outputs!F44=\"\",\"\",Outputs!F44)","v":""},{"$f":"IF(Outputs!G44=\"\",\"\",Outputs!G44)","v":""},{"$f":"IF(Outputs!H44=\"\",\"\",Outputs!H44)","v":""},{"$f":"IF(Outputs!I44=\"\",\"\",Outputs!I44)","v":""}]
[{"$f":"IF(Outputs!E45<>\"\",Outputs!A45,\"\")","v":""},{"$f":"IF(Outputs!E45<>\"\",Outputs!B45,\"\")","v":""},"","","","","","","",{"$f":"IF(A46=\"\",\"\",Outputs!C45)","v":""},{"$f":"IF(A46=\"\",\"\",Outputs!J45)","v":""},{"$f":"IF(B46=\"\",\"\",Outputs!K45)","v":""},{"$f":"IF(Outputs!E45=\"\",\"\",Outputs!E45)","v":""},{"$f":"IF(Outputs!F45=\"\",\"\",Outputs!F45)","v":""},{"$f":"IF(Outputs!G45=\"\",\"\",Outputs!G45)","v":""},{"$f":"IF(Outputs!H45=\"\",\"\",Outputs!H45)","v":""},{"$f":"IF(Outputs!I45=\"\",\"\",Outputs!I45)","v":""}]
[{"$f":"IF(Outputs!E46<>\"\",Outputs!A46,\"\")","v":""},{"$f":"IF(Outputs!E46<>\"\",Outputs!B46,\"\")","v":""},"","","","","","","",{"$f":"IF(A47=\"\",\"\",Outputs!C46)","v":""},{"$f":"IF(A47=\"\",\"\",Outputs!J46)","v":""},{"$f":"IF(B47=\"\",\"\",Outputs!K46)","v":""},{"$f":"IF(Outputs!E46=\"\",\"\",Outputs!E46)","v":""},{"$f":"IF(Outputs!F46=\"\",\"\",Outputs!F46)","v":""},{"$f":"IF(Outputs!G46=\"\",\"\",Outputs!G46)","v":""},{"$f":"IF(Outputs!H46=\"\",\"\",Outputs!H46)","v":""},{"$f":"IF(Outputs!I46=\"\",\"\",Outputs!I46)","v":""}]
[{"$f":"IF(Outputs!E47<>\"\",Outputs!A47,\"\")","v":""},{"$f":"IF(Outputs!E47<>\"\",Outputs!B47,\"\")","v":""},"","","","","","","",{"$f":"IF(A48=\"\",\"\",Outputs!C47)","v":""},{"$f":"IF(A48=\"\",\"\",Outputs!J47)","v":""},{"$f":"IF(B48=\"\",\"\",Outputs!K47)","v":""},{"$f":"IF(Outputs!E47=\"\",\"\",Outputs!E47)","v":""},{"$f":"IF(Outputs!F47=\"\",\"\",Outputs!F47)","v":""},{"$f":"IF(Outputs!G47=\"\",\"\",Outputs!G47)","v":""},{"$f":"IF(Outputs!H47=\"\",\"\",Outputs!H47)","v":""},{"$f":"IF(Outputs!I47=\"\",\"\",Outputs!I47)","v":""}]
[{"$f":"IF(Outputs!E48<>\"\",Outputs!A48,\"\")","v":""},{"$f":"IF(Outputs!E48<>\"\",Outputs!B48,\"\")","v":""},"","","","","","","",{"$f":"IF(A49=\"\",\"\",Outputs!C48)","v":""},{"$f":"IF(A49=\"\",\"\",Outputs!J48)","v":""},{"$f":"IF(B49=\"\",\"\",Outputs!K48)","v":""},{"$f":"IF(Outputs!E48=\"\",\"\",Outputs!E48)","v":""},{"$f":"IF(Outputs!F48=\"\",\"\",Outputs!F48)","v":""},{"$f":"IF(Outputs!G48=\"\",\"\",Outputs!G48)","v":""},{"$f":"IF(Outputs!H48=\"\",\"\",Outputs!H48)","v":""},{"$f":"IF(Outputs!I48=\"\",\"\",Outputs!I48)","v":""}]
[{"$f":"IF(Outputs!E49<>\"\",Outputs!A49,\"\")","v":""},{"$f":"IF(Outputs!E49<>\"\",Outputs!B49,\"\")","v":""},"","","","","","","",{"$f":"IF(A50=\"\",\"\",Outputs!C49)","v":""},{"$f":"IF(A50=\"\",\"\",Outputs!J49)","v":""},{"$f":"IF(B50=\"\",\"\",Outputs!K49)","v":""},{"$f":"IF(Outputs!E49=\"\",\"\",Outputs!E49)","v":""},{"$f":"IF(Outputs!F49=\"\",\"\",Outputs!F49)","v":""},{"$f":"IF(Outputs!G49=\"\",\"\",Outputs!G49)","v":""},{"$f":"IF(Outputs!H49=\"\",\"\",Outputs!H49)","v":""},{"$f":"IF(Outputs!I49=\"\",\"\",Outputs!I49)","v":""}]
[{"$f":"IF(Outputs!E50<>\"\",Outputs!A50,\"\")","v":""},{"$f":"IF(Outputs!E50<>\"\",Outputs!B50,\"\")","v":""},"","","","","","","",{"$f":"IF(A51=\"\",\"\",Outputs!C50)","v":""},{"$f":"IF(A51=\"\",\"\",Outputs!J50)","v":""},{"$f":"IF(B51=\"\",\"\",Outputs!K50)","v":""},{"$f":"IF(Outputs!E50=\"\",\"\",Outputs!E50)","v":""},{"$f":"IF(Outputs!F50=\"\",\"\",Outputs!F50)","v":""},{"$f":"IF(Outputs!G50=\"\",\"\",Outputs!G50)","v":""},{"$f":"IF(Outputs!H50=\"\",\"\",Outputs!H50)","v":""},{"$f":"IF(Outputs!I50=\"\",\"\",Outputs!I50)","v":""}]
[{"$f":"IF(Outputs!E51<>\"\",Outputs!A51,\"\")","v":""},{"$f":"IF(Outputs!E51<>\"\",Outputs!B51,\"\")","v":""},"","","","","","","",{"$f":"IF(A52=\"\",\"\",Outputs!C51)","v":""},{"$f":"IF(A52=\"\",\"\",Outputs!J51)","v":""},{"$f":"IF(B52=\"\",\"\",Outputs!K51)","v":""},{"$f":"IF(Outputs!E51=\"\",\"\",Outputs!E51)","v":""},{"$f":"IF(Outputs!F51=\"\",\"\",Outputs!F51)","v":""},{"$f":"IF(Outputs!G51=\"\",\"\",Outputs!G51)","v":""},{"$f":"IF(Outputs!H51=\"\",\"\",Outputs!H51)","v":""},{"$f":"IF(Outputs!I51=\"\",\"\",Outputs!I51)","v":""}]
[{"$f":"IF(Outputs!E52<>\"\",Outputs!A52,\"\")","v":""},{"$f":"IF(Outputs!E52<>\"\",Outputs!B52,\"\")","v":""},"","","","","","","",{"$f":"IF(A53=\"\",\"\",Outputs!C52)","v":""},{"$f":"IF(A53=\"\",\"\",Outputs!J52)","v":""},{"$f":"IF(B53=\"\",\"\",Outputs!K52)","v":""},{"$f":"IF(Outputs!E52=\"\",\"\",Outputs!E52)","v":""},{"$f":"IF(Outputs!F52=\"\",\"\",Outputs!F52)","v":""},{"$f":"IF(Outputs!G52=\"\",\"\",Outputs!G52)","v":""},{"$f":"IF(Outputs!H52=\"\",\"\",Outputs!H52)","v":""},{"$f":"IF(Outputs!I52=\"\",\"\",Outputs!I52)","v":""}]
[{"$f":"IF(Outputs!E53<>\"\",Outputs!A53,\"\")","v":""},{"$f":"IF(Outputs!E53<>\"\",Outputs!B53,\"\")","v":""},"","","","","","","",{"$f":"IF(A54=\"\",\"\",Outputs!C53)","v":""},{"$f":"IF(A54=\"\",\"\",Outputs!J53)","v":""},{"$f":"IF(B54=\"\",\"\",Outputs!K53)","v":""},{"$f":"IF(Outputs!E53=\"\",\"\",Outputs!E53)","v":""},{"$f":"IF(Outputs!F53=\"\",\"\",Outputs!F53)","v":""},{"$f":"IF(Outputs!G53=\"\",\"\",Outputs!G53)","v":""},{"$f":"IF(Outputs!H53=\"\",\"\",Outputs!H53)","v":""},{"$f":"IF(Outputs!I53=\"\",\"\",Outputs!I53)","v":""}]
[{"$f":"IF(Outputs!E54<>\"\",Outputs!A54,\"\")","v":""},{"$f":"IF(Outputs!E54<>\"\",Outputs!B54,\"\")","v":""},"","","","","","","",{"$f":"IF(A55=\"\",\"\",Outputs!C54)","v":""},{"$f":"IF(A55=\"\",\"\",Outputs!J54)","v":""},{"$f":"IF(B55=\"\",\"\",Outputs!K54)","v":""},{"$f":"IF(Outputs!E54=\"\",\"\",Outputs!E54)","v":""},{"$f":"IF(Outputs!F54=\"\",\"\",Outputs!F54)","v":""},{"$f":"IF(Outputs!G54=\"\",\"\",Outputs!G54)","v":""},{"$f":"IF(Outputs!H54=\"\",\"\",Outputs!H54)","v":""},{"$f":"IF(Outputs!I54=\"\",\"\",Outputs!I54)","v":""}]
[{"$f":"IF(Outputs!E55<>\"\",Outputs!A55,\"\")","v":""},{"$f":"IF(Outputs!E55<>\"\",Outputs!B55,\"\")","v":""},"","","","","","","",{"$f":"IF(A56=\"\",\"\",Outputs!C55)","v":""},{"$f":"IF(A56=\"\",\"\",Outputs!J55)","v":""},{"$f":"IF(B56=\"\",\"\",Outputs!K55)","v":""},{"$f":"IF(Outputs!E55=\"\",\"\",Outputs!E55)","v":""},{"$f":"IF(Outputs!F55=\"\",\"\",Outputs!F55)","v":""},{"$f":"IF(Outputs!G55=\"\",\"\",Outputs!G55)","v":""},{"$f":"IF(Outputs!H55=\"\",\"\",Outputs!H55)","v":""},{"$f":"IF(Outputs!I55=\"\",\"\",Outputs!I55)","v":""}]
[{"$f":"IF(Outputs!E56<>\"\",Outputs!A56,\"\")","v":""},{"$f":"IF(Outputs!E56<>\"\",Outputs!B56,\"\")","v":""},"","","","","","","",{"$f":"IF(A57=\"\",\"\",Outputs!C56)","v":""},{"$f":"IF(A57=\"\",\"\",Outputs!J56)","v":""},{"$f":"IF(B57=\"\",\"\",Outputs!K56)","v":""},{"$f":"IF(Outputs!E56=\"\",\"\",Outputs!E56)","v":""},{"$f":"IF(Outputs!F56=\"\",\"\",Outputs!F56)","v":""},{"$f":"IF(Outputs!G56=\"\",\"\",Outputs!G56)","v":""},{"$f":"IF(Outputs!H56=\"\",\"\",Outputs!H56)","v":""},{"$f":"IF(Outputs!I56=\"\",\"\",Outputs!I56)","v":""}]
[{"$f":"IF(Outputs!E57<>\"\",Outputs!A57,\"\")","v":""},{"$f":"IF(Outputs!E57<>\"\",Outputs!B57,\"\")","v":""},"","","","","","","",{"$f":"IF(A58=\"\",\"\",Outputs!C57)","v":""},{"$f":"IF(A58=\"\",\"\",Outputs!J57)","v":""},{"$f":"IF(B58=\"\",\"\",Outputs!K57)","v":""},{"$f":"IF(Outputs!E57=\"\",\"\",Outputs!E57)","v":""},{"$f":"IF(Outputs!F57=\"\",\"\",Outputs!F57)","v":""},{"$f":"IF(Outputs!G57=\"\",\"\",Outputs!G57)","v":""},{"$f":"IF(Outputs!H57=\"\",\"\",Outputs!H57)","v":""},{"$f":"IF(Outputs!I57=\"\",\"\",Outputs!I57)","v":""}]
[{"$f":"IF(Outputs!E58<>\"\",Outputs!A58,\"\")","v":""},{"$f":"IF(Outputs!E58<>\"\",Outputs!B58,\"\")","v":""},"","","","","","","",{"$f":"IF(A59=\"\",\"\",Outputs!C58)","v":""},{"$f":"IF(A59=\"\",\"\",Outputs!J58)","v":""},{"$f":"IF(B59=\"\",\"\",Outputs!K58)","v":""},{"$f":"IF(Outputs!E58=\"\",\"\",Outputs!E58)","v":""},{"$f":"IF(Outputs!F58=\"\",\"\",Outputs!F58)","v":""},{"$f":"IF(Outputs!G58=\"\",\"\",Outputs!G58)","v":""},{"$f":"IF(Outputs!H58=\"\",\"\",Outputs!H58)","v":""},{"$f":"IF(Outputs!I58=\"\",\"\",Outputs!I58)","v":""}]
[{"$f":"IF(Outputs!E59<>\"\",Outputs!A59,\"\")","v":""},{"$f":"IF(Outputs!E59<>\"\",Outputs!B59,\"\")","v":""},"","","","","","","",{"$f":"IF(A60=\"\",\"\",Outputs!C59)","v":""},{"$f":"IF(A60=\"\",\"\",Outputs!J59)","v":""},{"$f":"IF(B60=\"\",\"\",Outputs!K59)","v":""},{"$f":"IF(Outputs!E59=\"\",\"\",Outputs!E59)","v":""},{"$f":"IF(Outputs!F59=\"\",\"\",Outputs!F59)","v":""},{"$f":"IF(Outputs!G59=\"\",\"\",Outputs!G59)","v":""},{"$f":"IF(Outputs!H59=\"\",\"\",Outputs!H59)","v":""},{"$f":"IF(Outputs!I59=\"\",\"\",Outputs!I59)","v":""}]
[{"$f":"IF(Outputs!E60<>\"\",Outputs!A60,\"\")","v":""},{"$f":"IF(Outputs!E60<>\"\",Outputs!B60,\"\")","v":""},"","","","","","","",{"$f":"IF(A61=\"\",\"\",Outputs!C60)","v":""},{"$f":"IF(A61=\"\",\"\",Outputs!J60)","v":""},{"$f":"IF(B61=\"\",\"\",Outputs!K60)","v":""},{"$f":"IF(Outputs!E60=\"\",\"\",Outputs!E60)","v":""},{"$f":"IF(Outputs!F60=\"\",\"\",Outputs!F60)","v":""},{"$f":"IF(Outputs!G60=\"\",\"\",Outputs!G60)","v":""},{"$f":"IF(Outputs!H60=\"\",\"\",Outputs!H60)","v":""},{"$f":"IF(Outputs!I60=\"\",\"\",Outputs!I60)","v":""}]
[{"$f":"IF(Outputs!E61<>\"\",Outputs!A61,\"\")","v":""},{"$f":"IF(Outputs!E61<>\"\",Outputs!B61,\"\")","v":""},"","","","","","","",{"$f":"IF(A62=\"\",\"\",Outputs!C61)","v":""},{"$f":"IF(A62=\"\",\"\",Outputs!J61)","v":""},{"$f":"IF(B62=\"\",\"\",Outputs!K61)","v":""},{"$f":"IF(Outputs!E61=\"\",\"\",Outputs!E61)","v":""},{"$f":"IF(Outputs!F61=\"\",\"\",Outputs!F61)","v":""},{"$f":"IF(Outputs!G61=\"\",\"\",Outputs!G61)","v":""},{"$f":"IF(Outputs!H61=\"\",\"\",Outputs!H61)","v":""},{"$f":"IF(Outputs!I61=\"\",\"\",Outputs!I61)","v":""}]
[{"$f":"IF(Outputs!E62<>\"\",Outputs!A62,\"\")","v":""},{"$f":"IF(Outputs!E62<>\"\",Outputs!B62,\"\")","v":""},"","","","","","","",{"$f":"IF(A63=\"\",\"\",Outputs!C62)","v":""},{"$f":"IF(A63=\"\",\"\",Outputs!J62)","v":""},{"$f":"IF(B63=\"\",\"\",Outputs!K62)","v":""},{"$f":"IF(Outputs!E62=\"\",\"\",Outputs!E62)","v":""},{"$f":"IF(Outputs!F62=\"\",\"\",Outputs!F62)","v":""},{"$f":"IF(Outputs!G62=\"\",\"\",Outputs!G62)","v":""},{"$f":"IF(Outputs!H62=\"\",\"\",Outputs!H62)","v":""},{"$f":"IF(Outputs!I62=\"\",\"\",Outputs!I62)","v":""}]
[{"$f":"IF(Outputs!E63<>\"\",Outputs!A63,\"\")","v":""},{"$f":"IF(Outputs!E63<>\"\",Outputs!B63,\"\")","v":""},"","","","","","","",{"$f":"IF(A64=\"\",\"\",Outputs!C63)","v":""},{"$f":"IF(A64=\"\",\"\",Outputs!J63)","v":""},{"$f":"IF(B64=\"\",\"\",Outputs!K63)","v":""},{"$f":"IF(Outputs!E63=\"\",\"\",Outputs!E63)","v":""},{"$f":"IF(Outputs!F63=\"\",\"\",Outputs!F63)","v":""},{"$f":"IF(Outputs!G63=\"\",\"\",Outputs!G63)","v":""},{"$f":"IF(Outputs!H63=\"\",\"\",Outputs!H63)","v":""},{"$f":"IF(Outputs!I63=\"\",\"\",Outputs!I63)","v":""}]
[{"$f":"IF(Outputs!E64<>\"\",Outputs!A64,\"\")","v":""},{"$f":"IF(Outputs!E64<>\"\",Outputs!B64,\"\")","v":""},"","","","","","","",{"$f":"IF(A65=\"\",\"\",Outputs!C64)","v":""},{"$f":"IF(A65=\"\",\"\",Outputs!J64)","v":""},{"$f":"IF(B65=\"\",\"\",Outputs!K64)","v":""},{"$f":"IF(Outputs!E64=\"\",\"\",Outputs!E64)","v":""},{"$f":"IF(Outputs!F64=\"\",\"\",Outputs!F64)","v":""},{"$f":"IF(Outputs!G64=\"\",\"\",Outputs!G64)","v":""},{"$f":"IF(Outputs!H64=\"\",\"\",Outputs!H64)","v":""},{"$f":"IF(Outputs!I64=\"\",\"\",Outputs!I64)","v":""}]
[{"$f":"IF(Outputs!E65<>\"\",Outputs!A65,\"\")","v":""},{"$f":"IF(Outputs!E65<>\"\",Outputs!B65,\"\")","v":""},"","","","","","","",{"$f":"IF(A66=\"\",\"\",Outputs!C65)","v":""},{"$f":"IF(A66=\"\",\"\",Outputs!J65)","v":""},{"$f":"IF(B66=\"\",\"\",Outputs!K65)","v":""},{"$f":"IF(Outputs!E65=\"\",\"\",Outputs!E65)","v":""},{"$f":"IF(Outputs!F65=\"\",\"\",Outputs!F65)","v":""},{"$f":"IF(Outputs!G65=\"\",\"\",Outputs!G65)","v":""},{"$f":"IF(Outputs!H65=\"\",\"\",Outputs!H65)","v":""},{"$f":"IF(Outputs!I65=\"\",\"\",Outputs!I65)","v":""}]
[{"$f":"IF(Outputs!E66<>\"\",Outputs!A66,\"\")","v":""},{"$f":"IF(Outputs!E66<>\"\",Outputs!B66,\"\")","v":""},"","","","","","","",{"$f":"IF(A67=\"\",\"\",Outputs!C66)","v":""},{"$f":"IF(A67=\"\",\"\",Outputs!J66)","v":""},{"$f":"IF(B67=\"\",\"\",Outputs!K66)","v":""},{"$f":"IF(Outputs!E66=\"\",\"\",Outputs!E66)","v":""},{"$f":"IF(Outputs!F66=\"\",\"\",Outputs!F66)","v":""},{"$f":"IF(Outputs!G66=\"\",\"\",Outputs!G66)","v":""},{"$f":"IF(Outputs!H66=\"\",\"\",Outputs!H66)","v":""},{"$f":"IF(Outputs!I66=\"\",\"\",Outputs!I66)","v":""}]
[{"$f":"IF(Outputs!E67<>\"\",Outputs!A67,\"\")","v":""},{"$f":"IF(Outputs!E67<>\"\",Outputs!B67,\"\")","v":""},{"$f":"B68","v":""},"","","","","",{"$f":"IF(H68=\"\",\"\",SQRT(J68/PI())*10)","v":""},{"$f":"IF(A68=\"\",\"\",Outputs!C67)","v":""},{"$f":"IF(A68=\"\",\"\",Outputs!J67)","v":""},{"$f":"IF(B68=\"\",\"\",Outputs!K67)","v":""},{"$f":"IF(Outputs!E67=\"\",\"\",Outputs!E67)","v":""},{"$f":"IF(Outputs!F67=\"\",\"\",Outputs!F67)","v":""},{"$f":"IF(Outputs!G67=\"\",\"\",Outputs!G67)","v":""},{"$f":"IF(Outputs!H67=\"\",\"\",Outputs!H67)","v":""},{"$f":"IF(Outputs!I67=\"\",\"\",Outputs!I67)","v":""}]
[{"$f":"IF(Outputs!E68<>\"\",Outputs!A68,\"\")","v":""},{"$f":"IF(Outputs!E68<>\"\",Outputs!B68,\"\")","v":""},"","","","","","","",{"$f":"IF(A69=\"\",\"\",Outputs!C68)","v":""},{"$f":"IF(A69=\"\",\"\",Outputs!J68)","v":""},{"$f":"IF(B69=\"\",\"\",Outputs!K68)","v":""},{"$f":"IF(Outputs!E68=\"\",\"\",Outputs!E68)","v":""},{"$f":"IF(Outputs!F68=\"\",\"\",Outputs!F68)","v":""},{"$f":"IF(Outputs!G68=\"\",\"\",Outputs!G68)","v":""},{"$f":"IF(Outputs!H68=\"\",\"\",Outputs!H68)","v":""},{"$f":"IF(Outputs!I68=\"\",\"\",Outputs!I68)","v":""}]
[{"$f":"IF(Outputs!E69<>\"\",Outputs!A69,\"\")","v":""},{"$f":"IF(Outputs!E69<>\"\",Outputs!B69,\"\")","v":""},"","","","","","","",{"$f":"IF(A70=\"\",\"\",Outputs!C69)","v":""},{"$f":"IF(A70=\"\",\"\",Outputs!J69)","v":""},{"$f":"IF(B70=\"\",\"\",Outputs!K69)","v":""},{"$f":"IF(Outputs!E69=\"\",\"\",Outputs!E69)","v":""},{"$f":"IF(Outputs!F69=\"\",\"\",Outputs!F69)","v":""},{"$f":"IF(Outputs!G69=\"\",\"\",Outputs!G69)","v":""},{"$f":"IF(Outputs!H69=\"\",\"\",Outputs!H69)","v":""},{"$f":"IF(Outputs!I69=\"\",\"\",Outputs!I69)","v":""}]
[{"$f":"IF(Outputs!E70<>\"\",Outputs!A70,\"\")","v":""},{"$f":"IF(Outputs!E70<>\"\",Outputs!B70,\"\")","v":""},"","","","","","","",{"$f":"IF(A71=\"\",\"\",Outputs!C70)","v":""},{"$f":"IF(A71=\"\",\"\",Outputs!J70)","v":""},{"$f":"IF(B71=\"\",\"\",Outputs!K70)","v":""},{"$f":"IF(Outputs!E70=\"\",\"\",Outputs!E70)","v":""},{"$f":"IF(Outputs!F70=\"\",\"\",Outputs!F70)","v":""},{"$f":"IF(Outputs!G70=\"\",\"\",Outputs!G70)","v":""},{"$f":"IF(Outputs!H70=\"\",\"\",Outputs!H70)","v":""},{"$f":"IF(Outputs!I70=\"\",\"\",Outputs!I70)","v":""}]
[{"$f":"IF(Outputs!E71<>\"\",Outputs!A71,\"\")","v":""},{"$f":"IF(Outputs!E71<>\"\",Outputs!B71,\"\")","v":""},"","","","","","","",{"$f":"IF(A72=\"\",\"\",Outputs!C71)","v":""},{"$f":"IF(A72=\"\",\"\",Outputs!J71)","v":""},{"$f":"IF(B72=\"\",\"\",Outputs!K71)","v":""},{"$f":"IF(Outputs!E71=\"\",\"\",Outputs!E71)","v":""},{"$f":"IF(Outputs!F71=\"\",\"\",Outputs!F71)","v":""},{"$f":"IF(Outputs!G71=\"\",\"\",Outputs!G71)","v":""},{"$f":"IF(Outputs!H71=\"\",\"\",Outputs!H71)","v":""},{"$f":"IF(Outputs!I71=\"\",\"\",Outputs!I71)","v":""}]
[{"$f":"IF(Outputs!E72<>\"\",Outputs!A72,\"\")","v":""},{"$f":"IF(Outputs!E72<>\"\",Outputs!B72,\"\")","v":""},"","","","","","","",{"$f":"IF(A73=\"\",\"\",Outputs!C72)","v":""},{"$f":"IF(A73=\"\",\"\",Outputs!J72)","v":""},{"$f":"IF(B73=\"\",\"\",Outputs!K72)","v":""},{"$f":"IF(Outputs!E72=\"\",\"\",Outputs!E72)","v":""},{"$f":"IF(Outputs!F72=\"\",\"\",Outputs!F72)","v":""},{"$f":"IF(Outputs!G72=\"\",\"\",Outputs!G72)","v":""},{"$f":"IF(Outputs!H72=\"\",\"\",Outputs!H72)","v":""},{"$f":"IF(Outputs!I72=\"\",\"\",Outputs!I72)","v":""}]
[{"$f":"IF(Outputs!E73<>\"\",Outputs!A73,\"\")","v":""},{"$f":"IF(Outputs!E73<>\"\",Outputs!B73,\"\")","v":""},"","","","","","","",{"$f":"IF(A74=\"\",\"\",Outputs!C73)","v":""},{"$f":"IF(A74=\"\",\"\",Outputs!J73)","v":""},{"$f":"IF(B74=\"\",\"\",Outputs!K73)","v":""},{"$f":"IF(Outputs!E73=\"\",\"\",Outputs!E73)","v":""},{"$f":"IF(Outputs!F73=\"\",\"\",Outputs!F73)","v":""},{"$f":"IF(Outputs!G73=\"\",\"\",Outputs!G73)","v":""},{"$f":"IF(Outputs!H73=\"\",\"\",Outputs!H73)","v":""},{"$f":"IF(Outputs!I73=\"\",\"\",Outputs!I73)","v":""}]
[{"$f":"IF(Outputs!E74<>\"\",Outputs!A74,\"\")","v":""},{"$f":"IF(Outputs!E74<>\"\",Outputs!B74,\"\")","v":""},"","","","","","","",{"$f":"IF(A75=\"\",\"\",Outputs!C74)","v":""},{"$f":"IF(A75=\"\",\"\",Outputs!J74)","v":""},{"$f":"IF(B75=\"\",\"\",Outputs!K74)","v":""},{"$f":"IF(Outputs!E74=\"\",\"\",Outputs!E74)","v":""},{"$f":"IF(Outputs!F74=\"\",\"\",Outputs!F74)","v":""},{"$f":"IF(Outputs!G74=\"\",\"\",Outputs!G74)","v":""},{"$f":"IF(Outputs!H74=\"\",\"\",Outputs!H74)","v":""},{"$f":"IF(Outputs!I74=\"\",\"\",Outputs!I74)","v":""}]
[{"$f":"IF(Outputs!E75<>\"\",Outputs!A75,\"\")","v":""},{"$f":"IF(Outputs!E75<>\"\",Outputs!B75,\"\")","v":""},"","","","","","","",{"$f":"IF(A76=\"\",\"\",Outputs!C75)","v":""},{"$f":"IF(A76=\"\",\"\",Outputs!J75)","v":""},{"$f":"IF(B76=\"\",\"\",Outputs!K75)","v":""},{"$f":"IF(Outputs!E75=\"\",\"\",Outputs!E75)","v":""},{"$f":"IF(Outputs!F75=\"\",\"\",Outputs!F75)","v":""},{"$f":"IF(Outputs!G75=\"\",\"\",Outputs!G75)","v":""},{"$f":"IF(Outputs!H75=\"\",\"\",Outputs!H75)","v":""},{"$f":"IF(Outputs!I75=\"\",\"\",Outputs!I75)","v":""}]
[{"$f":"IF(Outputs!E76<>\"\",Outputs!A76,\"\")","v":""},{"$f":"IF(Outputs!E76<>\"\",Outputs!B76,\"\")","v":""},"","","","","","","",{"$f":"IF(A77=\"\",\"\",Outputs!C76)","v":""},{"$f":"IF(A77=\"\",\"\",Outputs!J76)","v":""},{"$f":"IF(B77=\"\",\"\",Outputs!K76)","v":""},{"$f":"IF(Outputs!E76=\"\",\"\",Outputs!E76)","v":""},{"$f":"IF(Outputs!F76=\"\",\"\",Outputs!F76)","v":""},{"$f":"IF(Outputs!G76=\"\",\"\",Outputs!G76)","v":""},{"$f":"IF(Outputs!H76=\"\",\"\",Outputs!H76)","v":""},{"$f":"IF(Outputs!I76=\"\",\"\",Outputs!I76)","v":""}]
[{"$f":"IF(Outputs!E77<>\"\",Outputs!A77,\"\")","v":""},{"$f":"IF(Outputs!E77<>\"\",Outputs!B77,\"\")","v":""},"","","","","","","",{"$f":"IF(A78=\"\",\"\",Outputs!C77)","v":""},{"$f":"IF(A78=\"\",\"\",Outputs!J77)","v":""},{"$f":"IF(B78=\"\",\"\",Outputs!K77)","v":""},{"$f":"IF(Outputs!E77=\"\",\"\",Outputs!E77)","v":""},{"$f":"IF(Outputs!F77=\"\",\"\",Outputs!F77)","v":""},{"$f":"IF(Outputs!G77=\"\",\"\",Outputs!G77)","v":""},{"$f":"IF(Outputs!H77=\"\",\"\",Outputs!H77)","v":""},{"$f":"IF(Outputs!I77=\"\",\"\",Outputs!I77)","v":""}]
[{"$f":"IF(Outputs!E78<>\"\",Outputs!A78,\"\")","v":""},{"$f":"IF(Outputs!E78<>\"\",Outputs!B78,\"\")","v":""},"","","","","","","",{"$f":"IF(A79=\"\",\"\",Outputs!C78)","v":""},{"$f":"IF(A79=\"\",\"\",Outputs!J78)","v":""},{"$f":"IF(B79=\"\",\"\",Outputs!K78)","v":""},{"$f":"IF(Outputs!E78=\"\",\"\",Outputs!E78)","v":""},{"$f":"IF(Outputs!F78=\"\",\"\",Outputs!F78)","v":""},{"$f":"IF(Outputs!G78=\"\",\"\",Outputs!G78)","v":""},{"$f":"IF(Outputs!H78=\"\",\"\",Outputs!H78)","v":""},{"$f":"IF(Outputs!I78=\"\",\"\",Outputs!I78)","v":""}]
[{"$f":"IF(Outputs!E79<>\"\",Outputs!A79,\"\")","v":""},{"$f":"IF(Outputs!E79<>\"\",Outputs!B79,\"\")","v":""},"","","","","","","",{"$f":"IF(A80=\"\",\"\",Outputs!C79)","v":""},{"$f":"IF(A80=\"\",\"\",Outputs!J79)","v":""},{"$f":"IF(B80=\"\",\"\",Outputs!K79)","v":""},{"$f":"IF(Outputs!E79=\"\",\"\",Outputs!E79)","v":""},{"$f":"IF(Outputs!F79=\"\",\"\",Outputs!F79)","v":""},{"$f":"IF(Outputs!G79=\"\",\"\",Outputs!G79)","v":""},{"$f":"IF(Outputs!H79=\"\",\"\",Outputs!H79)","v":""},{"$f":"IF(Outputs!I79=\"\",\"\",Outputs!I79)","v":""}]
[{"$f":"IF(Outputs!E80<>\"\",Outputs!A80,\"\")","v":""},{"$f":"IF(Outputs!E80<>\"\",Outputs!B80,\"\")","v":""},"","","","","","","",{"$f":"IF(A81=\"\",\"\",Outputs!C80)","v":""},{"$f":"IF(A81=\"\",\"\",Outputs!J80)","v":""},{"$f":"IF(B81=\"\",\"\",Outputs!K80)","v":""},{"$f":"IF(Outputs!E80=\"\",\"\",Outputs!E80)","v":""},{"$f":"IF(Outputs!F80=\"\",\"\",Outputs!F80)","v":""},{"$f":"IF(Outputs!G80=\"\",\"\",Outputs!G80)","v":""},{"$f":"IF(Outputs!H80=\"\",\"\",Outputs!H80)","v":""},{"$f":"IF(Outputs!I80=\"\",\"\",Outputs!I80)","v":""}]
[{"$f":"IF(Outputs!E81<>\"\",Outputs!A81,\"\")","v":""},{"$f":"IF(Outputs!E81<>\"\",Outputs!B81,\"\")","v":""},"","","","","","","",{"$f":"IF(A82=\"\",\"\",Outputs!C81)","v":""},{"$f":"IF(A82=\"\",\"\",Outputs!J81)","v":""},{"$f":"IF(B82=\"\",\"\",Outputs!K81)","v":""},{"$f":"IF(Outputs!E81=\"\",\"\",Outputs!E81)","v":""},{"$f":"IF(Outputs!F81=\"\",\"\",Outputs!F81)","v":""},{"$f":"IF(Outputs!G81=\"\",\"\",Outputs!G81)","v":""},{"$f":"IF(Outputs!H81=\"\",\"\",Outputs!H81)","v":""},{"$f":"IF(Outputs!I81=\"\",\"\",Outputs!I81)","v":""}]
[{"$f":"IF(Outputs!E82<>\"\",Outputs!A82,\"\")","v":""},{"$f":"IF(Outputs!E82<>\"\",Outputs!B82,\"\")","v":""},"","","","","","","",{"$f":"IF(A83=\"\",\"\",Outputs!C82)","v":""},{"$f":"IF(A83=\"\",\"\",Outputs!J82)","v":""},{"$f":"IF(B83=\"\",\"\",Outputs!K82)","v":""},{"$f":"IF(Outputs!E82=\"\",\"\",Outputs!E82)","v":""},{"$f":"IF(Outputs!F82=\"\",\"\",Outputs!F82)","v":""},{"$f":"IF(Outputs!G82=\"\",\"\",Outputs!G82)","v":""},{"$f":"IF(Outputs!H82=\"\",\"\",Outputs!H82)","v":""},{"$f":"IF(Outputs!I82=\"\",\"\",Outputs!I82)","v":""}]
[{"$f":"IF(Outputs!E83<>\"\",Outputs!A83,\"\")","v":""},{"$f":"IF(Outputs!E83<>\"\",Outputs!B83,\"\")","v":""},"","","","","","","",{"$f":"IF(A84=\"\",\"\",Outputs!C83)","v":""},{"$f":"IF(A84=\"\",\"\",Outputs!J83)","v":""},{"$f":"IF(B84=\"\",\"\",Outputs!K83)","v":""},{"$f":"IF(Outputs!E83=\"\",\"\",Outputs!E83)","v":""},{"$f":"IF(Outputs!F83=\"\",\"\",Outputs!F83)","v":""},{"$f":"IF(Outputs!G83=\"\",\"\",Outputs!G83)","v":""},{"$f":"IF(Outputs!H83=\"\",\"\",Outputs!H83)","v":""},{"$f":"IF(Outputs!I83=\"\",\"\",Outputs!I83)","v":""}]
[{"$f":"IF(Outputs!E84<>\"\",Outputs!A84,\"\")","v":""},{"$f":"IF(Outputs!E84<>\"\",Outputs!B84,\"\")","v":""},"","","","","","","",{"$f":"IF(A85=\"\",\"\",Outputs!C84)","v":""},{"$f":"IF(A85=\"\",\"\",Outputs!J84)","v":""},{"$f":"IF(B85=\"\",\"\",Outputs!K84)","v":""},{"$f":"IF(Outputs!E84=\"\",\"\",Outputs!E84)","v":""},{"$f":"IF(Outputs!F84=\"\",\"\",Outputs!F84)","v":""},{"$f":"IF(Outputs!G84=\"\",\"\",Outputs!G84)","v":""},{"$f":"IF(Outputs!H84=\"\",\"\",Outputs!H84)","v":""},{"$f":"IF(Outputs!I84=\"\",\"\",Outputs!I84)","v":""}]
[{"$f":"IF(Outputs!E85<>\"\",Outputs!A85,\"\")","v":""},{"$f":"IF(Outputs!E85<>\"\",Outputs!B85,\"\")","v":""},"","","","","","","",{"$f":"IF(A86=\"\",\"\",Outputs!C85)","v":""},{"$f":"IF(A86=\"\",\"\",Outputs!J85)","v":""},{"$f":"IF(B86=\"\",\"\",Outputs!K85)","v":""},{"$f":"IF(Outputs!E85=\"\",\"\",Outputs!E85)","v":""},{"$f":"IF(Outputs!F85=\"\",\"\",Outputs!F85)","v":""},{"$f":"IF(Outputs!G85=\"\",\"\",Outputs!G85)","v":""},{"$f":"IF(Outputs!H85=\"\",\"\",Outputs!H85)","v":""},{"$f":"IF(Outputs!I85=\"\",\"\",Outputs!I85)","v":""}]
[{"$f":"IF(Outputs!E86<>\"\",Outputs!A86,\"\")","v":""},{"$f":"IF(Outputs!E86<>\"\",Outputs!B86,\"\")","v":""},"","","","","","","",{"$f":"IF(A87=\"\",\"\",Outputs!C86)","v":""},{"$f":"IF(A87=\"\",\"\",Outputs!J86)","v":""},{"$f":"IF(B87=\"\",\"\",Outputs!K86)","v":""},{"$f":"IF(Outputs!E86=\"\",\"\",Outputs!E86)","v":""},{"$f":"IF(Outputs!F86=\"\",\"\",Outputs!F86)","v":""},{"$f":"IF(Outputs!G86=\"\",\"\",Outputs!G86)","v":""},{"$f":"IF(Outputs!H86=\"\",\"\",Outputs!H86)","v":""},{"$f":"IF(Outputs!I86=\"\",\"\",Outputs!I86)","v":""}]
[{"$f":"IF(Outputs!E87<>\"\",Outputs!A87,\"\")","v":""},{"$f":"IF(Outputs!E87<>\"\",Outputs!B87,\"\")","v":""},"","","","","","","",{"$f":"IF(A88=\"\",\"\",Outputs!C87)","v":""},{"$f":"IF(A88=\"\",\"\",Outputs!J87)","v":""},{"$f":"IF(B88=\"\",\"\",Outputs!K87)","v":""},{"$f":"IF(Outputs!E87=\"\",\"\",Outputs!E87)","v":""},{"$f":"IF(Outputs!F87=\"\",\"\",Outputs!F87)","v":""},{"$f":"IF(Outputs!G87=\"\",\"\",Outputs!G87)","v":""},{"$f":"IF(Outputs!H87=\"\",\"\",Outputs!H87)","v":""},{"$f":"IF(Outputs!I87=\"\",\"\",Outputs!I87)","v":""}]
[{"$f":"IF(Outputs!E88<>\"\",Outputs!A88,\"\")","v":""},{"$f":"IF(Outputs!E88<>\"\",Outputs!B88,\"\")","v":""},"","","","","","","",{"$f":"IF(A89=\"\",\"\",Outputs!C88)","v":""},{"$f":"IF(A89=\"\",\"\",Outputs!J88)","v":""},{"$f":"IF(B89=\"\",\"\",Outputs!K88)","v":""},{"$f":"IF(Outputs!E88=\"\",\"\",Outputs!E88)","v":""},{"$f":"IF(Outputs!F88=\"\",\"\",Outputs!F88)","v":""},{"$f":"IF(Outputs!G88=\"\",\"\",Outputs!G88)","v":""},{"$f":"IF(Outputs!H88=\"\",\"\",Outputs!H88)","v":""},{"$f":"IF(Outputs!I88=\"\",\"\",Outputs!I88)","v":""}]
[{"$f":"IF(Outputs!E89<>\"\",Outputs!A89,\"\")","v":""},{"$f":"IF(Outputs!E89<>\"\",Outputs!B89,\"\")","v":""},"","","","","","","",{"$f":"IF(A90=\"\",\"\",Outputs!C89)","v":""},{"$f":"IF(A90=\"\",\"\",Outputs!J89)","v":""},{"$f":"IF(B90=\"\",\"\",Outputs!K89)","v":""},{"$f":"IF(Outputs!E89=\"\",\"\",Outputs!E89)","v":""},{"$f":"IF(Outputs!F89=\"\",\"\",Outputs!F89)","v":""},{"$f":"IF(Outputs!G89=\"\",\"\",Outputs!G89)","v":""},{"$f":"IF(Outputs!H89=\"\",\"\",Outputs!H89)","v":""},{"$f":"IF(Outputs!I89=\"\",\"\",Outputs!I89)","v":""}]
[{"$f":"IF(Outputs!E90<>\"\",Outputs!A90,\"\")","v":""},{"$f":"IF(Outputs!E90<>\"\",Outputs!B90,\"\")","v":""},"",{"$f":"IF(C91=\"\",\"\",\"<b>\" & B91 & \"</b><br>\" & \"<b>Population attributed:</b> \" & J91 & \"</br>\" & \"<b> Effective Time:</b>  \" & M91 & \" minutes\" & \"</br>\"& \"<b> Option 1:</b>  \" & N91 & \"</br>\"& \"<b> Option 2:</b>  \" &O91 & \"</br>\"& \"<b> Option 3:</b>  \" & P91 & \"</br>\"& \"<b> Option 4:</b>  \" & Q91)","v":""},{"$f":"IF(D91=\"\",\"\",IF(M91<45,\"http://labs.google.com/ridefinder/images/mm_20_green.png\",\"http://labs.google.com/ridefinder/images/mm_20_red.png\"))","v":""},{"$f":"IF(E91=\"\",\"\",IF(J91>15000,\"big\",IF(J91>10000,\"medium\",\"small\")))","v":""},{"$f":"F91","v":""},{"$f":"IF(G91=\"\",\"\",IF(M91<45,\"#458B00\",\"#D41243\"))","v":""},"",{"$f":"IF(A91=\"\",\"\",Outputs!C90)","v":""},{"$f":"IF(A91=\"\",\"\",Outputs!J90)","v":""},{"$f":"IF(B91=\"\",\"\",Outputs!K90)","v":""},{"$f":"IF(Outputs!E90=\"\",\"\",Outputs!E90)","v":""},{"$f":"IF(Outputs!F90=\"\",\"\",Outputs!F90)","v":""},{"$f":"IF(Outputs!G90=\"\",\"\",Outputs!G90)","v":""},{"$f":"IF(Outputs!H90=\"\",\"\",Outputs!H90)","v":""},{"$f":"IF(Outputs!I90=\"\",\"\",Outputs!I90)","v":""}]
[{"$f":"IF(Outputs!E91<>\"\",Outputs!A91,\"\")","v":""},{"$f":"IF(Outputs!E91<>\"\",Outputs!B91,\"\")","v":""},"","","","","","","",{"$f":"IF(A92=\"\",\"\",Outputs!C91)","v":""},{"$f":"IF(A92=\"\",\"\",Outputs!J91)","v":""},{"$f":"IF(B92=\"\",\"\",Outputs!K91)","v":""},{"$f":"IF(Outputs!E91=\"\",\"\",Outputs!E91)","v":""},{"$f":"IF(Outputs!F91=\"\",\"\",Outputs!F91)","v":""},{"$f":"IF(Outputs!G91=\"\",\"\",Outputs!G91)","v":""},{"$f":"IF(Outputs!H91=\"\",\"\",Outputs!H91)","v":""},{"$f":"IF(Outputs!I91=\"\",\"\",Outputs!I91)","v":""}]
[{"$f":"IF(Outputs!E92<>\"\",Outputs!A92,\"\")","v":""},{"$f":"IF(Outputs!E92<>\"\",Outputs!B92,\"\")","v":""},"","","","","","","",{"$f":"IF(A93=\"\",\"\",Outputs!C92)","v":""},{"$f":"IF(A93=\"\",\"\",Outputs!J92)","v":""},{"$f":"IF(B93=\"\",\"\",Outputs!K92)","v":""},{"$f":"IF(Outputs!E92=\"\",\"\",Outputs!E92)","v":""},{"$f":"IF(Outputs!F92=\"\",\"\",Outputs!F92)","v":""},{"$f":"IF(Outputs!G92=\"\",\"\",Outputs!G92)","v":""},{"$f":"IF(Outputs!H92=\"\",\"\",Outputs!H92)","v":""},{"$f":"IF(Outputs!I92=\"\",\"\",Outputs!I92)","v":""}]
[{"$f":"IF(Outputs!E93<>\"\",Outputs!A93,\"\")","v":""},{"$f":"IF(Outputs!E93<>\"\",Outputs!B93,\"\")","v":""},"","","","","","","",{"$f":"IF(A94=\"\",\"\",Outputs!C93)","v":""},{"$f":"IF(A94=\"\",\"\",Outputs!J93)","v":""},{"$f":"IF(B94=\"\",\"\",Outputs!K93)","v":""},{"$f":"IF(Outputs!E93=\"\",\"\",Outputs!E93)","v":""},{"$f":"IF(Outputs!F93=\"\",\"\",Outputs!F93)","v":""},{"$f":"IF(Outputs!G93=\"\",\"\",Outputs!G93)","v":""},{"$f":"IF(Outputs!H93=\"\",\"\",Outputs!H93)","v":""},{"$f":"IF(Outputs!I93=\"\",\"\",Outputs!I93)","v":""}]
[{"$f":"IF(Outputs!E94<>\"\",Outputs!A94,\"\")","v":""},{"$f":"IF(Outputs!E94<>\"\",Outputs!B94,\"\")","v":""},"","","","","","","",{"$f":"IF(A95=\"\",\"\",Outputs!C94)","v":""},{"$f":"IF(A95=\"\",\"\",Outputs!J94)","v":""},{"$f":"IF(B95=\"\",\"\",Outputs!K94)","v":""},{"$f":"IF(Outputs!E94=\"\",\"\",Outputs!E94)","v":""},{"$f":"IF(Outputs!F94=\"\",\"\",Outputs!F94)","v":""},{"$f":"IF(Outputs!G94=\"\",\"\",Outputs!G94)","v":""},{"$f":"IF(Outputs!H94=\"\",\"\",Outputs!H94)","v":""},{"$f":"IF(Outputs!I94=\"\",\"\",Outputs!I94)","v":""}]
[{"$f":"IF(Outputs!E95<>\"\",Outputs!A95,\"\")","v":""},{"$f":"IF(Outputs!E95<>\"\",Outputs!B95,\"\")","v":""},"","","","","","","",{"$f":"IF(A96=\"\",\"\",Outputs!C95)","v":""},{"$f":"IF(A96=\"\",\"\",Outputs!J95)","v":""},{"$f":"IF(B96=\"\",\"\",Outputs!K95)","v":""},{"$f":"IF(Outputs!E95=\"\",\"\",Outputs!E95)","v":""},{"$f":"IF(Outputs!F95=\"\",\"\",Outputs!F95)","v":""},{"$f":"IF(Outputs!G95=\"\",\"\",Outputs!G95)","v":""},{"$f":"IF(Outputs!H95=\"\",\"\",Outputs!H95)","v":""},{"$f":"IF(Outputs!I95=\"\",\"\",Outputs!I95)","v":""}]
[{"$f":"IF(Outputs!E96<>\"\",Outputs!A96,\"\")","v":""},{"$f":"IF(Outputs!E96<>\"\",Outputs!B96,\"\")","v":""},"","","","","","","",{"$f":"IF(A97=\"\",\"\",Outputs!C96)","v":""},{"$f":"IF(A97=\"\",\"\",Outputs!J96)","v":""},{"$f":"IF(B97=\"\",\"\",Outputs!K96)","v":""},{"$f":"IF(Outputs!E96=\"\",\"\",Outputs!E96)","v":""},{"$f":"IF(Outputs!F96=\"\",\"\",Outputs!F96)","v":""},{"$f":"IF(Outputs!G96=\"\",\"\",Outputs!G96)","v":""},{"$f":"IF(Outputs!H96=\"\",\"\",Outputs!H96)","v":""},{"$f":"IF(Outputs!I96=\"\",\"\",Outputs!I96)","v":""}]
[{"$f":"IF(Outputs!E97<>\"\",Outputs!A97,\"\")","v":""},{"$f":"IF(Outputs!E97<>\"\",Outputs!B97,\"\")","v":""},"","","","","","","",{"$f":"IF(A98=\"\",\"\",Outputs!C97)","v":""},{"$f":"IF(A98=\"\",\"\",Outputs!J97)","v":""},{"$f":"IF(B98=\"\",\"\",Outputs!K97)","v":""},{"$f":"IF(Outputs!E97=\"\",\"\",Outputs!E97)","v":""},{"$f":"IF(Outputs!F97=\"\",\"\",Outputs!F97)","v":""},{"$f":"IF(Outputs!G97=\"\",\"\",Outputs!G97)","v":""},{"$f":"IF(Outputs!H97=\"\",\"\",Outputs!H97)","v":""},{"$f":"IF(Outputs!I97=\"\",\"\",Outputs!I97)","v":""}]
[{"$f":"IF(Outputs!E98<>\"\",Outputs!A98,\"\")","v":""},{"$f":"IF(Outputs!E98<>\"\",Outputs!B98,\"\")","v":""},"","","","","","","",{"$f":"IF(A99=\"\",\"\",Outputs!C98)","v":""},{"$f":"IF(A99=\"\",\"\",Outputs!J98)","v":""},{"$f":"IF(B99=\"\",\"\",Outputs!K98)","v":""},{"$f":"IF(Outputs!E98=\"\",\"\",Outputs!E98)","v":""},{"$f":"IF(Outputs!F98=\"\",\"\",Outputs!F98)","v":""},{"$f":"IF(Outputs!G98=\"\",\"\",Outputs!G98)","v":""},{"$f":"IF(Outputs!H98=\"\",\"\",Outputs!H98)","v":""},{"$f":"IF(Outputs!I98=\"\",\"\",Outputs!I98)","v":""}]
[{"$f":"IF(Outputs!E99<>\"\",Outputs!A99,\"\")","v":""},{"$f":"IF(Outputs!E99<>\"\",Outputs!B99,\"\")","v":""},"","","","","","","",{"$f":"IF(A100=\"\",\"\",Outputs!C99)","v":""},{"$f":"IF(A100=\"\",\"\",Outputs!J99)","v":""},{"$f":"IF(B100=\"\",\"\",Outputs!K99)","v":""},{"$f":"IF(Outputs!E99=\"\",\"\",Outputs!E99)","v":""},{"$f":"IF(Outputs!F99=\"\",\"\",Outputs!F99)","v":""},{"$f":"IF(Outputs!G99=\"\",\"\",Outputs!G99)","v":""},{"$f":"IF(Outputs!H99=\"\",\"\",Outputs!H99)","v":""},{"$f":"IF(Outputs!I99=\"\",\"\",Outputs!I99)","v":""}]
[{"$f":"IF(Outputs!E100<>\"\",Outputs!A100,\"\")","v":""},{"$f":"IF(Outputs!E100<>\"\",Outputs!B100,\"\")","v":""},"","","","","","","",{"$f":"IF(A101=\"\",\"\",Outputs!C100)","v":""},{"$f":"IF(A101=\"\",\"\",Outputs!J100)","v":""},{"$f":"IF(B101=\"\",\"\",Outputs!K100)","v":""},{"$f":"IF(Outputs!E100=\"\",\"\",Outputs!E100)","v":""},{"$f":"IF(Outputs!F100=\"\",\"\",Outputs!F100)","v":""},{"$f":"IF(Outputs!G100=\"\",\"\",Outputs!G100)","v":""},{"$f":"IF(Outputs!H100=\"\",\"\",Outputs!H100)","v":""},{"$f":"IF(Outputs!I100=\"\",\"\",Outputs!I100)","v":""}]
[{"$f":"IF(Outputs!E101<>\"\",Outputs!A101,\"\")","v":""},{"$f":"IF(Outputs!E101<>\"\",Outputs!B101,\"\")","v":""},"","","","","","","",{"$f":"IF(A102=\"\",\"\",Outputs!C101)","v":""},{"$f":"IF(A102=\"\",\"\",Outputs!J101)","v":""},{"$f":"IF(B102=\"\",\"\",Outputs!K101)","v":""},{"$f":"IF(Outputs!E101=\"\",\"\",Outputs!E101)","v":""},{"$f":"IF(Outputs!F101=\"\",\"\",Outputs!F101)","v":""},{"$f":"IF(Outputs!G101=\"\",\"\",Outputs!G101)","v":""},{"$f":"IF(Outputs!H101=\"\",\"\",Outputs!H101)","v":""},{"$f":"IF(Outputs!I101=\"\",\"\",Outputs!I101)","v":""}]
[{"$f":"IF(Outputs!E102<>\"\",Outputs!A102,\"\")","v":""},{"$f":"IF(Outputs!E102<>\"\",Outputs!B102,\"\")","v":""},"","","","","","","",{"$f":"IF(A103=\"\",\"\",Outputs!C102)","v":""},{"$f":"IF(A103=\"\",\"\",Outputs!J102)","v":""},{"$f":"IF(B103=\"\",\"\",Outputs!K102)","v":""},{"$f":"IF(Outputs!E102=\"\",\"\",Outputs!E102)","v":""},{"$f":"IF(Outputs!F102=\"\",\"\",Outputs!F102)","v":""},{"$f":"IF(Outputs!G102=\"\",\"\",Outputs!G102)","v":""},{"$f":"IF(Outputs!H102=\"\",\"\",Outputs!H102)","v":""},{"$f":"IF(Outputs!I102=\"\",\"\",Outputs!I102)","v":""}]
[{"$f":"IF(Outputs!E103<>\"\",Outputs!A103,\"\")","v":""},{"$f":"IF(Outputs!E103<>\"\",Outputs!B103,\"\")","v":""},"","","","","","","",{"$f":"IF(A104=\"\",\"\",Outputs!C103)","v":""},{"$f":"IF(A104=\"\",\"\",Outputs!J103)","v":""},{"$f":"IF(B104=\"\",\"\",Outputs!K103)","v":""},{"$f":"IF(Outputs!E103=\"\",\"\",Outputs!E103)","v":""},{"$f":"IF(Outputs!F103=\"\",\"\",Outputs!F103)","v":""},{"$f":"IF(Outputs!G103=\"\",\"\",Outputs!G103)","v":""},{"$f":"IF(Outputs!H103=\"\",\"\",Outputs!H103)","v":""},{"$f":"IF(Outputs!I103=\"\",\"\",Outputs!I103)","v":""}]
[{"$f":"IF(Outputs!E104<>\"\",Outputs!A104,\"\")","v":""},{"$f":"IF(Outputs!E104<>\"\",Outputs!B104,\"\")","v":""},"","","","","","","",{"$f":"IF(A105=\"\",\"\",Outputs!C104)","v":""},{"$f":"IF(A105=\"\",\"\",Outputs!J104)","v":""},{"$f":"IF(B105=\"\",\"\",Outputs!K104)","v":""},{"$f":"IF(Outputs!E104=\"\",\"\",Outputs!E104)","v":""},{"$f":"IF(Outputs!F104=\"\",\"\",Outputs!F104)","v":""},{"$f":"IF(Outputs!G104=\"\",\"\",Outputs!G104)","v":""},{"$f":"IF(Outputs!H104=\"\",\"\",Outputs!H104)","v":""},{"$f":"IF(Outputs!I104=\"\",\"\",Outputs!I104)","v":""}]
[{"$f":"IF(Outputs!E105<>\"\",Outputs!A105,\"\")","v":""},{"$f":"IF(Outputs!E105<>\"\",Outputs!B105,\"\")","v":""},"","","","","","","",{"$f":"IF(A106=\"\",\"\",Outputs!C105)","v":""},{"$f":"IF(A106=\"\",\"\",Outputs!J105)","v":""},{"$f":"IF(B106=\"\",\"\",Outputs!K105)","v":""},{"$f":"IF(Outputs!E105=\"\",\"\",Outputs!E105)","v":""},{"$f":"IF(Outputs!F105=\"\",\"\",Outputs!F105)","v":""},{"$f":"IF(Outputs!G105=\"\",\"\",Outputs!G105)","v":""},{"$f":"IF(Outputs!H105=\"\",\"\",Outputs!H105)","v":""},{"$f":"IF(Outputs!I105=\"\",\"\",Outputs!I105)","v":""}]
[{"$f":"IF(Outputs!E106<>\"\",Outputs!A106,\"\")","v":""},{"$f":"IF(Outputs!E106<>\"\",Outputs!B106,\"\")","v":""},"","","","","","","",{"$f":"IF(A107=\"\",\"\",Outputs!C106)","v":""},{"$f":"IF(A107=\"\",\"\",Outputs!J106)","v":""},{"$f":"IF(B107=\"\",\"\",Outputs!K106)","v":""},{"$f":"IF(Outputs!E106=\"\",\"\",Outputs!E106)","v":""},{"$f":"IF(Outputs!F106=\"\",\"\",Outputs!F106)","v":""},{"$f":"IF(Outputs!G106=\"\",\"\",Outputs!G106)","v":""},{"$f":"IF(Outputs!H106=\"\",\"\",Outputs!H106)","v":""},{"$f":"IF(Outputs!I106=\"\",\"\",Outputs!I106)","v":""}]
[{"$f":"IF(Outputs!E107<>\"\",Outputs!A107,\"\")","v":""},{"$f":"IF(Outputs!E107<>\"\",Outputs!B107,\"\")","v":""},"","","","","","","",{"$f":"IF(A108=\"\",\"\",Outputs!C107)","v":""},{"$f":"IF(A108=\"\",\"\",Outputs!J107)","v":""},{"$f":"IF(B108=\"\",\"\",Outputs!K107)","v":""},{"$f":"IF(Outputs!E107=\"\",\"\",Outputs!E107)","v":""},{"$f":"IF(Outputs!F107=\"\",\"\",Outputs!F107)","v":""},{"$f":"IF(Outputs!G107=\"\",\"\",Outputs!G107)","v":""},{"$f":"IF(Outputs!H107=\"\",\"\",Outputs!H107)","v":""},{"$f":"IF(Outputs!I107=\"\",\"\",Outputs!I107)","v":""}]
[{"$f":"IF(Outputs!E108<>\"\",Outputs!A108,\"\")","v":""},{"$f":"IF(Outputs!E108<>\"\",Outputs!B108,\"\")","v":""},"","","","","","","",{"$f":"IF(A109=\"\",\"\",Outputs!C108)","v":""},{"$f":"IF(A109=\"\",\"\",Outputs!J108)","v":""},{"$f":"IF(B109=\"\",\"\",Outputs!K108)","v":""},{"$f":"IF(Outputs!E108=\"\",\"\",Outputs!E108)","v":""},{"$f":"IF(Outputs!F108=\"\",\"\",Outputs!F108)","v":""},{"$f":"IF(Outputs!G108=\"\",\"\",Outputs!G108)","v":""},{"$f":"IF(Outputs!H108=\"\",\"\",Outputs!H108)","v":""},{"$f":"IF(Outputs!I108=\"\",\"\",Outputs!I108)","v":""}]
[{"$f":"IF(Outputs!E109<>\"\",Outputs!A109,\"\")","v":""},{"$f":"IF(Outputs!E109<>\"\",Outputs!B109,\"\")","v":""},"","","","","","","",{"$f":"IF(A110=\"\",\"\",Outputs!C109)","v":""},{"$f":"IF(A110=\"\",\"\",Outputs!J109)","v":""},{"$f":"IF(B110=\"\",\"\",Outputs!K109)","v":""},{"$f":"IF(Outputs!E109=\"\",\"\",Outputs!E109)","v":""},{"$f":"IF(Outputs!F109=\"\",\"\",Outputs!F109)","v":""},{"$f":"IF(Outputs!G109=\"\",\"\",Outputs!G109)","v":""},{"$f":"IF(Outputs!H109=\"\",\"\",Outputs!H109)","v":""},{"$f":"IF(Outputs!I109=\"\",\"\",Outputs!I109)","v":""}]
[{"$f":"IF(Outputs!E110<>\"\",Outputs!A110,\"\")","v":""},{"$f":"IF(Outputs!E110<>\"\",Outputs!B110,\"\")","v":""},"","","","","","","",{"$f":"IF(A111=\"\",\"\",Outputs!C110)","v":""},{"$f":"IF(A111=\"\",\"\",Outputs!J110)","v":""},{"$f":"IF(B111=\"\",\"\",Outputs!K110)","v":""},{"$f":"IF(Outputs!E110=\"\",\"\",Outputs!E110)","v":""},{"$f":"IF(Outputs!F110=\"\",\"\",Outputs!F110)","v":""},{"$f":"IF(Outputs!G110=\"\",\"\",Outputs!G110)","v":""},{"$f":"IF(Outputs!H110=\"\",\"\",Outputs!H110)","v":""},{"$f":"IF(Outputs!I110=\"\",\"\",Outputs!I110)","v":""}]
[{"$f":"IF(Outputs!E111<>\"\",Outputs!A111,\"\")","v":""},{"$f":"IF(Outputs!E111<>\"\",Outputs!B111,\"\")","v":""},"","","","","","","",{"$f":"IF(A112=\"\",\"\",Outputs!C111)","v":""},{"$f":"IF(A112=\"\",\"\",Outputs!J111)","v":""},{"$f":"IF(B112=\"\",\"\",Outputs!K111)","v":""},{"$f":"IF(Outputs!E111=\"\",\"\",Outputs!E111)","v":""},{"$f":"IF(Outputs!F111=\"\",\"\",Outputs!F111)","v":""},{"$f":"IF(Outputs!G111=\"\",\"\",Outputs!G111)","v":""},{"$f":"IF(Outputs!H111=\"\",\"\",Outputs!H111)","v":""},{"$f":"IF(Outputs!I111=\"\",\"\",Outputs!I111)","v":""}]
[{"$f":"IF(Outputs!E112<>\"\",Outputs!A112,\"\")","v":""},{"$f":"IF(Outputs!E112<>\"\",Outputs!B112,\"\")","v":""},"","","","","","","",{"$f":"IF(A113=\"\",\"\",Outputs!C112)","v":""},{"$f":"IF(A113=\"\",\"\",Outputs!J112)","v":""},{"$f":"IF(B113=\"\",\"\",Outputs!K112)","v":""},{"$f":"IF(Outputs!E112=\"\",\"\",Outputs!E112)","v":""},{"$f":"IF(Outputs!F112=\"\",\"\",Outputs!F112)","v":""},{"$f":"IF(Outputs!G112=\"\",\"\",Outputs!G112)","v":""},{"$f":"IF(Outputs!H112=\"\",\"\",Outputs!H112)","v":""},{"$f":"IF(Outputs!I112=\"\",\"\",Outputs!I112)","v":""}]
[{"$f":"IF(Outputs!E113<>\"\",Outputs!A113,\"\")","v":""},{"$f":"IF(Outputs!E113<>\"\",Outputs!B113,\"\")","v":""},"","","","","","","",{"$f":"IF(A114=\"\",\"\",Outputs!C113)","v":""},{"$f":"IF(A114=\"\",\"\",Outputs!J113)","v":""},{"$f":"IF(B114=\"\",\"\",Outputs!K113)","v":""},{"$f":"IF(Outputs!E113=\"\",\"\",Outputs!E113)","v":""},{"$f":"IF(Outputs!F113=\"\",\"\",Outputs!F113)","v":""},{"$f":"IF(Outputs!G113=\"\",\"\",Outputs!G113)","v":""},{"$f":"IF(Outputs!H113=\"\",\"\",Outputs!H113)","v":""},{"$f":"IF(Outputs!I113=\"\",\"\",Outputs!I113)","v":""}]
[{"$f":"IF(Outputs!E114<>\"\",Outputs!A114,\"\")","v":""},{"$f":"IF(Outputs!E114<>\"\",Outputs!B114,\"\")","v":""},"","","","","","","",{"$f":"IF(A115=\"\",\"\",Outputs!C114)","v":""},{"$f":"IF(A115=\"\",\"\",Outputs!J114)","v":""},{"$f":"IF(B115=\"\",\"\",Outputs!K114)","v":""},{"$f":"IF(Outputs!E114=\"\",\"\",Outputs!E114)","v":""},{"$f":"IF(Outputs!F114=\"\",\"\",Outputs!F114)","v":""},{"$f":"IF(Outputs!G114=\"\",\"\",Outputs!G114)","v":""},{"$f":"IF(Outputs!H114=\"\",\"\",Outputs!H114)","v":""},{"$f":"IF(Outputs!I114=\"\",\"\",Outputs!I114)","v":""}]
[{"$f":"IF(Outputs!E115<>\"\",Outputs!A115,\"\")","v":""},{"$f":"IF(Outputs!E115<>\"\",Outputs!B115,\"\")","v":""},"","","","","","","",{"$f":"IF(A116=\"\",\"\",Outputs!C115)","v":""},{"$f":"IF(A116=\"\",\"\",Outputs!J115)","v":""},{"$f":"IF(B116=\"\",\"\",Outputs!K115)","v":""},{"$f":"IF(Outputs!E115=\"\",\"\",Outputs!E115)","v":""},{"$f":"IF(Outputs!F115=\"\",\"\",Outputs!F115)","v":""},{"$f":"IF(Outputs!G115=\"\",\"\",Outputs!G115)","v":""},{"$f":"IF(Outputs!H115=\"\",\"\",Outputs!H115)","v":""},{"$f":"IF(Outputs!I115=\"\",\"\",Outputs!I115)","v":""}]
[{"$f":"IF(Outputs!E116<>\"\",Outputs!A116,\"\")","v":""},{"$f":"IF(Outputs!E116<>\"\",Outputs!B116,\"\")","v":""},"","","","","","","",{"$f":"IF(A117=\"\",\"\",Outputs!C116)","v":""},{"$f":"IF(A117=\"\",\"\",Outputs!J116)","v":""},{"$f":"IF(B117=\"\",\"\",Outputs!K116)","v":""},{"$f":"IF(Outputs!E116=\"\",\"\",Outputs!E116)","v":""},{"$f":"IF(Outputs!F116=\"\",\"\",Outputs!F116)","v":""},{"$f":"IF(Outputs!G116=\"\",\"\",Outputs!G116)","v":""},{"$f":"IF(Outputs!H116=\"\",\"\",Outputs!H116)","v":""},{"$f":"IF(Outputs!I116=\"\",\"\",Outputs!I116)","v":""}]
[{"$f":"IF(Outputs!E117<>\"\",Outputs!A117,\"\")","v":""},{"$f":"IF(Outputs!E117<>\"\",Outputs!B117,\"\")","v":""},"","","","","","","",{"$f":"IF(A118=\"\",\"\",Outputs!C117)","v":""},{"$f":"IF(A118=\"\",\"\",Outputs!J117)","v":""},{"$f":"IF(B118=\"\",\"\",Outputs!K117)","v":""},{"$f":"IF(Outputs!E117=\"\",\"\",Outputs!E117)","v":""},{"$f":"IF(Outputs!F117=\"\",\"\",Outputs!F117)","v":""},{"$f":"IF(Outputs!G117=\"\",\"\",Outputs!G117)","v":""},{"$f":"IF(Outputs!H117=\"\",\"\",Outputs!H117)","v":""},{"$f":"IF(Outputs!I117=\"\",\"\",Outputs!I117)","v":""}]
[{"$f":"IF(Outputs!E118<>\"\",Outputs!A118,\"\")","v":""},{"$f":"IF(Outputs!E118<>\"\",Outputs!B118,\"\")","v":""},"","","","","","","",{"$f":"IF(A119=\"\",\"\",Outputs!C118)","v":""},{"$f":"IF(A119=\"\",\"\",Outputs!J118)","v":""},{"$f":"IF(B119=\"\",\"\",Outputs!K118)","v":""},{"$f":"IF(Outputs!E118=\"\",\"\",Outputs!E118)","v":""},{"$f":"IF(Outputs!F118=\"\",\"\",Outputs!F118)","v":""},{"$f":"IF(Outputs!G118=\"\",\"\",Outputs!G118)","v":""},{"$f":"IF(Outputs!H118=\"\",\"\",Outputs!H118)","v":""},{"$f":"IF(Outputs!I118=\"\",\"\",Outputs!I118)","v":""}]
[{"$f":"IF(Outputs!E119<>\"\",Outputs!A119,\"\")","v":""},{"$f":"IF(Outputs!E119<>\"\",Outputs!B119,\"\")","v":""},"","","","","","","",{"$f":"IF(A120=\"\",\"\",Outputs!C119)","v":""},{"$f":"IF(A120=\"\",\"\",Outputs!J119)","v":""},{"$f":"IF(B120=\"\",\"\",Outputs!K119)","v":""},{"$f":"IF(Outputs!E119=\"\",\"\",Outputs!E119)","v":""},{"$f":"IF(Outputs!F119=\"\",\"\",Outputs!F119)","v":""},{"$f":"IF(Outputs!G119=\"\",\"\",Outputs!G119)","v":""},{"$f":"IF(Outputs!H119=\"\",\"\",Outputs!H119)","v":""},{"$f":"IF(Outputs!I119=\"\",\"\",Outputs!I119)","v":""}]
[{"$f":"IF(Outputs!E120<>\"\",Outputs!A120,\"\")","v":""},{"$f":"IF(Outputs!E120<>\"\",Outputs!B120,\"\")","v":""},"","","","","","","",{"$f":"IF(A121=\"\",\"\",Outputs!C120)","v":""},{"$f":"IF(A121=\"\",\"\",Outputs!J120)","v":""},{"$f":"IF(B121=\"\",\"\",Outputs!K120)","v":""},{"$f":"IF(Outputs!E120=\"\",\"\",Outputs!E120)","v":""},{"$f":"IF(Outputs!F120=\"\",\"\",Outputs!F120)","v":""},{"$f":"IF(Outputs!G120=\"\",\"\",Outputs!G120)","v":""},{"$f":"IF(Outputs!H120=\"\",\"\",Outputs!H120)","v":""},{"$f":"IF(Outputs!I120=\"\",\"\",Outputs!I120)","v":""}]
[{"$f":"IF(Outputs!E121<>\"\",Outputs!A121,\"\")","v":""},{"$f":"IF(Outputs!E121<>\"\",Outputs!B121,\"\")","v":""},"","","","","","","",{"$f":"IF(A122=\"\",\"\",Outputs!C121)","v":""},{"$f":"IF(A122=\"\",\"\",Outputs!J121)","v":""},{"$f":"IF(B122=\"\",\"\",Outputs!K121)","v":""},{"$f":"IF(Outputs!E121=\"\",\"\",Outputs!E121)","v":""},{"$f":"IF(Outputs!F121=\"\",\"\",Outputs!F121)","v":""},{"$f":"IF(Outputs!G121=\"\",\"\",Outputs!G121)","v":""},{"$f":"IF(Outputs!H121=\"\",\"\",Outputs!H121)","v":""},{"$f":"IF(Outputs!I121=\"\",\"\",Outputs!I121)","v":""}]
[{"$f":"IF(Outputs!E122<>\"\",Outputs!A122,\"\")","v":""},{"$f":"IF(Outputs!E122<>\"\",Outputs!B122,\"\")","v":""},"","","","","","","",{"$f":"IF(A123=\"\",\"\",Outputs!C122)","v":""},{"$f":"IF(A123=\"\",\"\",Outputs!J122)","v":""},{"$f":"IF(B123=\"\",\"\",Outputs!K122)","v":""},{"$f":"IF(Outputs!E122=\"\",\"\",Outputs!E122)","v":""},{"$f":"IF(Outputs!F122=\"\",\"\",Outputs!F122)","v":""},{"$f":"IF(Outputs!G122=\"\",\"\",Outputs!G122)","v":""},{"$f":"IF(Outputs!H122=\"\",\"\",Outputs!H122)","v":""},{"$f":"IF(Outputs!I122=\"\",\"\",Outputs!I122)","v":""}]
[{"$f":"IF(Outputs!E123<>\"\",Outputs!A123,\"\")","v":""},{"$f":"IF(Outputs!E123<>\"\",Outputs!B123,\"\")","v":""},"","","","","","","",{"$f":"IF(A124=\"\",\"\",Outputs!C123)","v":""},{"$f":"IF(A124=\"\",\"\",Outputs!J123)","v":""},{"$f":"IF(B124=\"\",\"\",Outputs!K123)","v":""},{"$f":"IF(Outputs!E123=\"\",\"\",Outputs!E123)","v":""},{"$f":"IF(Outputs!F123=\"\",\"\",Outputs!F123)","v":""},{"$f":"IF(Outputs!G123=\"\",\"\",Outputs!G123)","v":""},{"$f":"IF(Outputs!H123=\"\",\"\",Outputs!H123)","v":""},{"$f":"IF(Outputs!I123=\"\",\"\",Outputs!I123)","v":""}]
[{"$f":"IF(Outputs!E124<>\"\",Outputs!A124,\"\")","v":""},{"$f":"IF(Outputs!E124<>\"\",Outputs!B124,\"\")","v":""},"","","","","","","",{"$f":"IF(A125=\"\",\"\",Outputs!C124)","v":""},{"$f":"IF(A125=\"\",\"\",Outputs!J124)","v":""},{"$f":"IF(B125=\"\",\"\",Outputs!K124)","v":""},{"$f":"IF(Outputs!E124=\"\",\"\",Outputs!E124)","v":""},{"$f":"IF(Outputs!F124=\"\",\"\",Outputs!F124)","v":""},{"$f":"IF(Outputs!G124=\"\",\"\",Outputs!G124)","v":""},{"$f":"IF(Outputs!H124=\"\",\"\",Outputs!H124)","v":""},{"$f":"IF(Outputs!I124=\"\",\"\",Outputs!I124)","v":""}]
[{"$f":"IF(Outputs!E125<>\"\",Outputs!A125,\"\")","v":""},{"$f":"IF(Outputs!E125<>\"\",Outputs!B125,\"\")","v":""},"","","","","","","",{"$f":"IF(A126=\"\",\"\",Outputs!C125)","v":""},{"$f":"IF(A126=\"\",\"\",Outputs!J125)","v":""},{"$f":"IF(B126=\"\",\"\",Outputs!K125)","v":""},{"$f":"IF(Outputs!E125=\"\",\"\",Outputs!E125)","v":""},{"$f":"IF(Outputs!F125=\"\",\"\",Outputs!F125)","v":""},{"$f":"IF(Outputs!G125=\"\",\"\",Outputs!G125)","v":""},{"$f":"IF(Outputs!H125=\"\",\"\",Outputs!H125)","v":""},{"$f":"IF(Outputs!I125=\"\",\"\",Outputs!I125)","v":""}]
[{"$f":"IF(Outputs!E126<>\"\",Outputs!A126,\"\")","v":""},{"$f":"IF(Outputs!E126<>\"\",Outputs!B126,\"\")","v":""},"","","","","","","",{"$f":"IF(A127=\"\",\"\",Outputs!C126)","v":""},{"$f":"IF(A127=\"\",\"\",Outputs!J126)","v":""},{"$f":"IF(B127=\"\",\"\",Outputs!K126)","v":""},{"$f":"IF(Outputs!E126=\"\",\"\",Outputs!E126)","v":""},{"$f":"IF(Outputs!F126=\"\",\"\",Outputs!F126)","v":""},{"$f":"IF(Outputs!G126=\"\",\"\",Outputs!G126)","v":""},{"$f":"IF(Outputs!H126=\"\",\"\",Outputs!H126)","v":""},{"$f":"IF(Outputs!I126=\"\",\"\",Outputs!I126)","v":""}]
[{"$f":"IF(Outputs!E127<>\"\",Outputs!A127,\"\")","v":""},{"$f":"IF(Outputs!E127<>\"\",Outputs!B127,\"\")","v":""},"","","","","","","",{"$f":"IF(A128=\"\",\"\",Outputs!C127)","v":""},{"$f":"IF(A128=\"\",\"\",Outputs!J127)","v":""},{"$f":"IF(B128=\"\",\"\",Outputs!K127)","v":""},{"$f":"IF(Outputs!E127=\"\",\"\",Outputs!E127)","v":""},{"$f":"IF(Outputs!F127=\"\",\"\",Outputs!F127)","v":""},{"$f":"IF(Outputs!G127=\"\",\"\",Outputs!G127)","v":""},{"$f":"IF(Outputs!H127=\"\",\"\",Outputs!H127)","v":""},{"$f":"IF(Outputs!I127=\"\",\"\",Outputs!I127)","v":""}]
[{"$f":"IF(Outputs!E128<>\"\",Outputs!A128,\"\")","v":""},{"$f":"IF(Outputs!E128<>\"\",Outputs!B128,\"\")","v":""},"","","","","","","",{"$f":"IF(A129=\"\",\"\",Outputs!C128)","v":""},{"$f":"IF(A129=\"\",\"\",Outputs!J128)","v":""},{"$f":"IF(B129=\"\",\"\",Outputs!K128)","v":""},{"$f":"IF(Outputs!E128=\"\",\"\",Outputs!E128)","v":""},{"$f":"IF(Outputs!F128=\"\",\"\",Outputs!F128)","v":""},{"$f":"IF(Outputs!G128=\"\",\"\",Outputs!G128)","v":""},{"$f":"IF(Outputs!H128=\"\",\"\",Outputs!H128)","v":""},{"$f":"IF(Outputs!I128=\"\",\"\",Outputs!I128)","v":""}]
[{"$f":"IF(Outputs!E129<>\"\",Outputs!A129,\"\")","v":""},{"$f":"IF(Outputs!E129<>\"\",Outputs!B129,\"\")","v":""},"","","","","","","",{"$f":"IF(A130=\"\",\"\",Outputs!C129)","v":""},{"$f":"IF(A130=\"\",\"\",Outputs!J129)","v":""},{"$f":"IF(B130=\"\",\"\",Outputs!K129)","v":""},{"$f":"IF(Outputs!E129=\"\",\"\",Outputs!E129)","v":""},{"$f":"IF(Outputs!F129=\"\",\"\",Outputs!F129)","v":""},{"$f":"IF(Outputs!G129=\"\",\"\",Outputs!G129)","v":""},{"$f":"IF(Outputs!H129=\"\",\"\",Outputs!H129)","v":""},{"$f":"IF(Outputs!I129=\"\",\"\",Outputs!I129)","v":""}]
[{"$f":"IF(Outputs!E130<>\"\",Outputs!A130,\"\")","v":""},{"$f":"IF(Outputs!E130<>\"\",Outputs!B130,\"\")","v":""},"","","","","","","",{"$f":"IF(A131=\"\",\"\",Outputs!C130)","v":""},{"$f":"IF(A131=\"\",\"\",Outputs!J130)","v":""},{"$f":"IF(B131=\"\",\"\",Outputs!K130)","v":""},{"$f":"IF(Outputs!E130=\"\",\"\",Outputs!E130)","v":""},{"$f":"IF(Outputs!F130=\"\",\"\",Outputs!F130)","v":""},{"$f":"IF(Outputs!G130=\"\",\"\",Outputs!G130)","v":""},{"$f":"IF(Outputs!H130=\"\",\"\",Outputs!H130)","v":""},{"$f":"IF(Outputs!I130=\"\",\"\",Outputs!I130)","v":""}]
[{"$f":"IF(Outputs!E131<>\"\",Outputs!A131,\"\")","v":""},{"$f":"IF(Outputs!E131<>\"\",Outputs!B131,\"\")","v":""},{"$f":"B132","v":""},"","","","","",{"$f":"IF(H132=\"\",\"\",SQRT(J132/PI())*10)","v":""},{"$f":"IF(A132=\"\",\"\",Outputs!C131)","v":""},{"$f":"IF(A132=\"\",\"\",Outputs!J131)","v":""},{"$f":"IF(B132=\"\",\"\",Outputs!K131)","v":""},{"$f":"IF(Outputs!E131=\"\",\"\",Outputs!E131)","v":""},{"$f":"IF(Outputs!F131=\"\",\"\",Outputs!F131)","v":""},{"$f":"IF(Outputs!G131=\"\",\"\",Outputs!G131)","v":""},{"$f":"IF(Outputs!H131=\"\",\"\",Outputs!H131)","v":""},{"$f":"IF(Outputs!I131=\"\",\"\",Outputs!I131)","v":""}]
[{"$f":"IF(Outputs!E132<>\"\",Outputs!A132,\"\")","v":""},{"$f":"IF(Outputs!E132<>\"\",Outputs!B132,\"\")","v":""},"","","","","","","",{"$f":"IF(A133=\"\",\"\",Outputs!C132)","v":""},{"$f":"IF(A133=\"\",\"\",Outputs!J132)","v":""},{"$f":"IF(B133=\"\",\"\",Outputs!K132)","v":""},{"$f":"IF(Outputs!E132=\"\",\"\",Outputs!E132)","v":""},{"$f":"IF(Outputs!F132=\"\",\"\",Outputs!F132)","v":""},{"$f":"IF(Outputs!G132=\"\",\"\",Outputs!G132)","v":""},{"$f":"IF(Outputs!H132=\"\",\"\",Outputs!H132)","v":""},{"$f":"IF(Outputs!I132=\"\",\"\",Outputs!I132)","v":""}]
[{"$f":"IF(Outputs!E133<>\"\",Outputs!A133,\"\")","v":""},{"$f":"IF(Outputs!E133<>\"\",Outputs!B133,\"\")","v":""},"","","","","","","",{"$f":"IF(A134=\"\",\"\",Outputs!C133)","v":""},{"$f":"IF(A134=\"\",\"\",Outputs!J133)","v":""},{"$f":"IF(B134=\"\",\"\",Outputs!K133)","v":""},{"$f":"IF(Outputs!E133=\"\",\"\",Outputs!E133)","v":""},{"$f":"IF(Outputs!F133=\"\",\"\",Outputs!F133)","v":""},{"$f":"IF(Outputs!G133=\"\",\"\",Outputs!G133)","v":""},{"$f":"IF(Outputs!H133=\"\",\"\",Outputs!H133)","v":""},{"$f":"IF(Outputs!I133=\"\",\"\",Outputs!I133)","v":""}]
[{"$f":"IF(Outputs!E134<>\"\",Outputs!A134,\"\")","v":""},{"$f":"IF(Outputs!E134<>\"\",Outputs!B134,\"\")","v":""},"","","","","","","",{"$f":"IF(A135=\"\",\"\",Outputs!C134)","v":""},{"$f":"IF(A135=\"\",\"\",Outputs!J134)","v":""},{"$f":"IF(B135=\"\",\"\",Outputs!K134)","v":""},{"$f":"IF(Outputs!E134=\"\",\"\",Outputs!E134)","v":""},{"$f":"IF(Outputs!F134=\"\",\"\",Outputs!F134)","v":""},{"$f":"IF(Outputs!G134=\"\",\"\",Outputs!G134)","v":""},{"$f":"IF(Outputs!H134=\"\",\"\",Outputs!H134)","v":""},{"$f":"IF(Outputs!I134=\"\",\"\",Outputs!I134)","v":""}]
[{"$f":"IF(Outputs!E135<>\"\",Outputs!A135,\"\")","v":""},{"$f":"IF(Outputs!E135<>\"\",Outputs!B135,\"\")","v":""},"","","","","","","",{"$f":"IF(A136=\"\",\"\",Outputs!C135)","v":""},{"$f":"IF(A136=\"\",\"\",Outputs!J135)","v":""},{"$f":"IF(B136=\"\",\"\",Outputs!K135)","v":""},{"$f":"IF(Outputs!E135=\"\",\"\",Outputs!E135)","v":""},{"$f":"IF(Outputs!F135=\"\",\"\",Outputs!F135)","v":""},{"$f":"IF(Outputs!G135=\"\",\"\",Outputs!G135)","v":""},{"$f":"IF(Outputs!H135=\"\",\"\",Outputs!H135)","v":""},{"$f":"IF(Outputs!I135=\"\",\"\",Outputs!I135)","v":""}]
[{"$f":"IF(Outputs!E136<>\"\",Outputs!A136,\"\")","v":""},{"$f":"IF(Outputs!E136<>\"\",Outputs!B136,\"\")","v":""},"","","","","","","",{"$f":"IF(A137=\"\",\"\",Outputs!C136)","v":""},{"$f":"IF(A137=\"\",\"\",Outputs!J136)","v":""},{"$f":"IF(B137=\"\",\"\",Outputs!K136)","v":""},{"$f":"IF(Outputs!E136=\"\",\"\",Outputs!E136)","v":""},{"$f":"IF(Outputs!F136=\"\",\"\",Outputs!F136)","v":""},{"$f":"IF(Outputs!G136=\"\",\"\",Outputs!G136)","v":""},{"$f":"IF(Outputs!H136=\"\",\"\",Outputs!H136)","v":""},{"$f":"IF(Outputs!I136=\"\",\"\",Outputs!I136)","v":""}]
[{"$f":"IF(Outputs!E137<>\"\",Outputs!A137,\"\")","v":""},{"$f":"IF(Outputs!E137<>\"\",Outputs!B137,\"\")","v":""},"","","","","","","",{"$f":"IF(A138=\"\",\"\",Outputs!C137)","v":""},{"$f":"IF(A138=\"\",\"\",Outputs!J137)","v":""},{"$f":"IF(B138=\"\",\"\",Outputs!K137)","v":""},{"$f":"IF(Outputs!E137=\"\",\"\",Outputs!E137)","v":""},{"$f":"IF(Outputs!F137=\"\",\"\",Outputs!F137)","v":""},{"$f":"IF(Outputs!G137=\"\",\"\",Outputs!G137)","v":""},{"$f":"IF(Outputs!H137=\"\",\"\",Outputs!H137)","v":""},{"$f":"IF(Outputs!I137=\"\",\"\",Outputs!I137)","v":""}]
[{"$f":"IF(Outputs!E138<>\"\",Outputs!A138,\"\")","v":""},{"$f":"IF(Outputs!E138<>\"\",Outputs!B138,\"\")","v":""},"","","","","","","",{"$f":"IF(A139=\"\",\"\",Outputs!C138)","v":""},{"$f":"IF(A139=\"\",\"\",Outputs!J138)","v":""},{"$f":"IF(B139=\"\",\"\",Outputs!K138)","v":""},{"$f":"IF(Outputs!E138=\"\",\"\",Outputs!E138)","v":""},{"$f":"IF(Outputs!F138=\"\",\"\",Outputs!F138)","v":""},{"$f":"IF(Outputs!G138=\"\",\"\",Outputs!G138)","v":""},{"$f":"IF(Outputs!H138=\"\",\"\",Outputs!H138)","v":""},{"$f":"IF(Outputs!I138=\"\",\"\",Outputs!I138)","v":""}]
[{"$f":"IF(Outputs!E139<>\"\",Outputs!A139,\"\")","v":""},{"$f":"IF(Outputs!E139<>\"\",Outputs!B139,\"\")","v":""},"","","","","","","",{"$f":"IF(A140=\"\",\"\",Outputs!C139)","v":""},{"$f":"IF(A140=\"\",\"\",Outputs!J139)","v":""},{"$f":"IF(B140=\"\",\"\",Outputs!K139)","v":""},{"$f":"IF(Outputs!E139=\"\",\"\",Outputs!E139)","v":""},{"$f":"IF(Outputs!F139=\"\",\"\",Outputs!F139)","v":""},{"$f":"IF(Outputs!G139=\"\",\"\",Outputs!G139)","v":""},{"$f":"IF(Outputs!H139=\"\",\"\",Outputs!H139)","v":""},{"$f":"IF(Outputs!I139=\"\",\"\",Outputs!I139)","v":""}]
[{"$f":"IF(Outputs!E140<>\"\",Outputs!A140,\"\")","v":""},{"$f":"IF(Outputs!E140<>\"\",Outputs!B140,\"\")","v":""},"","","","","","","",{"$f":"IF(A141=\"\",\"\",Outputs!C140)","v":""},{"$f":"IF(A141=\"\",\"\",Outputs!J140)","v":""},{"$f":"IF(B141=\"\",\"\",Outputs!K140)","v":""},{"$f":"IF(Outputs!E140=\"\",\"\",Outputs!E140)","v":""},{"$f":"IF(Outputs!F140=\"\",\"\",Outputs!F140)","v":""},{"$f":"IF(Outputs!G140=\"\",\"\",Outputs!G140)","v":""},{"$f":"IF(Outputs!H140=\"\",\"\",Outputs!H140)","v":""},{"$f":"IF(Outputs!I140=\"\",\"\",Outputs!I140)","v":""}]
[{"$f":"IF(Outputs!E141<>\"\",Outputs!A141,\"\")","v":""},{"$f":"IF(Outputs!E141<>\"\",Outputs!B141,\"\")","v":""},"","","","","","","",{"$f":"IF(A142=\"\",\"\",Outputs!C141)","v":""},{"$f":"IF(A142=\"\",\"\",Outputs!J141)","v":""},{"$f":"IF(B142=\"\",\"\",Outputs!K141)","v":""},{"$f":"IF(Outputs!E141=\"\",\"\",Outputs!E141)","v":""},{"$f":"IF(Outputs!F141=\"\",\"\",Outputs!F141)","v":""},{"$f":"IF(Outputs!G141=\"\",\"\",Outputs!G141)","v":""},{"$f":"IF(Outputs!H141=\"\",\"\",Outputs!H141)","v":""},{"$f":"IF(Outputs!I141=\"\",\"\",Outputs!I141)","v":""}]
[{"$f":"IF(Outputs!E142<>\"\",Outputs!A142,\"\")","v":""},{"$f":"IF(Outputs!E142<>\"\",Outputs!B142,\"\")","v":""},"","","","","","","",{"$f":"IF(A143=\"\",\"\",Outputs!C142)","v":""},{"$f":"IF(A143=\"\",\"\",Outputs!J142)","v":""},{"$f":"IF(B143=\"\",\"\",Outputs!K142)","v":""},{"$f":"IF(Outputs!E142=\"\",\"\",Outputs!E142)","v":""},{"$f":"IF(Outputs!F142=\"\",\"\",Outputs!F142)","v":""},{"$f":"IF(Outputs!G142=\"\",\"\",Outputs!G142)","v":""},{"$f":"IF(Outputs!H142=\"\",\"\",Outputs!H142)","v":""},{"$f":"IF(Outputs!I142=\"\",\"\",Outputs!I142)","v":""}]
[{"$f":"IF(Outputs!E143<>\"\",Outputs!A143,\"\")","v":""},{"$f":"IF(Outputs!E143<>\"\",Outputs!B143,\"\")","v":""},"","","","","","","",{"$f":"IF(A144=\"\",\"\",Outputs!C143)","v":""},{"$f":"IF(A144=\"\",\"\",Outputs!J143)","v":""},{"$f":"IF(B144=\"\",\"\",Outputs!K143)","v":""},{"$f":"IF(Outputs!E143=\"\",\"\",Outputs!E143)","v":""},{"$f":"IF(Outputs!F143=\"\",\"\",Outputs!F143)","v":""},{"$f":"IF(Outputs!G143=\"\",\"\",Outputs!G143)","v":""},{"$f":"IF(Outputs!H143=\"\",\"\",Outputs!H143)","v":""},{"$f":"IF(Outputs!I143=\"\",\"\",Outputs!I143)","v":""}]
[{"$f":"IF(Outputs!E144<>\"\",Outputs!A144,\"\")","v":""},{"$f":"IF(Outputs!E144<>\"\",Outputs!B144,\"\")","v":""},"","","","","","","",{"$f":"IF(A145=\"\",\"\",Outputs!C144)","v":""},{"$f":"IF(A145=\"\",\"\",Outputs!J144)","v":""},{"$f":"IF(B145=\"\",\"\",Outputs!K144)","v":""},{"$f":"IF(Outputs!E144=\"\",\"\",Outputs!E144)","v":""},{"$f":"IF(Outputs!F144=\"\",\"\",Outputs!F144)","v":""},{"$f":"IF(Outputs!G144=\"\",\"\",Outputs!G144)","v":""},{"$f":"IF(Outputs!H144=\"\",\"\",Outputs!H144)","v":""},{"$f":"IF(Outputs!I144=\"\",\"\",Outputs!I144)","v":""}]
[{"$f":"IF(Outputs!E145<>\"\",Outputs!A145,\"\")","v":""},{"$f":"IF(Outputs!E145<>\"\",Outputs!B145,\"\")","v":""},"","","","","","","",{"$f":"IF(A146=\"\",\"\",Outputs!C145)","v":""},{"$f":"IF(A146=\"\",\"\",Outputs!J145)","v":""},{"$f":"IF(B146=\"\",\"\",Outputs!K145)","v":""},{"$f":"IF(Outputs!E145=\"\",\"\",Outputs!E145)","v":""},{"$f":"IF(Outputs!F145=\"\",\"\",Outputs!F145)","v":""},{"$f":"IF(Outputs!G145=\"\",\"\",Outputs!G145)","v":""},{"$f":"IF(Outputs!H145=\"\",\"\",Outputs!H145)","v":""},{"$f":"IF(Outputs!I145=\"\",\"\",Outputs!I145)","v":""}]
[{"$f":"IF(Outputs!E146<>\"\",Outputs!A146,\"\")","v":""},{"$f":"IF(Outputs!E146<>\"\",Outputs!B146,\"\")","v":""},"","","","","","","",{"$f":"IF(A147=\"\",\"\",Outputs!C146)","v":""},{"$f":"IF(A147=\"\",\"\",Outputs!J146)","v":""},{"$f":"IF(B147=\"\",\"\",Outputs!K146)","v":""},{"$f":"IF(Outputs!E146=\"\",\"\",Outputs!E146)","v":""},{"$f":"IF(Outputs!F146=\"\",\"\",Outputs!F146)","v":""},{"$f":"IF(Outputs!G146=\"\",\"\",Outputs!G146)","v":""},{"$f":"IF(Outputs!H146=\"\",\"\",Outputs!H146)","v":""},{"$f":"IF(Outputs!I146=\"\",\"\",Outputs!I146)","v":""}]
[{"$f":"IF(Outputs!E147<>\"\",Outputs!A147,\"\")","v":""},{"$f":"IF(Outputs!E147<>\"\",Outputs!B147,\"\")","v":""},"","","","","","","",{"$f":"IF(A148=\"\",\"\",Outputs!C147)","v":""},{"$f":"IF(A148=\"\",\"\",Outputs!J147)","v":""},{"$f":"IF(B148=\"\",\"\",Outputs!K147)","v":""},{"$f":"IF(Outputs!E147=\"\",\"\",Outputs!E147)","v":""},{"$f":"IF(Outputs!F147=\"\",\"\",Outputs!F147)","v":""},{"$f":"IF(Outputs!G147=\"\",\"\",Outputs!G147)","v":""},{"$f":"IF(Outputs!H147=\"\",\"\",Outputs!H147)","v":""},{"$f":"IF(Outputs!I147=\"\",\"\",Outputs!I147)","v":""}]
[{"$f":"IF(Outputs!E148<>\"\",Outputs!A148,\"\")","v":""},{"$f":"IF(Outputs!E148<>\"\",Outputs!B148,\"\")","v":""},"","","","","","","",{"$f":"IF(A149=\"\",\"\",Outputs!C148)","v":""},{"$f":"IF(A149=\"\",\"\",Outputs!J148)","v":""},{"$f":"IF(B149=\"\",\"\",Outputs!K148)","v":""},{"$f":"IF(Outputs!E148=\"\",\"\",Outputs!E148)","v":""},{"$f":"IF(Outputs!F148=\"\",\"\",Outputs!F148)","v":""},{"$f":"IF(Outputs!G148=\"\",\"\",Outputs!G148)","v":""},{"$f":"IF(Outputs!H148=\"\",\"\",Outputs!H148)","v":""},{"$f":"IF(Outputs!I148=\"\",\"\",Outputs!I148)","v":""}]
[{"$f":"IF(Outputs!E149<>\"\",Outputs!A149,\"\")","v":""},{"$f":"IF(Outputs!E149<>\"\",Outputs!B149,\"\")","v":""},"","","","","","","",{"$f":"IF(A150=\"\",\"\",Outputs!C149)","v":""},{"$f":"IF(A150=\"\",\"\",Outputs!J149)","v":""},{"$f":"IF(B150=\"\",\"\",Outputs!K149)","v":""},{"$f":"IF(Outputs!E149=\"\",\"\",Outputs!E149)","v":""},{"$f":"IF(Outputs!F149=\"\",\"\",Outputs!F149)","v":""},{"$f":"IF(Outputs!G149=\"\",\"\",Outputs!G149)","v":""},{"$f":"IF(Outputs!H149=\"\",\"\",Outputs!H149)","v":""},{"$f":"IF(Outputs!I149=\"\",\"\",Outputs!I149)","v":""}]
[{"$f":"IF(Outputs!E150<>\"\",Outputs!A150,\"\")","v":""},{"$f":"IF(Outputs!E150<>\"\",Outputs!B150,\"\")","v":""},"","","","","","","",{"$f":"IF(A151=\"\",\"\",Outputs!C150)","v":""},{"$f":"IF(A151=\"\",\"\",Outputs!J150)","v":""},{"$f":"IF(B151=\"\",\"\",Outputs!K150)","v":""},{"$f":"IF(Outputs!E150=\"\",\"\",Outputs!E150)","v":""},{"$f":"IF(Outputs!F150=\"\",\"\",Outputs!F150)","v":""},{"$f":"IF(Outputs!G150=\"\",\"\",Outputs!G150)","v":""},{"$f":"IF(Outputs!H150=\"\",\"\",Outputs!H150)","v":""},{"$f":"IF(Outputs!I150=\"\",\"\",Outputs!I150)","v":""}]
[{"$f":"IF(Outputs!E151<>\"\",Outputs!A151,\"\")","v":""},{"$f":"IF(Outputs!E151<>\"\",Outputs!B151,\"\")","v":""},"","","","","","","",{"$f":"IF(A152=\"\",\"\",Outputs!C151)","v":""},{"$f":"IF(A152=\"\",\"\",Outputs!J151)","v":""},{"$f":"IF(B152=\"\",\"\",Outputs!K151)","v":""},{"$f":"IF(Outputs!E151=\"\",\"\",Outputs!E151)","v":""},{"$f":"IF(Outputs!F151=\"\",\"\",Outputs!F151)","v":""},{"$f":"IF(Outputs!G151=\"\",\"\",Outputs!G151)","v":""},{"$f":"IF(Outputs!H151=\"\",\"\",Outputs!H151)","v":""},{"$f":"IF(Outputs!I151=\"\",\"\",Outputs!I151)","v":""}]
[{"$f":"IF(Outputs!E152<>\"\",Outputs!A152,\"\")","v":""},{"$f":"IF(Outputs!E152<>\"\",Outputs!B152,\"\")","v":""},"","","","","","","",{"$f":"IF(A153=\"\",\"\",Outputs!C152)","v":""},{"$f":"IF(A153=\"\",\"\",Outputs!J152)","v":""},{"$f":"IF(B153=\"\",\"\",Outputs!K152)","v":""},{"$f":"IF(Outputs!E152=\"\",\"\",Outputs!E152)","v":""},{"$f":"IF(Outputs!F152=\"\",\"\",Outputs!F152)","v":""},{"$f":"IF(Outputs!G152=\"\",\"\",Outputs!G152)","v":""},{"$f":"IF(Outputs!H152=\"\",\"\",Outputs!H152)","v":""},{"$f":"IF(Outputs!I152=\"\",\"\",Outputs!I152)","v":""}]
[{"$f":"IF(Outputs!E153<>\"\",Outputs!A153,\"\")","v":""},{"$f":"IF(Outputs!E153<>\"\",Outputs!B153,\"\")","v":""},"","","","","","","",{"$f":"IF(A154=\"\",\"\",Outputs!C153)","v":""},{"$f":"IF(A154=\"\",\"\",Outputs!J153)","v":""},{"$f":"IF(B154=\"\",\"\",Outputs!K153)","v":""},{"$f":"IF(Outputs!E153=\"\",\"\",Outputs!E153)","v":""},{"$f":"IF(Outputs!F153=\"\",\"\",Outputs!F153)","v":""},{"$f":"IF(Outputs!G153=\"\",\"\",Outputs!G153)","v":""},{"$f":"IF(Outputs!H153=\"\",\"\",Outputs!H153)","v":""},{"$f":"IF(Outputs!I153=\"\",\"\",Outputs!I153)","v":""}]
[{"$f":"IF(Outputs!E154<>\"\",Outputs!A154,\"\")","v":""},{"$f":"IF(Outputs!E154<>\"\",Outputs!B154,\"\")","v":""},"",{"$f":"IF(C155=\"\",\"\",\"<b>\" & B155 & \"</b><br>\" & \"<b>Population attributed:</b> \" & J155 & \"</br>\" & \"<b> Effective Time:</b>  \" & M155 & \" minutes\" & \"</br>\"& \"<b> Option 1:</b>  \" & N155 & \"</br>\"& \"<b> Option 2:</b>  \" &O155 & \"</br>\"& \"<b> Option 3:</b>  \" & P155 & \"</br>\"& \"<b> Option 4:</b>  \" & Q155)","v":""},{"$f":"IF(D155=\"\",\"\",IF(M155<45,\"http://labs.google.com/ridefinder/images/mm_20_green.png\",\"http://labs.google.com/ridefinder/images/mm_20_red.png\"))","v":""},{"$f":"IF(E155=\"\",\"\",IF(J155>15000,\"big\",IF(J155>10000,\"medium\",\"small\")))","v":""},{"$f":"F155","v":""},{"$f":"IF(G155=\"\",\"\",IF(M155<45,\"#458B00\",\"#D41243\"))","v":""},"",{"$f":"IF(A155=\"\",\"\",Outputs!C154)","v":""},{"$f":"IF(A155=\"\",\"\",Outputs!J154)","v":""},{"$f":"IF(B155=\"\",\"\",Outputs!K154)","v":""},{"$f":"IF(Outputs!E154=\"\",\"\",Outputs!E154)","v":""},{"$f":"IF(Outputs!F154=\"\",\"\",Outputs!F154)","v":""},{"$f":"IF(Outputs!G154=\"\",\"\",Outputs!G154)","v":""},{"$f":"IF(Outputs!H154=\"\",\"\",Outputs!H154)","v":""},{"$f":"IF(Outputs!I154=\"\",\"\",Outputs!I154)","v":""}]
[{"$f":"IF(Outputs!E155<>\"\",Outputs!A155,\"\")","v":""},{"$f":"IF(Outputs!E155<>\"\",Outputs!B155,\"\")","v":""},"","","","","","","",{"$f":"IF(A156=\"\",\"\",Outputs!C155)","v":""},{"$f":"IF(A156=\"\",\"\",Outputs!J155)","v":""},{"$f":"IF(B156=\"\",\"\",Outputs!K155)","v":""},{"$f":"IF(Outputs!E155=\"\",\"\",Outputs!E155)","v":""},{"$f":"IF(Outputs!F155=\"\",\"\",Outputs!F155)","v":""},{"$f":"IF(Outputs!G155=\"\",\"\",Outputs!G155)","v":""},{"$f":"IF(Outputs!H155=\"\",\"\",Outputs!H155)","v":""},{"$f":"IF(Outputs!I155=\"\",\"\",Outputs!I155)","v":""}]
[{"$f":"IF(Outputs!E156<>\"\",Outputs!A156,\"\")","v":""},{"$f":"IF(Outputs!E156<>\"\",Outputs!B156,\"\")","v":""},"","","","","","","",{"$f":"IF(A157=\"\",\"\",Outputs!C156)","v":""},{"$f":"IF(A157=\"\",\"\",Outputs!J156)","v":""},{"$f":"IF(B157=\"\",\"\",Outputs!K156)","v":""},{"$f":"IF(Outputs!E156=\"\",\"\",Outputs!E156)","v":""},{"$f":"IF(Outputs!F156=\"\",\"\",Outputs!F156)","v":""},{"$f":"IF(Outputs!G156=\"\",\"\",Outputs!G156)","v":""},{"$f":"IF(Outputs!H156=\"\",\"\",Outputs!H156)","v":""},{"$f":"IF(Outputs!I156=\"\",\"\",Outputs!I156)","v":""}]
[{"$f":"IF(Outputs!E157<>\"\",Outputs!A157,\"\")","v":""},{"$f":"IF(Outputs!E157<>\"\",Outputs!B157,\"\")","v":""},"","","","","","","",{"$f":"IF(A158=\"\",\"\",Outputs!C157)","v":""},{"$f":"IF(A158=\"\",\"\",Outputs!J157)","v":""},{"$f":"IF(B158=\"\",\"\",Outputs!K157)","v":""},{"$f":"IF(Outputs!E157=\"\",\"\",Outputs!E157)","v":""},{"$f":"IF(Outputs!F157=\"\",\"\",Outputs!F157)","v":""},{"$f":"IF(Outputs!G157=\"\",\"\",Outputs!G157)","v":""},{"$f":"IF(Outputs!H157=\"\",\"\",Outputs!H157)","v":""},{"$f":"IF(Outputs!I157=\"\",\"\",Outputs!I157)","v":""}]
[{"$f":"IF(Outputs!E158<>\"\",Outputs!A158,\"\")","v":""},{"$f":"IF(Outputs!E158<>\"\",Outputs!B158,\"\")","v":""},"","","","","","","",{"$f":"IF(A159=\"\",\"\",Outputs!C158)","v":""},{"$f":"IF(A159=\"\",\"\",Outputs!J158)","v":""},{"$f":"IF(B159=\"\",\"\",Outputs!K158)","v":""},{"$f":"IF(Outputs!E158=\"\",\"\",Outputs!E158)","v":""},{"$f":"IF(Outputs!F158=\"\",\"\",Outputs!F158)","v":""},{"$f":"IF(Outputs!G158=\"\",\"\",Outputs!G158)","v":""},{"$f":"IF(Outputs!H158=\"\",\"\",Outputs!H158)","v":""},{"$f":"IF(Outputs!I158=\"\",\"\",Outputs!I158)","v":""}]
[{"$f":"IF(Outputs!E159<>\"\",Outputs!A159,\"\")","v":""},{"$f":"IF(Outputs!E159<>\"\",Outputs!B159,\"\")","v":""},"","","","","","","",{"$f":"IF(A160=\"\",\"\",Outputs!C159)","v":""},{"$f":"IF(A160=\"\",\"\",Outputs!J159)","v":""},{"$f":"IF(B160=\"\",\"\",Outputs!K159)","v":""},{"$f":"IF(Outputs!E159=\"\",\"\",Outputs!E159)","v":""},{"$f":"IF(Outputs!F159=\"\",\"\",Outputs!F159)","v":""},{"$f":"IF(Outputs!G159=\"\",\"\",Outputs!G159)","v":""},{"$f":"IF(Outputs!H159=\"\",\"\",Outputs!H159)","v":""},{"$f":"IF(Outputs!I159=\"\",\"\",Outputs!I159)","v":""}]
[{"$f":"IF(Outputs!E160<>\"\",Outputs!A160,\"\")","v":""},{"$f":"IF(Outputs!E160<>\"\",Outputs!B160,\"\")","v":""},"","","","","","","",{"$f":"IF(A161=\"\",\"\",Outputs!C160)","v":""},{"$f":"IF(A161=\"\",\"\",Outputs!J160)","v":""},{"$f":"IF(B161=\"\",\"\",Outputs!K160)","v":""},{"$f":"IF(Outputs!E160=\"\",\"\",Outputs!E160)","v":""},{"$f":"IF(Outputs!F160=\"\",\"\",Outputs!F160)","v":""},{"$f":"IF(Outputs!G160=\"\",\"\",Outputs!G160)","v":""},{"$f":"IF(Outputs!H160=\"\",\"\",Outputs!H160)","v":""},{"$f":"IF(Outputs!I160=\"\",\"\",Outputs!I160)","v":""}]
[{"$f":"IF(Outputs!E161<>\"\",Outputs!A161,\"\")","v":""},{"$f":"IF(Outputs!E161<>\"\",Outputs!B161,\"\")","v":""},"","","","","","","",{"$f":"IF(A162=\"\",\"\",Outputs!C161)","v":""},{"$f":"IF(A162=\"\",\"\",Outputs!J161)","v":""},{"$f":"IF(B162=\"\",\"\",Outputs!K161)","v":""},{"$f":"IF(Outputs!E161=\"\",\"\",Outputs!E161)","v":""},{"$f":"IF(Outputs!F161=\"\",\"\",Outputs!F161)","v":""},{"$f":"IF(Outputs!G161=\"\",\"\",Outputs!G161)","v":""},{"$f":"IF(Outputs!H161=\"\",\"\",Outputs!H161)","v":""},{"$f":"IF(Outputs!I161=\"\",\"\",Outputs!I161)","v":""}]
[{"$f":"IF(Outputs!E162<>\"\",Outputs!A162,\"\")","v":""},{"$f":"IF(Outputs!E162<>\"\",Outputs!B162,\"\")","v":""},"","","","","","","",{"$f":"IF(A163=\"\",\"\",Outputs!C162)","v":""},{"$f":"IF(A163=\"\",\"\",Outputs!J162)","v":""},{"$f":"IF(B163=\"\",\"\",Outputs!K162)","v":""},{"$f":"IF(Outputs!E162=\"\",\"\",Outputs!E162)","v":""},{"$f":"IF(Outputs!F162=\"\",\"\",Outputs!F162)","v":""},{"$f":"IF(Outputs!G162=\"\",\"\",Outputs!G162)","v":""},{"$f":"IF(Outputs!H162=\"\",\"\",Outputs!H162)","v":""},{"$f":"IF(Outputs!I162=\"\",\"\",Outputs!I162)","v":""}]
[{"$f":"IF(Outputs!E163<>\"\",Outputs!A163,\"\")","v":""},{"$f":"IF(Outputs!E163<>\"\",Outputs!B163,\"\")","v":""},"","","","","","","",{"$f":"IF(A164=\"\",\"\",Outputs!C163)","v":""},{"$f":"IF(A164=\"\",\"\",Outputs!J163)","v":""},{"$f":"IF(B164=\"\",\"\",Outputs!K163)","v":""},{"$f":"IF(Outputs!E163=\"\",\"\",Outputs!E163)","v":""},{"$f":"IF(Outputs!F163=\"\",\"\",Outputs!F163)","v":""},{"$f":"IF(Outputs!G163=\"\",\"\",Outputs!G163)","v":""},{"$f":"IF(Outputs!H163=\"\",\"\",Outputs!H163)","v":""},{"$f":"IF(Outputs!I163=\"\",\"\",Outputs!I163)","v":""}]
[{"$f":"IF(Outputs!E164<>\"\",Outputs!A164,\"\")","v":""},{"$f":"IF(Outputs!E164<>\"\",Outputs!B164,\"\")","v":""},"","","","","","","",{"$f":"IF(A165=\"\",\"\",Outputs!C164)","v":""},{"$f":"IF(A165=\"\",\"\",Outputs!J164)","v":""},{"$f":"IF(B165=\"\",\"\",Outputs!K164)","v":""},{"$f":"IF(Outputs!E164=\"\",\"\",Outputs!E164)","v":""},{"$f":"IF(Outputs!F164=\"\",\"\",Outputs!F164)","v":""},{"$f":"IF(Outputs!G164=\"\",\"\",Outputs!G164)","v":""},{"$f":"IF(Outputs!H164=\"\",\"\",Outputs!H164)","v":""},{"$f":"IF(Outputs!I164=\"\",\"\",Outputs!I164)","v":""}]
[{"$f":"IF(Outputs!E165<>\"\",Outputs!A165,\"\")","v":""},{"$f":"IF(Outputs!E165<>\"\",Outputs!B165,\"\")","v":""},"","","","","","","",{"$f":"IF(A166=\"\",\"\",Outputs!C165)","v":""},{"$f":"IF(A166=\"\",\"\",Outputs!J165)","v":""},{"$f":"IF(B166=\"\",\"\",Outputs!K165)","v":""},{"$f":"IF(Outputs!E165=\"\",\"\",Outputs!E165)","v":""},{"$f":"IF(Outputs!F165=\"\",\"\",Outputs!F165)","v":""},{"$f":"IF(Outputs!G165=\"\",\"\",Outputs!G165)","v":""},{"$f":"IF(Outputs!H165=\"\",\"\",Outputs!H165)","v":""},{"$f":"IF(Outputs!I165=\"\",\"\",Outputs!I165)","v":""}]
[{"$f":"IF(Outputs!E166<>\"\",Outputs!A166,\"\")","v":""},{"$f":"IF(Outputs!E166<>\"\",Outputs!B166,\"\")","v":""},"","","","","","","",{"$f":"IF(A167=\"\",\"\",Outputs!C166)","v":""},{"$f":"IF(A167=\"\",\"\",Outputs!J166)","v":""},{"$f":"IF(B167=\"\",\"\",Outputs!K166)","v":""},{"$f":"IF(Outputs!E166=\"\",\"\",Outputs!E166)","v":""},{"$f":"IF(Outputs!F166=\"\",\"\",Outputs!F166)","v":""},{"$f":"IF(Outputs!G166=\"\",\"\",Outputs!G166)","v":""},{"$f":"IF(Outputs!H166=\"\",\"\",Outputs!H166)","v":""},{"$f":"IF(Outputs!I166=\"\",\"\",Outputs!I166)","v":""}]
[{"$f":"IF(Outputs!E167<>\"\",Outputs!A167,\"\")","v":""},{"$f":"IF(Outputs!E167<>\"\",Outputs!B167,\"\")","v":""},"","","","","","","",{"$f":"IF(A168=\"\",\"\",Outputs!C167)","v":""},{"$f":"IF(A168=\"\",\"\",Outputs!J167)","v":""},{"$f":"IF(B168=\"\",\"\",Outputs!K167)","v":""},{"$f":"IF(Outputs!E167=\"\",\"\",Outputs!E167)","v":""},{"$f":"IF(Outputs!F167=\"\",\"\",Outputs!F167)","v":""},{"$f":"IF(Outputs!G167=\"\",\"\",Outputs!G167)","v":""},{"$f":"IF(Outputs!H167=\"\",\"\",Outputs!H167)","v":""},{"$f":"IF(Outputs!I167=\"\",\"\",Outputs!I167)","v":""}]
[{"$f":"IF(Outputs!E168<>\"\",Outputs!A168,\"\")","v":""},{"$f":"IF(Outputs!E168<>\"\",Outputs!B168,\"\")","v":""},"","","","","","","",{"$f":"IF(A169=\"\",\"\",Outputs!C168)","v":""},{"$f":"IF(A169=\"\",\"\",Outputs!J168)","v":""},{"$f":"IF(B169=\"\",\"\",Outputs!K168)","v":""},{"$f":"IF(Outputs!E168=\"\",\"\",Outputs!E168)","v":""},{"$f":"IF(Outputs!F168=\"\",\"\",Outputs!F168)","v":""},{"$f":"IF(Outputs!G168=\"\",\"\",Outputs!G168)","v":""},{"$f":"IF(Outputs!H168=\"\",\"\",Outputs!H168)","v":""},{"$f":"IF(Outputs!I168=\"\",\"\",Outputs!I168)","v":""}]
[{"$f":"IF(Outputs!E169<>\"\",Outputs!A169,\"\")","v":""},{"$f":"IF(Outputs!E169<>\"\",Outputs!B169,\"\")","v":""},"","","","","","","",{"$f":"IF(A170=\"\",\"\",Outputs!C169)","v":""},{"$f":"IF(A170=\"\",\"\",Outputs!J169)","v":""},{"$f":"IF(B170=\"\",\"\",Outputs!K169)","v":""},{"$f":"IF(Outputs!E169=\"\",\"\",Outputs!E169)","v":""},{"$f":"IF(Outputs!F169=\"\",\"\",Outputs!F169)","v":""},{"$f":"IF(Outputs!G169=\"\",\"\",Outputs!G169)","v":""},{"$f":"IF(Outputs!H169=\"\",\"\",Outputs!H169)","v":""},{"$f":"IF(Outputs!I169=\"\",\"\",Outputs!I169)","v":""}]
[{"$f":"IF(Outputs!E170<>\"\",Outputs!A170,\"\")","v":""},{"$f":"IF(Outputs!E170<>\"\",Outputs!B170,\"\")","v":""},"","","","","","","",{"$f":"IF(A171=\"\",\"\",Outputs!C170)","v":""},{"$f":"IF(A171=\"\",\"\",Outputs!J170)","v":""},{"$f":"IF(B171=\"\",\"\",Outputs!K170)","v":""},{"$f":"IF(Outputs!E170=\"\",\"\",Outputs!E170)","v":""},{"$f":"IF(Outputs!F170=\"\",\"\",Outputs!F170)","v":""},{"$f":"IF(Outputs!G170=\"\",\"\",Outputs!G170)","v":""},{"$f":"IF(Outputs!H170=\"\",\"\",Outputs!H170)","v":""},{"$f":"IF(Outputs!I170=\"\",\"\",Outputs!I170)","v":""}]
[{"$f":"IF(Outputs!E171<>\"\",Outputs!A171,\"\")","v":""},{"$f":"IF(Outputs!E171<>\"\",Outputs!B171,\"\")","v":""},"","","","","","","",{"$f":"IF(A172=\"\",\"\",Outputs!C171)","v":""},{"$f":"IF(A172=\"\",\"\",Outputs!J171)","v":""},{"$f":"IF(B172=\"\",\"\",Outputs!K171)","v":""},{"$f":"IF(Outputs!E171=\"\",\"\",Outputs!E171)","v":""},{"$f":"IF(Outputs!F171=\"\",\"\",Outputs!F171)","v":""},{"$f":"IF(Outputs!G171=\"\",\"\",Outputs!G171)","v":""},{"$f":"IF(Outputs!H171=\"\",\"\",Outputs!H171)","v":""},{"$f":"IF(Outputs!I171=\"\",\"\",Outputs!I171)","v":""}]
[{"$f":"IF(Outputs!E172<>\"\",Outputs!A172,\"\")","v":""},{"$f":"IF(Outputs!E172<>\"\",Outputs!B172,\"\")","v":""},"","","","","","","",{"$f":"IF(A173=\"\",\"\",Outputs!C172)","v":""},{"$f":"IF(A173=\"\",\"\",Outputs!J172)","v":""},{"$f":"IF(B173=\"\",\"\",Outputs!K172)","v":""},{"$f":"IF(Outputs!E172=\"\",\"\",Outputs!E172)","v":""},{"$f":"IF(Outputs!F172=\"\",\"\",Outputs!F172)","v":""},{"$f":"IF(Outputs!G172=\"\",\"\",Outputs!G172)","v":""},{"$f":"IF(Outputs!H172=\"\",\"\",Outputs!H172)","v":""},{"$f":"IF(Outputs!I172=\"\",\"\",Outputs!I172)","v":""}]
[{"$f":"IF(Outputs!E173<>\"\",Outputs!A173,\"\")","v":""},{"$f":"IF(Outputs!E173<>\"\",Outputs!B173,\"\")","v":""},"","","","","","","",{"$f":"IF(A174=\"\",\"\",Outputs!C173)","v":""},{"$f":"IF(A174=\"\",\"\",Outputs!J173)","v":""},{"$f":"IF(B174=\"\",\"\",Outputs!K173)","v":""},{"$f":"IF(Outputs!E173=\"\",\"\",Outputs!E173)","v":""},{"$f":"IF(Outputs!F173=\"\",\"\",Outputs!F173)","v":""},{"$f":"IF(Outputs!G173=\"\",\"\",Outputs!G173)","v":""},{"$f":"IF(Outputs!H173=\"\",\"\",Outputs!H173)","v":""},{"$f":"IF(Outputs!I173=\"\",\"\",Outputs!I173)","v":""}]
[{"$f":"IF(Outputs!E174<>\"\",Outputs!A174,\"\")","v":""},{"$f":"IF(Outputs!E174<>\"\",Outputs!B174,\"\")","v":""},"","","","","","","",{"$f":"IF(A175=\"\",\"\",Outputs!C174)","v":""},{"$f":"IF(A175=\"\",\"\",Outputs!J174)","v":""},{"$f":"IF(B175=\"\",\"\",Outputs!K174)","v":""},{"$f":"IF(Outputs!E174=\"\",\"\",Outputs!E174)","v":""},{"$f":"IF(Outputs!F174=\"\",\"\",Outputs!F174)","v":""},{"$f":"IF(Outputs!G174=\"\",\"\",Outputs!G174)","v":""},{"$f":"IF(Outputs!H174=\"\",\"\",Outputs!H174)","v":""},{"$f":"IF(Outputs!I174=\"\",\"\",Outputs!I174)","v":""}]
[{"$f":"IF(Outputs!E175<>\"\",Outputs!A175,\"\")","v":""},{"$f":"IF(Outputs!E175<>\"\",Outputs!B175,\"\")","v":""},"","","","","","","",{"$f":"IF(A176=\"\",\"\",Outputs!C175)","v":""},{"$f":"IF(A176=\"\",\"\",Outputs!J175)","v":""},{"$f":"IF(B176=\"\",\"\",Outputs!K175)","v":""},{"$f":"IF(Outputs!E175=\"\",\"\",Outputs!E175)","v":""},{"$f":"IF(Outputs!F175=\"\",\"\",Outputs!F175)","v":""},{"$f":"IF(Outputs!G175=\"\",\"\",Outputs!G175)","v":""},{"$f":"IF(Outputs!H175=\"\",\"\",Outputs!H175)","v":""},{"$f":"IF(Outputs!I175=\"\",\"\",Outputs!I175)","v":""}]
[{"$f":"IF(Outputs!E176<>\"\",Outputs!A176,\"\")","v":""},{"$f":"IF(Outputs!E176<>\"\",Outputs!B176,\"\")","v":""},"","","","","","","",{"$f":"IF(A177=\"\",\"\",Outputs!C176)","v":""},{"$f":"IF(A177=\"\",\"\",Outputs!J176)","v":""},{"$f":"IF(B177=\"\",\"\",Outputs!K176)","v":""},{"$f":"IF(Outputs!E176=\"\",\"\",Outputs!E176)","v":""},{"$f":"IF(Outputs!F176=\"\",\"\",Outputs!F176)","v":""},{"$f":"IF(Outputs!G176=\"\",\"\",Outputs!G176)","v":""},{"$f":"IF(Outputs!H176=\"\",\"\",Outputs!H176)","v":""},{"$f":"IF(Outputs!I176=\"\",\"\",Outputs!I176)","v":""}]
[{"$f":"IF(Outputs!E177<>\"\",Outputs!A177,\"\")","v":""},{"$f":"IF(Outputs!E177<>\"\",Outputs!B177,\"\")","v":""},"","","","","","","",{"$f":"IF(A178=\"\",\"\",Outputs!C177)","v":""},{"$f":"IF(A178=\"\",\"\",Outputs!J177)","v":""},{"$f":"IF(B178=\"\",\"\",Outputs!K177)","v":""},{"$f":"IF(Outputs!E177=\"\",\"\",Outputs!E177)","v":""},{"$f":"IF(Outputs!F177=\"\",\"\",Outputs!F177)","v":""},{"$f":"IF(Outputs!G177=\"\",\"\",Outputs!G177)","v":""},{"$f":"IF(Outputs!H177=\"\",\"\",Outputs!H177)","v":""},{"$f":"IF(Outputs!I177=\"\",\"\",Outputs!I177)","v":""}]
[{"$f":"IF(Outputs!E178<>\"\",Outputs!A178,\"\")","v":""},{"$f":"IF(Outputs!E178<>\"\",Outputs!B178,\"\")","v":""},"","","","","","","",{"$f":"IF(A179=\"\",\"\",Outputs!C178)","v":""},{"$f":"IF(A179=\"\",\"\",Outputs!J178)","v":""},{"$f":"IF(B179=\"\",\"\",Outputs!K178)","v":""},{"$f":"IF(Outputs!E178=\"\",\"\",Outputs!E178)","v":""},{"$f":"IF(Outputs!F178=\"\",\"\",Outputs!F178)","v":""},{"$f":"IF(Outputs!G178=\"\",\"\",Outputs!G178)","v":""},{"$f":"IF(Outputs!H178=\"\",\"\",Outputs!H178)","v":""},{"$f":"IF(Outputs!I178=\"\",\"\",Outputs!I178)","v":""}]
[{"$f":"IF(Outputs!E179<>\"\",Outputs!A179,\"\")","v":""},{"$f":"IF(Outputs!E179<>\"\",Outputs!B179,\"\")","v":""},"","","","","","","",{"$f":"IF(A180=\"\",\"\",Outputs!C179)","v":""},{"$f":"IF(A180=\"\",\"\",Outputs!J179)","v":""},{"$f":"IF(B180=\"\",\"\",Outputs!K179)","v":""},{"$f":"IF(Outputs!E179=\"\",\"\",Outputs!E179)","v":""},{"$f":"IF(Outputs!F179=\"\",\"\",Outputs!F179)","v":""},{"$f":"IF(Outputs!G179=\"\",\"\",Outputs!G179)","v":""},{"$f":"IF(Outputs!H179=\"\",\"\",Outputs!H179)","v":""},{"$f":"IF(Outputs!I179=\"\",\"\",Outputs!I179)","v":""}]
[{"$f":"IF(Outputs!E180<>\"\",Outputs!A180,\"\")","v":""},{"$f":"IF(Outputs!E180<>\"\",Outputs!B180,\"\")","v":""},"","","","","","","",{"$f":"IF(A181=\"\",\"\",Outputs!C180)","v":""},{"$f":"IF(A181=\"\",\"\",Outputs!J180)","v":""},{"$f":"IF(B181=\"\",\"\",Outputs!K180)","v":""},{"$f":"IF(Outputs!E180=\"\",\"\",Outputs!E180)","v":""},{"$f":"IF(Outputs!F180=\"\",\"\",Outputs!F180)","v":""},{"$f":"IF(Outputs!G180=\"\",\"\",Outputs!G180)","v":""},{"$f":"IF(Outputs!H180=\"\",\"\",Outputs!H180)","v":""},{"$f":"IF(Outputs!I180=\"\",\"\",Outputs!I180)","v":""}]
[{"$f":"IF(Outputs!E181<>\"\",Outputs!A181,\"\")","v":""},{"$f":"IF(Outputs!E181<>\"\",Outputs!B181,\"\")","v":""},"","","","","","","",{"$f":"IF(A182=\"\",\"\",Outputs!C181)","v":""},{"$f":"IF(A182=\"\",\"\",Outputs!J181)","v":""},{"$f":"IF(B182=\"\",\"\",Outputs!K181)","v":""},{"$f":"IF(Outputs!E181=\"\",\"\",Outputs!E181)","v":""},{"$f":"IF(Outputs!F181=\"\",\"\",Outputs!F181)","v":""},{"$f":"IF(Outputs!G181=\"\",\"\",Outputs!G181)","v":""},{"$f":"IF(Outputs!H181=\"\",\"\",Outputs!H181)","v":""},{"$f":"IF(Outputs!I181=\"\",\"\",Outputs!I181)","v":""}]
[{"$f":"IF(Outputs!E182<>\"\",Outputs!A182,\"\")","v":""},{"$f":"IF(Outputs!E182<>\"\",Outputs!B182,\"\")","v":""},"","","","","","","",{"$f":"IF(A183=\"\",\"\",Outputs!C182)","v":""},{"$f":"IF(A183=\"\",\"\",Outputs!J182)","v":""},{"$f":"IF(B183=\"\",\"\",Outputs!K182)","v":""},{"$f":"IF(Outputs!E182=\"\",\"\",Outputs!E182)","v":""},{"$f":"IF(Outputs!F182=\"\",\"\",Outputs!F182)","v":""},{"$f":"IF(Outputs!G182=\"\",\"\",Outputs!G182)","v":""},{"$f":"IF(Outputs!H182=\"\",\"\",Outputs!H182)","v":""},{"$f":"IF(Outputs!I182=\"\",\"\",Outputs!I182)","v":""}]
[{"$f":"IF(Outputs!E183<>\"\",Outputs!A183,\"\")","v":""},{"$f":"IF(Outputs!E183<>\"\",Outputs!B183,\"\")","v":""},"","","","","","","",{"$f":"IF(A184=\"\",\"\",Outputs!C183)","v":""},{"$f":"IF(A184=\"\",\"\",Outputs!J183)","v":""},{"$f":"IF(B184=\"\",\"\",Outputs!K183)","v":""},{"$f":"IF(Outputs!E183=\"\",\"\",Outputs!E183)","v":""},{"$f":"IF(Outputs!F183=\"\",\"\",Outputs!F183)","v":""},{"$f":"IF(Outputs!G183=\"\",\"\",Outputs!G183)","v":""},{"$f":"IF(Outputs!H183=\"\",\"\",Outputs!H183)","v":""},{"$f":"IF(Outputs!I183=\"\",\"\",Outputs!I183)","v":""}]
[{"$f":"IF(Outputs!E184<>\"\",Outputs!A184,\"\")","v":""},{"$f":"IF(Outputs!E184<>\"\",Outputs!B184,\"\")","v":""},"","","","","","","",{"$f":"IF(A185=\"\",\"\",Outputs!C184)","v":""},{"$f":"IF(A185=\"\",\"\",Outputs!J184)","v":""},{"$f":"IF(B185=\"\",\"\",Outputs!K184)","v":""},{"$f":"IF(Outputs!E184=\"\",\"\",Outputs!E184)","v":""},{"$f":"IF(Outputs!F184=\"\",\"\",Outputs!F184)","v":""},{"$f":"IF(Outputs!G184=\"\",\"\",Outputs!G184)","v":""},{"$f":"IF(Outputs!H184=\"\",\"\",Outputs!H184)","v":""},{"$f":"IF(Outputs!I184=\"\",\"\",Outputs!I184)","v":""}]
[{"$f":"IF(Outputs!E185<>\"\",Outputs!A185,\"\")","v":""},{"$f":"IF(Outputs!E185<>\"\",Outputs!B185,\"\")","v":""},"","","","","","","",{"$f":"IF(A186=\"\",\"\",Outputs!C185)","v":""},{"$f":"IF(A186=\"\",\"\",Outputs!J185)","v":""},{"$f":"IF(B186=\"\",\"\",Outputs!K185)","v":""},{"$f":"IF(Outputs!E185=\"\",\"\",Outputs!E185)","v":""},{"$f":"IF(Outputs!F185=\"\",\"\",Outputs!F185)","v":""},{"$f":"IF(Outputs!G185=\"\",\"\",Outputs!G185)","v":""},{"$f":"IF(Outputs!H185=\"\",\"\",Outputs!H185)","v":""},{"$f":"IF(Outputs!I185=\"\",\"\",Outputs!I185)","v":""}]
[{"$f":"IF(Outputs!E186<>\"\",Outputs!A186,\"\")","v":""},{"$f":"IF(Outputs!E186<>\"\",Outputs!B186,\"\")","v":""},"","","","","","","",{"$f":"IF(A187=\"\",\"\",Outputs!C186)","v":""},{"$f":"IF(A187=\"\",\"\",Outputs!J186)","v":""},{"$f":"IF(B187=\"\",\"\",Outputs!K186)","v":""},{"$f":"IF(Outputs!E186=\"\",\"\",Outputs!E186)","v":""},{"$f":"IF(Outputs!F186=\"\",\"\",Outputs!F186)","v":""},{"$f":"IF(Outputs!G186=\"\",\"\",Outputs!G186)","v":""},{"$f":"IF(Outputs!H186=\"\",\"\",Outputs!H186)","v":""},{"$f":"IF(Outputs!I186=\"\",\"\",Outputs!I186)","v":""}]
[{"$f":"IF(Outputs!E187<>\"\",Outputs!A187,\"\")","v":""},{"$f":"IF(Outputs!E187<>\"\",Outputs!B187,\"\")","v":""},"","","","","","","",{"$f":"IF(A188=\"\",\"\",Outputs!C187)","v":""},{"$f":"IF(A188=\"\",\"\",Outputs!J187)","v":""},{"$f":"IF(B188=\"\",\"\",Outputs!K187)","v":""},{"$f":"IF(Outputs!E187=\"\",\"\",Outputs!E187)","v":""},{"$f":"IF(Outputs!F187=\"\",\"\",Outputs!F187)","v":""},{"$f":"IF(Outputs!G187=\"\",\"\",Outputs!G187)","v":""},{"$f":"IF(Outputs!H187=\"\",\"\",Outputs!H187)","v":""},{"$f":"IF(Outputs!I187=\"\",\"\",Outputs!I187)","v":""}]
[{"$f":"IF(Outputs!E188<>\"\",Outputs!A188,\"\")","v":""},{"$f":"IF(Outputs!E188<>\"\",Outputs!B188,\"\")","v":""},"","","","","","","",{"$f":"IF(A189=\"\",\"\",Outputs!C188)","v":""},{"$f":"IF(A189=\"\",\"\",Outputs!J188)","v":""},{"$f":"IF(B189=\"\",\"\",Outputs!K188)","v":""},{"$f":"IF(Outputs!E188=\"\",\"\",Outputs!E188)","v":""},{"$f":"IF(Outputs!F188=\"\",\"\",Outputs!F188)","v":""},{"$f":"IF(Outputs!G188=\"\",\"\",Outputs!G188)","v":""},{"$f":"IF(Outputs!H188=\"\",\"\",Outputs!H188)","v":""},{"$f":"IF(Outputs!I188=\"\",\"\",Outputs!I188)","v":""}]
[{"$f":"IF(Outputs!E189<>\"\",Outputs!A189,\"\")","v":""},{"$f":"IF(Outputs!E189<>\"\",Outputs!B189,\"\")","v":""},"","","","","","","",{"$f":"IF(A190=\"\",\"\",Outputs!C189)","v":""},{"$f":"IF(A190=\"\",\"\",Outputs!J189)","v":""},{"$f":"IF(B190=\"\",\"\",Outputs!K189)","v":""},{"$f":"IF(Outputs!E189=\"\",\"\",Outputs!E189)","v":""},{"$f":"IF(Outputs!F189=\"\",\"\",Outputs!F189)","v":""},{"$f":"IF(Outputs!G189=\"\",\"\",Outputs!G189)","v":""},{"$f":"IF(Outputs!H189=\"\",\"\",Outputs!H189)","v":""},{"$f":"IF(Outputs!I189=\"\",\"\",Outputs!I189)","v":""}]
[{"$f":"IF(Outputs!E190<>\"\",Outputs!A190,\"\")","v":""},{"$f":"IF(Outputs!E190<>\"\",Outputs!B190,\"\")","v":""},"","","","","","","",{"$f":"IF(A191=\"\",\"\",Outputs!C190)","v":""},{"$f":"IF(A191=\"\",\"\",Outputs!J190)","v":""},{"$f":"IF(B191=\"\",\"\",Outputs!K190)","v":""},{"$f":"IF(Outputs!E190=\"\",\"\",Outputs!E190)","v":""},{"$f":"IF(Outputs!F190=\"\",\"\",Outputs!F190)","v":""},{"$f":"IF(Outputs!G190=\"\",\"\",Outputs!G190)","v":""},{"$f":"IF(Outputs!H190=\"\",\"\",Outputs!H190)","v":""},{"$f":"IF(Outputs!I190=\"\",\"\",Outputs!I190)","v":""}]
[{"$f":"IF(Outputs!E191<>\"\",Outputs!A191,\"\")","v":""},{"$f":"IF(Outputs!E191<>\"\",Outputs!B191,\"\")","v":""},"","","","","","","",{"$f":"IF(A192=\"\",\"\",Outputs!C191)","v":""},{"$f":"IF(A192=\"\",\"\",Outputs!J191)","v":""},{"$f":"IF(B192=\"\",\"\",Outputs!K191)","v":""},{"$f":"IF(Outputs!E191=\"\",\"\",Outputs!E191)","v":""},{"$f":"IF(Outputs!F191=\"\",\"\",Outputs!F191)","v":""},{"$f":"IF(Outputs!G191=\"\",\"\",Outputs!G191)","v":""},{"$f":"IF(Outputs!H191=\"\",\"\",Outputs!H191)","v":""},{"$f":"IF(Outputs!I191=\"\",\"\",Outputs!I191)","v":""}]
[{"$f":"IF(Outputs!E192<>\"\",Outputs!A192,\"\")","v":""},{"$f":"IF(Outputs!E192<>\"\",Outputs!B192,\"\")","v":""},"","","","","","","",{"$f":"IF(A193=\"\",\"\",Outputs!C192)","v":""},{"$f":"IF(A193=\"\",\"\",Outputs!J192)","v":""},{"$f":"IF(B193=\"\",\"\",Outputs!K192)","v":""},{"$f":"IF(Outputs!E192=\"\",\"\",Outputs!E192)","v":""},{"$f":"IF(Outputs!F192=\"\",\"\",Outputs!F192)","v":""},{"$f":"IF(Outputs!G192=\"\",\"\",Outputs!G192)","v":""},{"$f":"IF(Outputs!H192=\"\",\"\",Outputs!H192)","v":""},{"$f":"IF(Outputs!I192=\"\",\"\",Outputs!I192)","v":""}]
[{"$f":"IF(Outputs!E193<>\"\",Outputs!A193,\"\")","v":""},{"$f":"IF(Outputs!E193<>\"\",Outputs!B193,\"\")","v":""},"","","","","","","",{"$f":"IF(A194=\"\",\"\",Outputs!C193)","v":""},{"$f":"IF(A194=\"\",\"\",Outputs!J193)","v":""},{"$f":"IF(B194=\"\",\"\",Outputs!K193)","v":""},{"$f":"IF(Outputs!E193=\"\",\"\",Outputs!E193)","v":""},{"$f":"IF(Outputs!F193=\"\",\"\",Outputs!F193)","v":""},{"$f":"IF(Outputs!G193=\"\",\"\",Outputs!G193)","v":""},{"$f":"IF(Outputs!H193=\"\",\"\",Outputs!H193)","v":""},{"$f":"IF(Outputs!I193=\"\",\"\",Outputs!I193)","v":""}]
[{"$f":"IF(Outputs!E194<>\"\",Outputs!A194,\"\")","v":""},{"$f":"IF(Outputs!E194<>\"\",Outputs!B194,\"\")","v":""},"","","","","","","",{"$f":"IF(A195=\"\",\"\",Outputs!C194)","v":""},{"$f":"IF(A195=\"\",\"\",Outputs!J194)","v":""},{"$f":"IF(B195=\"\",\"\",Outputs!K194)","v":""},{"$f":"IF(Outputs!E194=\"\",\"\",Outputs!E194)","v":""},{"$f":"IF(Outputs!F194=\"\",\"\",Outputs!F194)","v":""},{"$f":"IF(Outputs!G194=\"\",\"\",Outputs!G194)","v":""},{"$f":"IF(Outputs!H194=\"\",\"\",Outputs!H194)","v":""},{"$f":"IF(Outputs!I194=\"\",\"\",Outputs!I194)","v":""}]
[{"$f":"IF(Outputs!E195<>\"\",Outputs!A195,\"\")","v":""},{"$f":"IF(Outputs!E195<>\"\",Outputs!B195,\"\")","v":""},{"$f":"B196","v":""},"","","","","",{"$f":"IF(H196=\"\",\"\",SQRT(J196/PI())*10)","v":""},{"$f":"IF(A196=\"\",\"\",Outputs!C195)","v":""},{"$f":"IF(A196=\"\",\"\",Outputs!J195)","v":""},{"$f":"IF(B196=\"\",\"\",Outputs!K195)","v":""},{"$f":"IF(Outputs!E195=\"\",\"\",Outputs!E195)","v":""},{"$f":"IF(Outputs!F195=\"\",\"\",Outputs!F195)","v":""},{"$f":"IF(Outputs!G195=\"\",\"\",Outputs!G195)","v":""},{"$f":"IF(Outputs!H195=\"\",\"\",Outputs!H195)","v":""},{"$f":"IF(Outputs!I195=\"\",\"\",Outputs!I195)","v":""}]
[{"$f":"IF(Outputs!E196<>\"\",Outputs!A196,\"\")","v":""},{"$f":"IF(Outputs!E196<>\"\",Outputs!B196,\"\")","v":""},"","","","","","","",{"$f":"IF(A197=\"\",\"\",Outputs!C196)","v":""},{"$f":"IF(A197=\"\",\"\",Outputs!J196)","v":""},{"$f":"IF(B197=\"\",\"\",Outputs!K196)","v":""},{"$f":"IF(Outputs!E196=\"\",\"\",Outputs!E196)","v":""},{"$f":"IF(Outputs!F196=\"\",\"\",Outputs!F196)","v":""},{"$f":"IF(Outputs!G196=\"\",\"\",Outputs!G196)","v":""},{"$f":"IF(Outputs!H196=\"\",\"\",Outputs!H196)","v":""},{"$f":"IF(Outputs!I196=\"\",\"\",Outputs!I196)","v":""}]
[{"$f":"IF(Outputs!E197<>\"\",Outputs!A197,\"\")","v":""},{"$f":"IF(Outputs!E197<>\"\",Outputs!B197,\"\")","v":""},"","","","","","","",{"$f":"IF(A198=\"\",\"\",Outputs!C197)","v":""},{"$f":"IF(A198=\"\",\"\",Outputs!J197)","v":""},{"$f":"IF(B198=\"\",\"\",Outputs!K197)","v":""},{"$f":"IF(Outputs!E197=\"\",\"\",Outputs!E197)","v":""},{"$f":"IF(Outputs!F197=\"\",\"\",Outputs!F197)","v":""},{"$f":"IF(Outputs!G197=\"\",\"\",Outputs!G197)","v":""},{"$f":"IF(Outputs!H197=\"\",\"\",Outputs!H197)","v":""},{"$f":"IF(Outputs!I197=\"\",\"\",Outputs!I197)","v":""}]
[{"$f":"IF(Outputs!E198<>\"\",Outputs!A198,\"\")","v":""},{"$f":"IF(Outputs!E198<>\"\",Outputs!B198,\"\")","v":""},"","","","","","","",{"$f":"IF(A199=\"\",\"\",Outputs!C198)","v":""},{"$f":"IF(A199=\"\",\"\",Outputs!J198)","v":""},{"$f":"IF(B199=\"\",\"\",Outputs!K198)","v":""},{"$f":"IF(Outputs!E198=\"\",\"\",Outputs!E198)","v":""},{"$f":"IF(Outputs!F198=\"\",\"\",Outputs!F198)","v":""},{"$f":"IF(Outputs!G198=\"\",\"\",Outputs!G198)","v":""},{"$f":"IF(Outputs!H198=\"\",\"\",Outputs!H198)","v":""},{"$f":"IF(Outputs!I198=\"\",\"\",Outputs!I198)","v":""}]
[{"$f":"IF(Outputs!E199<>\"\",Outputs!A199,\"\")","v":""},{"$f":"IF(Outputs!E199<>\"\",Outputs!B199,\"\")","v":""},"","","","","","","",{"$f":"IF(A200=\"\",\"\",Outputs!C199)","v":""},{"$f":"IF(A200=\"\",\"\",Outputs!J199)","v":""},{"$f":"IF(B200=\"\",\"\",Outputs!K199)","v":""},{"$f":"IF(Outputs!E199=\"\",\"\",Outputs!E199)","v":""},{"$f":"IF(Outputs!F199=\"\",\"\",Outputs!F199)","v":""},{"$f":"IF(Outputs!G199=\"\",\"\",Outputs!G199)","v":""},{"$f":"IF(Outputs!H199=\"\",\"\",Outputs!H199)","v":""},{"$f":"IF(Outputs!I199=\"\",\"\",Outputs!I199)","v":""}]
[{"$f":"IF(Outputs!E200<>\"\",Outputs!A200,\"\")","v":""},{"$f":"IF(Outputs!E200<>\"\",Outputs!B200,\"\")","v":""},"","","","","","","",{"$f":"IF(A201=\"\",\"\",Outputs!C200)","v":""},{"$f":"IF(A201=\"\",\"\",Outputs!J200)","v":""},{"$f":"IF(B201=\"\",\"\",Outputs!K200)","v":""},{"$f":"IF(Outputs!E200=\"\",\"\",Outputs!E200)","v":""},{"$f":"IF(Outputs!F200=\"\",\"\",Outputs!F200)","v":""},{"$f":"IF(Outputs!G200=\"\",\"\",Outputs!G200)","v":""},{"$f":"IF(Outputs!H200=\"\",\"\",Outputs!H200)","v":""},{"$f":"IF(Outputs!I200=\"\",\"\",Outputs!I200)","v":""}]
[{"$f":"IF(Outputs!E201<>\"\",Outputs!A201,\"\")","v":""},{"$f":"IF(Outputs!E201<>\"\",Outputs!B201,\"\")","v":""},"","","","","","","",{"$f":"IF(A202=\"\",\"\",Outputs!C201)","v":""},{"$f":"IF(A202=\"\",\"\",Outputs!J201)","v":""},{"$f":"IF(B202=\"\",\"\",Outputs!K201)","v":""},{"$f":"IF(Outputs!E201=\"\",\"\",Outputs!E201)","v":""},{"$f":"IF(Outputs!F201=\"\",\"\",Outputs!F201)","v":""},{"$f":"IF(Outputs!G201=\"\",\"\",Outputs!G201)","v":""},{"$f":"IF(Outputs!H201=\"\",\"\",Outputs!H201)","v":""},{"$f":"IF(Outputs!I201=\"\",\"\",Outputs!I201)","v":""}]
[{"$f":"IF(Outputs!E202<>\"\",Outputs!A202,\"\")","v":""},{"$f":"IF(Outputs!E202<>\"\",Outputs!B202,\"\")","v":""},"","","","","","","",{"$f":"IF(A203=\"\",\"\",Outputs!C202)","v":""},{"$f":"IF(A203=\"\",\"\",Outputs!J202)","v":""},{"$f":"IF(B203=\"\",\"\",Outputs!K202)","v":""},{"$f":"IF(Outputs!E202=\"\",\"\",Outputs!E202)","v":""},{"$f":"IF(Outputs!F202=\"\",\"\",Outputs!F202)","v":""},{"$f":"IF(Outputs!G202=\"\",\"\",Outputs!G202)","v":""},{"$f":"IF(Outputs!H202=\"\",\"\",Outputs!H202)","v":""},{"$f":"IF(Outputs!I202=\"\",\"\",Outputs!I202)","v":""}]
[{"$f":"IF(Outputs!E203<>\"\",Outputs!A203,\"\")","v":""},{"$f":"IF(Outputs!E203<>\"\",Outputs!B203,\"\")","v":""},"","","","","","","",{"$f":"IF(A204=\"\",\"\",Outputs!C203)","v":""},{"$f":"IF(A204=\"\",\"\",Outputs!J203)","v":""},{"$f":"IF(B204=\"\",\"\",Outputs!K203)","v":""},{"$f":"IF(Outputs!E203=\"\",\"\",Outputs!E203)","v":""},{"$f":"IF(Outputs!F203=\"\",\"\",Outputs!F203)","v":""},{"$f":"IF(Outputs!G203=\"\",\"\",Outputs!G203)","v":""},{"$f":"IF(Outputs!H203=\"\",\"\",Outputs!H203)","v":""},{"$f":"IF(Outputs!I203=\"\",\"\",Outputs!I203)","v":""}]
[{"$f":"IF(Outputs!E204<>\"\",Outputs!A204,\"\")","v":""},{"$f":"IF(Outputs!E204<>\"\",Outputs!B204,\"\")","v":""},"","","","","","","",{"$f":"IF(A205=\"\",\"\",Outputs!C204)","v":""},{"$f":"IF(A205=\"\",\"\",Outputs!J204)","v":""},{"$f":"IF(B205=\"\",\"\",Outputs!K204)","v":""},{"$f":"IF(Outputs!E204=\"\",\"\",Outputs!E204)","v":""},{"$f":"IF(Outputs!F204=\"\",\"\",Outputs!F204)","v":""},{"$f":"IF(Outputs!G204=\"\",\"\",Outputs!G204)","v":""},{"$f":"IF(Outputs!H204=\"\",\"\",Outputs!H204)","v":""},{"$f":"IF(Outputs!I204=\"\",\"\",Outputs!I204)","v":""}]
[{"$f":"IF(Outputs!E205<>\"\",Outputs!A205,\"\")","v":""},{"$f":"IF(Outputs!E205<>\"\",Outputs!B205,\"\")","v":""},"","","","","","","",{"$f":"IF(A206=\"\",\"\",Outputs!C205)","v":""},{"$f":"IF(A206=\"\",\"\",Outputs!J205)","v":""},{"$f":"IF(B206=\"\",\"\",Outputs!K205)","v":""},{"$f":"IF(Outputs!E205=\"\",\"\",Outputs!E205)","v":""},{"$f":"IF(Outputs!F205=\"\",\"\",Outputs!F205)","v":""},{"$f":"IF(Outputs!G205=\"\",\"\",Outputs!G205)","v":""},{"$f":"IF(Outputs!H205=\"\",\"\",Outputs!H205)","v":""},{"$f":"IF(Outputs!I205=\"\",\"\",Outputs!I205)","v":""}]
[{"$f":"IF(Outputs!E206<>\"\",Outputs!A206,\"\")","v":""},{"$f":"IF(Outputs!E206<>\"\",Outputs!B206,\"\")","v":""},"","","","","","","",{"$f":"IF(A207=\"\",\"\",Outputs!C206)","v":""},{"$f":"IF(A207=\"\",\"\",Outputs!J206)","v":""},{"$f":"IF(B207=\"\",\"\",Outputs!K206)","v":""},{"$f":"IF(Outputs!E206=\"\",\"\",Outputs!E206)","v":""},{"$f":"IF(Outputs!F206=\"\",\"\",Outputs!F206)","v":""},{"$f":"IF(Outputs!G206=\"\",\"\",Outputs!G206)","v":""},{"$f":"IF(Outputs!H206=\"\",\"\",Outputs!H206)","v":""},{"$f":"IF(Outputs!I206=\"\",\"\",Outputs!I206)","v":""}]
[{"$f":"IF(Outputs!E207<>\"\",Outputs!A207,\"\")","v":""},{"$f":"IF(Outputs!E207<>\"\",Outputs!B207,\"\")","v":""},"","","","","","","",{"$f":"IF(A208=\"\",\"\",Outputs!C207)","v":""},{"$f":"IF(A208=\"\",\"\",Outputs!J207)","v":""},{"$f":"IF(B208=\"\",\"\",Outputs!K207)","v":""},{"$f":"IF(Outputs!E207=\"\",\"\",Outputs!E207)","v":""},{"$f":"IF(Outputs!F207=\"\",\"\",Outputs!F207)","v":""},{"$f":"IF(Outputs!G207=\"\",\"\",Outputs!G207)","v":""},{"$f":"IF(Outputs!H207=\"\",\"\",Outputs!H207)","v":""},{"$f":"IF(Outputs!I207=\"\",\"\",Outputs!I207)","v":""}]
[{"$f":"IF(Outputs!E208<>\"\",Outputs!A208,\"\")","v":""},{"$f":"IF(Outputs!E208<>\"\",Outputs!B208,\"\")","v":""},"","","","","","","",{"$f":"IF(A209=\"\",\"\",Outputs!C208)","v":""},{"$f":"IF(A209=\"\",\"\",Outputs!J208)","v":""},{"$f":"IF(B209=\"\",\"\",Outputs!K208)","v":""},{"$f":"IF(Outputs!E208=\"\",\"\",Outputs!E208)","v":""},{"$f":"IF(Outputs!F208=\"\",\"\",Outputs!F208)","v":""},{"$f":"IF(Outputs!G208=\"\",\"\",Outputs!G208)","v":""},{"$f":"IF(Outputs!H208=\"\",\"\",Outputs!H208)","v":""},{"$f":"IF(Outputs!I208=\"\",\"\",Outputs!I208)","v":""}]
[{"$f":"IF(Outputs!E209<>\"\",Outputs!A209,\"\")","v":""},{"$f":"IF(Outputs!E209<>\"\",Outputs!B209,\"\")","v":""},"","","","","","","",{"$f":"IF(A210=\"\",\"\",Outputs!C209)","v":""},{"$f":"IF(A210=\"\",\"\",Outputs!J209)","v":""},{"$f":"IF(B210=\"\",\"\",Outputs!K209)","v":""},{"$f":"IF(Outputs!E209=\"\",\"\",Outputs!E209)","v":""},{"$f":"IF(Outputs!F209=\"\",\"\",Outputs!F209)","v":""},{"$f":"IF(Outputs!G209=\"\",\"\",Outputs!G209)","v":""},{"$f":"IF(Outputs!H209=\"\",\"\",Outputs!H209)","v":""},{"$f":"IF(Outputs!I209=\"\",\"\",Outputs!I209)","v":""}]
[{"$f":"IF(Outputs!E210<>\"\",Outputs!A210,\"\")","v":""},{"$f":"IF(Outputs!E210<>\"\",Outputs!B210,\"\")","v":""},"","","","","","","",{"$f":"IF(A211=\"\",\"\",Outputs!C210)","v":""},{"$f":"IF(A211=\"\",\"\",Outputs!J210)","v":""},{"$f":"IF(B211=\"\",\"\",Outputs!K210)","v":""},{"$f":"IF(Outputs!E210=\"\",\"\",Outputs!E210)","v":""},{"$f":"IF(Outputs!F210=\"\",\"\",Outputs!F210)","v":""},{"$f":"IF(Outputs!G210=\"\",\"\",Outputs!G210)","v":""},{"$f":"IF(Outputs!H210=\"\",\"\",Outputs!H210)","v":""},{"$f":"IF(Outputs!I210=\"\",\"\",Outputs!I210)","v":""}]
[{"$f":"IF(Outputs!E211<>\"\",Outputs!A211,\"\")","v":""},{"$f":"IF(Outputs!E211<>\"\",Outputs!B211,\"\")","v":""},"","","","","","","",{"$f":"IF(A212=\"\",\"\",Outputs!C211)","v":""},{"$f":"IF(A212=\"\",\"\",Outputs!J211)","v":""},{"$f":"IF(B212=\"\",\"\",Outputs!K211)","v":""},{"$f":"IF(Outputs!E211=\"\",\"\",Outputs!E211)","v":""},{"$f":"IF(Outputs!F211=\"\",\"\",Outputs!F211)","v":""},{"$f":"IF(Outputs!G211=\"\",\"\",Outputs!G211)","v":""},{"$f":"IF(Outputs!H211=\"\",\"\",Outputs!H211)","v":""},{"$f":"IF(Outputs!I211=\"\",\"\",Outputs!I211)","v":""}]
[{"$f":"IF(Outputs!E212<>\"\",Outputs!A212,\"\")","v":""},{"$f":"IF(Outputs!E212<>\"\",Outputs!B212,\"\")","v":""},"","","","","","","",{"$f":"IF(A213=\"\",\"\",Outputs!C212)","v":""},{"$f":"IF(A213=\"\",\"\",Outputs!J212)","v":""},{"$f":"IF(B213=\"\",\"\",Outputs!K212)","v":""},{"$f":"IF(Outputs!E212=\"\",\"\",Outputs!E212)","v":""},{"$f":"IF(Outputs!F212=\"\",\"\",Outputs!F212)","v":""},{"$f":"IF(Outputs!G212=\"\",\"\",Outputs!G212)","v":""},{"$f":"IF(Outputs!H212=\"\",\"\",Outputs!H212)","v":""},{"$f":"IF(Outputs!I212=\"\",\"\",Outputs!I212)","v":""}]
[{"$f":"IF(Outputs!E213<>\"\",Outputs!A213,\"\")","v":""},{"$f":"IF(Outputs!E213<>\"\",Outputs!B213,\"\")","v":""},"","","","","","","",{"$f":"IF(A214=\"\",\"\",Outputs!C213)","v":""},{"$f":"IF(A214=\"\",\"\",Outputs!J213)","v":""},{"$f":"IF(B214=\"\",\"\",Outputs!K213)","v":""},{"$f":"IF(Outputs!E213=\"\",\"\",Outputs!E213)","v":""},{"$f":"IF(Outputs!F213=\"\",\"\",Outputs!F213)","v":""},{"$f":"IF(Outputs!G213=\"\",\"\",Outputs!G213)","v":""},{"$f":"IF(Outputs!H213=\"\",\"\",Outputs!H213)","v":""},{"$f":"IF(Outputs!I213=\"\",\"\",Outputs!I213)","v":""}]
[{"$f":"IF(Outputs!E214<>\"\",Outputs!A214,\"\")","v":""},{"$f":"IF(Outputs!E214<>\"\",Outputs!B214,\"\")","v":""},"","","","","","","",{"$f":"IF(A215=\"\",\"\",Outputs!C214)","v":""},{"$f":"IF(A215=\"\",\"\",Outputs!J214)","v":""},{"$f":"IF(B215=\"\",\"\",Outputs!K214)","v":""},{"$f":"IF(Outputs!E214=\"\",\"\",Outputs!E214)","v":""},{"$f":"IF(Outputs!F214=\"\",\"\",Outputs!F214)","v":""},{"$f":"IF(Outputs!G214=\"\",\"\",Outputs!G214)","v":""},{"$f":"IF(Outputs!H214=\"\",\"\",Outputs!H214)","v":""},{"$f":"IF(Outputs!I214=\"\",\"\",Outputs!I214)","v":""}]
[{"$f":"IF(Outputs!E215<>\"\",Outputs!A215,\"\")","v":""},{"$f":"IF(Outputs!E215<>\"\",Outputs!B215,\"\")","v":""},"","","","","","","",{"$f":"IF(A216=\"\",\"\",Outputs!C215)","v":""},{"$f":"IF(A216=\"\",\"\",Outputs!J215)","v":""},{"$f":"IF(B216=\"\",\"\",Outputs!K215)","v":""},{"$f":"IF(Outputs!E215=\"\",\"\",Outputs!E215)","v":""},{"$f":"IF(Outputs!F215=\"\",\"\",Outputs!F215)","v":""},{"$f":"IF(Outputs!G215=\"\",\"\",Outputs!G215)","v":""},{"$f":"IF(Outputs!H215=\"\",\"\",Outputs!H215)","v":""},{"$f":"IF(Outputs!I215=\"\",\"\",Outputs!I215)","v":""}]
[{"$f":"IF(Outputs!E216<>\"\",Outputs!A216,\"\")","v":""},{"$f":"IF(Outputs!E216<>\"\",Outputs!B216,\"\")","v":""},"","","","","","","",{"$f":"IF(A217=\"\",\"\",Outputs!C216)","v":""},{"$f":"IF(A217=\"\",\"\",Outputs!J216)","v":""},{"$f":"IF(B217=\"\",\"\",Outputs!K216)","v":""},{"$f":"IF(Outputs!E216=\"\",\"\",Outputs!E216)","v":""},{"$f":"IF(Outputs!F216=\"\",\"\",Outputs!F216)","v":""},{"$f":"IF(Outputs!G216=\"\",\"\",Outputs!G216)","v":""},{"$f":"IF(Outputs!H216=\"\",\"\",Outputs!H216)","v":""},{"$f":"IF(Outputs!I216=\"\",\"\",Outputs!I216)","v":""}]
[{"$f":"IF(Outputs!E217<>\"\",Outputs!A217,\"\")","v":""},{"$f":"IF(Outputs!E217<>\"\",Outputs!B217,\"\")","v":""},"","","","","","","",{"$f":"IF(A218=\"\",\"\",Outputs!C217)","v":""},{"$f":"IF(A218=\"\",\"\",Outputs!J217)","v":""},{"$f":"IF(B218=\"\",\"\",Outputs!K217)","v":""},{"$f":"IF(Outputs!E217=\"\",\"\",Outputs!E217)","v":""},{"$f":"IF(Outputs!F217=\"\",\"\",Outputs!F217)","v":""},{"$f":"IF(Outputs!G217=\"\",\"\",Outputs!G217)","v":""},{"$f":"IF(Outputs!H217=\"\",\"\",Outputs!H217)","v":""},{"$f":"IF(Outputs!I217=\"\",\"\",Outputs!I217)","v":""}]
[{"$f":"IF(Outputs!E218<>\"\",Outputs!A218,\"\")","v":""},{"$f":"IF(Outputs!E218<>\"\",Outputs!B218,\"\")","v":""},"",{"$f":"IF(C219=\"\",\"\",\"<b>\" & B219 & \"</b><br>\" & \"<b>Population attributed:</b> \" & J219 & \"</br>\" & \"<b> Effective Time:</b>  \" & M219 & \" minutes\" & \"</br>\"& \"<b> Option 1:</b>  \" & N219 & \"</br>\"& \"<b> Option 2:</b>  \" &O219 & \"</br>\"& \"<b> Option 3:</b>  \" & P219 & \"</br>\"& \"<b> Option 4:</b>  \" & Q219)","v":""},{"$f":"IF(D219=\"\",\"\",IF(M219<45,\"http://labs.google.com/ridefinder/images/mm_20_green.png\",\"http://labs.google.com/ridefinder/images/mm_20_red.png\"))","v":""},{"$f":"IF(E219=\"\",\"\",IF(J219>15000,\"big\",IF(J219>10000,\"medium\",\"small\")))","v":""},{"$f":"F219","v":""},{"$f":"IF(G219=\"\",\"\",IF(M219<45,\"#458B00\",\"#D41243\"))","v":""},"",{"$f":"IF(A219=\"\",\"\",Outputs!C218)","v":""},{"$f":"IF(A219=\"\",\"\",Outputs!J218)","v":""},{"$f":"IF(B219=\"\",\"\",Outputs!K218)","v":""},{"$f":"IF(Outputs!E218=\"\",\"\",Outputs!E218)","v":""},{"$f":"IF(Outputs!F218=\"\",\"\",Outputs!F218)","v":""},{"$f":"IF(Outputs!G218=\"\",\"\",Outputs!G218)","v":""},{"$f":"IF(Outputs!H218=\"\",\"\",Outputs!H218)","v":""},{"$f":"IF(Outputs!I218=\"\",\"\",Outputs!I218)","v":""}]
[{"$f":"IF(Outputs!E219<>\"\",Outputs!A219,\"\")","v":""},{"$f":"IF(Outputs!E219<>\"\",Outputs!B219,\"\")","v":""},"","","","","","","",{"$f":"IF(A220=\"\",\"\",Outputs!C219)","v":""},{"$f":"IF(A220=\"\",\"\",Outputs!J219)","v":""},{"$f":"IF(B220=\"\",\"\",Outputs!K219)","v":""},{"$f":"IF(Outputs!E219=\"\",\"\",Outputs!E219)","v":""},{"$f":"IF(Outputs!F219=\"\",\"\",Outputs!F219)","v":""},{"$f":"IF(Outputs!G219=\"\",\"\",Outputs!G219)","v":""},{"$f":"IF(Outputs!H219=\"\",\"\",Outputs!H219)","v":""},{"$f":"IF(Outputs!I219=\"\",\"\",Outputs!I219)","v":""}]
[{"$f":"IF(Outputs!E220<>\"\",Outputs!A220,\"\")","v":""},{"$f":"IF(Outputs!E220<>\"\",Outputs!B220,\"\")","v":""},"","","","","","","",{"$f":"IF(A221=\"\",\"\",Outputs!C220)","v":""},{"$f":"IF(A221=\"\",\"\",Outputs!J220)","v":""},{"$f":"IF(B221=\"\",\"\",Outputs!K220)","v":""},{"$f":"IF(Outputs!E220=\"\",\"\",Outputs!E220)","v":""},{"$f":"IF(Outputs!F220=\"\",\"\",Outputs!F220)","v":""},{"$f":"IF(Outputs!G220=\"\",\"\",Outputs!G220)","v":""},{"$f":"IF(Outputs!H220=\"\",\"\",Outputs!H220)","v":""},{"$f":"IF(Outputs!I220=\"\",\"\",Outputs!I220)","v":""}]
[{"$f":"IF(Outputs!E221<>\"\",Outputs!A221,\"\")","v":""},{"$f":"IF(Outputs!E221<>\"\",Outputs!B221,\"\")","v":""},"","","","","","","",{"$f":"IF(A222=\"\",\"\",Outputs!C221)","v":""},{"$f":"IF(A222=\"\",\"\",Outputs!J221)","v":""},{"$f":"IF(B222=\"\",\"\",Outputs!K221)","v":""},{"$f":"IF(Outputs!E221=\"\",\"\",Outputs!E221)","v":""},{"$f":"IF(Outputs!F221=\"\",\"\",Outputs!F221)","v":""},{"$f":"IF(Outputs!G221=\"\",\"\",Outputs!G221)","v":""},{"$f":"IF(Outputs!H221=\"\",\"\",Outputs!H221)","v":""},{"$f":"IF(Outputs!I221=\"\",\"\",Outputs!I221)","v":""}]
[{"$f":"IF(Outputs!E222<>\"\",Outputs!A222,\"\")","v":""},{"$f":"IF(Outputs!E222<>\"\",Outputs!B222,\"\")","v":""},"","","","","","","",{"$f":"IF(A223=\"\",\"\",Outputs!C222)","v":""},{"$f":"IF(A223=\"\",\"\",Outputs!J222)","v":""},{"$f":"IF(B223=\"\",\"\",Outputs!K222)","v":""},{"$f":"IF(Outputs!E222=\"\",\"\",Outputs!E222)","v":""},{"$f":"IF(Outputs!F222=\"\",\"\",Outputs!F222)","v":""},{"$f":"IF(Outputs!G222=\"\",\"\",Outputs!G222)","v":""},{"$f":"IF(Outputs!H222=\"\",\"\",Outputs!H222)","v":""},{"$f":"IF(Outputs!I222=\"\",\"\",Outputs!I222)","v":""}]
[{"$f":"IF(Outputs!E223<>\"\",Outputs!A223,\"\")","v":""},{"$f":"IF(Outputs!E223<>\"\",Outputs!B223,\"\")","v":""},"","","","","","","",{"$f":"IF(A224=\"\",\"\",Outputs!C223)","v":""},{"$f":"IF(A224=\"\",\"\",Outputs!J223)","v":""},{"$f":"IF(B224=\"\",\"\",Outputs!K223)","v":""},{"$f":"IF(Outputs!E223=\"\",\"\",Outputs!E223)","v":""},{"$f":"IF(Outputs!F223=\"\",\"\",Outputs!F223)","v":""},{"$f":"IF(Outputs!G223=\"\",\"\",Outputs!G223)","v":""},{"$f":"IF(Outputs!H223=\"\",\"\",Outputs!H223)","v":""},{"$f":"IF(Outputs!I223=\"\",\"\",Outputs!I223)","v":""}]
[{"$f":"IF(Outputs!E224<>\"\",Outputs!A224,\"\")","v":""},{"$f":"IF(Outputs!E224<>\"\",Outputs!B224,\"\")","v":""},"","","","","","","",{"$f":"IF(A225=\"\",\"\",Outputs!C224)","v":""},{"$f":"IF(A225=\"\",\"\",Outputs!J224)","v":""},{"$f":"IF(B225=\"\",\"\",Outputs!K224)","v":""},{"$f":"IF(Outputs!E224=\"\",\"\",Outputs!E224)","v":""},{"$f":"IF(Outputs!F224=\"\",\"\",Outputs!F224)","v":""},{"$f":"IF(Outputs!G224=\"\",\"\",Outputs!G224)","v":""},{"$f":"IF(Outputs!H224=\"\",\"\",Outputs!H224)","v":""},{"$f":"IF(Outputs!I224=\"\",\"\",Outputs!I224)","v":""}]
[{"$f":"IF(Outputs!E225<>\"\",Outputs!A225,\"\")","v":""},{"$f":"IF(Outputs!E225<>\"\",Outputs!B225,\"\")","v":""},"","","","","","","",{"$f":"IF(A226=\"\",\"\",Outputs!C225)","v":""},{"$f":"IF(A226=\"\",\"\",Outputs!J225)","v":""},{"$f":"IF(B226=\"\",\"\",Outputs!K225)","v":""},{"$f":"IF(Outputs!E225=\"\",\"\",Outputs!E225)","v":""},{"$f":"IF(Outputs!F225=\"\",\"\",Outputs!F225)","v":""},{"$f":"IF(Outputs!G225=\"\",\"\",Outputs!G225)","v":""},{"$f":"IF(Outputs!H225=\"\",\"\",Outputs!H225)","v":""},{"$f":"IF(Outputs!I225=\"\",\"\",Outputs!I225)","v":""}]
[{"$f":"IF(Outputs!E226<>\"\",Outputs!A226,\"\")","v":""},{"$f":"IF(Outputs!E226<>\"\",Outputs!B226,\"\")","v":""},"","","","","","","",{"$f":"IF(A227=\"\",\"\",Outputs!C226)","v":""},{"$f":"IF(A227=\"\",\"\",Outputs!J226)","v":""},{"$f":"IF(B227=\"\",\"\",Outputs!K226)","v":""},{"$f":"IF(Outputs!E226=\"\",\"\",Outputs!E226)","v":""},{"$f":"IF(Outputs!F226=\"\",\"\",Outputs!F226)","v":""},{"$f":"IF(Outputs!G226=\"\",\"\",Outputs!G226)","v":""},{"$f":"IF(Outputs!H226=\"\",\"\",Outputs!H226)","v":""},{"$f":"IF(Outputs!I226=\"\",\"\",Outputs!I226)","v":""}]
[{"$f":"IF(Outputs!E227<>\"\",Outputs!A227,\"\")","v":""},{"$f":"IF(Outputs!E227<>\"\",Outputs!B227,\"\")","v":""},"","","","","","","",{"$f":"IF(A228=\"\",\"\",Outputs!C227)","v":""},{"$f":"IF(A228=\"\",\"\",Outputs!J227)","v":""},{"$f":"IF(B228=\"\",\"\",Outputs!K227)","v":""},{"$f":"IF(Outputs!E227=\"\",\"\",Outputs!E227)","v":""},{"$f":"IF(Outputs!F227=\"\",\"\",Outputs!F227)","v":""},{"$f":"IF(Outputs!G227=\"\",\"\",Outputs!G227)","v":""},{"$f":"IF(Outputs!H227=\"\",\"\",Outputs!H227)","v":""},{"$f":"IF(Outputs!I227=\"\",\"\",Outputs!I227)","v":""}]
[{"$f":"IF(Outputs!E228<>\"\",Outputs!A228,\"\")","v":""},{"$f":"IF(Outputs!E228<>\"\",Outputs!B228,\"\")","v":""},"","","","","","","",{"$f":"IF(A229=\"\",\"\",Outputs!C228)","v":""},{"$f":"IF(A229=\"\",\"\",Outputs!J228)","v":""},{"$f":"IF(B229=\"\",\"\",Outputs!K228)","v":""},{"$f":"IF(Outputs!E228=\"\",\"\",Outputs!E228)","v":""},{"$f":"IF(Outputs!F228=\"\",\"\",Outputs!F228)","v":""},{"$f":"IF(Outputs!G228=\"\",\"\",Outputs!G228)","v":""},{"$f":"IF(Outputs!H228=\"\",\"\",Outputs!H228)","v":""},{"$f":"IF(Outputs!I228=\"\",\"\",Outputs!I228)","v":""}]
[{"$f":"IF(Outputs!E229<>\"\",Outputs!A229,\"\")","v":""},{"$f":"IF(Outputs!E229<>\"\",Outputs!B229,\"\")","v":""},"","","","","","","",{"$f":"IF(A230=\"\",\"\",Outputs!C229)","v":""},{"$f":"IF(A230=\"\",\"\",Outputs!J229)","v":""},{"$f":"IF(B230=\"\",\"\",Outputs!K229)","v":""},{"$f":"IF(Outputs!E229=\"\",\"\",Outputs!E229)","v":""},{"$f":"IF(Outputs!F229=\"\",\"\",Outputs!F229)","v":""},{"$f":"IF(Outputs!G229=\"\",\"\",Outputs!G229)","v":""},{"$f":"IF(Outputs!H229=\"\",\"\",Outputs!H229)","v":""},{"$f":"IF(Outputs!I229=\"\",\"\",Outputs!I229)","v":""}]
[{"$f":"IF(Outputs!E230<>\"\",Outputs!A230,\"\")","v":""},{"$f":"IF(Outputs!E230<>\"\",Outputs!B230,\"\")","v":""},"","","","","","","",{"$f":"IF(A231=\"\",\"\",Outputs!C230)","v":""},{"$f":"IF(A231=\"\",\"\",Outputs!J230)","v":""},{"$f":"IF(B231=\"\",\"\",Outputs!K230)","v":""},{"$f":"IF(Outputs!E230=\"\",\"\",Outputs!E230)","v":""},{"$f":"IF(Outputs!F230=\"\",\"\",Outputs!F230)","v":""},{"$f":"IF(Outputs!G230=\"\",\"\",Outputs!G230)","v":""},{"$f":"IF(Outputs!H230=\"\",\"\",Outputs!H230)","v":""},{"$f":"IF(Outputs!I230=\"\",\"\",Outputs!I230)","v":""}]
[{"$f":"IF(Outputs!E231<>\"\",Outputs!A231,\"\")","v":""},{"$f":"IF(Outputs!E231<>\"\",Outputs!B231,\"\")","v":""},"","","","","","","",{"$f":"IF(A232=\"\",\"\",Outputs!C231)","v":""},{"$f":"IF(A232=\"\",\"\",Outputs!J231)","v":""},{"$f":"IF(B232=\"\",\"\",Outputs!K231)","v":""},{"$f":"IF(Outputs!E231=\"\",\"\",Outputs!E231)","v":""},{"$f":"IF(Outputs!F231=\"\",\"\",Outputs!F231)","v":""},{"$f":"IF(Outputs!G231=\"\",\"\",Outputs!G231)","v":""},{"$f":"IF(Outputs!H231=\"\",\"\",Outputs!H231)","v":""},{"$f":"IF(Outputs!I231=\"\",\"\",Outputs!I231)","v":""}]
[{"$f":"IF(Outputs!E232<>\"\",Outputs!A232,\"\")","v":""},{"$f":"IF(Outputs!E232<>\"\",Outputs!B232,\"\")","v":""},"","","","","","","",{"$f":"IF(A233=\"\",\"\",Outputs!C232)","v":""},{"$f":"IF(A233=\"\",\"\",Outputs!J232)","v":""},{"$f":"IF(B233=\"\",\"\",Outputs!K232)","v":""},{"$f":"IF(Outputs!E232=\"\",\"\",Outputs!E232)","v":""},{"$f":"IF(Outputs!F232=\"\",\"\",Outputs!F232)","v":""},{"$f":"IF(Outputs!G232=\"\",\"\",Outputs!G232)","v":""},{"$f":"IF(Outputs!H232=\"\",\"\",Outputs!H232)","v":""},{"$f":"IF(Outputs!I232=\"\",\"\",Outputs!I232)","v":""}]
[{"$f":"IF(Outputs!E233<>\"\",Outputs!A233,\"\")","v":""},{"$f":"IF(Outputs!E233<>\"\",Outputs!B233,\"\")","v":""},"","","","","","","",{"$f":"IF(A234=\"\",\"\",Outputs!C233)","v":""},{"$f":"IF(A234=\"\",\"\",Outputs!J233)","v":""},{"$f":"IF(B234=\"\",\"\",Outputs!K233)","v":""},{"$f":"IF(Outputs!E233=\"\",\"\",Outputs!E233)","v":""},{"$f":"IF(Outputs!F233=\"\",\"\",Outputs!F233)","v":""},{"$f":"IF(Outputs!G233=\"\",\"\",Outputs!G233)","v":""},{"$f":"IF(Outputs!H233=\"\",\"\",Outputs!H233)","v":""},{"$f":"IF(Outputs!I233=\"\",\"\",Outputs!I233)","v":""}]
[{"$f":"IF(Outputs!E234<>\"\",Outputs!A234,\"\")","v":""},{"$f":"IF(Outputs!E234<>\"\",Outputs!B234,\"\")","v":""},"","","","","","","",{"$f":"IF(A235=\"\",\"\",Outputs!C234)","v":""},{"$f":"IF(A235=\"\",\"\",Outputs!J234)","v":""},{"$f":"IF(B235=\"\",\"\",Outputs!K234)","v":""},{"$f":"IF(Outputs!E234=\"\",\"\",Outputs!E234)","v":""},{"$f":"IF(Outputs!F234=\"\",\"\",Outputs!F234)","v":""},{"$f":"IF(Outputs!G234=\"\",\"\",Outputs!G234)","v":""},{"$f":"IF(Outputs!H234=\"\",\"\",Outputs!H234)","v":""},{"$f":"IF(Outputs!I234=\"\",\"\",Outputs!I234)","v":""}]
[{"$f":"IF(Outputs!E235<>\"\",Outputs!A235,\"\")","v":""},{"$f":"IF(Outputs!E235<>\"\",Outputs!B235,\"\")","v":""},"","","","","","","",{"$f":"IF(A236=\"\",\"\",Outputs!C235)","v":""},{"$f":"IF(A236=\"\",\"\",Outputs!J235)","v":""},{"$f":"IF(B236=\"\",\"\",Outputs!K235)","v":""},{"$f":"IF(Outputs!E235=\"\",\"\",Outputs!E235)","v":""},{"$f":"IF(Outputs!F235=\"\",\"\",Outputs!F235)","v":""},{"$f":"IF(Outputs!G235=\"\",\"\",Outputs!G235)","v":""},{"$f":"IF(Outputs!H235=\"\",\"\",Outputs!H235)","v":""},{"$f":"IF(Outputs!I235=\"\",\"\",Outputs!I235)","v":""}]
[{"$f":"IF(Outputs!E236<>\"\",Outputs!A236,\"\")","v":""},{"$f":"IF(Outputs!E236<>\"\",Outputs!B236,\"\")","v":""},"","","","","","","",{"$f":"IF(A237=\"\",\"\",Outputs!C236)","v":""},{"$f":"IF(A237=\"\",\"\",Outputs!J236)","v":""},{"$f":"IF(B237=\"\",\"\",Outputs!K236)","v":""},{"$f":"IF(Outputs!E236=\"\",\"\",Outputs!E236)","v":""},{"$f":"IF(Outputs!F236=\"\",\"\",Outputs!F236)","v":""},{"$f":"IF(Outputs!G236=\"\",\"\",Outputs!G236)","v":""},{"$f":"IF(Outputs!H236=\"\",\"\",Outputs!H236)","v":""},{"$f":"IF(Outputs!I236=\"\",\"\",Outputs!I236)","v":""}]
[{"$f":"IF(Outputs!E237<>\"\",Outputs!A237,\"\")","v":""},{"$f":"IF(Outputs!E237<>\"\",Outputs!B237,\"\")","v":""},"","","","","","","",{"$f":"IF(A238=\"\",\"\",Outputs!C237)","v":""},{"$f":"IF(A238=\"\",\"\",Outputs!J237)","v":""},{"$f":"IF(B238=\"\",\"\",Outputs!K237)","v":""},{"$f":"IF(Outputs!E237=\"\",\"\",Outputs!E237)","v":""},{"$f":"IF(Outputs!F237=\"\",\"\",Outputs!F237)","v":""},{"$f":"IF(Outputs!G237=\"\",\"\",Outputs!G237)","v":""},{"$f":"IF(Outputs!H237=\"\",\"\",Outputs!H237)","v":""},{"$f":"IF(Outputs!I237=\"\",\"\",Outputs!I237)","v":""}]
[{"$f":"IF(Outputs!E238<>\"\",Outputs!A238,\"\")","v":""},{"$f":"IF(Outputs!E238<>\"\",Outputs!B238,\"\")","v":""},"","","","","","","",{"$f":"IF(A239=\"\",\"\",Outputs!C238)","v":""},{"$f":"IF(A239=\"\",\"\",Outputs!J238)","v":""},{"$f":"IF(B239=\"\",\"\",Outputs!K238)","v":""},{"$f":"IF(Outputs!E238=\"\",\"\",Outputs!E238)","v":""},{"$f":"IF(Outputs!F238=\"\",\"\",Outputs!F238)","v":""},{"$f":"IF(Outputs!G238=\"\",\"\",Outputs!G238)","v":""},{"$f":"IF(Outputs!H238=\"\",\"\",Outputs!H238)","v":""},{"$f":"IF(Outputs!I238=\"\",\"\",Outputs!I238)","v":""}]
[{"$f":"IF(Outputs!E239<>\"\",Outputs!A239,\"\")","v":""},{"$f":"IF(Outputs!E239<>\"\",Outputs!B239,\"\")","v":""},"","","","","","","",{"$f":"IF(A240=\"\",\"\",Outputs!C239)","v":""},{"$f":"IF(A240=\"\",\"\",Outputs!J239)","v":""},{"$f":"IF(B240=\"\",\"\",Outputs!K239)","v":""},{"$f":"IF(Outputs!E239=\"\",\"\",Outputs!E239)","v":""},{"$f":"IF(Outputs!F239=\"\",\"\",Outputs!F239)","v":""},{"$f":"IF(Outputs!G239=\"\",\"\",Outputs!G239)","v":""},{"$f":"IF(Outputs!H239=\"\",\"\",Outputs!H239)","v":""},{"$f":"IF(Outputs!I239=\"\",\"\",Outputs!I239)","v":""}]
[{"$f":"IF(Outputs!E240<>\"\",Outputs!A240,\"\")","v":""},{"$f":"IF(Outputs!E240<>\"\",Outputs!B240,\"\")","v":""},"","","","","","","",{"$f":"IF(A241=\"\",\"\",Outputs!C240)","v":""},{"$f":"IF(A241=\"\",\"\",Outputs!J240)","v":""},{"$f":"IF(B241=\"\",\"\",Outputs!K240)","v":""},{"$f":"IF(Outputs!E240=\"\",\"\",Outputs!E240)","v":""},{"$f":"IF(Outputs!F240=\"\",\"\",Outputs!F240)","v":""},{"$f":"IF(Outputs!G240=\"\",\"\",Outputs!G240)","v":""},{"$f":"IF(Outputs!H240=\"\",\"\",Outputs!H240)","v":""},{"$f":"IF(Outputs!I240=\"\",\"\",Outputs!I240)","v":""}]
[{"$f":"IF(Outputs!E241<>\"\",Outputs!A241,\"\")","v":""},{"$f":"IF(Outputs!E241<>\"\",Outputs!B241,\"\")","v":""},"","","","","","","",{"$f":"IF(A242=\"\",\"\",Outputs!C241)","v":""},{"$f":"IF(A242=\"\",\"\",Outputs!J241)","v":""},{"$f":"IF(B242=\"\",\"\",Outputs!K241)","v":""},{"$f":"IF(Outputs!E241=\"\",\"\",Outputs!E241)","v":""},{"$f":"IF(Outputs!F241=\"\",\"\",Outputs!F241)","v":""},{"$f":"IF(Outputs!G241=\"\",\"\",Outputs!G241)","v":""},{"$f":"IF(Outputs!H241=\"\",\"\",Outputs!H241)","v":""},{"$f":"IF(Outputs!I241=\"\",\"\",Outputs!I241)","v":""}]
[{"$f":"IF(Outputs!E242<>\"\",Outputs!A242,\"\")","v":""},{"$f":"IF(Outputs!E242<>\"\",Outputs!B242,\"\")","v":""},"","","","","","","",{"$f":"IF(A243=\"\",\"\",Outputs!C242)","v":""},{"$f":"IF(A243=\"\",\"\",Outputs!J242)","v":""},{"$f":"IF(B243=\"\",\"\",Outputs!K242)","v":""},{"$f":"IF(Outputs!E242=\"\",\"\",Outputs!E242)","v":""},{"$f":"IF(Outputs!F242=\"\",\"\",Outputs!F242)","v":""},{"$f":"IF(Outputs!G242=\"\",\"\",Outputs!G242)","v":""},{"$f":"IF(Outputs!H242=\"\",\"\",Outputs!H242)","v":""},{"$f":"IF(Outputs!I242=\"\",\"\",Outputs!I242)","v":""}]
[{"$f":"IF(Outputs!E243<>\"\",Outputs!A243,\"\")","v":""},{"$f":"IF(Outputs!E243<>\"\",Outputs!B243,\"\")","v":""},"","","","","","","",{"$f":"IF(A244=\"\",\"\",Outputs!C243)","v":""},{"$f":"IF(A244=\"\",\"\",Outputs!J243)","v":""},{"$f":"IF(B244=\"\",\"\",Outputs!K243)","v":""},{"$f":"IF(Outputs!E243=\"\",\"\",Outputs!E243)","v":""},{"$f":"IF(Outputs!F243=\"\",\"\",Outputs!F243)","v":""},{"$f":"IF(Outputs!G243=\"\",\"\",Outputs!G243)","v":""},{"$f":"IF(Outputs!H243=\"\",\"\",Outputs!H243)","v":""},{"$f":"IF(Outputs!I243=\"\",\"\",Outputs!I243)","v":""}]
[{"$f":"IF(Outputs!E244<>\"\",Outputs!A244,\"\")","v":""},{"$f":"IF(Outputs!E244<>\"\",Outputs!B244,\"\")","v":""},"","","","","","","",{"$f":"IF(A245=\"\",\"\",Outputs!C244)","v":""},{"$f":"IF(A245=\"\",\"\",Outputs!J244)","v":""},{"$f":"IF(B245=\"\",\"\",Outputs!K244)","v":""},{"$f":"IF(Outputs!E244=\"\",\"\",Outputs!E244)","v":""},{"$f":"IF(Outputs!F244=\"\",\"\",Outputs!F244)","v":""},{"$f":"IF(Outputs!G244=\"\",\"\",Outputs!G244)","v":""},{"$f":"IF(Outputs!H244=\"\",\"\",Outputs!H244)","v":""},{"$f":"IF(Outputs!I244=\"\",\"\",Outputs!I244)","v":""}]
[{"$f":"IF(Outputs!E245<>\"\",Outputs!A245,\"\")","v":""},{"$f":"IF(Outputs!E245<>\"\",Outputs!B245,\"\")","v":""},"","","","","","","",{"$f":"IF(A246=\"\",\"\",Outputs!C245)","v":""},{"$f":"IF(A246=\"\",\"\",Outputs!J245)","v":""},{"$f":"IF(B246=\"\",\"\",Outputs!K245)","v":""},{"$f":"IF(Outputs!E245=\"\",\"\",Outputs!E245)","v":""},{"$f":"IF(Outputs!F245=\"\",\"\",Outputs!F245)","v":""},{"$f":"IF(Outputs!G245=\"\",\"\",Outputs!G245)","v":""},{"$f":"IF(Outputs!H245=\"\",\"\",Outputs!H245)","v":""},{"$f":"IF(Outputs!I245=\"\",\"\",Outputs!I245)","v":""}]
[{"$f":"IF(Outputs!E246<>\"\",Outputs!A246,\"\")","v":""},{"$f":"IF(Outputs!E246<>\"\",Outputs!B246,\"\")","v":""},"","","","","","","",{"$f":"IF(A247=\"\",\"\",Outputs!C246)","v":""},{"$f":"IF(A247=\"\",\"\",Outputs!J246)","v":""},{"$f":"IF(B247=\"\",\"\",Outputs!K246)","v":""},{"$f":"IF(Outputs!E246=\"\",\"\",Outputs!E246)","v":""},{"$f":"IF(Outputs!F246=\"\",\"\",Outputs!F246)","v":""},{"$f":"IF(Outputs!G246=\"\",\"\",Outputs!G246)","v":""},{"$f":"IF(Outputs!H246=\"\",\"\",Outputs!H246)","v":""},{"$f":"IF(Outputs!I246=\"\",\"\",Outputs!I246)","v":""}]
[{"$f":"IF(Outputs!E247<>\"\",Outputs!A247,\"\")","v":""},{"$f":"IF(Outputs!E247<>\"\",Outputs!B247,\"\")","v":""},"","","","","","","",{"$f":"IF(A248=\"\",\"\",Outputs!C247)","v":""},{"$f":"IF(A248=\"\",\"\",Outputs!J247)","v":""},{"$f":"IF(B248=\"\",\"\",Outputs!K247)","v":""},{"$f":"IF(Outputs!E247=\"\",\"\",Outputs!E247)","v":""},{"$f":"IF(Outputs!F247=\"\",\"\",Outputs!F247)","v":""},{"$f":"IF(Outputs!G247=\"\",\"\",Outputs!G247)","v":""},{"$f":"IF(Outputs!H247=\"\",\"\",Outputs!H247)","v":""},{"$f":"IF(Outputs!I247=\"\",\"\",Outputs!I247)","v":""}]
[{"$f":"IF(Outputs!E248<>\"\",Outputs!A248,\"\")","v":""},{"$f":"IF(Outputs!E248<>\"\",Outputs!B248,\"\")","v":""},"","","","","","","",{"$f":"IF(A249=\"\",\"\",Outputs!C248)","v":""},{"$f":"IF(A249=\"\",\"\",Outputs!J248)","v":""},{"$f":"IF(B249=\"\",\"\",Outputs!K248)","v":""},{"$f":"IF(Outputs!E248=\"\",\"\",Outputs!E248)","v":""},{"$f":"IF(Outputs!F248=\"\",\"\",Outputs!F248)","v":""},{"$f":"IF(Outputs!G248=\"\",\"\",Outputs!G248)","v":""},{"$f":"IF(Outputs!H248=\"\",\"\",Outputs!H248)","v":""},{"$f":"IF(Outputs!I248=\"\",\"\",Outputs!I248)","v":""}]
[{"$f":"IF(Outputs!E249<>\"\",Outputs!A249,\"\")","v":""},{"$f":"IF(Outputs!E249<>\"\",Outputs!B249,\"\")","v":""},"","","","","","","",{"$f":"IF(A250=\"\",\"\",Outputs!C249)","v":""},{"$f":"IF(A250=\"\",\"\",Outputs!J249)","v":""},{"$f":"IF(B250=\"\",\"\",Outputs!K249)","v":""},{"$f":"IF(Outputs!E249=\"\",\"\",Outputs!E249)","v":""},{"$f":"IF(Outputs!F249=\"\",\"\",Outputs!F249)","v":""},{"$f":"IF(Outputs!G249=\"\",\"\",Outputs!G249)","v":""},{"$f":"IF(Outputs!H249=\"\",\"\",Outputs!H249)","v":""},{"$f":"IF(Outputs!I249=\"\",\"\",Outputs!I249)","v":""}]
[{"$f":"IF(Outputs!E250<>\"\",Outputs!A250,\"\")","v":""},{"$f":"IF(Outputs!E250<>\"\",Outputs!B250,\"\")","v":""},"","","","","","","",{"$f":"IF(A251=\"\",\"\",Outputs!C250)","v":""},{"$f":"IF(A251=\"\",\"\",Outputs!J250)","v":""},{"$f":"IF(B251=\"\",\"\",Outputs!K250)","v":""},{"$f":"IF(Outputs!E250=\"\",\"\",Outputs!E250)","v":""},{"$f":"IF(Outputs!F250=\"\",\"\",Outputs!F250)","v":""},{"$f":"IF(Outputs!G250=\"\",\"\",Outputs!G250)","v":""},{"$f":"IF(Outputs!H250=\"\",\"\",Outputs!H250)","v":""},{"$f":"IF(Outputs!I250=\"\",\"\",Outputs!I250)","v":""}]
[{"$f":"IF(Outputs!E251<>\"\",Outputs!A251,\"\")","v":""},{"$f":"IF(Outputs!E251<>\"\",Outputs!B251,\"\")","v":""},"","","","","","","",{"$f":"IF(A252=\"\",\"\",Outputs!C251)","v":""},{"$f":"IF(A252=\"\",\"\",Outputs!J251)","v":""},{"$f":"IF(B252=\"\",\"\",Outputs!K251)","v":""},{"$f":"IF(Outputs!E251=\"\",\"\",Outputs!E251)","v":""},{"$f":"IF(Outputs!F251=\"\",\"\",Outputs!F251)","v":""},{"$f":"IF(Outputs!G251=\"\",\"\",Outputs!G251)","v":""},{"$f":"IF(Outputs!H251=\"\",\"\",Outputs!H251)","v":""},{"$f":"IF(Outputs!I251=\"\",\"\",Outputs!I251)","v":""}]
[{"$f":"IF(Outputs!E252<>\"\",Outputs!A252,\"\")","v":""},{"$f":"IF(Outputs!E252<>\"\",Outputs!B252,\"\")","v":""},"","","","","","","",{"$f":"IF(A253=\"\",\"\",Outputs!C252)","v":""},{"$f":"IF(A253=\"\",\"\",Outputs!J252)","v":""},{"$f":"IF(B253=\"\",\"\",Outputs!K252)","v":""},{"$f":"IF(Outputs!E252=\"\",\"\",Outputs!E252)","v":""},{"$f":"IF(Outputs!F252=\"\",\"\",Outputs!F252)","v":""},{"$f":"IF(Outputs!G252=\"\",\"\",Outputs!G252)","v":""},{"$f":"IF(Outputs!H252=\"\",\"\",Outputs!H252)","v":""},{"$f":"IF(Outputs!I252=\"\",\"\",Outputs!I252)","v":""}]
[{"$f":"IF(Outputs!E253<>\"\",Outputs!A253,\"\")","v":""},{"$f":"IF(Outputs!E253<>\"\",Outputs!B253,\"\")","v":""},"","","","","","","",{"$f":"IF(A254=\"\",\"\",Outputs!C253)","v":""},{"$f":"IF(A254=\"\",\"\",Outputs!J253)","v":""},{"$f":"IF(B254=\"\",\"\",Outputs!K253)","v":""},{"$f":"IF(Outputs!E253=\"\",\"\",Outputs!E253)","v":""},{"$f":"IF(Outputs!F253=\"\",\"\",Outputs!F253)","v":""},{"$f":"IF(Outputs!G253=\"\",\"\",Outputs!G253)","v":""},{"$f":"IF(Outputs!H253=\"\",\"\",Outputs!H253)","v":""},{"$f":"IF(Outputs!I253=\"\",\"\",Outputs!I253)","v":""}]
[{"$f":"IF(Outputs!E254<>\"\",Outputs!A254,\"\")","v":""},{"$f":"IF(Outputs!E254<>\"\",Outputs!B254,\"\")","v":""},"","","","","","","",{"$f":"IF(A255=\"\",\"\",Outputs!C254)","v":""},{"$f":"IF(A255=\"\",\"\",Outputs!J254)","v":""},{"$f":"IF(B255=\"\",\"\",Outputs!K254)","v":""},{"$f":"IF(Outputs!E254=\"\",\"\",Outputs!E254)","v":""},{"$f":"IF(Outputs!F254=\"\",\"\",Outputs!F254)","v":""},{"$f":"IF(Outputs!G254=\"\",\"\",Outputs!G254)","v":""},{"$f":"IF(Outputs!H254=\"\",\"\",Outputs!H254)","v":""},{"$f":"IF(Outputs!I254=\"\",\"\",Outputs!I254)","v":""}]
[{"$f":"IF(Outputs!E255<>\"\",Outputs!A255,\"\")","v":""},{"$f":"IF(Outputs!E255<>\"\",Outputs!B255,\"\")","v":""},"","","","","","","",{"$f":"IF(A256=\"\",\"\",Outputs!C255)","v":""},{"$f":"IF(A256=\"\",\"\",Outputs!J255)","v":""},{"$f":"IF(B256=\"\",\"\",Outputs!K255)","v":""},{"$f":"IF(Outputs!E255=\"\",\"\",Outputs!E255)","v":""},{"$f":"IF(Outputs!F255=\"\",\"\",Outputs!F255)","v":""},{"$f":"IF(Outputs!G255=\"\",\"\",Outputs!G255)","v":""},{"$f":"IF(Outputs!H255=\"\",\"\",Outputs!H255)","v":""},{"$f":"IF(Outputs!I255=\"\",\"\",Outputs!I255)","v":""}]
[{"$f":"IF(Outputs!E256<>\"\",Outputs!A256,\"\")","v":""},{"$f":"IF(Outputs!E256<>\"\",Outputs!B256,\"\")","v":""},"","","","","","","",{"$f":"IF(A257=\"\",\"\",Outputs!C256)","v":""},{"$f":"IF(A257=\"\",\"\",Outputs!J256)","v":""},{"$f":"IF(B257=\"\",\"\",Outputs!K256)","v":""},{"$f":"IF(Outputs!E256=\"\",\"\",Outputs!E256)","v":""},{"$f":"IF(Outputs!F256=\"\",\"\",Outputs!F256)","v":""},{"$f":"IF(Outputs!G256=\"\",\"\",Outputs!G256)","v":""},{"$f":"IF(Outputs!H256=\"\",\"\",Outputs!H256)","v":""},{"$f":"IF(Outputs!I256=\"\",\"\",Outputs!I256)","v":""}]
[{"$f":"IF(Outputs!E257<>\"\",Outputs!A257,\"\")","v":""},{"$f":"IF(Outputs!E257<>\"\",Outputs!B257,\"\")","v":""},"","","","","","","",{"$f":"IF(A258=\"\",\"\",Outputs!C257)","v":""},{"$f":"IF(A258=\"\",\"\",Outputs!J257)","v":""},{"$f":"IF(B258=\"\",\"\",Outputs!K257)","v":""},{"$f":"IF(Outputs!E257=\"\",\"\",Outputs!E257)","v":""},{"$f":"IF(Outputs!F257=\"\",\"\",Outputs!F257)","v":""},{"$f":"IF(Outputs!G257=\"\",\"\",Outputs!G257)","v":""},{"$f":"IF(Outputs!H257=\"\",\"\",Outputs!H257)","v":""},{"$f":"IF(Outputs!I257=\"\",\"\",Outputs!I257)","v":""}]
[{"$f":"IF(Outputs!E258<>\"\",Outputs!A258,\"\")","v":""},{"$f":"IF(Outputs!E258<>\"\",Outputs!B258,\"\")","v":""},"","","","","","","",{"$f":"IF(A259=\"\",\"\",Outputs!C258)","v":""},{"$f":"IF(A259=\"\",\"\",Outputs!J258)","v":""},{"$f":"IF(B259=\"\",\"\",Outputs!K258)","v":""},{"$f":"IF(Outputs!E258=\"\",\"\",Outputs!E258)","v":""},{"$f":"IF(Outputs!F258=\"\",\"\",Outputs!F258)","v":""},{"$f":"IF(Outputs!G258=\"\",\"\",Outputs!G258)","v":""},{"$f":"IF(Outputs!H258=\"\",\"\",Outputs!H258)","v":""},{"$f":"IF(Outputs!I258=\"\",\"\",Outputs!I258)","v":""}]
[{"$f":"IF(Outputs!E259<>\"\",Outputs!A259,\"\")","v":""},{"$f":"IF(Outputs!E259<>\"\",Outputs!B259,\"\")","v":""},{"$f":"B260","v":""},"","","","","",{"$f":"IF(H260=\"\",\"\",SQRT(J260/PI())*10)","v":""},{"$f":"IF(A260=\"\",\"\",Outputs!C259)","v":""},{"$f":"IF(A260=\"\",\"\",Outputs!J259)","v":""},{"$f":"IF(B260=\"\",\"\",Outputs!K259)","v":""},{"$f":"IF(Outputs!E259=\"\",\"\",Outputs!E259)","v":""},{"$f":"IF(Outputs!F259=\"\",\"\",Outputs!F259)","v":""},{"$f":"IF(Outputs!G259=\"\",\"\",Outputs!G259)","v":""},{"$f":"IF(Outputs!H259=\"\",\"\",Outputs!H259)","v":""},{"$f":"IF(Outputs!I259=\"\",\"\",Outputs!I259)","v":""}]
[{"$f":"IF(Outputs!E260<>\"\",Outputs!A260,\"\")","v":""},{"$f":"IF(Outputs!E260<>\"\",Outputs!B260,\"\")","v":""},"","","","","","","",{"$f":"IF(A261=\"\",\"\",Outputs!C260)","v":""},{"$f":"IF(A261=\"\",\"\",Outputs!J260)","v":""},{"$f":"IF(B261=\"\",\"\",Outputs!K260)","v":""},{"$f":"IF(Outputs!E260=\"\",\"\",Outputs!E260)","v":""},{"$f":"IF(Outputs!F260=\"\",\"\",Outputs!F260)","v":""},{"$f":"IF(Outputs!G260=\"\",\"\",Outputs!G260)","v":""},{"$f":"IF(Outputs!H260=\"\",\"\",Outputs!H260)","v":""},{"$f":"IF(Outputs!I260=\"\",\"\",Outputs!I260)","v":""}]
[{"$f":"IF(Outputs!E261<>\"\",Outputs!A261,\"\")","v":""},{"$f":"IF(Outputs!E261<>\"\",Outputs!B261,\"\")","v":""},"","","","","","","",{"$f":"IF(A262=\"\",\"\",Outputs!C261)","v":""},{"$f":"IF(A262=\"\",\"\",Outputs!J261)","v":""},{"$f":"IF(B262=\"\",\"\",Outputs!K261)","v":""},{"$f":"IF(Outputs!E261=\"\",\"\",Outputs!E261)","v":""},{"$f":"IF(Outputs!F261=\"\",\"\",Outputs!F261)","v":""},{"$f":"IF(Outputs!G261=\"\",\"\",Outputs!G261)","v":""},{"$f":"IF(Outputs!H261=\"\",\"\",Outputs!H261)","v":""},{"$f":"IF(Outputs!I261=\"\",\"\",Outputs!I261)","v":""}]
[{"$f":"IF(Outputs!E262<>\"\",Outputs!A262,\"\")","v":""},{"$f":"IF(Outputs!E262<>\"\",Outputs!B262,\"\")","v":""},"","","","","","","",{"$f":"IF(A263=\"\",\"\",Outputs!C262)","v":""},{"$f":"IF(A263=\"\",\"\",Outputs!J262)","v":""},{"$f":"IF(B263=\"\",\"\",Outputs!K262)","v":""},{"$f":"IF(Outputs!E262=\"\",\"\",Outputs!E262)","v":""},{"$f":"IF(Outputs!F262=\"\",\"\",Outputs!F262)","v":""},{"$f":"IF(Outputs!G262=\"\",\"\",Outputs!G262)","v":""},{"$f":"IF(Outputs!H262=\"\",\"\",Outputs!H262)","v":""},{"$f":"IF(Outputs!I262=\"\",\"\",Outputs!I262)","v":""}]
[{"$f":"IF(Outputs!E263<>\"\",Outputs!A263,\"\")","v":""},{"$f":"IF(Outputs!E263<>\"\",Outputs!B263,\"\")","v":""},"","","","","","","",{"$f":"IF(A264=\"\",\"\",Outputs!C263)","v":""},{"$f":"IF(A264=\"\",\"\",Outputs!J263)","v":""},{"$f":"IF(B264=\"\",\"\",Outputs!K263)","v":""},{"$f":"IF(Outputs!E263=\"\",\"\",Outputs!E263)","v":""},{"$f":"IF(Outputs!F263=\"\",\"\",Outputs!F263)","v":""},{"$f":"IF(Outputs!G263=\"\",\"\",Outputs!G263)","v":""},{"$f":"IF(Outputs!H263=\"\",\"\",Outputs!H263)","v":""},{"$f":"IF(Outputs!I263=\"\",\"\",Outputs!I263)","v":""}]
[{"$f":"IF(Outputs!E264<>\"\",Outputs!A264,\"\")","v":""},{"$f":"IF(Outputs!E264<>\"\",Outputs!B264,\"\")","v":""},"","","","","","","",{"$f":"IF(A265=\"\",\"\",Outputs!C264)","v":""},{"$f":"IF(A265=\"\",\"\",Outputs!J264)","v":""},{"$f":"IF(B265=\"\",\"\",Outputs!K264)","v":""},{"$f":"IF(Outputs!E264=\"\",\"\",Outputs!E264)","v":""},{"$f":"IF(Outputs!F264=\"\",\"\",Outputs!F264)","v":""},{"$f":"IF(Outputs!G264=\"\",\"\",Outputs!G264)","v":""},{"$f":"IF(Outputs!H264=\"\",\"\",Outputs!H264)","v":""},{"$f":"IF(Outputs!I264=\"\",\"\",Outputs!I264)","v":""}]
[{"$f":"IF(Outputs!E265<>\"\",Outputs!A265,\"\")","v":""},{"$f":"IF(Outputs!E265<>\"\",Outputs!B265,\"\")","v":""},"","","","","","","",{"$f":"IF(A266=\"\",\"\",Outputs!C265)","v":""},{"$f":"IF(A266=\"\",\"\",Outputs!J265)","v":""},{"$f":"IF(B266=\"\",\"\",Outputs!K265)","v":""},{"$f":"IF(Outputs!E265=\"\",\"\",Outputs!E265)","v":""},{"$f":"IF(Outputs!F265=\"\",\"\",Outputs!F265)","v":""},{"$f":"IF(Outputs!G265=\"\",\"\",Outputs!G265)","v":""},{"$f":"IF(Outputs!H265=\"\",\"\",Outputs!H265)","v":""},{"$f":"IF(Outputs!I265=\"\",\"\",Outputs!I265)","v":""}]
[{"$f":"IF(Outputs!E266<>\"\",Outputs!A266,\"\")","v":""},{"$f":"IF(Outputs!E266<>\"\",Outputs!B266,\"\")","v":""},"","","","","","","",{"$f":"IF(A267=\"\",\"\",Outputs!C266)","v":""},{"$f":"IF(A267=\"\",\"\",Outputs!J266)","v":""},{"$f":"IF(B267=\"\",\"\",Outputs!K266)","v":""},{"$f":"IF(Outputs!E266=\"\",\"\",Outputs!E266)","v":""},{"$f":"IF(Outputs!F266=\"\",\"\",Outputs!F266)","v":""},{"$f":"IF(Outputs!G266=\"\",\"\",Outputs!G266)","v":""},{"$f":"IF(Outputs!H266=\"\",\"\",Outputs!H266)","v":""},{"$f":"IF(Outputs!I266=\"\",\"\",Outputs!I266)","v":""}]
[{"$f":"IF(Outputs!E267<>\"\",Outputs!A267,\"\")","v":""},{"$f":"IF(Outputs!E267<>\"\",Outputs!B267,\"\")","v":""},"","","","","","","",{"$f":"IF(A268=\"\",\"\",Outputs!C267)","v":""},{"$f":"IF(A268=\"\",\"\",Outputs!J267)","v":""},{"$f":"IF(B268=\"\",\"\",Outputs!K267)","v":""},{"$f":"IF(Outputs!E267=\"\",\"\",Outputs!E267)","v":""},{"$f":"IF(Outputs!F267=\"\",\"\",Outputs!F267)","v":""},{"$f":"IF(Outputs!G267=\"\",\"\",Outputs!G267)","v":""},{"$f":"IF(Outputs!H267=\"\",\"\",Outputs!H267)","v":""},{"$f":"IF(Outputs!I267=\"\",\"\",Outputs!I267)","v":""}]
[{"$f":"IF(Outputs!E268<>\"\",Outputs!A268,\"\")","v":""},{"$f":"IF(Outputs!E268<>\"\",Outputs!B268,\"\")","v":""},"","","","","","","",{"$f":"IF(A269=\"\",\"\",Outputs!C268)","v":""},{"$f":"IF(A269=\"\",\"\",Outputs!J268)","v":""},{"$f":"IF(B269=\"\",\"\",Outputs!K268)","v":""},{"$f":"IF(Outputs!E268=\"\",\"\",Outputs!E268)","v":""},{"$f":"IF(Outputs!F268=\"\",\"\",Outputs!F268)","v":""},{"$f":"IF(Outputs!G268=\"\",\"\",Outputs!G268)","v":""},{"$f":"IF(Outputs!H268=\"\",\"\",Outputs!H268)","v":""},{"$f":"IF(Outputs!I268=\"\",\"\",Outputs!I268)","v":""}]
[{"$f":"IF(Outputs!E269<>\"\",Outputs!A269,\"\")","v":""},{"$f":"IF(Outputs!E269<>\"\",Outputs!B269,\"\")","v":""},"","","","","","","",{"$f":"IF(A270=\"\",\"\",Outputs!C269)","v":""},{"$f":"IF(A270=\"\",\"\",Outputs!J269)","v":""},{"$f":"IF(B270=\"\",\"\",Outputs!K269)","v":""},{"$f":"IF(Outputs!E269=\"\",\"\",Outputs!E269)","v":""},{"$f":"IF(Outputs!F269=\"\",\"\",Outputs!F269)","v":""},{"$f":"IF(Outputs!G269=\"\",\"\",Outputs!G269)","v":""},{"$f":"IF(Outputs!H269=\"\",\"\",Outputs!H269)","v":""},{"$f":"IF(Outputs!I269=\"\",\"\",Outputs!I269)","v":""}]
[{"$f":"IF(Outputs!E270<>\"\",Outputs!A270,\"\")","v":""},{"$f":"IF(Outputs!E270<>\"\",Outputs!B270,\"\")","v":""},"","","","","","","",{"$f":"IF(A271=\"\",\"\",Outputs!C270)","v":""},{"$f":"IF(A271=\"\",\"\",Outputs!J270)","v":""},{"$f":"IF(B271=\"\",\"\",Outputs!K270)","v":""},{"$f":"IF(Outputs!E270=\"\",\"\",Outputs!E270)","v":""},{"$f":"IF(Outputs!F270=\"\",\"\",Outputs!F270)","v":""},{"$f":"IF(Outputs!G270=\"\",\"\",Outputs!G270)","v":""},{"$f":"IF(Outputs!H270=\"\",\"\",Outputs!H270)","v":""},{"$f":"IF(Outputs!I270=\"\",\"\",Outputs!I270)","v":""}]
[{"$f":"IF(Outputs!E271<>\"\",Outputs!A271,\"\")","v":""},{"$f":"IF(Outputs!E271<>\"\",Outputs!B271,\"\")","v":""},"","","","","","","",{"$f":"IF(A272=\"\",\"\",Outputs!C271)","v":""},{"$f":"IF(A272=\"\",\"\",Outputs!J271)","v":""},{"$f":"IF(B272=\"\",\"\",Outputs!K271)","v":""},{"$f":"IF(Outputs!E271=\"\",\"\",Outputs!E271)","v":""},{"$f":"IF(Outputs!F271=\"\",\"\",Outputs!F271)","v":""},{"$f":"IF(Outputs!G271=\"\",\"\",Outputs!G271)","v":""},{"$f":"IF(Outputs!H271=\"\",\"\",Outputs!H271)","v":""},{"$f":"IF(Outputs!I271=\"\",\"\",Outputs!I271)","v":""}]
[{"$f":"IF(Outputs!E272<>\"\",Outputs!A272,\"\")","v":""},{"$f":"IF(Outputs!E272<>\"\",Outputs!B272,\"\")","v":""},"","","","","","","",{"$f":"IF(A273=\"\",\"\",Outputs!C272)","v":""},{"$f":"IF(A273=\"\",\"\",Outputs!J272)","v":""},{"$f":"IF(B273=\"\",\"\",Outputs!K272)","v":""},{"$f":"IF(Outputs!E272=\"\",\"\",Outputs!E272)","v":""},{"$f":"IF(Outputs!F272=\"\",\"\",Outputs!F272)","v":""},{"$f":"IF(Outputs!G272=\"\",\"\",Outputs!G272)","v":""},{"$f":"IF(Outputs!H272=\"\",\"\",Outputs!H272)","v":""},{"$f":"IF(Outputs!I272=\"\",\"\",Outputs!I272)","v":""}]
[{"$f":"IF(Outputs!E273<>\"\",Outputs!A273,\"\")","v":""},{"$f":"IF(Outputs!E273<>\"\",Outputs!B273,\"\")","v":""},"","","","","","","",{"$f":"IF(A274=\"\",\"\",Outputs!C273)","v":""},{"$f":"IF(A274=\"\",\"\",Outputs!J273)","v":""},{"$f":"IF(B274=\"\",\"\",Outputs!K273)","v":""},{"$f":"IF(Outputs!E273=\"\",\"\",Outputs!E273)","v":""},{"$f":"IF(Outputs!F273=\"\",\"\",Outputs!F273)","v":""},{"$f":"IF(Outputs!G273=\"\",\"\",Outputs!G273)","v":""},{"$f":"IF(Outputs!H273=\"\",\"\",Outputs!H273)","v":""},{"$f":"IF(Outputs!I273=\"\",\"\",Outputs!I273)","v":""}]
[{"$f":"IF(Outputs!E274<>\"\",Outputs!A274,\"\")","v":""},{"$f":"IF(Outputs!E274<>\"\",Outputs!B274,\"\")","v":""},"","","","","","","",{"$f":"IF(A275=\"\",\"\",Outputs!C274)","v":""},{"$f":"IF(A275=\"\",\"\",Outputs!J274)","v":""},{"$f":"IF(B275=\"\",\"\",Outputs!K274)","v":""},{"$f":"IF(Outputs!E274=\"\",\"\",Outputs!E274)","v":""},{"$f":"IF(Outputs!F274=\"\",\"\",Outputs!F274)","v":""},{"$f":"IF(Outputs!G274=\"\",\"\",Outputs!G274)","v":""},{"$f":"IF(Outputs!H274=\"\",\"\",Outputs!H274)","v":""},{"$f":"IF(Outputs!I274=\"\",\"\",Outputs!I274)","v":""}]
[{"$f":"IF(Outputs!E275<>\"\",Outputs!A275,\"\")","v":""},{"$f":"IF(Outputs!E275<>\"\",Outputs!B275,\"\")","v":""},"","","","","","","",{"$f":"IF(A276=\"\",\"\",Outputs!C275)","v":""},{"$f":"IF(A276=\"\",\"\",Outputs!J275)","v":""},{"$f":"IF(B276=\"\",\"\",Outputs!K275)","v":""},{"$f":"IF(Outputs!E275=\"\",\"\",Outputs!E275)","v":""},{"$f":"IF(Outputs!F275=\"\",\"\",Outputs!F275)","v":""},{"$f":"IF(Outputs!G275=\"\",\"\",Outputs!G275)","v":""},{"$f":"IF(Outputs!H275=\"\",\"\",Outputs!H275)","v":""},{"$f":"IF(Outputs!I275=\"\",\"\",Outputs!I275)","v":""}]
[{"$f":"IF(Outputs!E276<>\"\",Outputs!A276,\"\")","v":""},{"$f":"IF(Outputs!E276<>\"\",Outputs!B276,\"\")","v":""},"","","","","","","",{"$f":"IF(A277=\"\",\"\",Outputs!C276)","v":""},{"$f":"IF(A277=\"\",\"\",Outputs!J276)","v":""},{"$f":"IF(B277=\"\",\"\",Outputs!K276)","v":""},{"$f":"IF(Outputs!E276=\"\",\"\",Outputs!E276)","v":""},{"$f":"IF(Outputs!F276=\"\",\"\",Outputs!F276)","v":""},{"$f":"IF(Outputs!G276=\"\",\"\",Outputs!G276)","v":""},{"$f":"IF(Outputs!H276=\"\",\"\",Outputs!H276)","v":""},{"$f":"IF(Outputs!I276=\"\",\"\",Outputs!I276)","v":""}]
[{"$f":"IF(Outputs!E277<>\"\",Outputs!A277,\"\")","v":""},{"$f":"IF(Outputs!E277<>\"\",Outputs!B277,\"\")","v":""},"","","","","","","",{"$f":"IF(A278=\"\",\"\",Outputs!C277)","v":""},{"$f":"IF(A278=\"\",\"\",Outputs!J277)","v":""},{"$f":"IF(B278=\"\",\"\",Outputs!K277)","v":""},{"$f":"IF(Outputs!E277=\"\",\"\",Outputs!E277)","v":""},{"$f":"IF(Outputs!F277=\"\",\"\",Outputs!F277)","v":""},{"$f":"IF(Outputs!G277=\"\",\"\",Outputs!G277)","v":""},{"$f":"IF(Outputs!H277=\"\",\"\",Outputs!H277)","v":""},{"$f":"IF(Outputs!I277=\"\",\"\",Outputs!I277)","v":""}]
[{"$f":"IF(Outputs!E278<>\"\",Outputs!A278,\"\")","v":""},{"$f":"IF(Outputs!E278<>\"\",Outputs!B278,\"\")","v":""},"","","","","","","",{"$f":"IF(A279=\"\",\"\",Outputs!C278)","v":""},{"$f":"IF(A279=\"\",\"\",Outputs!J278)","v":""},{"$f":"IF(B279=\"\",\"\",Outputs!K278)","v":""},{"$f":"IF(Outputs!E278=\"\",\"\",Outputs!E278)","v":""},{"$f":"IF(Outputs!F278=\"\",\"\",Outputs!F278)","v":""},{"$f":"IF(Outputs!G278=\"\",\"\",Outputs!G278)","v":""},{"$f":"IF(Outputs!H278=\"\",\"\",Outputs!H278)","v":""},{"$f":"IF(Outputs!I278=\"\",\"\",Outputs!I278)","v":""}]
[{"$f":"IF(Outputs!E279<>\"\",Outputs!A279,\"\")","v":""},{"$f":"IF(Outputs!E279<>\"\",Outputs!B279,\"\")","v":""},"","","","","","","",{"$f":"IF(A280=\"\",\"\",Outputs!C279)","v":""},{"$f":"IF(A280=\"\",\"\",Outputs!J279)","v":""},{"$f":"IF(B280=\"\",\"\",Outputs!K279)","v":""},{"$f":"IF(Outputs!E279=\"\",\"\",Outputs!E279)","v":""},{"$f":"IF(Outputs!F279=\"\",\"\",Outputs!F279)","v":""},{"$f":"IF(Outputs!G279=\"\",\"\",Outputs!G279)","v":""},{"$f":"IF(Outputs!H279=\"\",\"\",Outputs!H279)","v":""},{"$f":"IF(Outputs!I279=\"\",\"\",Outputs!I279)","v":""}]
[{"$f":"IF(Outputs!E280<>\"\",Outputs!A280,\"\")","v":""},{"$f":"IF(Outputs!E280<>\"\",Outputs!B280,\"\")","v":""},"","","","","","","",{"$f":"IF(A281=\"\",\"\",Outputs!C280)","v":""},{"$f":"IF(A281=\"\",\"\",Outputs!J280)","v":""},{"$f":"IF(B281=\"\",\"\",Outputs!K280)","v":""},{"$f":"IF(Outputs!E280=\"\",\"\",Outputs!E280)","v":""},{"$f":"IF(Outputs!F280=\"\",\"\",Outputs!F280)","v":""},{"$f":"IF(Outputs!G280=\"\",\"\",Outputs!G280)","v":""},{"$f":"IF(Outputs!H280=\"\",\"\",Outputs!H280)","v":""},{"$f":"IF(Outputs!I280=\"\",\"\",Outputs!I280)","v":""}]
[{"$f":"IF(Outputs!E281<>\"\",Outputs!A281,\"\")","v":""},{"$f":"IF(Outputs!E281<>\"\",Outputs!B281,\"\")","v":""},"","","","","","","",{"$f":"IF(A282=\"\",\"\",Outputs!C281)","v":""},{"$f":"IF(A282=\"\",\"\",Outputs!J281)","v":""},{"$f":"IF(B282=\"\",\"\",Outputs!K281)","v":""},{"$f":"IF(Outputs!E281=\"\",\"\",Outputs!E281)","v":""},{"$f":"IF(Outputs!F281=\"\",\"\",Outputs!F281)","v":""},{"$f":"IF(Outputs!G281=\"\",\"\",Outputs!G281)","v":""},{"$f":"IF(Outputs!H281=\"\",\"\",Outputs!H281)","v":""},{"$f":"IF(Outputs!I281=\"\",\"\",Outputs!I281)","v":""}]
[{"$f":"IF(Outputs!E282<>\"\",Outputs!A282,\"\")","v":""},{"$f":"IF(Outputs!E282<>\"\",Outputs!B282,\"\")","v":""},"",{"$f":"IF(C283=\"\",\"\",\"<b>\" & B283 & \"</b><br>\" & \"<b>Population attributed:</b> \" & J283 & \"</br>\" & \"<b> Effective Time:</b>  \" & M283 & \" minutes\" & \"</br>\"& \"<b> Option 1:</b>  \" & N283 & \"</br>\"& \"<b> Option 2:</b>  \" &O283 & \"</br>\"& \"<b> Option 3:</b>  \" & P283 & \"</br>\"& \"<b> Option 4:</b>  \" & Q283)","v":""},{"$f":"IF(D283=\"\",\"\",IF(M283<45,\"http://labs.google.com/ridefinder/images/mm_20_green.png\",\"http://labs.google.com/ridefinder/images/mm_20_red.png\"))","v":""},{"$f":"IF(E283=\"\",\"\",IF(J283>15000,\"big\",IF(J283>10000,\"medium\",\"small\")))","v":""},{"$f":"F283","v":""},{"$f":"IF(G283=\"\",\"\",IF(M283<45,\"#458B00\",\"#D41243\"))","v":""},"",{"$f":"IF(A283=\"\",\"\",Outputs!C282)","v":""},{"$f":"IF(A283=\"\",\"\",Outputs!J282)","v":""},{"$f":"IF(B283=\"\",\"\",Outputs!K282)","v":""},{"$f":"IF(Outputs!E282=\"\",\"\",Outputs!E282)","v":""},{"$f":"IF(Outputs!F282=\"\",\"\",Outputs!F282)","v":""},{"$f":"IF(Outputs!G282=\"\",\"\",Outputs!G282)","v":""},{"$f":"IF(Outputs!H282=\"\",\"\",Outputs!H282)","v":""},{"$f":"IF(Outputs!I282=\"\",\"\",Outputs!I282)","v":""}]
[{"$f":"IF(Outputs!E283<>\"\",Outputs!A283,\"\")","v":""},{"$f":"IF(Outputs!E283<>\"\",Outputs!B283,\"\")","v":""},"","","","","","","",{"$f":"IF(A284=\"\",\"\",Outputs!C283)","v":""},{"$f":"IF(A284=\"\",\"\",Outputs!J283)","v":""},{"$f":"IF(B284=\"\",\"\",Outputs!K283)","v":""},{"$f":"IF(Outputs!E283=\"\",\"\",Outputs!E283)","v":""},{"$f":"IF(Outputs!F283=\"\",\"\",Outputs!F283)","v":""},{"$f":"IF(Outputs!G283=\"\",\"\",Outputs!G283)","v":""},{"$f":"IF(Outputs!H283=\"\",\"\",Outputs!H283)","v":""},{"$f":"IF(Outputs!I283=\"\",\"\",Outputs!I283)","v":""}]
[{"$f":"IF(Outputs!E284<>\"\",Outputs!A284,\"\")","v":""},{"$f":"IF(Outputs!E284<>\"\",Outputs!B284,\"\")","v":""},"","","","","","","",{"$f":"IF(A285=\"\",\"\",Outputs!C284)","v":""},{"$f":"IF(A285=\"\",\"\",Outputs!J284)","v":""},{"$f":"IF(B285=\"\",\"\",Outputs!K284)","v":""},{"$f":"IF(Outputs!E284=\"\",\"\",Outputs!E284)","v":""},{"$f":"IF(Outputs!F284=\"\",\"\",Outputs!F284)","v":""},{"$f":"IF(Outputs!G284=\"\",\"\",Outputs!G284)","v":""},{"$f":"IF(Outputs!H284=\"\",\"\",Outputs!H284)","v":""},{"$f":"IF(Outputs!I284=\"\",\"\",Outputs!I284)","v":""}]
[{"$f":"IF(Outputs!E285<>\"\",Outputs!A285,\"\")","v":""},{"$f":"IF(Outputs!E285<>\"\",Outputs!B285,\"\")","v":""},"","","","","","","",{"$f":"IF(A286=\"\",\"\",Outputs!C285)","v":""},{"$f":"IF(A286=\"\",\"\",Outputs!J285)","v":""},{"$f":"IF(B286=\"\",\"\",Outputs!K285)","v":""},{"$f":"IF(Outputs!E285=\"\",\"\",Outputs!E285)","v":""},{"$f":"IF(Outputs!F285=\"\",\"\",Outputs!F285)","v":""},{"$f":"IF(Outputs!G285=\"\",\"\",Outputs!G285)","v":""},{"$f":"IF(Outputs!H285=\"\",\"\",Outputs!H285)","v":""},{"$f":"IF(Outputs!I285=\"\",\"\",Outputs!I285)","v":""}]
[{"$f":"IF(Outputs!E286<>\"\",Outputs!A286,\"\")","v":""},{"$f":"IF(Outputs!E286<>\"\",Outputs!B286,\"\")","v":""},"","","","","","","",{"$f":"IF(A287=\"\",\"\",Outputs!C286)","v":""},{"$f":"IF(A287=\"\",\"\",Outputs!J286)","v":""},{"$f":"IF(B287=\"\",\"\",Outputs!K286)","v":""},{"$f":"IF(Outputs!E286=\"\",\"\",Outputs!E286)","v":""},{"$f":"IF(Outputs!F286=\"\",\"\",Outputs!F286)","v":""},{"$f":"IF(Outputs!G286=\"\",\"\",Outputs!G286)","v":""},{"$f":"IF(Outputs!H286=\"\",\"\",Outputs!H286)","v":""},{"$f":"IF(Outputs!I286=\"\",\"\",Outputs!I286)","v":""}]
[{"$f":"IF(Outputs!E287<>\"\",Outputs!A287,\"\")","v":""},{"$f":"IF(Outputs!E287<>\"\",Outputs!B287,\"\")","v":""},"","","","","","","",{"$f":"IF(A288=\"\",\"\",Outputs!C287)","v":""},{"$f":"IF(A288=\"\",\"\",Outputs!J287)","v":""},{"$f":"IF(B288=\"\",\"\",Outputs!K287)","v":""},{"$f":"IF(Outputs!E287=\"\",\"\",Outputs!E287)","v":""},{"$f":"IF(Outputs!F287=\"\",\"\",Outputs!F287)","v":""},{"$f":"IF(Outputs!G287=\"\",\"\",Outputs!G287)","v":""},{"$f":"IF(Outputs!H287=\"\",\"\",Outputs!H287)","v":""},{"$f":"IF(Outputs!I287=\"\",\"\",Outputs!I287)","v":""}]
[{"$f":"IF(Outputs!E288<>\"\",Outputs!A288,\"\")","v":""},{"$f":"IF(Outputs!E288<>\"\",Outputs!B288,\"\")","v":""},"","","","","","","",{"$f":"IF(A289=\"\",\"\",Outputs!C288)","v":""},{"$f":"IF(A289=\"\",\"\",Outputs!J288)","v":""},{"$f":"IF(B289=\"\",\"\",Outputs!K288)","v":""},{"$f":"IF(Outputs!E288=\"\",\"\",Outputs!E288)","v":""},{"$f":"IF(Outputs!F288=\"\",\"\",Outputs!F288)","v":""},{"$f":"IF(Outputs!G288=\"\",\"\",Outputs!G288)","v":""},{"$f":"IF(Outputs!H288=\"\",\"\",Outputs!H288)","v":""},{"$f":"IF(Outputs!I288=\"\",\"\",Outputs!I288)","v":""}]
[{"$f":"IF(Outputs!E289<>\"\",Outputs!A289,\"\")","v":""},{"$f":"IF(Outputs!E289<>\"\",Outputs!B289,\"\")","v":""},"","","","","","","",{"$f":"IF(A290=\"\",\"\",Outputs!C289)","v":""},{"$f":"IF(A290=\"\",\"\",Outputs!J289)","v":""},{"$f":"IF(B290=\"\",\"\",Outputs!K289)","v":""},{"$f":"IF(Outputs!E289=\"\",\"\",Outputs!E289)","v":""},{"$f":"IF(Outputs!F289=\"\",\"\",Outputs!F289)","v":""},{"$f":"IF(Outputs!G289=\"\",\"\",Outputs!G289)","v":""},{"$f":"IF(Outputs!H289=\"\",\"\",Outputs!H289)","v":""},{"$f":"IF(Outputs!I289=\"\",\"\",Outputs!I289)","v":""}]
[{"$f":"IF(Outputs!E290<>\"\",Outputs!A290,\"\")","v":""},{"$f":"IF(Outputs!E290<>\"\",Outputs!B290,\"\")","v":""},"","","","","","","",{"$f":"IF(A291=\"\",\"\",Outputs!C290)","v":""},{"$f":"IF(A291=\"\",\"\",Outputs!J290)","v":""},{"$f":"IF(B291=\"\",\"\",Outputs!K290)","v":""},{"$f":"IF(Outputs!E290=\"\",\"\",Outputs!E290)","v":""},{"$f":"IF(Outputs!F290=\"\",\"\",Outputs!F290)","v":""},{"$f":"IF(Outputs!G290=\"\",\"\",Outputs!G290)","v":""},{"$f":"IF(Outputs!H290=\"\",\"\",Outputs!H290)","v":""},{"$f":"IF(Outputs!I290=\"\",\"\",Outputs!I290)","v":""}]
[{"$f":"IF(Outputs!E291<>\"\",Outputs!A291,\"\")","v":""},{"$f":"IF(Outputs!E291<>\"\",Outputs!B291,\"\")","v":""},"","","","","","","",{"$f":"IF(A292=\"\",\"\",Outputs!C291)","v":""},{"$f":"IF(A292=\"\",\"\",Outputs!J291)","v":""},{"$f":"IF(B292=\"\",\"\",Outputs!K291)","v":""},{"$f":"IF(Outputs!E291=\"\",\"\",Outputs!E291)","v":""},{"$f":"IF(Outputs!F291=\"\",\"\",Outputs!F291)","v":""},{"$f":"IF(Outputs!G291=\"\",\"\",Outputs!G291)","v":""},{"$f":"IF(Outputs!H291=\"\",\"\",Outputs!H291)","v":""},{"$f":"IF(Outputs!I291=\"\",\"\",Outputs!I291)","v":""}]
[{"$f":"IF(Outputs!E292<>\"\",Outputs!A292,\"\")","v":""},{"$f":"IF(Outputs!E292<>\"\",Outputs!B292,\"\")","v":""},"","","","","","","",{"$f":"IF(A293=\"\",\"\",Outputs!C292)","v":""},{"$f":"IF(A293=\"\",\"\",Outputs!J292)","v":""},{"$f":"IF(B293=\"\",\"\",Outputs!K292)","v":""},{"$f":"IF(Outputs!E292=\"\",\"\",Outputs!E292)","v":""},{"$f":"IF(Outputs!F292=\"\",\"\",Outputs!F292)","v":""},{"$f":"IF(Outputs!G292=\"\",\"\",Outputs!G292)","v":""},{"$f":"IF(Outputs!H292=\"\",\"\",Outputs!H292)","v":""},{"$f":"IF(Outputs!I292=\"\",\"\",Outputs!I292)","v":""}]
[{"$f":"IF(Outputs!E293<>\"\",Outputs!A293,\"\")","v":""},{"$f":"IF(Outputs!E293<>\"\",Outputs!B293,\"\")","v":""},"","","","","","","",{"$f":"IF(A294=\"\",\"\",Outputs!C293)","v":""},{"$f":"IF(A294=\"\",\"\",Outputs!J293)","v":""},{"$f":"IF(B294=\"\",\"\",Outputs!K293)","v":""},{"$f":"IF(Outputs!E293=\"\",\"\",Outputs!E293)","v":""},{"$f":"IF(Outputs!F293=\"\",\"\",Outputs!F293)","v":""},{"$f":"IF(Outputs!G293=\"\",\"\",Outputs!G293)","v":""},{"$f":"IF(Outputs!H293=\"\",\"\",Outputs!H293)","v":""},{"$f":"IF(Outputs!I293=\"\",\"\",Outputs!I293)","v":""}]
[{"$f":"IF(Outputs!E294<>\"\",Outputs!A294,\"\")","v":""},{"$f":"IF(Outputs!E294<>\"\",Outputs!B294,\"\")","v":""},"","","","","","","",{"$f":"IF(A295=\"\",\"\",Outputs!C294)","v":""},{"$f":"IF(A295=\"\",\"\",Outputs!J294)","v":""},{"$f":"IF(B295=\"\",\"\",Outputs!K294)","v":""},{"$f":"IF(Outputs!E294=\"\",\"\",Outputs!E294)","v":""},{"$f":"IF(Outputs!F294=\"\",\"\",Outputs!F294)","v":""},{"$f":"IF(Outputs!G294=\"\",\"\",Outputs!G294)","v":""},{"$f":"IF(Outputs!H294=\"\",\"\",Outputs!H294)","v":""},{"$f":"IF(Outputs!I294=\"\",\"\",Outputs!I294)","v":""}]
[{"$f":"IF(Outputs!E295<>\"\",Outputs!A295,\"\")","v":""},{"$f":"IF(Outputs!E295<>\"\",Outputs!B295,\"\")","v":""},"","","","","","","",{"$f":"IF(A296=\"\",\"\",Outputs!C295)","v":""},{"$f":"IF(A296=\"\",\"\",Outputs!J295)","v":""},{"$f":"IF(B296=\"\",\"\",Outputs!K295)","v":""},{"$f":"IF(Outputs!E295=\"\",\"\",Outputs!E295)","v":""},{"$f":"IF(Outputs!F295=\"\",\"\",Outputs!F295)","v":""},{"$f":"IF(Outputs!G295=\"\",\"\",Outputs!G295)","v":""},{"$f":"IF(Outputs!H295=\"\",\"\",Outputs!H295)","v":""},{"$f":"IF(Outputs!I295=\"\",\"\",Outputs!I295)","v":""}]
[{"$f":"IF(Outputs!E296<>\"\",Outputs!A296,\"\")","v":""},{"$f":"IF(Outputs!E296<>\"\",Outputs!B296,\"\")","v":""},"","","","","","","",{"$f":"IF(A297=\"\",\"\",Outputs!C296)","v":""},{"$f":"IF(A297=\"\",\"\",Outputs!J296)","v":""},{"$f":"IF(B297=\"\",\"\",Outputs!K296)","v":""},{"$f":"IF(Outputs!E296=\"\",\"\",Outputs!E296)","v":""},{"$f":"IF(Outputs!F296=\"\",\"\",Outputs!F296)","v":""},{"$f":"IF(Outputs!G296=\"\",\"\",Outputs!G296)","v":""},{"$f":"IF(Outputs!H296=\"\",\"\",Outputs!H296)","v":""},{"$f":"IF(Outputs!I296=\"\",\"\",Outputs!I296)","v":""}]
[{"$f":"IF(Outputs!E297<>\"\",Outputs!A297,\"\")","v":""},{"$f":"IF(Outputs!E297<>\"\",Outputs!B297,\"\")","v":""},"","","","","","","",{"$f":"IF(A298=\"\",\"\",Outputs!C297)","v":""},{"$f":"IF(A298=\"\",\"\",Outputs!J297)","v":""},{"$f":"IF(B298=\"\",\"\",Outputs!K297)","v":""},{"$f":"IF(Outputs!E297=\"\",\"\",Outputs!E297)","v":""},{"$f":"IF(Outputs!F297=\"\",\"\",Outputs!F297)","v":""},{"$f":"IF(Outputs!G297=\"\",\"\",Outputs!G297)","v":""},{"$f":"IF(Outputs!H297=\"\",\"\",Outputs!H297)","v":""},{"$f":"IF(Outputs!I297=\"\",\"\",Outputs!I297)","v":""}]
[{"$f":"IF(Outputs!E298<>\"\",Outputs!A298,\"\")","v":""},{"$f":"IF(Outputs!E298<>\"\",Outputs!B298,\"\")","v":""},"","","","","","","",{"$f":"IF(A299=\"\",\"\",Outputs!C298)","v":""},{"$f":"IF(A299=\"\",\"\",Outputs!J298)","v":""},{"$f":"IF(B299=\"\",\"\",Outputs!K298)","v":""},{"$f":"IF(Outputs!E298=\"\",\"\",Outputs!E298)","v":""},{"$f":"IF(Outputs!F298=\"\",\"\",Outputs!F298)","v":""},{"$f":"IF(Outputs!G298=\"\",\"\",Outputs!G298)","v":""},{"$f":"IF(Outputs!H298=\"\",\"\",Outputs!H298)","v":""},{"$f":"IF(Outputs!I298=\"\",\"\",Outputs!I298)","v":""}]
[{"$f":"IF(Outputs!E299<>\"\",Outputs!A299,\"\")","v":""},{"$f":"IF(Outputs!E299<>\"\",Outputs!B299,\"\")","v":""},"","","","","","","",{"$f":"IF(A300=\"\",\"\",Outputs!C299)","v":""},{"$f":"IF(A300=\"\",\"\",Outputs!J299)","v":""},{"$f":"IF(B300=\"\",\"\",Outputs!K299)","v":""},{"$f":"IF(Outputs!E299=\"\",\"\",Outputs!E299)","v":""},{"$f":"IF(Outputs!F299=\"\",\"\",Outputs!F299)","v":""},{"$f":"IF(Outputs!G299=\"\",\"\",Outputs!G299)","v":""},{"$f":"IF(Outputs!H299=\"\",\"\",Outputs!H299)","v":""},{"$f":"IF(Outputs!I299=\"\",\"\",Outputs!I299)","v":""}]
[{"$f":"IF(Outputs!E300<>\"\",Outputs!A300,\"\")","v":""},{"$f":"IF(Outputs!E300<>\"\",Outputs!B300,\"\")","v":""},"","","","","","","",{"$f":"IF(A301=\"\",\"\",Outputs!C300)","v":""},{"$f":"IF(A301=\"\",\"\",Outputs!J300)","v":""},{"$f":"IF(B301=\"\",\"\",Outputs!K300)","v":""},{"$f":"IF(Outputs!E300=\"\",\"\",Outputs!E300)","v":""},{"$f":"IF(Outputs!F300=\"\",\"\",Outputs!F300)","v":""},{"$f":"IF(Outputs!G300=\"\",\"\",Outputs!G300)","v":""},{"$f":"IF(Outputs!H300=\"\",\"\",Outputs!H300)","v":""},{"$f":"IF(Outputs!I300=\"\",\"\",Outputs!I300)","v":""}]
[{"$f":"IF(Outputs!E301<>\"\",Outputs!A301,\"\")","v":""},{"$f":"IF(Outputs!E301<>\"\",Outputs!B301,\"\")","v":""},"","","","","","","",{"$f":"IF(A302=\"\",\"\",Outputs!C301)","v":""},{"$f":"IF(A302=\"\",\"\",Outputs!J301)","v":""},{"$f":"IF(B302=\"\",\"\",Outputs!K301)","v":""},{"$f":"IF(Outputs!E301=\"\",\"\",Outputs!E301)","v":""},{"$f":"IF(Outputs!F301=\"\",\"\",Outputs!F301)","v":""},{"$f":"IF(Outputs!G301=\"\",\"\",Outputs!G301)","v":""},{"$f":"IF(Outputs!H301=\"\",\"\",Outputs!H301)","v":""},{"$f":"IF(Outputs!I301=\"\",\"\",Outputs!I301)","v":""}]
[{"$f":"IF(Outputs!E302<>\"\",Outputs!A302,\"\")","v":""},{"$f":"IF(Outputs!E302<>\"\",Outputs!B302,\"\")","v":""},"","","","","","","",{"$f":"IF(A303=\"\",\"\",Outputs!C302)","v":""},{"$f":"IF(A303=\"\",\"\",Outputs!J302)","v":""},{"$f":"IF(B303=\"\",\"\",Outputs!K302)","v":""},{"$f":"IF(Outputs!E302=\"\",\"\",Outputs!E302)","v":""},{"$f":"IF(Outputs!F302=\"\",\"\",Outputs!F302)","v":""},{"$f":"IF(Outputs!G302=\"\",\"\",Outputs!G302)","v":""},{"$f":"IF(Outputs!H302=\"\",\"\",Outputs!H302)","v":""},{"$f":"IF(Outputs!I302=\"\",\"\",Outputs!I302)","v":""}]
[{"$f":"IF(Outputs!E303<>\"\",Outputs!A303,\"\")","v":""},{"$f":"IF(Outputs!E303<>\"\",Outputs!B303,\"\")","v":""},"","","","","","","",{"$f":"IF(A304=\"\",\"\",Outputs!C303)","v":""},{"$f":"IF(A304=\"\",\"\",Outputs!J303)","v":""},{"$f":"IF(B304=\"\",\"\",Outputs!K303)","v":""},{"$f":"IF(Outputs!E303=\"\",\"\",Outputs!E303)","v":""},{"$f":"IF(Outputs!F303=\"\",\"\",Outputs!F303)","v":""},{"$f":"IF(Outputs!G303=\"\",\"\",Outputs!G303)","v":""},{"$f":"IF(Outputs!H303=\"\",\"\",Outputs!H303)","v":""},{"$f":"IF(Outputs!I303=\"\",\"\",Outputs!I303)","v":""}]
[{"$f":"IF(Outputs!E304<>\"\",Outputs!A304,\"\")","v":""},{"$f":"IF(Outputs!E304<>\"\",Outputs!B304,\"\")","v":""},"","","","","","","",{"$f":"IF(A305=\"\",\"\",Outputs!C304)","v":""},{"$f":"IF(A305=\"\",\"\",Outputs!J304)","v":""},{"$f":"IF(B305=\"\",\"\",Outputs!K304)","v":""},{"$f":"IF(Outputs!E304=\"\",\"\",Outputs!E304)","v":""},{"$f":"IF(Outputs!F304=\"\",\"\",Outputs!F304)","v":""},{"$f":"IF(Outputs!G304=\"\",\"\",Outputs!G304)","v":""},{"$f":"IF(Outputs!H304=\"\",\"\",Outputs!H304)","v":""},{"$f":"IF(Outputs!I304=\"\",\"\",Outputs!I304)","v":""}]
[{"$f":"IF(Outputs!E305<>\"\",Outputs!A305,\"\")","v":""},{"$f":"IF(Outputs!E305<>\"\",Outputs!B305,\"\")","v":""},"","","","","","","",{"$f":"IF(A306=\"\",\"\",Outputs!C305)","v":""},{"$f":"IF(A306=\"\",\"\",Outputs!J305)","v":""},{"$f":"IF(B306=\"\",\"\",Outputs!K305)","v":""},{"$f":"IF(Outputs!E305=\"\",\"\",Outputs!E305)","v":""},{"$f":"IF(Outputs!F305=\"\",\"\",Outputs!F305)","v":""},{"$f":"IF(Outputs!G305=\"\",\"\",Outputs!G305)","v":""},{"$f":"IF(Outputs!H305=\"\",\"\",Outputs!H305)","v":""},{"$f":"IF(Outputs!I305=\"\",\"\",Outputs!I305)","v":""}]
[{"$f":"IF(Outputs!E306<>\"\",Outputs!A306,\"\")","v":""},{"$f":"IF(Outputs!E306<>\"\",Outputs!B306,\"\")","v":""},"","","","","","","",{"$f":"IF(A307=\"\",\"\",Outputs!C306)","v":""},{"$f":"IF(A307=\"\",\"\",Outputs!J306)","v":""},{"$f":"IF(B307=\"\",\"\",Outputs!K306)","v":""},{"$f":"IF(Outputs!E306=\"\",\"\",Outputs!E306)","v":""},{"$f":"IF(Outputs!F306=\"\",\"\",Outputs!F306)","v":""},{"$f":"IF(Outputs!G306=\"\",\"\",Outputs!G306)","v":""},{"$f":"IF(Outputs!H306=\"\",\"\",Outputs!H306)","v":""},{"$f":"IF(Outputs!I306=\"\",\"\",Outputs!I306)","v":""}]
[{"$f":"IF(Outputs!E307<>\"\",Outputs!A307,\"\")","v":""},{"$f":"IF(Outputs!E307<>\"\",Outputs!B307,\"\")","v":""},"","","","","","","",{"$f":"IF(A308=\"\",\"\",Outputs!C307)","v":""},{"$f":"IF(A308=\"\",\"\",Outputs!J307)","v":""},{"$f":"IF(B308=\"\",\"\",Outputs!K307)","v":""},{"$f":"IF(Outputs!E307=\"\",\"\",Outputs!E307)","v":""},{"$f":"IF(Outputs!F307=\"\",\"\",Outputs!F307)","v":""},{"$f":"IF(Outputs!G307=\"\",\"\",Outputs!G307)","v":""},{"$f":"IF(Outputs!H307=\"\",\"\",Outputs!H307)","v":""},{"$f":"IF(Outputs!I307=\"\",\"\",Outputs!I307)","v":""}]
[{"$f":"IF(Outputs!E308<>\"\",Outputs!A308,\"\")","v":""},{"$f":"IF(Outputs!E308<>\"\",Outputs!B308,\"\")","v":""},"","","","","","","",{"$f":"IF(A309=\"\",\"\",Outputs!C308)","v":""},{"$f":"IF(A309=\"\",\"\",Outputs!J308)","v":""},{"$f":"IF(B309=\"\",\"\",Outputs!K308)","v":""},{"$f":"IF(Outputs!E308=\"\",\"\",Outputs!E308)","v":""},{"$f":"IF(Outputs!F308=\"\",\"\",Outputs!F308)","v":""},{"$f":"IF(Outputs!G308=\"\",\"\",Outputs!G308)","v":""},{"$f":"IF(Outputs!H308=\"\",\"\",Outputs!H308)","v":""},{"$f":"IF(Outputs!I308=\"\",\"\",Outputs!I308)","v":""}]
[{"$f":"IF(Outputs!E309<>\"\",Outputs!A309,\"\")","v":""},{"$f":"IF(Outputs!E309<>\"\",Outputs!B309,\"\")","v":""},"","","","","","","",{"$f":"IF(A310=\"\",\"\",Outputs!C309)","v":""},{"$f":"IF(A310=\"\",\"\",Outputs!J309)","v":""},{"$f":"IF(B310=\"\",\"\",Outputs!K309)","v":""},{"$f":"IF(Outputs!E309=\"\",\"\",Outputs!E309)","v":""},{"$f":"IF(Outputs!F309=\"\",\"\",Outputs!F309)","v":""},{"$f":"IF(Outputs!G309=\"\",\"\",Outputs!G309)","v":""},{"$f":"IF(Outputs!H309=\"\",\"\",Outputs!H309)","v":""},{"$f":"IF(Outputs!I309=\"\",\"\",Outputs!I309)","v":""}]
[{"$f":"IF(Outputs!E310<>\"\",Outputs!A310,\"\")","v":""},{"$f":"IF(Outputs!E310<>\"\",Outputs!B310,\"\")","v":""},"","","","","","","",{"$f":"IF(A311=\"\",\"\",Outputs!C310)","v":""},{"$f":"IF(A311=\"\",\"\",Outputs!J310)","v":""},{"$f":"IF(B311=\"\",\"\",Outputs!K310)","v":""},{"$f":"IF(Outputs!E310=\"\",\"\",Outputs!E310)","v":""},{"$f":"IF(Outputs!F310=\"\",\"\",Outputs!F310)","v":""},{"$f":"IF(Outputs!G310=\"\",\"\",Outputs!G310)","v":""},{"$f":"IF(Outputs!H310=\"\",\"\",Outputs!H310)","v":""},{"$f":"IF(Outputs!I310=\"\",\"\",Outputs!I310)","v":""}]
[{"$f":"IF(Outputs!E311<>\"\",Outputs!A311,\"\")","v":""},{"$f":"IF(Outputs!E311<>\"\",Outputs!B311,\"\")","v":""},"","","","","","","",{"$f":"IF(A312=\"\",\"\",Outputs!C311)","v":""},{"$f":"IF(A312=\"\",\"\",Outputs!J311)","v":""},{"$f":"IF(B312=\"\",\"\",Outputs!K311)","v":""},{"$f":"IF(Outputs!E311=\"\",\"\",Outputs!E311)","v":""},{"$f":"IF(Outputs!F311=\"\",\"\",Outputs!F311)","v":""},{"$f":"IF(Outputs!G311=\"\",\"\",Outputs!G311)","v":""},{"$f":"IF(Outputs!H311=\"\",\"\",Outputs!H311)","v":""},{"$f":"IF(Outputs!I311=\"\",\"\",Outputs!I311)","v":""}]
[{"$f":"IF(Outputs!E312<>\"\",Outputs!A312,\"\")","v":""},{"$f":"IF(Outputs!E312<>\"\",Outputs!B312,\"\")","v":""},"","","","","","","",{"$f":"IF(A313=\"\",\"\",Outputs!C312)","v":""},{"$f":"IF(A313=\"\",\"\",Outputs!J312)","v":""},{"$f":"IF(B313=\"\",\"\",Outputs!K312)","v":""},{"$f":"IF(Outputs!E312=\"\",\"\",Outputs!E312)","v":""},{"$f":"IF(Outputs!F312=\"\",\"\",Outputs!F312)","v":""},{"$f":"IF(Outputs!G312=\"\",\"\",Outputs!G312)","v":""},{"$f":"IF(Outputs!H312=\"\",\"\",Outputs!H312)","v":""},{"$f":"IF(Outputs!I312=\"\",\"\",Outputs!I312)","v":""}]
[{"$f":"IF(Outputs!E313<>\"\",Outputs!A313,\"\")","v":""},{"$f":"IF(Outputs!E313<>\"\",Outputs!B313,\"\")","v":""},"","","","","","","",{"$f":"IF(A314=\"\",\"\",Outputs!C313)","v":""},{"$f":"IF(A314=\"\",\"\",Outputs!J313)","v":""},{"$f":"IF(B314=\"\",\"\",Outputs!K313)","v":""},{"$f":"IF(Outputs!E313=\"\",\"\",Outputs!E313)","v":""},{"$f":"IF(Outputs!F313=\"\",\"\",Outputs!F313)","v":""},{"$f":"IF(Outputs!G313=\"\",\"\",Outputs!G313)","v":""},{"$f":"IF(Outputs!H313=\"\",\"\",Outputs!H313)","v":""},{"$f":"IF(Outputs!I313=\"\",\"\",Outputs!I313)","v":""}]
[{"$f":"IF(Outputs!E314<>\"\",Outputs!A314,\"\")","v":""},{"$f":"IF(Outputs!E314<>\"\",Outputs!B314,\"\")","v":""},"","","","","","","",{"$f":"IF(A315=\"\",\"\",Outputs!C314)","v":""},{"$f":"IF(A315=\"\",\"\",Outputs!J314)","v":""},{"$f":"IF(B315=\"\",\"\",Outputs!K314)","v":""},{"$f":"IF(Outputs!E314=\"\",\"\",Outputs!E314)","v":""},{"$f":"IF(Outputs!F314=\"\",\"\",Outputs!F314)","v":""},{"$f":"IF(Outputs!G314=\"\",\"\",Outputs!G314)","v":""},{"$f":"IF(Outputs!H314=\"\",\"\",Outputs!H314)","v":""},{"$f":"IF(Outputs!I314=\"\",\"\",Outputs!I314)","v":""}]
[{"$f":"IF(Outputs!E315<>\"\",Outputs!A315,\"\")","v":""},{"$f":"IF(Outputs!E315<>\"\",Outputs!B315,\"\")","v":""},"","","","","","","",{"$f":"IF(A316=\"\",\"\",Outputs!C315)","v":""},{"$f":"IF(A316=\"\",\"\",Outputs!J315)","v":""},{"$f":"IF(B316=\"\",\"\",Outputs!K315)","v":""},{"$f":"IF(Outputs!E315=\"\",\"\",Outputs!E315)","v":""},{"$f":"IF(Outputs!F315=\"\",\"\",Outputs!F315)","v":""},{"$f":"IF(Outputs!G315=\"\",\"\",Outputs!G315)","v":""},{"$f":"IF(Outputs!H315=\"\",\"\",Outputs!H315)","v":""},{"$f":"IF(Outputs!I315=\"\",\"\",Outputs!I315)","v":""}]
[{"$f":"IF(Outputs!E316<>\"\",Outputs!A316,\"\")","v":""},{"$f":"IF(Outputs!E316<>\"\",Outputs!B316,\"\")","v":""},"","","","","","","",{"$f":"IF(A317=\"\",\"\",Outputs!C316)","v":""},{"$f":"IF(A317=\"\",\"\",Outputs!J316)","v":""},{"$f":"IF(B317=\"\",\"\",Outputs!K316)","v":""},{"$f":"IF(Outputs!E316=\"\",\"\",Outputs!E316)","v":""},{"$f":"IF(Outputs!F316=\"\",\"\",Outputs!F316)","v":""},{"$f":"IF(Outputs!G316=\"\",\"\",Outputs!G316)","v":""},{"$f":"IF(Outputs!H316=\"\",\"\",Outputs!H316)","v":""},{"$f":"IF(Outputs!I316=\"\",\"\",Outputs!I316)","v":""}]
[{"$f":"IF(Outputs!E317<>\"\",Outputs!A317,\"\")","v":""},{"$f":"IF(Outputs!E317<>\"\",Outputs!B317,\"\")","v":""},"","","","","","","",{"$f":"IF(A318=\"\",\"\",Outputs!C317)","v":""},{"$f":"IF(A318=\"\",\"\",Outputs!J317)","v":""},{"$f":"IF(B318=\"\",\"\",Outputs!K317)","v":""},{"$f":"IF(Outputs!E317=\"\",\"\",Outputs!E317)","v":""},{"$f":"IF(Outputs!F317=\"\",\"\",Outputs!F317)","v":""},{"$f":"IF(Outputs!G317=\"\",\"\",Outputs!G317)","v":""},{"$f":"IF(Outputs!H317=\"\",\"\",Outputs!H317)","v":""},{"$f":"IF(Outputs!I317=\"\",\"\",Outputs!I317)","v":""}]
[{"$f":"IF(Outputs!E318<>\"\",Outputs!A318,\"\")","v":""},{"$f":"IF(Outputs!E318<>\"\",Outputs!B318,\"\")","v":""},"","","","","","","",{"$f":"IF(A319=\"\",\"\",Outputs!C318)","v":""},{"$f":"IF(A319=\"\",\"\",Outputs!J318)","v":""},{"$f":"IF(B319=\"\",\"\",Outputs!K318)","v":""},{"$f":"IF(Outputs!E318=\"\",\"\",Outputs!E318)","v":""},{"$f":"IF(Outputs!F318=\"\",\"\",Outputs!F318)","v":""},{"$f":"IF(Outputs!G318=\"\",\"\",Outputs!G318)","v":""},{"$f":"IF(Outputs!H318=\"\",\"\",Outputs!H318)","v":""},{"$f":"IF(Outputs!I318=\"\",\"\",Outputs!I318)","v":""}]
[{"$f":"IF(Outputs!E319<>\"\",Outputs!A319,\"\")","v":""},{"$f":"IF(Outputs!E319<>\"\",Outputs!B319,\"\")","v":""},"","","","","","","",{"$f":"IF(A320=\"\",\"\",Outputs!C319)","v":""},{"$f":"IF(A320=\"\",\"\",Outputs!J319)","v":""},{"$f":"IF(B320=\"\",\"\",Outputs!K319)","v":""},{"$f":"IF(Outputs!E319=\"\",\"\",Outputs!E319)","v":""},{"$f":"IF(Outputs!F319=\"\",\"\",Outputs!F319)","v":""},{"$f":"IF(Outputs!G319=\"\",\"\",Outputs!G319)","v":""},{"$f":"IF(Outputs!H319=\"\",\"\",Outputs!H319)","v":""},{"$f":"IF(Outputs!I319=\"\",\"\",Outputs!I319)","v":""}]
[{"$f":"IF(Outputs!E320<>\"\",Outputs!A320,\"\")","v":""},{"$f":"IF(Outputs!E320<>\"\",Outputs!B320,\"\")","v":""},"","","","","","","",{"$f":"IF(A321=\"\",\"\",Outputs!C320)","v":""},{"$f":"IF(A321=\"\",\"\",Outputs!J320)","v":""},{"$f":"IF(B321=\"\",\"\",Outputs!K320)","v":""},{"$f":"IF(Outputs!E320=\"\",\"\",Outputs!E320)","v":""},{"$f":"IF(Outputs!F320=\"\",\"\",Outputs!F320)","v":""},{"$f":"IF(Outputs!G320=\"\",\"\",Outputs!G320)","v":""},{"$f":"IF(Outputs!H320=\"\",\"\",Outputs!H320)","v":""},{"$f":"IF(Outputs!I320=\"\",\"\",Outputs!I320)","v":""}]
[{"$f":"IF(Outputs!E321<>\"\",Outputs!A321,\"\")","v":""},{"$f":"IF(Outputs!E321<>\"\",Outputs!B321,\"\")","v":""},"","","","","","","",{"$f":"IF(A322=\"\",\"\",Outputs!C321)","v":""},{"$f":"IF(A322=\"\",\"\",Outputs!J321)","v":""},{"$f":"IF(B322=\"\",\"\",Outputs!K321)","v":""},{"$f":"IF(Outputs!E321=\"\",\"\",Outputs!E321)","v":""},{"$f":"IF(Outputs!F321=\"\",\"\",Outputs!F321)","v":""},{"$f":"IF(Outputs!G321=\"\",\"\",Outputs!G321)","v":""},{"$f":"IF(Outputs!H321=\"\",\"\",Outputs!H321)","v":""},{"$f":"IF(Outputs!I321=\"\",\"\",Outputs!I321)","v":""}]
[{"$f":"IF(Outputs!E322<>\"\",Outputs!A322,\"\")","v":""},{"$f":"IF(Outputs!E322<>\"\",Outputs!B322,\"\")","v":""},"","","","","","","",{"$f":"IF(A323=\"\",\"\",Outputs!C322)","v":""},{"$f":"IF(A323=\"\",\"\",Outputs!J322)","v":""},{"$f":"IF(B323=\"\",\"\",Outputs!K322)","v":""},{"$f":"IF(Outputs!E322=\"\",\"\",Outputs!E322)","v":""},{"$f":"IF(Outputs!F322=\"\",\"\",Outputs!F322)","v":""},{"$f":"IF(Outputs!G322=\"\",\"\",Outputs!G322)","v":""},{"$f":"IF(Outputs!H322=\"\",\"\",Outputs!H322)","v":""},{"$f":"IF(Outputs!I322=\"\",\"\",Outputs!I322)","v":""}]
[{"$f":"IF(Outputs!E323<>\"\",Outputs!A323,\"\")","v":""},{"$f":"IF(Outputs!E323<>\"\",Outputs!B323,\"\")","v":""},{"$f":"B324","v":""},"","","","","",{"$f":"IF(H324=\"\",\"\",SQRT(J324/PI())*10)","v":""},{"$f":"IF(A324=\"\",\"\",Outputs!C323)","v":""},{"$f":"IF(A324=\"\",\"\",Outputs!J323)","v":""},{"$f":"IF(B324=\"\",\"\",Outputs!K323)","v":""},{"$f":"IF(Outputs!E323=\"\",\"\",Outputs!E323)","v":""},{"$f":"IF(Outputs!F323=\"\",\"\",Outputs!F323)","v":""},{"$f":"IF(Outputs!G323=\"\",\"\",Outputs!G323)","v":""},{"$f":"IF(Outputs!H323=\"\",\"\",Outputs!H323)","v":""},{"$f":"IF(Outputs!I323=\"\",\"\",Outputs!I323)","v":""}]
[{"$f":"IF(Outputs!E324<>\"\",Outputs!A324,\"\")","v":""},{"$f":"IF(Outputs!E324<>\"\",Outputs!B324,\"\")","v":""},"","","","","","","",{"$f":"IF(A325=\"\",\"\",Outputs!C324)","v":""},{"$f":"IF(A325=\"\",\"\",Outputs!J324)","v":""},{"$f":"IF(B325=\"\",\"\",Outputs!K324)","v":""},{"$f":"IF(Outputs!E324=\"\",\"\",Outputs!E324)","v":""},{"$f":"IF(Outputs!F324=\"\",\"\",Outputs!F324)","v":""},{"$f":"IF(Outputs!G324=\"\",\"\",Outputs!G324)","v":""},{"$f":"IF(Outputs!H324=\"\",\"\",Outputs!H324)","v":""},{"$f":"IF(Outputs!I324=\"\",\"\",Outputs!I324)","v":""}]
[{"$f":"IF(Outputs!E325<>\"\",Outputs!A325,\"\")","v":""},{"$f":"IF(Outputs!E325<>\"\",Outputs!B325,\"\")","v":""},"","","","","","","",{"$f":"IF(A326=\"\",\"\",Outputs!C325)","v":""},{"$f":"IF(A326=\"\",\"\",Outputs!J325)","v":""},{"$f":"IF(B326=\"\",\"\",Outputs!K325)","v":""},{"$f":"IF(Outputs!E325=\"\",\"\",Outputs!E325)","v":""},{"$f":"IF(Outputs!F325=\"\",\"\",Outputs!F325)","v":""},{"$f":"IF(Outputs!G325=\"\",\"\",Outputs!G325)","v":""},{"$f":"IF(Outputs!H325=\"\",\"\",Outputs!H325)","v":""},{"$f":"IF(Outputs!I325=\"\",\"\",Outputs!I325)","v":""}]
[{"$f":"IF(Outputs!E326<>\"\",Outputs!A326,\"\")","v":""},{"$f":"IF(Outputs!E326<>\"\",Outputs!B326,\"\")","v":""},"","","","","","","",{"$f":"IF(A327=\"\",\"\",Outputs!C326)","v":""},{"$f":"IF(A327=\"\",\"\",Outputs!J326)","v":""},{"$f":"IF(B327=\"\",\"\",Outputs!K326)","v":""},{"$f":"IF(Outputs!E326=\"\",\"\",Outputs!E326)","v":""},{"$f":"IF(Outputs!F326=\"\",\"\",Outputs!F326)","v":""},{"$f":"IF(Outputs!G326=\"\",\"\",Outputs!G326)","v":""},{"$f":"IF(Outputs!H326=\"\",\"\",Outputs!H326)","v":""},{"$f":"IF(Outputs!I326=\"\",\"\",Outputs!I326)","v":""}]
[{"$f":"IF(Outputs!E327<>\"\",Outputs!A327,\"\")","v":""},{"$f":"IF(Outputs!E327<>\"\",Outputs!B327,\"\")","v":""},"","","","","","","",{"$f":"IF(A328=\"\",\"\",Outputs!C327)","v":""},{"$f":"IF(A328=\"\",\"\",Outputs!J327)","v":""},{"$f":"IF(B328=\"\",\"\",Outputs!K327)","v":""},{"$f":"IF(Outputs!E327=\"\",\"\",Outputs!E327)","v":""},{"$f":"IF(Outputs!F327=\"\",\"\",Outputs!F327)","v":""},{"$f":"IF(Outputs!G327=\"\",\"\",Outputs!G327)","v":""},{"$f":"IF(Outputs!H327=\"\",\"\",Outputs!H327)","v":""},{"$f":"IF(Outputs!I327=\"\",\"\",Outputs!I327)","v":""}]
[{"$f":"IF(Outputs!E328<>\"\",Outputs!A328,\"\")","v":""},{"$f":"IF(Outputs!E328<>\"\",Outputs!B328,\"\")","v":""},"","","","","","","",{"$f":"IF(A329=\"\",\"\",Outputs!C328)","v":""},{"$f":"IF(A329=\"\",\"\",Outputs!J328)","v":""},{"$f":"IF(B329=\"\",\"\",Outputs!K328)","v":""},{"$f":"IF(Outputs!E328=\"\",\"\",Outputs!E328)","v":""},{"$f":"IF(Outputs!F328=\"\",\"\",Outputs!F328)","v":""},{"$f":"IF(Outputs!G328=\"\",\"\",Outputs!G328)","v":""},{"$f":"IF(Outputs!H328=\"\",\"\",Outputs!H328)","v":""},{"$f":"IF(Outputs!I328=\"\",\"\",Outputs!I328)","v":""}]
[{"$f":"IF(Outputs!E329<>\"\",Outputs!A329,\"\")","v":""},{"$f":"IF(Outputs!E329<>\"\",Outputs!B329,\"\")","v":""},"","","","","","","",{"$f":"IF(A330=\"\",\"\",Outputs!C329)","v":""},{"$f":"IF(A330=\"\",\"\",Outputs!J329)","v":""},{"$f":"IF(B330=\"\",\"\",Outputs!K329)","v":""},{"$f":"IF(Outputs!E329=\"\",\"\",Outputs!E329)","v":""},{"$f":"IF(Outputs!F329=\"\",\"\",Outputs!F329)","v":""},{"$f":"IF(Outputs!G329=\"\",\"\",Outputs!G329)","v":""},{"$f":"IF(Outputs!H329=\"\",\"\",Outputs!H329)","v":""},{"$f":"IF(Outputs!I329=\"\",\"\",Outputs!I329)","v":""}]
[{"$f":"IF(Outputs!E330<>\"\",Outputs!A330,\"\")","v":""},{"$f":"IF(Outputs!E330<>\"\",Outputs!B330,\"\")","v":""},"","","","","","","",{"$f":"IF(A331=\"\",\"\",Outputs!C330)","v":""},{"$f":"IF(A331=\"\",\"\",Outputs!J330)","v":""},{"$f":"IF(B331=\"\",\"\",Outputs!K330)","v":""},{"$f":"IF(Outputs!E330=\"\",\"\",Outputs!E330)","v":""},{"$f":"IF(Outputs!F330=\"\",\"\",Outputs!F330)","v":""},{"$f":"IF(Outputs!G330=\"\",\"\",Outputs!G330)","v":""},{"$f":"IF(Outputs!H330=\"\",\"\",Outputs!H330)","v":""},{"$f":"IF(Outputs!I330=\"\",\"\",Outputs!I330)","v":""}]
[{"$f":"IF(Outputs!E331<>\"\",Outputs!A331,\"\")","v":""},{"$f":"IF(Outputs!E331<>\"\",Outputs!B331,\"\")","v":""},"","","","","","","",{"$f":"IF(A332=\"\",\"\",Outputs!C331)","v":""},{"$f":"IF(A332=\"\",\"\",Outputs!J331)","v":""},{"$f":"IF(B332=\"\",\"\",Outputs!K331)","v":""},{"$f":"IF(Outputs!E331=\"\",\"\",Outputs!E331)","v":""},{"$f":"IF(Outputs!F331=\"\",\"\",Outputs!F331)","v":""},{"$f":"IF(Outputs!G331=\"\",\"\",Outputs!G331)","v":""},{"$f":"IF(Outputs!H331=\"\",\"\",Outputs!H331)","v":""},{"$f":"IF(Outputs!I331=\"\",\"\",Outputs!I331)","v":""}]
[{"$f":"IF(Outputs!E332<>\"\",Outputs!A332,\"\")","v":""},{"$f":"IF(Outputs!E332<>\"\",Outputs!B332,\"\")","v":""},"","","","","","","",{"$f":"IF(A333=\"\",\"\",Outputs!C332)","v":""},{"$f":"IF(A333=\"\",\"\",Outputs!J332)","v":""},{"$f":"IF(B333=\"\",\"\",Outputs!K332)","v":""},{"$f":"IF(Outputs!E332=\"\",\"\",Outputs!E332)","v":""},{"$f":"IF(Outputs!F332=\"\",\"\",Outputs!F332)","v":""},{"$f":"IF(Outputs!G332=\"\",\"\",Outputs!G332)","v":""},{"$f":"IF(Outputs!H332=\"\",\"\",Outputs!H332)","v":""},{"$f":"IF(Outputs!I332=\"\",\"\",Outputs!I332)","v":""}]
[{"$f":"IF(Outputs!E333<>\"\",Outputs!A333,\"\")","v":""},{"$f":"IF(Outputs!E333<>\"\",Outputs!B333,\"\")","v":""},"","","","","","","",{"$f":"IF(A334=\"\",\"\",Outputs!C333)","v":""},{"$f":"IF(A334=\"\",\"\",Outputs!J333)","v":""},{"$f":"IF(B334=\"\",\"\",Outputs!K333)","v":""},{"$f":"IF(Outputs!E333=\"\",\"\",Outputs!E333)","v":""},{"$f":"IF(Outputs!F333=\"\",\"\",Outputs!F333)","v":""},{"$f":"IF(Outputs!G333=\"\",\"\",Outputs!G333)","v":""},{"$f":"IF(Outputs!H333=\"\",\"\",Outputs!H333)","v":""},{"$f":"IF(Outputs!I333=\"\",\"\",Outputs!I333)","v":""}]
[{"$f":"IF(Outputs!E334<>\"\",Outputs!A334,\"\")","v":""},{"$f":"IF(Outputs!E334<>\"\",Outputs!B334,\"\")","v":""},"","","","","","","",{"$f":"IF(A335=\"\",\"\",Outputs!C334)","v":""},{"$f":"IF(A335=\"\",\"\",Outputs!J334)","v":""},{"$f":"IF(B335=\"\",\"\",Outputs!K334)","v":""},{"$f":"IF(Outputs!E334=\"\",\"\",Outputs!E334)","v":""},{"$f":"IF(Outputs!F334=\"\",\"\",Outputs!F334)","v":""},{"$f":"IF(Outputs!G334=\"\",\"\",Outputs!G334)","v":""},{"$f":"IF(Outputs!H334=\"\",\"\",Outputs!H334)","v":""},{"$f":"IF(Outputs!I334=\"\",\"\",Outputs!I334)","v":""}]
[{"$f":"IF(Outputs!E335<>\"\",Outputs!A335,\"\")","v":""},{"$f":"IF(Outputs!E335<>\"\",Outputs!B335,\"\")","v":""},"","","","","","","",{"$f":"IF(A336=\"\",\"\",Outputs!C335)","v":""},{"$f":"IF(A336=\"\",\"\",Outputs!J335)","v":""},{"$f":"IF(B336=\"\",\"\",Outputs!K335)","v":""},{"$f":"IF(Outputs!E335=\"\",\"\",Outputs!E335)","v":""},{"$f":"IF(Outputs!F335=\"\",\"\",Outputs!F335)","v":""},{"$f":"IF(Outputs!G335=\"\",\"\",Outputs!G335)","v":""},{"$f":"IF(Outputs!H335=\"\",\"\",Outputs!H335)","v":""},{"$f":"IF(Outputs!I335=\"\",\"\",Outputs!I335)","v":""}]
[{"$f":"IF(Outputs!E336<>\"\",Outputs!A336,\"\")","v":""},{"$f":"IF(Outputs!E336<>\"\",Outputs!B336,\"\")","v":""},"","","","","","","",{"$f":"IF(A337=\"\",\"\",Outputs!C336)","v":""},{"$f":"IF(A337=\"\",\"\",Outputs!J336)","v":""},{"$f":"IF(B337=\"\",\"\",Outputs!K336)","v":""},{"$f":"IF(Outputs!E336=\"\",\"\",Outputs!E336)","v":""},{"$f":"IF(Outputs!F336=\"\",\"\",Outputs!F336)","v":""},{"$f":"IF(Outputs!G336=\"\",\"\",Outputs!G336)","v":""},{"$f":"IF(Outputs!H336=\"\",\"\",Outputs!H336)","v":""},{"$f":"IF(Outputs!I336=\"\",\"\",Outputs!I336)","v":""}]
[{"$f":"IF(Outputs!E337<>\"\",Outputs!A337,\"\")","v":""},{"$f":"IF(Outputs!E337<>\"\",Outputs!B337,\"\")","v":""},"","","","","","","",{"$f":"IF(A338=\"\",\"\",Outputs!C337)","v":""},{"$f":"IF(A338=\"\",\"\",Outputs!J337)","v":""},{"$f":"IF(B338=\"\",\"\",Outputs!K337)","v":""},{"$f":"IF(Outputs!E337=\"\",\"\",Outputs!E337)","v":""},{"$f":"IF(Outputs!F337=\"\",\"\",Outputs!F337)","v":""},{"$f":"IF(Outputs!G337=\"\",\"\",Outputs!G337)","v":""},{"$f":"IF(Outputs!H337=\"\",\"\",Outputs!H337)","v":""},{"$f":"IF(Outputs!I337=\"\",\"\",Outputs!I337)","v":""}]
[{"$f":"IF(Outputs!E338<>\"\",Outputs!A338,\"\")","v":""},{"$f":"IF(Outputs!E338<>\"\",Outputs!B338,\"\")","v":""},"","","","","","","",{"$f":"IF(A339=\"\",\"\",Outputs!C338)","v":""},{"$f":"IF(A339=\"\",\"\",Outputs!J338)","v":""},{"$f":"IF(B339=\"\",\"\",Outputs!K338)","v":""},{"$f":"IF(Outputs!E338=\"\",\"\",Outputs!E338)","v":""},{"$f":"IF(Outputs!F338=\"\",\"\",Outputs!F338)","v":""},{"$f":"IF(Outputs!G338=\"\",\"\",Outputs!G338)","v":""},{"$f":"IF(Outputs!H338=\"\",\"\",Outputs!H338)","v":""},{"$f":"IF(Outputs!I338=\"\",\"\",Outputs!I338)","v":""}]
[{"$f":"IF(Outputs!E339<>\"\",Outputs!A339,\"\")","v":""},{"$f":"IF(Outputs!E339<>\"\",Outputs!B339,\"\")","v":""},"","","","","","","",{"$f":"IF(A340=\"\",\"\",Outputs!C339)","v":""},{"$f":"IF(A340=\"\",\"\",Outputs!J339)","v":""},{"$f":"IF(B340=\"\",\"\",Outputs!K339)","v":""},{"$f":"IF(Outputs!E339=\"\",\"\",Outputs!E339)","v":""},{"$f":"IF(Outputs!F339=\"\",\"\",Outputs!F339)","v":""},{"$f":"IF(Outputs!G339=\"\",\"\",Outputs!G339)","v":""},{"$f":"IF(Outputs!H339=\"\",\"\",Outputs!H339)","v":""},{"$f":"IF(Outputs!I339=\"\",\"\",Outputs!I339)","v":""}]
[{"$f":"IF(Outputs!E340<>\"\",Outputs!A340,\"\")","v":""},{"$f":"IF(Outputs!E340<>\"\",Outputs!B340,\"\")","v":""},"","","","","","","",{"$f":"IF(A341=\"\",\"\",Outputs!C340)","v":""},{"$f":"IF(A341=\"\",\"\",Outputs!J340)","v":""},{"$f":"IF(B341=\"\",\"\",Outputs!K340)","v":""},{"$f":"IF(Outputs!E340=\"\",\"\",Outputs!E340)","v":""},{"$f":"IF(Outputs!F340=\"\",\"\",Outputs!F340)","v":""},{"$f":"IF(Outputs!G340=\"\",\"\",Outputs!G340)","v":""},{"$f":"IF(Outputs!H340=\"\",\"\",Outputs!H340)","v":""},{"$f":"IF(Outputs!I340=\"\",\"\",Outputs!I340)","v":""}]
[{"$f":"IF(Outputs!E341<>\"\",Outputs!A341,\"\")","v":""},{"$f":"IF(Outputs!E341<>\"\",Outputs!B341,\"\")","v":""},"","","","","","","",{"$f":"IF(A342=\"\",\"\",Outputs!C341)","v":""},{"$f":"IF(A342=\"\",\"\",Outputs!J341)","v":""},{"$f":"IF(B342=\"\",\"\",Outputs!K341)","v":""},{"$f":"IF(Outputs!E341=\"\",\"\",Outputs!E341)","v":""},{"$f":"IF(Outputs!F341=\"\",\"\",Outputs!F341)","v":""},{"$f":"IF(Outputs!G341=\"\",\"\",Outputs!G341)","v":""},{"$f":"IF(Outputs!H341=\"\",\"\",Outputs!H341)","v":""},{"$f":"IF(Outputs!I341=\"\",\"\",Outputs!I341)","v":""}]
[{"$f":"IF(Outputs!E342<>\"\",Outputs!A342,\"\")","v":""},{"$f":"IF(Outputs!E342<>\"\",Outputs!B342,\"\")","v":""},"","","","","","","",{"$f":"IF(A343=\"\",\"\",Outputs!C342)","v":""},{"$f":"IF(A343=\"\",\"\",Outputs!J342)","v":""},{"$f":"IF(B343=\"\",\"\",Outputs!K342)","v":""},{"$f":"IF(Outputs!E342=\"\",\"\",Outputs!E342)","v":""},{"$f":"IF(Outputs!F342=\"\",\"\",Outputs!F342)","v":""},{"$f":"IF(Outputs!G342=\"\",\"\",Outputs!G342)","v":""},{"$f":"IF(Outputs!H342=\"\",\"\",Outputs!H342)","v":""},{"$f":"IF(Outputs!I342=\"\",\"\",Outputs!I342)","v":""}]
[{"$f":"IF(Outputs!E343<>\"\",Outputs!A343,\"\")","v":""},{"$f":"IF(Outputs!E343<>\"\",Outputs!B343,\"\")","v":""},"","","","","","","",{"$f":"IF(A344=\"\",\"\",Outputs!C343)","v":""},{"$f":"IF(A344=\"\",\"\",Outputs!J343)","v":""},{"$f":"IF(B344=\"\",\"\",Outputs!K343)","v":""},{"$f":"IF(Outputs!E343=\"\",\"\",Outputs!E343)","v":""},{"$f":"IF(Outputs!F343=\"\",\"\",Outputs!F343)","v":""},{"$f":"IF(Outputs!G343=\"\",\"\",Outputs!G343)","v":""},{"$f":"IF(Outputs!H343=\"\",\"\",Outputs!H343)","v":""},{"$f":"IF(Outputs!I343=\"\",\"\",Outputs!I343)","v":""}]
[{"$f":"IF(Outputs!E344<>\"\",Outputs!A344,\"\")","v":""},{"$f":"IF(Outputs!E344<>\"\",Outputs!B344,\"\")","v":""},"","","","","","","",{"$f":"IF(A345=\"\",\"\",Outputs!C344)","v":""},{"$f":"IF(A345=\"\",\"\",Outputs!J344)","v":""},{"$f":"IF(B345=\"\",\"\",Outputs!K344)","v":""},{"$f":"IF(Outputs!E344=\"\",\"\",Outputs!E344)","v":""},{"$f":"IF(Outputs!F344=\"\",\"\",Outputs!F344)","v":""},{"$f":"IF(Outputs!G344=\"\",\"\",Outputs!G344)","v":""},{"$f":"IF(Outputs!H344=\"\",\"\",Outputs!H344)","v":""},{"$f":"IF(Outputs!I344=\"\",\"\",Outputs!I344)","v":""}]
[{"$f":"IF(Outputs!E345<>\"\",Outputs!A345,\"\")","v":""},{"$f":"IF(Outputs!E345<>\"\",Outputs!B345,\"\")","v":""},"","","","","","","",{"$f":"IF(A346=\"\",\"\",Outputs!C345)","v":""},{"$f":"IF(A346=\"\",\"\",Outputs!J345)","v":""},{"$f":"IF(B346=\"\",\"\",Outputs!K345)","v":""},{"$f":"IF(Outputs!E345=\"\",\"\",Outputs!E345)","v":""},{"$f":"IF(Outputs!F345=\"\",\"\",Outputs!F345)","v":""},{"$f":"IF(Outputs!G345=\"\",\"\",Outputs!G345)","v":""},{"$f":"IF(Outputs!H345=\"\",\"\",Outputs!H345)","v":""},{"$f":"IF(Outputs!I345=\"\",\"\",Outputs!I345)","v":""}]
[{"$f":"IF(Outputs!E346<>\"\",Outputs!A346,\"\")","v":""},{"$f":"IF(Outputs!E346<>\"\",Outputs!B346,\"\")","v":""},"",{"$f":"IF(C347=\"\",\"\",\"<b>\" & B347 & \"</b><br>\" & \"<b>Population attributed:</b> \" & J347 & \"</br>\" & \"<b> Effective Time:</b>  \" & M347 & \" minutes\" & \"</br>\"& \"<b> Option 1:</b>  \" & N347 & \"</br>\"& \"<b> Option 2:</b>  \" &O347 & \"</br>\"& \"<b> Option 3:</b>  \" & P347 & \"</br>\"& \"<b> Option 4:</b>  \" & Q347)","v":""},{"$f":"IF(D347=\"\",\"\",IF(M347<45,\"http://labs.google.com/ridefinder/images/mm_20_green.png\",\"http://labs.google.com/ridefinder/images/mm_20_red.png\"))","v":""},{"$f":"IF(E347=\"\",\"\",IF(J347>15000,\"big\",IF(J347>10000,\"medium\",\"small\")))","v":""},{"$f":"F347","v":""},{"$f":"IF(G347=\"\",\"\",IF(M347<45,\"#458B00\",\"#D41243\"))","v":""},"",{"$f":"IF(A347=\"\",\"\",Outputs!C346)","v":""},{"$f":"IF(A347=\"\",\"\",Outputs!J346)","v":""},{"$f":"IF(B347=\"\",\"\",Outputs!K346)","v":""},{"$f":"IF(Outputs!E346=\"\",\"\",Outputs!E346)","v":""},{"$f":"IF(Outputs!F346=\"\",\"\",Outputs!F346)","v":""},{"$f":"IF(Outputs!G346=\"\",\"\",Outputs!G346)","v":""},{"$f":"IF(Outputs!H346=\"\",\"\",Outputs!H346)","v":""},{"$f":"IF(Outputs!I346=\"\",\"\",Outputs!I346)","v":""}]
[{"$f":"IF(Outputs!E347<>\"\",Outputs!A347,\"\")","v":""},{"$f":"IF(Outputs!E347<>\"\",Outputs!B347,\"\")","v":""},"","","","","","","",{"$f":"IF(A348=\"\",\"\",Outputs!C347)","v":""},{"$f":"IF(A348=\"\",\"\",Outputs!J347)","v":""},{"$f":"IF(B348=\"\",\"\",Outputs!K347)","v":""},{"$f":"IF(Outputs!E347=\"\",\"\",Outputs!E347)","v":""},{"$f":"IF(Outputs!F347=\"\",\"\",Outputs!F347)","v":""},{"$f":"IF(Outputs!G347=\"\",\"\",Outputs!G347)","v":""},{"$f":"IF(Outputs!H347=\"\",\"\",Outputs!H347)","v":""},{"$f":"IF(Outputs!I347=\"\",\"\",Outputs!I347)","v":""}]
[{"$f":"IF(Outputs!E348<>\"\",Outputs!A348,\"\")","v":""},{"$f":"IF(Outputs!E348<>\"\",Outputs!B348,\"\")","v":""},"","","","","","","",{"$f":"IF(A349=\"\",\"\",Outputs!C348)","v":""},{"$f":"IF(A349=\"\",\"\",Outputs!J348)","v":""},{"$f":"IF(B349=\"\",\"\",Outputs!K348)","v":""},{"$f":"IF(Outputs!E348=\"\",\"\",Outputs!E348)","v":""},{"$f":"IF(Outputs!F348=\"\",\"\",Outputs!F348)","v":""},{"$f":"IF(Outputs!G348=\"\",\"\",Outputs!G348)","v":""},{"$f":"IF(Outputs!H348=\"\",\"\",Outputs!H348)","v":""},{"$f":"IF(Outputs!I348=\"\",\"\",Outputs!I348)","v":""}]
[{"$f":"IF(Outputs!E349<>\"\",Outputs!A349,\"\")","v":""},{"$f":"IF(Outputs!E349<>\"\",Outputs!B349,\"\")","v":""},"","","","","","","",{"$f":"IF(A350=\"\",\"\",Outputs!C349)","v":""},{"$f":"IF(A350=\"\",\"\",Outputs!J349)","v":""},{"$f":"IF(B350=\"\",\"\",Outputs!K349)","v":""},{"$f":"IF(Outputs!E349=\"\",\"\",Outputs!E349)","v":""},{"$f":"IF(Outputs!F349=\"\",\"\",Outputs!F349)","v":""},{"$f":"IF(Outputs!G349=\"\",\"\",Outputs!G349)","v":""},{"$f":"IF(Outputs!H349=\"\",\"\",Outputs!H349)","v":""},{"$f":"IF(Outputs!I349=\"\",\"\",Outputs!I349)","v":""}]
[{"$f":"IF(Outputs!E350<>\"\",Outputs!A350,\"\")","v":""},{"$f":"IF(Outputs!E350<>\"\",Outputs!B350,\"\")","v":""},"","","","","","","",{"$f":"IF(A351=\"\",\"\",Outputs!C350)","v":""},{"$f":"IF(A351=\"\",\"\",Outputs!J350)","v":""},{"$f":"IF(B351=\"\",\"\",Outputs!K350)","v":""},{"$f":"IF(Outputs!E350=\"\",\"\",Outputs!E350)","v":""},{"$f":"IF(Outputs!F350=\"\",\"\",Outputs!F350)","v":""},{"$f":"IF(Outputs!G350=\"\",\"\",Outputs!G350)","v":""},{"$f":"IF(Outputs!H350=\"\",\"\",Outputs!H350)","v":""},{"$f":"IF(Outputs!I350=\"\",\"\",Outputs!I350)","v":""}]
[{"$f":"IF(Outputs!E351<>\"\",Outputs!A351,\"\")","v":""},{"$f":"IF(Outputs!E351<>\"\",Outputs!B351,\"\")","v":""},"","","","","","","",{"$f":"IF(A352=\"\",\"\",Outputs!C351)","v":""},{"$f":"IF(A352=\"\",\"\",Outputs!J351)","v":""},{"$f":"IF(B352=\"\",\"\",Outputs!K351)","v":""},{"$f":"IF(Outputs!E351=\"\",\"\",Outputs!E351)","v":""},{"$f":"IF(Outputs!F351=\"\",\"\",Outputs!F351)","v":""},{"$f":"IF(Outputs!G351=\"\",\"\",Outputs!G351)","v":""},{"$f":"IF(Outputs!H351=\"\",\"\",Outputs!H351)","v":""},{"$f":"IF(Outputs!I351=\"\",\"\",Outputs!I351)","v":""}]
[{"$f":"IF(Outputs!E352<>\"\",Outputs!A352,\"\")","v":""},{"$f":"IF(Outputs!E352<>\"\",Outputs!B352,\"\")","v":""},"","","","","","","",{"$f":"IF(A353=\"\",\"\",Outputs!C352)","v":""},{"$f":"IF(A353=\"\",\"\",Outputs!J352)","v":""},{"$f":"IF(B353=\"\",\"\",Outputs!K352)","v":""},{"$f":"IF(Outputs!E352=\"\",\"\",Outputs!E352)","v":""},{"$f":"IF(Outputs!F352=\"\",\"\",Outputs!F352)","v":""},{"$f":"IF(Outputs!G352=\"\",\"\",Outputs!G352)","v":""},{"$f":"IF(Outputs!H352=\"\",\"\",Outputs!H352)","v":""},{"$f":"IF(Outputs!I352=\"\",\"\",Outputs!I352)","v":""}]
[{"$f":"IF(Outputs!E353<>\"\",Outputs!A353,\"\")","v":""},{"$f":"IF(Outputs!E353<>\"\",Outputs!B353,\"\")","v":""},"","","","","","","",{"$f":"IF(A354=\"\",\"\",Outputs!C353)","v":""},{"$f":"IF(A354=\"\",\"\",Outputs!J353)","v":""},{"$f":"IF(B354=\"\",\"\",Outputs!K353)","v":""},{"$f":"IF(Outputs!E353=\"\",\"\",Outputs!E353)","v":""},{"$f":"IF(Outputs!F353=\"\",\"\",Outputs!F353)","v":""},{"$f":"IF(Outputs!G353=\"\",\"\",Outputs!G353)","v":""},{"$f":"IF(Outputs!H353=\"\",\"\",Outputs!H353)","v":""},{"$f":"IF(Outputs!I353=\"\",\"\",Outputs!I353)","v":""}]
[{"$f":"IF(Outputs!E354<>\"\",Outputs!A354,\"\")","v":""},{"$f":"IF(Outputs!E354<>\"\",Outputs!B354,\"\")","v":""},"","","","","","","",{"$f":"IF(A355=\"\",\"\",Outputs!C354)","v":""},{"$f":"IF(A355=\"\",\"\",Outputs!J354)","v":""},{"$f":"IF(B355=\"\",\"\",Outputs!K354)","v":""},{"$f":"IF(Outputs!E354=\"\",\"\",Outputs!E354)","v":""},{"$f":"IF(Outputs!F354=\"\",\"\",Outputs!F354)","v":""},{"$f":"IF(Outputs!G354=\"\",\"\",Outputs!G354)","v":""},{"$f":"IF(Outputs!H354=\"\",\"\",Outputs!H354)","v":""},{"$f":"IF(Outputs!I354=\"\",\"\",Outputs!I354)","v":""}]
[{"$f":"IF(Outputs!E355<>\"\",Outputs!A355,\"\")","v":""},{"$f":"IF(Outputs!E355<>\"\",Outputs!B355,\"\")","v":""},"","","","","","","",{"$f":"IF(A356=\"\",\"\",Outputs!C355)","v":""},{"$f":"IF(A356=\"\",\"\",Outputs!J355)","v":""},{"$f":"IF(B356=\"\",\"\",Outputs!K355)","v":""},{"$f":"IF(Outputs!E355=\"\",\"\",Outputs!E355)","v":""},{"$f":"IF(Outputs!F355=\"\",\"\",Outputs!F355)","v":""},{"$f":"IF(Outputs!G355=\"\",\"\",Outputs!G355)","v":""},{"$f":"IF(Outputs!H355=\"\",\"\",Outputs!H355)","v":""},{"$f":"IF(Outputs!I355=\"\",\"\",Outputs!I355)","v":""}]
[{"$f":"IF(Outputs!E356<>\"\",Outputs!A356,\"\")","v":""},{"$f":"IF(Outputs!E356<>\"\",Outputs!B356,\"\")","v":""},"","","","","","","",{"$f":"IF(A357=\"\",\"\",Outputs!C356)","v":""},{"$f":"IF(A357=\"\",\"\",Outputs!J356)","v":""},{"$f":"IF(B357=\"\",\"\",Outputs!K356)","v":""},{"$f":"IF(Outputs!E356=\"\",\"\",Outputs!E356)","v":""},{"$f":"IF(Outputs!F356=\"\",\"\",Outputs!F356)","v":""},{"$f":"IF(Outputs!G356=\"\",\"\",Outputs!G356)","v":""},{"$f":"IF(Outputs!H356=\"\",\"\",Outputs!H356)","v":""},{"$f":"IF(Outputs!I356=\"\",\"\",Outputs!I356)","v":""}]
[{"$f":"IF(Outputs!E357<>\"\",Outputs!A357,\"\")","v":""},{"$f":"IF(Outputs!E357<>\"\",Outputs!B357,\"\")","v":""},"","","","","","","",{"$f":"IF(A358=\"\",\"\",Outputs!C357)","v":""},{"$f":"IF(A358=\"\",\"\",Outputs!J357)","v":""},{"$f":"IF(B358=\"\",\"\",Outputs!K357)","v":""},{"$f":"IF(Outputs!E357=\"\",\"\",Outputs!E357)","v":""},{"$f":"IF(Outputs!F357=\"\",\"\",Outputs!F357)","v":""},{"$f":"IF(Outputs!G357=\"\",\"\",Outputs!G357)","v":""},{"$f":"IF(Outputs!H357=\"\",\"\",Outputs!H357)","v":""},{"$f":"IF(Outputs!I357=\"\",\"\",Outputs!I357)","v":""}]
[{"$f":"IF(Outputs!E358<>\"\",Outputs!A358,\"\")","v":""},{"$f":"IF(Outputs!E358<>\"\",Outputs!B358,\"\")","v":""},"","","","","","","",{"$f":"IF(A359=\"\",\"\",Outputs!C358)","v":""},{"$f":"IF(A359=\"\",\"\",Outputs!J358)","v":""},{"$f":"IF(B359=\"\",\"\",Outputs!K358)","v":""},{"$f":"IF(Outputs!E358=\"\",\"\",Outputs!E358)","v":""},{"$f":"IF(Outputs!F358=\"\",\"\",Outputs!F358)","v":""},{"$f":"IF(Outputs!G358=\"\",\"\",Outputs!G358)","v":""},{"$f":"IF(Outputs!H358=\"\",\"\",Outputs!H358)","v":""},{"$f":"IF(Outputs!I358=\"\",\"\",Outputs!I358)","v":""}]
[{"$f":"IF(Outputs!E359<>\"\",Outputs!A359,\"\")","v":""},{"$f":"IF(Outputs!E359<>\"\",Outputs!B359,\"\")","v":""},"","","","","","","",{"$f":"IF(A360=\"\",\"\",Outputs!C359)","v":""},{"$f":"IF(A360=\"\",\"\",Outputs!J359)","v":""},{"$f":"IF(B360=\"\",\"\",Outputs!K359)","v":""},{"$f":"IF(Outputs!E359=\"\",\"\",Outputs!E359)","v":""},{"$f":"IF(Outputs!F359=\"\",\"\",Outputs!F359)","v":""},{"$f":"IF(Outputs!G359=\"\",\"\",Outputs!G359)","v":""},{"$f":"IF(Outputs!H359=\"\",\"\",Outputs!H359)","v":""},{"$f":"IF(Outputs!I359=\"\",\"\",Outputs!I359)","v":""}]
[{"$f":"IF(Outputs!E360<>\"\",Outputs!A360,\"\")","v":""},{"$f":"IF(Outputs!E360<>\"\",Outputs!B360,\"\")","v":""},"","","","","","","",{"$f":"IF(A361=\"\",\"\",Outputs!C360)","v":""},{"$f":"IF(A361=\"\",\"\",Outputs!J360)","v":""},{"$f":"IF(B361=\"\",\"\",Outputs!K360)","v":""},{"$f":"IF(Outputs!E360=\"\",\"\",Outputs!E360)","v":""},{"$f":"IF(Outputs!F360=\"\",\"\",Outputs!F360)","v":""},{"$f":"IF(Outputs!G360=\"\",\"\",Outputs!G360)","v":""},{"$f":"IF(Outputs!H360=\"\",\"\",Outputs!H360)","v":""},{"$f":"IF(Outputs!I360=\"\",\"\",Outputs!I360)","v":""}]
[{"$f":"IF(Outputs!E361<>\"\",Outputs!A361,\"\")","v":""},{"$f":"IF(Outputs!E361<>\"\",Outputs!B361,\"\")","v":""},"","","","","","","",{"$f":"IF(A362=\"\",\"\",Outputs!C361)","v":""},{"$f":"IF(A362=\"\",\"\",Outputs!J361)","v":""},{"$f":"IF(B362=\"\",\"\",Outputs!K361)","v":""},{"$f":"IF(Outputs!E361=\"\",\"\",Outputs!E361)","v":""},{"$f":"IF(Outputs!F361=\"\",\"\",Outputs!F361)","v":""},{"$f":"IF(Outputs!G361=\"\",\"\",Outputs!G361)","v":""},{"$f":"IF(Outputs!H361=\"\",\"\",Outputs!H361)","v":""},{"$f":"IF(Outputs!I361=\"\",\"\",Outputs!I361)","v":""}]
[{"$f":"IF(Outputs!E362<>\"\",Outputs!A362,\"\")","v":""},{"$f":"IF(Outputs!E362<>\"\",Outputs!B362,\"\")","v":""},"","","","","","","",{"$f":"IF(A363=\"\",\"\",Outputs!C362)","v":""},{"$f":"IF(A363=\"\",\"\",Outputs!J362)","v":""},{"$f":"IF(B363=\"\",\"\",Outputs!K362)","v":""},{"$f":"IF(Outputs!E362=\"\",\"\",Outputs!E362)","v":""},{"$f":"IF(Outputs!F362=\"\",\"\",Outputs!F362)","v":""},{"$f":"IF(Outputs!G362=\"\",\"\",Outputs!G362)","v":""},{"$f":"IF(Outputs!H362=\"\",\"\",Outputs!H362)","v":""},{"$f":"IF(Outputs!I362=\"\",\"\",Outputs!I362)","v":""}]
[{"$f":"IF(Outputs!E363<>\"\",Outputs!A363,\"\")","v":""},{"$f":"IF(Outputs!E363<>\"\",Outputs!B363,\"\")","v":""},"","","","","","","",{"$f":"IF(A364=\"\",\"\",Outputs!C363)","v":""},{"$f":"IF(A364=\"\",\"\",Outputs!J363)","v":""},{"$f":"IF(B364=\"\",\"\",Outputs!K363)","v":""},{"$f":"IF(Outputs!E363=\"\",\"\",Outputs!E363)","v":""},{"$f":"IF(Outputs!F363=\"\",\"\",Outputs!F363)","v":""},{"$f":"IF(Outputs!G363=\"\",\"\",Outputs!G363)","v":""},{"$f":"IF(Outputs!H363=\"\",\"\",Outputs!H363)","v":""},{"$f":"IF(Outputs!I363=\"\",\"\",Outputs!I363)","v":""}]
[{"$f":"IF(Outputs!E364<>\"\",Outputs!A364,\"\")","v":""},{"$f":"IF(Outputs!E364<>\"\",Outputs!B364,\"\")","v":""},"","","","","","","",{"$f":"IF(A365=\"\",\"\",Outputs!C364)","v":""},{"$f":"IF(A365=\"\",\"\",Outputs!J364)","v":""},{"$f":"IF(B365=\"\",\"\",Outputs!K364)","v":""},{"$f":"IF(Outputs!E364=\"\",\"\",Outputs!E364)","v":""},{"$f":"IF(Outputs!F364=\"\",\"\",Outputs!F364)","v":""},{"$f":"IF(Outputs!G364=\"\",\"\",Outputs!G364)","v":""},{"$f":"IF(Outputs!H364=\"\",\"\",Outputs!H364)","v":""},{"$f":"IF(Outputs!I364=\"\",\"\",Outputs!I364)","v":""}]
[{"$f":"IF(Outputs!E365<>\"\",Outputs!A365,\"\")","v":""},{"$f":"IF(Outputs!E365<>\"\",Outputs!B365,\"\")","v":""},"","","","","","","",{"$f":"IF(A366=\"\",\"\",Outputs!C365)","v":""},{"$f":"IF(A366=\"\",\"\",Outputs!J365)","v":""},{"$f":"IF(B366=\"\",\"\",Outputs!K365)","v":""},{"$f":"IF(Outputs!E365=\"\",\"\",Outputs!E365)","v":""},{"$f":"IF(Outputs!F365=\"\",\"\",Outputs!F365)","v":""},{"$f":"IF(Outputs!G365=\"\",\"\",Outputs!G365)","v":""},{"$f":"IF(Outputs!H365=\"\",\"\",Outputs!H365)","v":""},{"$f":"IF(Outputs!I365=\"\",\"\",Outputs!I365)","v":""}]
[{"$f":"IF(Outputs!E366<>\"\",Outputs!A366,\"\")","v":""},{"$f":"IF(Outputs!E366<>\"\",Outputs!B366,\"\")","v":""},"","","","","","","",{"$f":"IF(A367=\"\",\"\",Outputs!C366)","v":""},{"$f":"IF(A367=\"\",\"\",Outputs!J366)","v":""},{"$f":"IF(B367=\"\",\"\",Outputs!K366)","v":""},{"$f":"IF(Outputs!E366=\"\",\"\",Outputs!E366)","v":""},{"$f":"IF(Outputs!F366=\"\",\"\",Outputs!F366)","v":""},{"$f":"IF(Outputs!G366=\"\",\"\",Outputs!G366)","v":""},{"$f":"IF(Outputs!H366=\"\",\"\",Outputs!H366)","v":""},{"$f":"IF(Outputs!I366=\"\",\"\",Outputs!I366)","v":""}]
[{"$f":"IF(Outputs!E367<>\"\",Outputs!A367,\"\")","v":""},{"$f":"IF(Outputs!E367<>\"\",Outputs!B367,\"\")","v":""},"","","","","","","",{"$f":"IF(A368=\"\",\"\",Outputs!C367)","v":""},{"$f":"IF(A368=\"\",\"\",Outputs!J367)","v":""},{"$f":"IF(B368=\"\",\"\",Outputs!K367)","v":""},{"$f":"IF(Outputs!E367=\"\",\"\",Outputs!E367)","v":""},{"$f":"IF(Outputs!F367=\"\",\"\",Outputs!F367)","v":""},{"$f":"IF(Outputs!G367=\"\",\"\",Outputs!G367)","v":""},{"$f":"IF(Outputs!H367=\"\",\"\",Outputs!H367)","v":""},{"$f":"IF(Outputs!I367=\"\",\"\",Outputs!I367)","v":""}]
[{"$f":"IF(Outputs!E368<>\"\",Outputs!A368,\"\")","v":""},{"$f":"IF(Outputs!E368<>\"\",Outputs!B368,\"\")","v":""},"","","","","","","",{"$f":"IF(A369=\"\",\"\",Outputs!C368)","v":""},{"$f":"IF(A369=\"\",\"\",Outputs!J368)","v":""},{"$f":"IF(B369=\"\",\"\",Outputs!K368)","v":""},{"$f":"IF(Outputs!E368=\"\",\"\",Outputs!E368)","v":""},{"$f":"IF(Outputs!F368=\"\",\"\",Outputs!F368)","v":""},{"$f":"IF(Outputs!G368=\"\",\"\",Outputs!G368)","v":""},{"$f":"IF(Outputs!H368=\"\",\"\",Outputs!H368)","v":""},{"$f":"IF(Outputs!I368=\"\",\"\",Outputs!I368)","v":""}]
[{"$f":"IF(Outputs!E369<>\"\",Outputs!A369,\"\")","v":""},{"$f":"IF(Outputs!E369<>\"\",Outputs!B369,\"\")","v":""},"","","","","","","",{"$f":"IF(A370=\"\",\"\",Outputs!C369)","v":""},{"$f":"IF(A370=\"\",\"\",Outputs!J369)","v":""},{"$f":"IF(B370=\"\",\"\",Outputs!K369)","v":""},{"$f":"IF(Outputs!E369=\"\",\"\",Outputs!E369)","v":""},{"$f":"IF(Outputs!F369=\"\",\"\",Outputs!F369)","v":""},{"$f":"IF(Outputs!G369=\"\",\"\",Outputs!G369)","v":""},{"$f":"IF(Outputs!H369=\"\",\"\",Outputs!H369)","v":""},{"$f":"IF(Outputs!I369=\"\",\"\",Outputs!I369)","v":""}]
[{"$f":"IF(Outputs!E370<>\"\",Outputs!A370,\"\")","v":""},{"$f":"IF(Outputs!E370<>\"\",Outputs!B370,\"\")","v":""},"","","","","","","",{"$f":"IF(A371=\"\",\"\",Outputs!C370)","v":""},{"$f":"IF(A371=\"\",\"\",Outputs!J370)","v":""},{"$f":"IF(B371=\"\",\"\",Outputs!K370)","v":""},{"$f":"IF(Outputs!E370=\"\",\"\",Outputs!E370)","v":""},{"$f":"IF(Outputs!F370=\"\",\"\",Outputs!F370)","v":""},{"$f":"IF(Outputs!G370=\"\",\"\",Outputs!G370)","v":""},{"$f":"IF(Outputs!H370=\"\",\"\",Outputs!H370)","v":""},{"$f":"IF(Outputs!I370=\"\",\"\",Outputs!I370)","v":""}]
[{"$f":"IF(Outputs!E371<>\"\",Outputs!A371,\"\")","v":""},{"$f":"IF(Outputs!E371<>\"\",Outputs!B371,\"\")","v":""},"","","","","","","",{"$f":"IF(A372=\"\",\"\",Outputs!C371)","v":""},{"$f":"IF(A372=\"\",\"\",Outputs!J371)","v":""},{"$f":"IF(B372=\"\",\"\",Outputs!K371)","v":""},{"$f":"IF(Outputs!E371=\"\",\"\",Outputs!E371)","v":""},{"$f":"IF(Outputs!F371=\"\",\"\",Outputs!F371)","v":""},{"$f":"IF(Outputs!G371=\"\",\"\",Outputs!G371)","v":""},{"$f":"IF(Outputs!H371=\"\",\"\",Outputs!H371)","v":""},{"$f":"IF(Outputs!I371=\"\",\"\",Outputs!I371)","v":""}]
[{"$f":"IF(Outputs!E372<>\"\",Outputs!A372,\"\")","v":""},{"$f":"IF(Outputs!E372<>\"\",Outputs!B372,\"\")","v":""},"","","","","","","",{"$f":"IF(A373=\"\",\"\",Outputs!C372)","v":""},{"$f":"IF(A373=\"\",\"\",Outputs!J372)","v":""},{"$f":"IF(B373=\"\",\"\",Outputs!K372)","v":""},{"$f":"IF(Outputs!E372=\"\",\"\",Outputs!E372)","v":""},{"$f":"IF(Outputs!F372=\"\",\"\",Outputs!F372)","v":""},{"$f":"IF(Outputs!G372=\"\",\"\",Outputs!G372)","v":""},{"$f":"IF(Outputs!H372=\"\",\"\",Outputs!H372)","v":""},{"$f":"IF(Outputs!I372=\"\",\"\",Outputs!I372)","v":""}]
[{"$f":"IF(Outputs!E373<>\"\",Outputs!A373,\"\")","v":""},{"$f":"IF(Outputs!E373<>\"\",Outputs!B373,\"\")","v":""},"","","","","","","",{"$f":"IF(A374=\"\",\"\",Outputs!C373)","v":""},{"$f":"IF(A374=\"\",\"\",Outputs!J373)","v":""},{"$f":"IF(B374=\"\",\"\",Outputs!K373)","v":""},{"$f":"IF(Outputs!E373=\"\",\"\",Outputs!E373)","v":""},{"$f":"IF(Outputs!F373=\"\",\"\",Outputs!F373)","v":""},{"$f":"IF(Outputs!G373=\"\",\"\",Outputs!G373)","v":""},{"$f":"IF(Outputs!H373=\"\",\"\",Outputs!H373)","v":""},{"$f":"IF(Outputs!I373=\"\",\"\",Outputs!I373)","v":""}]
[{"$f":"IF(Outputs!E374<>\"\",Outputs!A374,\"\")","v":""},{"$f":"IF(Outputs!E374<>\"\",Outputs!B374,\"\")","v":""},"","","","","","","",{"$f":"IF(A375=\"\",\"\",Outputs!C374)","v":""},{"$f":"IF(A375=\"\",\"\",Outputs!J374)","v":""},{"$f":"IF(B375=\"\",\"\",Outputs!K374)","v":""},{"$f":"IF(Outputs!E374=\"\",\"\",Outputs!E374)","v":""},{"$f":"IF(Outputs!F374=\"\",\"\",Outputs!F374)","v":""},{"$f":"IF(Outputs!G374=\"\",\"\",Outputs!G374)","v":""},{"$f":"IF(Outputs!H374=\"\",\"\",Outputs!H374)","v":""},{"$f":"IF(Outputs!I374=\"\",\"\",Outputs!I374)","v":""}]
[{"$f":"IF(Outputs!E375<>\"\",Outputs!A375,\"\")","v":""},{"$f":"IF(Outputs!E375<>\"\",Outputs!B375,\"\")","v":""},"","","","","","","",{"$f":"IF(A376=\"\",\"\",Outputs!C375)","v":""},{"$f":"IF(A376=\"\",\"\",Outputs!J375)","v":""},{"$f":"IF(B376=\"\",\"\",Outputs!K375)","v":""},{"$f":"IF(Outputs!E375=\"\",\"\",Outputs!E375)","v":""},{"$f":"IF(Outputs!F375=\"\",\"\",Outputs!F375)","v":""},{"$f":"IF(Outputs!G375=\"\",\"\",Outputs!G375)","v":""},{"$f":"IF(Outputs!H375=\"\",\"\",Outputs!H375)","v":""},{"$f":"IF(Outputs!I375=\"\",\"\",Outputs!I375)","v":""}]
[{"$f":"IF(Outputs!E376<>\"\",Outputs!A376,\"\")","v":""},{"$f":"IF(Outputs!E376<>\"\",Outputs!B376,\"\")","v":""},"","","","","","","",{"$f":"IF(A377=\"\",\"\",Outputs!C376)","v":""},{"$f":"IF(A377=\"\",\"\",Outputs!J376)","v":""},{"$f":"IF(B377=\"\",\"\",Outputs!K376)","v":""},{"$f":"IF(Outputs!E376=\"\",\"\",Outputs!E376)","v":""},{"$f":"IF(Outputs!F376=\"\",\"\",Outputs!F376)","v":""},{"$f":"IF(Outputs!G376=\"\",\"\",Outputs!G376)","v":""},{"$f":"IF(Outputs!H376=\"\",\"\",Outputs!H376)","v":""},{"$f":"IF(Outputs!I376=\"\",\"\",Outputs!I376)","v":""}]
[{"$f":"IF(Outputs!E377<>\"\",Outputs!A377,\"\")","v":""},{"$f":"IF(Outputs!E377<>\"\",Outputs!B377,\"\")","v":""},"","","","","","","",{"$f":"IF(A378=\"\",\"\",Outputs!C377)","v":""},{"$f":"IF(A378=\"\",\"\",Outputs!J377)","v":""},{"$f":"IF(B378=\"\",\"\",Outputs!K377)","v":""},{"$f":"IF(Outputs!E377=\"\",\"\",Outputs!E377)","v":""},{"$f":"IF(Outputs!F377=\"\",\"\",Outputs!F377)","v":""},{"$f":"IF(Outputs!G377=\"\",\"\",Outputs!G377)","v":""},{"$f":"IF(Outputs!H377=\"\",\"\",Outputs!H377)","v":""},{"$f":"IF(Outputs!I377=\"\",\"\",Outputs!I377)","v":""}]
[{"$f":"IF(Outputs!E378<>\"\",Outputs!A378,\"\")","v":""},{"$f":"IF(Outputs!E378<>\"\",Outputs!B378,\"\")","v":""},"","","","","","","",{"$f":"IF(A379=\"\",\"\",Outputs!C378)","v":""},{"$f":"IF(A379=\"\",\"\",Outputs!J378)","v":""},{"$f":"IF(B379=\"\",\"\",Outputs!K378)","v":""},{"$f":"IF(Outputs!E378=\"\",\"\",Outputs!E378)","v":""},{"$f":"IF(Outputs!F378=\"\",\"\",Outputs!F378)","v":""},{"$f":"IF(Outputs!G378=\"\",\"\",Outputs!G378)","v":""},{"$f":"IF(Outputs!H378=\"\",\"\",Outputs!H378)","v":""},{"$f":"IF(Outputs!I378=\"\",\"\",Outputs!I378)","v":""}]
[{"$f":"IF(Outputs!E379<>\"\",Outputs!A379,\"\")","v":""},{"$f":"IF(Outputs!E379<>\"\",Outputs!B379,\"\")","v":""},"","","","","","","",{"$f":"IF(A380=\"\",\"\",Outputs!C379)","v":""},{"$f":"IF(A380=\"\",\"\",Outputs!J379)","v":""},{"$f":"IF(B380=\"\",\"\",Outputs!K379)","v":""},{"$f":"IF(Outputs!E379=\"\",\"\",Outputs!E379)","v":""},{"$f":"IF(Outputs!F379=\"\",\"\",Outputs!F379)","v":""},{"$f":"IF(Outputs!G379=\"\",\"\",Outputs!G379)","v":""},{"$f":"IF(Outputs!H379=\"\",\"\",Outputs!H379)","v":""},{"$f":"IF(Outputs!I379=\"\",\"\",Outputs!I379)","v":""}]
[{"$f":"IF(Outputs!E380<>\"\",Outputs!A380,\"\")","v":""},{"$f":"IF(Outputs!E380<>\"\",Outputs!B380,\"\")","v":""},"","","","","","","",{"$f":"IF(A381=\"\",\"\",Outputs!C380)","v":""},{"$f":"IF(A381=\"\",\"\",Outputs!J380)","v":""},{"$f":"IF(B381=\"\",\"\",Outputs!K380)","v":""},{"$f":"IF(Outputs!E380=\"\",\"\",Outputs!E380)","v":""},{"$f":"IF(Outputs!F380=\"\",\"\",Outputs!F380)","v":""},{"$f":"IF(Outputs!G380=\"\",\"\",Outputs!G380)","v":""},{"$f":"IF(Outputs!H380=\"\",\"\",Outputs!H380)","v":""},{"$f":"IF(Outputs!I380=\"\",\"\",Outputs!I380)","v":""}]
[{"$f":"IF(Outputs!E381<>\"\",Outputs!A381,\"\")","v":""},{"$f":"IF(Outputs!E381<>\"\",Outputs!B381,\"\")","v":""},"","","","","","","",{"$f":"IF(A382=\"\",\"\",Outputs!C381)","v":""},{"$f":"IF(A382=\"\",\"\",Outputs!J381)","v":""},{"$f":"IF(B382=\"\",\"\",Outputs!K381)","v":""},{"$f":"IF(Outputs!E381=\"\",\"\",Outputs!E381)","v":""},{"$f":"IF(Outputs!F381=\"\",\"\",Outputs!F381)","v":""},{"$f":"IF(Outputs!G381=\"\",\"\",Outputs!G381)","v":""},{"$f":"IF(Outputs!H381=\"\",\"\",Outputs!H381)","v":""},{"$f":"IF(Outputs!I381=\"\",\"\",Outputs!I381)","v":""}]
[{"$f":"IF(Outputs!E382<>\"\",Outputs!A382,\"\")","v":""},{"$f":"IF(Outputs!E382<>\"\",Outputs!B382,\"\")","v":""},"","","","","","","",{"$f":"IF(A383=\"\",\"\",Outputs!C382)","v":""},{"$f":"IF(A383=\"\",\"\",Outputs!J382)","v":""},{"$f":"IF(B383=\"\",\"\",Outputs!K382)","v":""},{"$f":"IF(Outputs!E382=\"\",\"\",Outputs!E382)","v":""},{"$f":"IF(Outputs!F382=\"\",\"\",Outputs!F382)","v":""},{"$f":"IF(Outputs!G382=\"\",\"\",Outputs!G382)","v":""},{"$f":"IF(Outputs!H382=\"\",\"\",Outputs!H382)","v":""},{"$f":"IF(Outputs!I382=\"\",\"\",Outputs!I382)","v":""}]
[{"$f":"IF(Outputs!E383<>\"\",Outputs!A383,\"\")","v":""},{"$f":"IF(Outputs!E383<>\"\",Outputs!B383,\"\")","v":""},"","","","","","","",{"$f":"IF(A384=\"\",\"\",Outputs!C383)","v":""},{"$f":"IF(A384=\"\",\"\",Outputs!J383)","v":""},{"$f":"IF(B384=\"\",\"\",Outputs!K383)","v":""},{"$f":"IF(Outputs!E383=\"\",\"\",Outputs!E383)","v":""},{"$f":"IF(Outputs!F383=\"\",\"\",Outputs!F383)","v":""},{"$f":"IF(Outputs!G383=\"\",\"\",Outputs!G383)","v":""},{"$f":"IF(Outputs!H383=\"\",\"\",Outputs!H383)","v":""},{"$f":"IF(Outputs!I383=\"\",\"\",Outputs!I383)","v":""}]
[{"$f":"IF(Outputs!E384<>\"\",Outputs!A384,\"\")","v":""},{"$f":"IF(Outputs!E384<>\"\",Outputs!B384,\"\")","v":""},"","","","","","","",{"$f":"IF(A385=\"\",\"\",Outputs!C384)","v":""},{"$f":"IF(A385=\"\",\"\",Outputs!J384)","v":""},{"$f":"IF(B385=\"\",\"\",Outputs!K384)","v":""},{"$f":"IF(Outputs!E384=\"\",\"\",Outputs!E384)","v":""},{"$f":"IF(Outputs!F384=\"\",\"\",Outputs!F384)","v":""},{"$f":"IF(Outputs!G384=\"\",\"\",Outputs!G384)","v":""},{"$f":"IF(Outputs!H384=\"\",\"\",Outputs!H384)","v":""},{"$f":"IF(Outputs!I384=\"\",\"\",Outputs!I384)","v":""}]
[{"$f":"IF(Outputs!E385<>\"\",Outputs!A385,\"\")","v":""},{"$f":"IF(Outputs!E385<>\"\",Outputs!B385,\"\")","v":""},"","","","","","","",{"$f":"IF(A386=\"\",\"\",Outputs!C385)","v":""},{"$f":"IF(A386=\"\",\"\",Outputs!J385)","v":""},{"$f":"IF(B386=\"\",\"\",Outputs!K385)","v":""},{"$f":"IF(Outputs!E385=\"\",\"\",Outputs!E385)","v":""},{"$f":"IF(Outputs!F385=\"\",\"\",Outputs!F385)","v":""},{"$f":"IF(Outputs!G385=\"\",\"\",Outputs!G385)","v":""},{"$f":"IF(Outputs!H385=\"\",\"\",Outputs!H385)","v":""},{"$f":"IF(Outputs!I385=\"\",\"\",Outputs!I385)","v":""}]
[{"$f":"IF(Outputs!E386<>\"\",Outputs!A386,\"\")","v":""},{"$f":"IF(Outputs!E386<>\"\",Outputs!B386,\"\")","v":""},"","","","","","","",{"$f":"IF(A387=\"\",\"\",Outputs!C386)","v":""},{"$f":"IF(A387=\"\",\"\",Outputs!J386)","v":""},{"$f":"IF(B387=\"\",\"\",Outputs!K386)","v":""},{"$f":"IF(Outputs!E386=\"\",\"\",Outputs!E386)","v":""},{"$f":"IF(Outputs!F386=\"\",\"\",Outputs!F386)","v":""},{"$f":"IF(Outputs!G386=\"\",\"\",Outputs!G386)","v":""},{"$f":"IF(Outputs!H386=\"\",\"\",Outputs!H386)","v":""},{"$f":"IF(Outputs!I386=\"\",\"\",Outputs!I386)","v":""}]
[{"$f":"IF(Outputs!E387<>\"\",Outputs!A387,\"\")","v":""},{"$f":"IF(Outputs!E387<>\"\",Outputs!B387,\"\")","v":""},{"$f":"B388","v":""},"","","","","",{"$f":"IF(H388=\"\",\"\",SQRT(J388/PI())*10)","v":""},{"$f":"IF(A388=\"\",\"\",Outputs!C387)","v":""},{"$f":"IF(A388=\"\",\"\",Outputs!J387)","v":""},{"$f":"IF(B388=\"\",\"\",Outputs!K387)","v":""},{"$f":"IF(Outputs!E387=\"\",\"\",Outputs!E387)","v":""},{"$f":"IF(Outputs!F387=\"\",\"\",Outputs!F387)","v":""},{"$f":"IF(Outputs!G387=\"\",\"\",Outputs!G387)","v":""},{"$f":"IF(Outputs!H387=\"\",\"\",Outputs!H387)","v":""},{"$f":"IF(Outputs!I387=\"\",\"\",Outputs!I387)","v":""}]
[{"$f":"IF(Outputs!E388<>\"\",Outputs!A388,\"\")","v":""},{"$f":"IF(Outputs!E388<>\"\",Outputs!B388,\"\")","v":""},"","","","","","","",{"$f":"IF(A389=\"\",\"\",Outputs!C388)","v":""},{"$f":"IF(A389=\"\",\"\",Outputs!J388)","v":""},{"$f":"IF(B389=\"\",\"\",Outputs!K388)","v":""},{"$f":"IF(Outputs!E388=\"\",\"\",Outputs!E388)","v":""},{"$f":"IF(Outputs!F388=\"\",\"\",Outputs!F388)","v":""},{"$f":"IF(Outputs!G388=\"\",\"\",Outputs!G388)","v":""},{"$f":"IF(Outputs!H388=\"\",\"\",Outputs!H388)","v":""},{"$f":"IF(Outputs!I388=\"\",\"\",Outputs!I388)","v":""}]
[{"$f":"IF(Outputs!E389<>\"\",Outputs!A389,\"\")","v":""},{"$f":"IF(Outputs!E389<>\"\",Outputs!B389,\"\")","v":""},"","","","","","","",{"$f":"IF(A390=\"\",\"\",Outputs!C389)","v":""},{"$f":"IF(A390=\"\",\"\",Outputs!J389)","v":""},{"$f":"IF(B390=\"\",\"\",Outputs!K389)","v":""},{"$f":"IF(Outputs!E389=\"\",\"\",Outputs!E389)","v":""},{"$f":"IF(Outputs!F389=\"\",\"\",Outputs!F389)","v":""},{"$f":"IF(Outputs!G389=\"\",\"\",Outputs!G389)","v":""},{"$f":"IF(Outputs!H389=\"\",\"\",Outputs!H389)","v":""},{"$f":"IF(Outputs!I389=\"\",\"\",Outputs!I389)","v":""}]
[{"$f":"IF(Outputs!E390<>\"\",Outputs!A390,\"\")","v":""},{"$f":"IF(Outputs!E390<>\"\",Outputs!B390,\"\")","v":""},"","","","","","","",{"$f":"IF(A391=\"\",\"\",Outputs!C390)","v":""},{"$f":"IF(A391=\"\",\"\",Outputs!J390)","v":""},{"$f":"IF(B391=\"\",\"\",Outputs!K390)","v":""},{"$f":"IF(Outputs!E390=\"\",\"\",Outputs!E390)","v":""},{"$f":"IF(Outputs!F390=\"\",\"\",Outputs!F390)","v":""},{"$f":"IF(Outputs!G390=\"\",\"\",Outputs!G390)","v":""},{"$f":"IF(Outputs!H390=\"\",\"\",Outputs!H390)","v":""},{"$f":"IF(Outputs!I390=\"\",\"\",Outputs!I390)","v":""}]
[{"$f":"IF(Outputs!E391<>\"\",Outputs!A391,\"\")","v":""},{"$f":"IF(Outputs!E391<>\"\",Outputs!B391,\"\")","v":""},"","","","","","","",{"$f":"IF(A392=\"\",\"\",Outputs!C391)","v":""},{"$f":"IF(A392=\"\",\"\",Outputs!J391)","v":""},{"$f":"IF(B392=\"\",\"\",Outputs!K391)","v":""},{"$f":"IF(Outputs!E391=\"\",\"\",Outputs!E391)","v":""},{"$f":"IF(Outputs!F391=\"\",\"\",Outputs!F391)","v":""},{"$f":"IF(Outputs!G391=\"\",\"\",Outputs!G391)","v":""},{"$f":"IF(Outputs!H391=\"\",\"\",Outputs!H391)","v":""},{"$f":"IF(Outputs!I391=\"\",\"\",Outputs!I391)","v":""}]
[{"$f":"IF(Outputs!E392<>\"\",Outputs!A392,\"\")","v":""},{"$f":"IF(Outputs!E392<>\"\",Outputs!B392,\"\")","v":""},"","","","","","","",{"$f":"IF(A393=\"\",\"\",Outputs!C392)","v":""},{"$f":"IF(A393=\"\",\"\",Outputs!J392)","v":""},{"$f":"IF(B393=\"\",\"\",Outputs!K392)","v":""},{"$f":"IF(Outputs!E392=\"\",\"\",Outputs!E392)","v":""},{"$f":"IF(Outputs!F392=\"\",\"\",Outputs!F392)","v":""},{"$f":"IF(Outputs!G392=\"\",\"\",Outputs!G392)","v":""},{"$f":"IF(Outputs!H392=\"\",\"\",Outputs!H392)","v":""},{"$f":"IF(Outputs!I392=\"\",\"\",Outputs!I392)","v":""}]
[{"$f":"IF(Outputs!E393<>\"\",Outputs!A393,\"\")","v":""},{"$f":"IF(Outputs!E393<>\"\",Outputs!B393,\"\")","v":""},"","","","","","","",{"$f":"IF(A394=\"\",\"\",Outputs!C393)","v":""},{"$f":"IF(A394=\"\",\"\",Outputs!J393)","v":""},{"$f":"IF(B394=\"\",\"\",Outputs!K393)","v":""},{"$f":"IF(Outputs!E393=\"\",\"\",Outputs!E393)","v":""},{"$f":"IF(Outputs!F393=\"\",\"\",Outputs!F393)","v":""},{"$f":"IF(Outputs!G393=\"\",\"\",Outputs!G393)","v":""},{"$f":"IF(Outputs!H393=\"\",\"\",Outputs!H393)","v":""},{"$f":"IF(Outputs!I393=\"\",\"\",Outputs!I393)","v":""}]
[{"$f":"IF(Outputs!E394<>\"\",Outputs!A394,\"\")","v":""},{"$f":"IF(Outputs!E394<>\"\",Outputs!B394,\"\")","v":""},"","","","","","","",{"$f":"IF(A395=\"\",\"\",Outputs!C394)","v":""},{"$f":"IF(A395=\"\",\"\",Outputs!J394)","v":""},{"$f":"IF(B395=\"\",\"\",Outputs!K394)","v":""},{"$f":"IF(Outputs!E394=\"\",\"\",Outputs!E394)","v":""},{"$f":"IF(Outputs!F394=\"\",\"\",Outputs!F394)","v":""},{"$f":"IF(Outputs!G394=\"\",\"\",Outputs!G394)","v":""},{"$f":"IF(Outputs!H394=\"\",\"\",Outputs!H394)","v":""},{"$f":"IF(Outputs!I394=\"\",\"\",Outputs!I394)","v":""}]
[{"$f":"IF(Outputs!E395<>\"\",Outputs!A395,\"\")","v":""},{"$f":"IF(Outputs!E395<>\"\",Outputs!B395,\"\")","v":""},"","","","","","","",{"$f":"IF(A396=\"\",\"\",Outputs!C395)","v":""},{"$f":"IF(A396=\"\",\"\",Outputs!J395)","v":""},{"$f":"IF(B396=\"\",\"\",Outputs!K395)","v":""},{"$f":"IF(Outputs!E395=\"\",\"\",Outputs!E395)","v":""},{"$f":"IF(Outputs!F395=\"\",\"\",Outputs!F395)","v":""},{"$f":"IF(Outputs!G395=\"\",\"\",Outputs!G395)","v":""},{"$f":"IF(Outputs!H395=\"\",\"\",Outputs!H395)","v":""},{"$f":"IF(Outputs!I395=\"\",\"\",Outputs!I395)","v":""}]
[{"$f":"IF(Outputs!E396<>\"\",Outputs!A396,\"\")","v":""},{"$f":"IF(Outputs!E396<>\"\",Outputs!B396,\"\")","v":""},"","","","","","","",{"$f":"IF(A397=\"\",\"\",Outputs!C396)","v":""},{"$f":"IF(A397=\"\",\"\",Outputs!J396)","v":""},{"$f":"IF(B397=\"\",\"\",Outputs!K396)","v":""},{"$f":"IF(Outputs!E396=\"\",\"\",Outputs!E396)","v":""},{"$f":"IF(Outputs!F396=\"\",\"\",Outputs!F396)","v":""},{"$f":"IF(Outputs!G396=\"\",\"\",Outputs!G396)","v":""},{"$f":"IF(Outputs!H396=\"\",\"\",Outputs!H396)","v":""},{"$f":"IF(Outputs!I396=\"\",\"\",Outputs!I396)","v":""}]
[{"$f":"IF(Outputs!E397<>\"\",Outputs!A397,\"\")","v":""},{"$f":"IF(Outputs!E397<>\"\",Outputs!B397,\"\")","v":""},"","","","","","","",{"$f":"IF(A398=\"\",\"\",Outputs!C397)","v":""},{"$f":"IF(A398=\"\",\"\",Outputs!J397)","v":""},{"$f":"IF(B398=\"\",\"\",Outputs!K397)","v":""},{"$f":"IF(Outputs!E397=\"\",\"\",Outputs!E397)","v":""},{"$f":"IF(Outputs!F397=\"\",\"\",Outputs!F397)","v":""},{"$f":"IF(Outputs!G397=\"\",\"\",Outputs!G397)","v":""},{"$f":"IF(Outputs!H397=\"\",\"\",Outputs!H397)","v":""},{"$f":"IF(Outputs!I397=\"\",\"\",Outputs!I397)","v":""}]
[{"$f":"IF(Outputs!E398<>\"\",Outputs!A398,\"\")","v":""},{"$f":"IF(Outputs!E398<>\"\",Outputs!B398,\"\")","v":""},"","","","","","","",{"$f":"IF(A399=\"\",\"\",Outputs!C398)","v":""},{"$f":"IF(A399=\"\",\"\",Outputs!J398)","v":""},{"$f":"IF(B399=\"\",\"\",Outputs!K398)","v":""},{"$f":"IF(Outputs!E398=\"\",\"\",Outputs!E398)","v":""},{"$f":"IF(Outputs!F398=\"\",\"\",Outputs!F398)","v":""},{"$f":"IF(Outputs!G398=\"\",\"\",Outputs!G398)","v":""},{"$f":"IF(Outputs!H398=\"\",\"\",Outputs!H398)","v":""},{"$f":"IF(Outputs!I398=\"\",\"\",Outputs!I398)","v":""}]
[{"$f":"IF(Outputs!E399<>\"\",Outputs!A399,\"\")","v":""},{"$f":"IF(Outputs!E399<>\"\",Outputs!B399,\"\")","v":""},"","","","","","","",{"$f":"IF(A400=\"\",\"\",Outputs!C399)","v":""},{"$f":"IF(A400=\"\",\"\",Outputs!J399)","v":""},{"$f":"IF(B400=\"\",\"\",Outputs!K399)","v":""},{"$f":"IF(Outputs!E399=\"\",\"\",Outputs!E399)","v":""},{"$f":"IF(Outputs!F399=\"\",\"\",Outputs!F399)","v":""},{"$f":"IF(Outputs!G399=\"\",\"\",Outputs!G399)","v":""},{"$f":"IF(Outputs!H399=\"\",\"\",Outputs!H399)","v":""},{"$f":"IF(Outputs!I399=\"\",\"\",Outputs!I399)","v":""}]

{"sheet":"Victorian","index":7,"n_rows":5596,"n_cols":6,"rows_kept":5596,"cut":false,"hidden":true,"merged":[]}
["VITM12","Population","Score","Lat","Long","Distance"]
[1,1794.7311099999999,578065.71057999961,-37.809089349899899,144.96925171000001]
[2,1006.4483300000001,757528.48958999966,-37.810198425800003,144.96556131099899]
[3,375.37921,628229.66177999927,-37.809714499899897,144.96913503299899]
[4,2026.66356,655823.08374999953,-37.811017825500002,144.97019584500001]
[5,712.87521000000004,775848.66369999968,-37.810912500599898,144.963073245]
[6,319.18482999999998,635369.76977999927,-37.8136146400999,144.96151040999899]
[7,180.07193000000001,645674.08089999936,-37.812168092199897,144.96646384100001]
[8,407.80344000000002,743980.8907099996,-37.811738067,144.96987383300001]
[9,767.51674000000003,695021.18876999954,-37.813053279499897,144.97106085600001]
[10,1580.2233799999999,797488.19379999954,-37.813430113400003,144.954428259]
[11,257.95154000000002,655087.36247999955,-37.8141346544,144.967362374999]
[12,1048.9824900000001,652069.32573999942,-37.815010200099898,144.97197047200001]
[13,1626.64231,752889.8710599998,-37.816821108200003,144.96580220300001]
[14,474.14165000000003,612714.0528399992,-37.817541346900001,144.963321291]
[15,382.29226999999997,724592.46091999975,-37.816092779000002,144.968267672]
[16,531.88265000000001,611886.26611999946,-37.816287592899897,144.959947645]
[17,825.48206000000005,655610.36706999922,-37.817354723400001,144.956224504999]
[18,495.81925000000001,630889.90231999918,-37.818252813500003,144.96084271500001]
[19,3.8095500000000002,713348.1109099997,-37.818832682599897,144.96550672800001]
[20,1379.6986300000001,661063.24819999945,-37.819346484699899,144.95711985]
[21,923.73126000000002,354107.28923000011,-37.780125185400003,144.946107017]
[22,330.43297999999999,329362.43059000006,-37.785355825300002,144.950387242999]
[23,470.68938000000003,241428.08191999997,-37.787689667000002,144.963580581999]
[24,3947.7513899999999,131708.94225999995,-37.789822319700001,144.914928078999]
[25,6.3917000000000002,432891.86406000023,-37.7978580991999,144.938914861]
[26,244.90876,295976.28112000006,-37.794460303999898,144.96167310499899]
[27,1984.5097000000001,393609.99434000027,-37.800648527500002,144.94702227600001]
[28,2228.29423,375947.78797000012,-37.7976465323,144.966445609999]
[29,1136.75101,397110.51331000013,-37.795203914600002,144.95557108]
[30,488.90683999999999,456601.60141000024,-37.798594311700001,144.930012097]
[31,0,279439.3812,-37.8002163670999,144.934584132]
[32,1.1199999999999999E-3,174377.43475999995,-37.804021131100001,144.922605062]
[33,3435.1141899999998,575111.6776599997,-37.803703667500002,144.96493452600001]
[34,1.3562399999999999,527709.39311999991,-37.804290254100003,144.97160958500001]
[35,145.92679999999999,306654.4438000003,-37.8089280676,144.941222106]
[36,455.09147999999999,439785.31140000012,-37.806335106100001,144.94782519399899]
[37,480.03012999999999,562031.79483999987,-37.806962504200001,144.952334226999]
[38,431.45852000000002,648306.03348999924,-37.8076595621,144.95763684600001]
[39,0.28484999999999999,61636.180500000002,-37.811757437300002,144.91961365399899]
[40,570.15404000000001,815784.82780999981,-37.808507603199899,144.96339009900001]
[41,1161.06799,696162.59598999936,-37.811445235900003,144.95109659100001]
[42,66.38261,702776.89290999959,-37.811167857000001,144.97548164200001]
[43,3719.9634799999999,516010.49307000014,-37.812973009899899,144.98696700400001]
[44,1860.4179200000001,263122.40955000004,-37.814204177299899,144.93706719400001]
[45,0.28344999999999998,52425.280160000002,-37.817207816299899,144.91577794700001]
[46,2432.9189000000001,706251.14237999939,-37.818523712800001,144.950661919]
[47,1068.43372,332243.55573000031,-37.819303595800001,144.94038218200001]
[48,220.09829999999999,499919.18388999999,-37.822261579900001,144.98038174600001]
[49,479.67451999999997,582635.7107599997,-37.819001798999899,144.984865584]
[50,955.51260000000002,547334.89910999977,-37.820816156900001,144.95879427899899]
[51,26.155850000000001,354394.60516000033,-37.827533333700003,144.976419840999]
[52,3.4199999999999999E-3,40139.416030000015,-37.826774153899898,144.911519693]
[53,72.864540000000005,64062.105650000012,-37.823257179499898,144.928501912]
[54,1418.34584,722368.60945999972,-37.820772466999898,144.965059774]
[55,1429.98641,195622.92232999997,-37.8244713797,144.945569275]
[56,1799.51559,609433.20159999933,-37.825814297100003,144.955917841999]
[57,996.72144000000003,366739.06801000045,-37.824648234000001,144.965758532]
[58,9.2649999999999996E-2,528047.00540999987,-37.824541219399897,144.96944056999899]
[59,992.30786000000001,526874.76911999995,-37.827095644700002,144.969755975]
[60,172.07387,424091.87692000042,-37.827546922300002,144.965350763]
[61,1136.5960700000001,483165.0029600003,-37.829419405800003,144.968715656]
[62,0,29441.051869999999,-37.838598230999899,144.90602689299899]
[63,2464.18966,462308.05985000014,-37.836001672400002,144.982749278]
[64,72.155749999999998,423586.88018000009,-37.849178973999898,144.98230608200001]
[65,968.54354999999998,215111.96976999991,-37.855435468499898,144.977448154]
[66,3786.3678300000001,334510.26776000031,-37.857757589400002,144.97171382299899]
[67,524.50800000000004,381478.18275000021,-37.867044070799899,144.99230285300001]
[68,1162.5599099999999,362943.75651000027,-37.866051816099898,144.983922108999]
[69,1057.07873,440267.22491000005,-37.867726706299898,144.997767952]
[70,2731.3305300000002,318983.47932000016,-37.865108842799899,145.00497903799899]
[71,1611.1140499999999,307164.13770000014,-37.871695535599898,144.97761623100001]
[72,756.62552000000005,467060.68705000007,-37.8704381525,144.99209499]
[73,2546.5121399999998,321468.94142000016,-37.877989426900001,144.97972748800001]
[74,3268.8039699999999,39445.807480000003,-37.886624136499897,144.98469199600001]
[75,1.6119999999999999E-2,86322.065040000001,-37.829912920399899,144.93328907399899]
[76,731.2183,444117.75865000032,-37.8301772087,144.950433326]
[77,390.72665999999998,403078.51200000034,-37.8306775573,144.959382675]
[78,436.16147999999998,71018.809429999994,-37.834623966599899,144.91886189300001]
[79,2383.7229400000001,407082.53550000052,-37.836498515599899,144.96388712999899]
[80,1917.7550900000001,158722.47187999991,-37.833900666600002,144.93915578400001]
[81,5375.4118900000003,112302.49683,-37.840051772300001,144.944115479]
[82,300.22917999999999,202893.1650199999,-37.844429108699899,144.969350117]
[83,2508.8486899999998,213557.79206000001,-37.837530909400002,144.95232385899899]
[84,1165.77927,460231.36753000016,-37.8389909128,144.975374316]
[85,2067.2890299999999,152108.58888999993,-37.845624551500002,144.948802766]
[86,1189.7809600000001,244779.82920999994,-37.853907175899899,144.96633516200001]
[87,1707.60816,615923.16804999928,-37.840838354699898,144.988989984]
[88,1980.25954,246427.93963999994,-37.836497248100002,145.00865540999899]
[89,1938.7766200000001,573619.37091999967,-37.842567331399898,145.00143497299899]
[90,560.67535999999996,461765.13748000003,-37.8421194079,144.993039240999]
[91,2866.6505900000002,534877.0172499998,-37.8443692771,145.009084167]
[92,2231.8464899999999,386073.09999000019,-37.856463831100001,145.004537086]
[93,381.43804999999998,484646.97811999987,-37.855594840599899,144.99041486600001]
[94,2630.1643899999999,380677.43548000028,-37.855418174599897,144.99924533000001]
[95,2784.1855700000001,361608.87331000011,-37.778200806000001,144.98393334400001]
[96,2138.0947500000002,229460.61139000001,-37.781848547400003,144.966584488]
[97,1267.47153,98414.901850000009,-37.785117930799899,145.03398163200001]
[98,2163.3109199999999,367207.19226000021,-37.782974231200001,144.98143653700001]
[99,1650.0129199999999,348514.50727000029,-37.788134910700002,144.986923445999]
[100,1223.0231900000001,121985.00126000002,-37.792048007399899,145.013194287999]
[101,4043.15969,330140.73007000028,-37.7901706809999,144.998957128]
[102,572.45096999999998,260446.93328000006,-37.788297377100001,145.004893864]
[103,474.30712,301759.09788000013,-37.792078678400003,144.98712821999899]
[104,3395.3724099999999,308828.42727000016,-37.789383112700001,144.97265951399899]
[105,2110.7467299999998,469085.56947000022,-37.795806858200002,144.97883331899899]
[106,576.05269999999996,384852.79435000004,-37.796303804200001,144.98353041600001]
[107,598.21929999999998,396135.02416000009,-37.7965938408,144.986258058999]
[108,1943.1250600000001,372588.94949000026,-37.802844944299899,144.99916879899899]
[109,2995.1198399999998,526838.40648000001,-37.803133867900002,144.975846206]
[110,1277.7175199999999,412278.88074000005,-37.802814543399897,144.98518238099899]
[111,6540.3923199999999,432472.74554000021,-37.814077259900003,144.995322485]
[112,4081.9600300000002,339829.5871000003,-37.815268847600002,145.004062288]
[113,1928.7814699999999,328074.02136000013,-37.815512020299899,145.01141581799899]
[114,518.96119999999996,607910.82507999951,-37.829932700800001,144.995542535]
[115,426.74982999999997,419749.06834000017,-37.8298288087,145.01867916]
[116,2689.75461,21195.684280000001,-37.684353477800002,144.769581657]
[117,76.918310000000005,12326.68792,-37.685318328500003,144.80204628000001]
[118,1738.9430500000001,33262.40713,-37.689975261800001,144.761169096]
[119,7107.0019700000003,43973.079790000003,-37.693447579999898,144.787052811]
[120,3558.3256500000002,46877.455810000007,-37.7040605937,144.78228942600001]
[121,1281.1548499999999,28947.30126,-37.702914837500003,144.80954512]
[122,6377.6708500000004,31519.590519999998,-37.7148132133999,144.77929423699899]
[123,89.997950000000003,10585.744219999999,-37.7066068391999,144.82686167]
[124,622.48113000000001,11148.820530000001,-37.713843156400003,144.87000259499899]
[125,763.41402000000005,12784.890589999999,-37.718196848399899,144.84838196600001]
[126,917.49654999999996,51409.835379999997,-37.726224770199899,144.807096688999]
[127,911.44430999999997,34256.324400000005,-37.733096200699897,144.842971901]
[128,4991.4750199999999,37297.332060000001,-37.736614004800003,144.770880046999]
[129,3393.1787899999999,40050.142999999989,-37.7361795298999,144.82708206300001]
[130,2762.3180900000002,24778.34244,-37.731599571499899,144.788586581999]
[131,2296.0175899999999,40682.022019999997,-37.734254044700002,144.798829864]
[132,4481.6868400000003,20653.923179999998,-37.7340809750999,144.81123178799899]
[133,4731.7626700000001,21124.710569999999,-37.755372668500002,144.76702104200001]
[134,1170.7473399999999,68681.730489999987,-37.756766813699898,144.841009899]
[135,2931.8026,40443.513849999996,-37.746037983500003,144.791324382]
[136,4560.2992299999996,34174.169979999999,-37.750759925600001,144.81026746699899]
[137,919.63010999999995,95388.814839999977,-37.774009714100004,144.797953041]
[138,615.10170000000005,76950.535229999979,-37.774336041200002,144.784282254]
[139,4445.7485399999996,30979.031430000003,-37.779880522200003,144.81855673499899]
[140,1767.5471600000001,78446.97732999998,-37.767811020400003,144.82375744500001]
[141,681.70416999999998,133772.99447000001,-37.770119026800003,144.83299598299899]
[142,673.88381000000004,7945.9013100000002,-37.791282664599898,144.781202208]
[143,1767.54369,81849.385630000019,-37.780274939900004,144.80419208000001]
[144,263.70863000000003,208113.08829000001,-37.782350940500002,144.831689100999]
[145,2670.02486,235207.62543999997,-37.791388955199899,144.82707391400001]
[146,2561.89824,23194.565310000005,-37.789792972199898,144.803966519]
[147,266.35780999999997,113214.80942000003,-37.798298389099898,144.83509089200001]
[148,6.4310799999999997,59960.195649999987,-37.812528165499899,144.83921256299899]
[149,884.39413999999999,69263.698279999982,-37.8196599288,144.85225115]
[150,1133.1895199999999,57732.522750000011,-37.832596342800002,144.841176475]
[151,0,0,-37.839038131400002,144.81769676299899]
[152,1031.17598,57697.271549999998,-37.830480518199899,144.861875943999]
[153,772.69745999999998,54885.050749999995,-37.841123448700003,144.840682528]
[154,639.73905000000002,66716.320649999994,-37.843164999899898,144.859628098999]
[155,2.7999999999999998E-4,10495.381399999998,-37.8518892409,144.79641966099899]
[156,3752.7776199999998,23647.088750000003,-37.855890166800002,144.774129999]
[157,0,69026.093830000013,-37.850807226599898,144.84576340199899]
[158,463.04942,52547.304080000009,-37.857584830199897,144.83600928499899]
[159,237.91466,12699.537259999999,-37.861383826599898,144.799609954]
[160,579.13626999999997,25128.088639999998,-37.8622739674,144.852201009]
[161,3232.3101299999998,33436.025939999992,-37.8682416884999,144.784176578]
[162,8904.2798999999995,25878.864690000002,-37.873135262600002,144.76929997600001]
[163,620.72041999999999,29902.495810000004,-37.864855366999898,144.82186923200001]
[164,2117.9633800000001,93959.960390000066,-37.867709055100001,144.831315593]
[165,9303.5894599999992,22076.920870000002,-37.882199944900002,144.78384409500001]
[166,5233.6190699999997,23834.817309999999,-37.8808839894999,144.758652668]
[167,262.92493000000002,127488.84654,-37.829929691799897,144.891814530999]
[168,898.55092999999999,142428.76468999992,-37.829919497900001,144.87849574500001]
[169,1965.3875,56041.737019999993,-37.830975687200002,144.87189587399899]
[170,436.43105000000003,138780.46389999997,-37.839822628699899,144.89352145500001]
[171,614.85486000000003,55564.901229999989,-37.847210349400001,144.870590615]
[172,1565.0525500000001,137162.29451999997,-37.852559340699898,144.88841753]
[173,1226.85979,37065.199439999997,-37.8525726437,144.87993641400001]
[174,586.18470000000002,28503.466190000003,-37.852508454400002,144.862757149]
[175,2976.4560499999998,21685.799279999999,-37.861265947500002,144.87918567899899]
[176,800.22479999999996,44993.711419999992,-37.8699418612999,144.903486719]
[177,1613.11717,91904.251990000019,-37.862472298100002,144.900591230999]
[178,706.95988,69170.894400000005,-37.865574864899898,144.90914877399899]
[179,2246.4050000000002,113222.77604999999,-37.764784573199897,144.88465594300001]
[180,2960.4935399999999,73150.538109999994,-37.777250436099898,144.89206751699899]
[181,2674.3599599999998,101783.63437999999,-37.771956486000001,144.87746369600001]
[182,1066.0335500000001,165894.19849000001,-37.775349290199898,144.88242520399899]
[183,373.08244999999999,74598.741759999975,-37.777011536099899,144.857039708999]
[184,1787.7167999999999,75384.057139999975,-37.778173792799898,144.873345817]
[185,3433.5210699999998,88122.864140000034,-37.783193725700002,144.85511592700001]
[186,1637.0622499999999,87093.433370000028,-37.786317906999898,144.868015665999]
[187,1563.0103999999999,230134.25358999995,-37.786711299899899,144.887089589]
[188,415.14780000000002,187657.63454999999,-37.796066784300002,144.87925746100001]
[189,1554.39095,71519.536169999978,-37.791559557600003,144.87092052200001]
[190,986.55445999999995,307599.2388300001,-37.7949745835,144.906788108]
[191,1606.7904599999999,94715.071460000021,-37.795004167199899,144.85338399400001]
[192,774.74892,228111.89883999998,-37.7958850236,144.89394347800001]
[193,402.05088999999998,320916.83774000016,-37.794478504300002,144.897031099999]
[194,532.43484000000001,420839.81177000015,-37.796022174100003,144.90219899300001]
[195,859.48869999999999,375287.09911000018,-37.797770729600003,144.89749829300001]
[196,227.63657000000001,71959.794549999991,-37.804345065900002,144.85311662999899]
[197,494.49592999999999,505254.6698700001,-37.798386309500003,144.90514279800001]
[198,562.82614999999998,569403.95455999963,-37.799716635000003,144.90146070399899]
[199,1017.75207,127507.34971999997,-37.801562895399897,144.90759043899899]
[200,485.12687,378086.58581000002,-37.801084974699897,144.890728827]
[201,716.78962000000001,434030.16273000016,-37.801063274699899,144.895937519]
[202,1740.53802,215879.47562999997,-37.803962146499899,144.866933743]
[203,686.80969000000005,444924.66061000014,-37.803713694099898,144.897061828999]
[204,1117.37706,210623.24477999998,-37.811359343600003,144.895685869999]
[205,3601.3226800000002,146102.34394000005,-37.808857361900003,144.879457898]
[206,308.39407,86226.743260000003,-37.810117016900001,144.864228607]
[207,1680.50531,53846.299650000008,-37.821729211799898,144.86950386999899]
[208,2639.5765200000001,263738.34347999998,-37.818827518699898,144.888841767]
[209,645.08073000000002,12337.007230000001,-37.8184803199999,144.90050885599899]
[210,719.52012999999999,79448.262729999988,-37.823025022000003,144.88890218]
[211,1010.77399,143504.58141000004,-37.737094698600004,144.90874165899899]
[212,2193.49406,123712.42016999997,-37.738520373,144.901287938]
[213,3790.2602000000002,112389.05183999999,-37.746871570000003,144.894751689999]
[214,759.49734999999998,241857.25211999999,-37.746590366900001,144.92714981500001]
[215,1967.6873399999999,203718.52660000001,-37.7633176394,144.911275109999]
[216,2887.5509999999999,114867.59342999999,-37.760924281800001,144.897111892]
[217,515.47580000000005,190376.95758999998,-37.765658719100003,144.93156472300001]
[218,760.05008999999995,264722.8216299999,-37.783984963899897,144.91988112300001]
[219,2154.4358200000001,427397.19168000005,-37.776741045100003,144.92588694400001]
[220,3811.7464100000002,103294.66549999997,-37.777674221799899,144.90381076099899]
[221,981.09807000000001,305797.41059000016,-37.781562337799897,144.93670708600001]
[222,1458.3633,346635.15648000012,-37.785964570600001,144.925103656]
[223,1995.6051299999999,396600.6229300003,-37.792178808499898,144.94087466299899]
[224,573.36298999999997,86322.682859999986,-37.725868661,144.90000052900001]
[225,3417.9916400000002,32107.999380000001,-37.725148710900001,144.87498298700001]
[226,3040.1732699999998,114813.41699999999,-37.748648287599899,144.87073230600001]
[227,539.03632000000005,109964.59288,-37.758324932400001,144.887275273]
[228,5871.3297000000002,96278.489990000002,-37.759164057299898,144.86862743200001]
[229,1020.65932,2236.2150199999996,-37.628480384,144.719237550999]
[230,162.72934000000001,162.72934000000001,-37.6476462611,144.720966492999]
[231,14.54683,15086.982629999999,-37.682391793100003,144.72213270699899]
[232,6129.7746399999996,24646.997629999998,-37.683289601799899,144.73714849500001]
[233,4706.1078699999998,12750.825869999999,-37.732565658299897,144.75583390099899]
[234,5960.6480000000001,5960.6480000000001,-37.701922046200004,144.747460907]
[235,6078.22847,30843.026420000002,-37.7529216983,144.748339816]
[236,22.002669999999998,22.002669999999998,-37.770134236499899,144.71122398399899]
[237,15.24587,34340.868299999995,-37.764986701300003,144.74766821200001]
[238,16.726649999999999,9419.5990099999999,-37.775468150400002,144.74593998700001]
[239,28.72953,28.72953,-37.802444821400002,144.74290667]
[240,454.92381,454.92381,-37.586779345499899,144.580100700999]
[241,199.72264999999999,199.72264999999999,-37.608061126000003,144.660576644]
[242,287.93945000000002,287.93945000000002,-37.633870296600001,144.571844166999]
[243,2.6571199999999999,2.6571199999999999,-37.6789787656,144.689743319]
[244,23.073370000000001,6470.340830000001,-37.734359883700002,144.57239781800001]
[245,4044.1569300000001,15428.888790000001,-37.6710443987999,144.584714714]
[246,259.91045000000003,259.91045000000003,-37.6728582078999,144.609342449]
[247,972.88643000000002,31453.914680000002,-37.680573769699897,144.56491645899899]
[248,1427.84842,32913.447950000002,-37.679186486299898,144.587933257]
[249,548.38061000000005,548.38061000000005,-37.734045951799899,144.66634642]
[250,2649.72507,27174.727629545057,-37.696038438400002,144.570913338]
[251,108.60874,108.60874,-37.743477691199899,144.60430225100001]
[252,30.633240000000001,30.633240000000001,-37.741545583799898,144.677542045]
[253,1602.9878900000001,1602.9878900000001,-37.754622140599899,144.53111782100001]
[254,0,0,-37.768338529700003,144.692133678]
[255,5.7225099999999998,5.7225099999999998,-37.7950117225,144.66969313300001]
[256,12.796609999999999,12.796609999999999,-37.768662547700004,144.59514761400001]
[257,8.5837599999999998,8.5837599999999998,-37.797034476900002,144.68791862]
[258,84.124619999999993,84.124619999999993,-37.821986365199898,144.50179049100001]
[259,41.832299999999996,41.832299999999996,-37.8456542298999,144.599938834]
[260,39.621980000000001,39.621980000000001,-37.875876953800002,144.51985399700001]
[261,5.6994899999999999,5.6994899999999999,-37.8697205223,144.571682127]
[262,15.31565,45.14564,-37.8752951252999,144.640920523999]
[263,0,0,-37.899455601,144.562932657]
[264,47.069459999999999,4622.1383999999998,-37.908743566600002,144.620281358]
[265,303.00317000000001,16024.103439999999,-37.851202797100001,144.68276521600001]
[266,365.94270999999998,47323.731880000007,-37.861286674900001,144.687573735]
[267,106.24002,58595.437999999995,-37.875199963500002,144.679934514]
[268,1875.87697,51469.802209999994,-37.867309767400002,144.69673302300001]
[269,694.87635,40927.130270000016,-37.887936417600002,144.66455691300001]
[270,327.96242000000001,6578.8765000000003,-37.886964607800003,144.65031291400001]
[271,3.19441,51374.629489999992,-37.899893949400003,144.66300774000001]
[272,1001.1966200000001,20359.397400000002,-37.889091189399899,144.629596593]
[273,1475.9432300000001,47132.442089999997,-37.893389867499899,144.65957302199899]
[274,80.845330000000004,2953.69686,-37.897838687899899,144.68038127099899]
[275,985.96163000000001,14058.088009999999,-37.9030756436999,144.641958152]
[276,10.57835,34948.434949999995,-37.900943113499899,144.660607763999]
[277,25.20534,27721.183440000001,-37.903264231999898,144.657510226]
[278,681.88354000000004,9641.3842699999987,-37.904186566500002,144.632091444]
[279,459.31358999999998,7075.0923199999997,-37.906503958400002,144.657350834]
[280,600.44039999999995,3981.2914000000001,-37.913775233700001,144.66139563300001]
[281,1425.6988799999999,2379.4233999999997,-37.9113735874,144.63769788900001]
[282,5.7044600000000001,5.7044600000000001,-37.831313829800003,144.61085603000001]
[283,152.06249,152.06249,-37.8216295565,144.646235346]
[284,3.1835,3.1835,-37.811331776400003,144.68567251100001]
[285,26.097770000000001,26.097770000000001,-37.812959732700001,144.70264445199899]
[286,8.3460000000000006E-2,8.3460000000000006E-2,-37.813126056400002,144.746714263999]
[287,0,3.5656099999999999,-37.821195632799899,144.785002924]
[288,0,0,-37.8209718321,144.817646440999]
[289,2.8445399999999998,2.8445399999999998,-37.8196202942,144.661033699]
[290,41.312719999999999,41.312719999999999,-37.826923576200002,144.70558708799899]
[291,5.6186100000000003,5.8178599999999996,-37.827984567199898,144.74121868500001]
[292,869.79548,875.61333999999999,-37.8289663812999,144.75309730000001]
[293,2.9489399999999999,2.9489399999999999,-37.830541693199898,144.62614548400001]
[294,548.85383000000002,25004.028980000006,-37.846549198300004,144.68359266300001]
[295,2.3153199999999998,3468.9320499999999,-37.839836226700001,144.73575916600001]
[296,3.7132000000000001,3929.8756600000002,-37.848221700899899,144.76462757100001]
[297,64.516459999999995,64.516459999999995,-37.848785064600001,144.62516436000001]
[298,1090.6166000000001,18280.798909999998,-37.848902548399899,144.66526583999899]
[299,173.38484,33865.803630000002,-37.860242387200003,144.761263767999]
[300,1184.8069700000001,11328.011560000001,-37.8553582698,144.737131156]
[301,3.20702,34916.822990000001,-37.882931469500001,144.73615206900001]
[302,177.26788999999999,5941.74802,-37.8886751711999,144.71330626899899]
[303,1234.6036200000001,1237.8106400000001,-37.900847215399899,144.73884008900001]
[304,2717.7868800000001,7954.6129700000001,-37.8934533892999,144.76190935599899]
[305,87.601889999999997,87.601889999999997,-37.9145047003,144.701881837]
[306,398.37200000000001,398.37200000000001,-37.918217195499899,144.73270371300001]
[307,16.302589999999999,16.302589999999999,-37.9417737274999,144.53404572900001]
[308,880.61032,880.61032,-37.918242013499899,144.77447348499899]
[309,230.36365000000001,230.36365000000001,-37.9349907723999,144.64347190199899]
[310,1084.1359399999999,1084.1359399999999,-37.943654583700003,144.685356920999]
[311,195.16974999999999,195.16974999999999,-37.922169838800002,144.62583040300001]
[312,11.788489999999999,11.788489999999999,-37.930449315399898,144.60845726900001]
[313,265.76398999999998,265.76398999999998,-37.938259791199897,144.72973853299899]
[314,0,0,-37.974460066500001,144.617410148999]
[315,6701.7591000000002,227641.71048000001,-37.756169681800003,144.947996496]
[316,4644.1381799999999,259079.55761000008,-37.7592760791999,144.97267583799899]
[317,5808.4921299999996,193908.73162000004,-37.770010339599899,144.942941413]
[318,4217.2313400000003,237541.81867999997,-37.7702897546,144.96901023199899]
[319,3096.39813,118575.37331999998,-37.723340500500001,144.936702392999]
[320,2729.5891700000002,117809.09814000002,-37.726294724699898,144.95717499200001]
[321,1397.07025,120158.65066999999,-37.726930884300003,144.96707834700001]
[322,2056.7906600000001,143815.27187,-37.731344053100003,144.98052889300001]
[323,4458.5375000000004,200858.87323000008,-37.734328912599899,144.936832960999]
[324,5802.1085199999998,240221.92796000003,-37.737599109800001,144.95734908700001]
[325,2759.5389,238120.63925000012,-37.738914346100003,144.972865703]
[326,3762.8796200000002,178817.38976000005,-37.749110738399899,144.93712177699899]
[327,4922.4471299999996,198331.00740000006,-37.749649262600002,144.958672928]
[328,5365.0813500000004,215291.3950300001,-37.746701595799898,144.972049857999]
[329,3604.7378800000001,38269.753340000003,-37.699078504299898,144.973184624]
[330,2175.9234900000001,19958.48703,-37.6980956527999,144.94863068800001]
[331,1785.16165,97110.421379999985,-37.7028500849,144.922907657]
[332,3642.0406499999999,34968.549209999997,-37.7022494855999,144.89893532100001]
[333,7075.7587000000003,33452.521340000007,-37.7061854037999,144.91019403499899]
[334,3573.0933300000002,105037.78008999999,-37.710750859199898,144.92827973000001]
[335,898.09707000000003,75197.111010000008,-37.711457356700002,144.955392112]
[336,3090.9975599999998,15608.989229999999,-37.708248334399897,144.968918145]
[337,4522.3329000000003,27179.592380000002,-37.719531359199898,144.91588899800001]
[338,4033.2567100000001,138665.06819000008,-37.721309619400003,144.927831478]
[339,2499.4914600000002,48962.444100000008,-37.722693210000003,145.067953703999]
[340,1189.7177799999999,53268.917159999997,-37.730906383300002,145.09692965400001]
[341,2129.9259099999999,85238.264059999987,-37.734903615900002,145.05427056100001]
[342,2484.3935200000001,160272.44731999998,-37.7423480064,145.07310726]
[343,6738.2593299999999,39830.99807999999,-37.739688166699899,145.08607295900001]
[344,1748.3792900000001,133851.86011000001,-37.744003370599899,145.038111904]
[345,1243.6114299999999,131358.40361000001,-37.7546819254,145.05976890599899]
[346,840.94289000000003,61053.845590000012,-37.754137567100003,145.075353646]
[347,943.73702000000003,135495.65369000001,-37.752671029699897,145.03543010300001]
[348,825.30147999999997,228867.77584999998,-37.7685811753,145.03612718599899]
[349,578.81545000000006,162737.94725,-37.772701042199898,145.03782246399899]
[350,1986.4997100000001,69320.585340000005,-37.770182807300003,145.06884445700001]
[351,922.81951000000004,106829.38909999999,-37.774560680500002,145.055692209]
[352,2857.7521999999999,31396.892199999998,-37.6991229725,145.12831297400001]
[353,1830.8175000000001,54560.102920000012,-37.702951386700001,145.115473194999]
[354,5810.06736,83770.640589999981,-37.694935019200003,145.06997169100001]
[355,1634.7635600000001,37994.172380000004,-37.694940257900001,145.10605277299899]
[356,591.57743000000005,131917.46168000001,-37.706119334699899,145.08603657200001]
[357,4958.9379200000003,35779.853850000007,-37.715365538599897,145.09585539899899]
[358,1873.55252,86716.331939999989,-37.7072808733,145.06041167999899]
[359,4182.5081200000004,55492.11381000001,-37.722718635,145.130810846999]
[360,574.17024000000004,80267.778259999992,-37.724492538200003,145.110464237999]
[361,1394.69256,17744.648490000003,-37.741471668700001,145.11536879299899]
[362,2177.0772499999998,283837.21443000023,-37.7600410278,144.98698392099899]
[363,1879.4346,242478.43280000004,-37.765615410899898,145.006040187]
[364,1304.3248100000001,147147.72010999999,-37.767688371799899,145.022398514]
[365,2320.7768500000002,307705.80654999998,-37.7689462941999,144.988324750999]
[366,1063.40725,276162.06085000013,-37.7685323619,145.00517705600001]
[367,1439.9965199999999,313903.95899000025,-37.778608625300002,145.00332476899899]
[368,3912.11168,279327.23468000023,-37.774525522799898,145.021791592]
[369,232.84126000000001,281007.96800000011,-37.7790865375,145.033302768]
[370,654.85560999999996,340326.36288000032,-37.781330335900002,145.01714079300001]
[371,1313.65292,339947.52412000031,-37.7826032615,145.00445401100001]
[372,3533.7985699999999,37153.855789999994,-37.698242643100002,144.98358995999899]
[373,2844.6274899999999,46681.996139999981,-37.704146416500002,145.00090142100001]
[374,6250.3617199999999,45488.183269999994,-37.704009468099898,145.027843762999]
[375,2166.8516599999998,98010.247440000006,-37.705476327600003,145.04435415]
[376,493.05153999999999,70065.312030000001,-37.713581718500002,144.983895531]
[377,1698.3194699999999,124712.94721000001,-37.710307456199899,145.00213618800001]
[378,2626.0974000000001,77904.689099999989,-37.7119736329999,145.06247074300001]
[379,1565.8479199999999,132817.14203000002,-37.713719018600003,145.01326719599899]
[380,3513.2625800000001,140794.37878,-37.715730610100003,145.034767956]
[381,2373.7952,83954.950539999991,-37.717867492499899,144.993244035999]
[382,2687.2570300000002,65078.622629999991,-37.721456868399898,145.051853776]
[383,3925.1708600000002,87137.105849999978,-37.729287285799899,145.03224996200001]
[384,3597.5191,175576.10993000004,-37.728981693900003,144.987837523]
[385,2656.1152499999998,340903.4341800001,-37.745119157399898,145.003650158]
[386,4595.1967699999996,211374.29174000002,-37.7500316596999,145.010710969999]
[387,818.33361000000002,227995.31900000008,-37.7374286955,145.02009486200001]
[388,577.28599999999994,183426.88091000001,-37.738317276399897,145.027697571999]
[389,4270.9537600000003,316717.50239000004,-37.7471633539,144.990789159]
[390,645.89265999999998,184099.88618,-37.741540443700003,145.025021928]
[391,641.12954999999999,183670.16707,-37.745331992099899,145.02642416200001]
[392,4465.4044700000004,48443.822450000007,-37.671306076800001,144.91244006900001]
[393,830.64062000000001,12189.77334,-37.656980365700001,144.938133835999]
[394,5.8E-4,21051.270710000004,-37.656321685000002,144.964030705]
[395,2348.1185300000002,78719.94905999997,-37.661205445699899,144.931449738]
[396,2949.8321099999998,47675.222499999996,-37.670990849699898,144.93632095300001]
[397,3242.1645199999998,29510.260939999996,-37.6795043025,144.943538007]
[398,940.59199000000001,24831.963800000001,-37.685257299500002,144.96441130599899]
[399,1360.2366,28422.80919,-37.6881263954999,144.87391259500001]
[400,2522.88364,38886.329819999999,-37.699262984599898,144.887574927999]
[401,1007.29108,70339.666019999961,-37.679786213500002,144.93009586400001]
[402,1073.1519599999999,95875.271669999973,-37.6848722095,144.909311395]
[403,4144.3014899999998,85157.47289999995,-37.6889400925999,144.92365419199899]
[404,904.64444000000003,75034.890699999989,-37.690607862699899,144.94255346400001]
[405,977.79765999999995,51214.463450000003,-37.705362234200003,144.88171878399899]
[406,90.219729999999998,90.219729999999998,-37.5255451827,144.87529503900001]
[407,11.277469999999999,11.277469999999999,-37.5174885051999,144.94035248500001]
[408,5.6387299999999998,5.6387299999999998,-37.519149739699898,144.95621337200001]
[409,381.52373,381.52373,-37.5605635691999,144.932929868999]
[410,2.89716,2.89716,-37.590410547300003,144.945228576999]
[411,209.34983,209.34983,-37.598986934000003,144.838279411]
[412,6.16547,3434.3749800000001,-37.581730658200001,144.89607496100001]
[413,6204.4218499999997,14285.604440000001,-37.581773592600001,144.928125677]
[414,1082.79485,44342.144830000005,-37.598470404799897,144.931259772999]
[415,137.81186,137.81186,-37.609767562499897,144.894312902]
[416,6856.5937299999996,24499.198899999999,-37.615770505,144.926960175999]
[417,0,8802.5999900000006,-37.631029061900001,144.955918819]
[418,5584.7761700000001,45324.058280000005,-37.608082180300002,144.93355401100001]
[419,0.54744999999999999,5033.780639999999,-37.629231482599899,144.94383490499899]
[420,7.3297699999999999,5458.112000000001,-37.626905806700002,144.89963389600001]
[421,3124.1452100000001,17722.336030000002,-37.633920882699897,144.91728508200001]
[422,874.54183999999998,3407.0244699999998,-37.649450888600001,144.855024547]
[423,420.84366,420.84366,-37.636645684999898,144.805125919999]
[424,2532.48263,18764.823210000002,-37.6680619053,144.894227220999]
[425,162.53326000000001,38492.053400000004,-37.658809011800003,144.82675453600001]
[426,118.97414999999999,118.97414999999999,-37.690078226099899,144.841144767999]
[427,1010.68126,1010.68126,-37.542603876000001,144.730399414]
[428,0,0,-37.549869229099897,144.746298868]
[429,445.63873000000001,445.63873000000001,-37.538321385000003,144.808991674]
[430,807.54414999999995,4938.4479199999996,-37.565711804800003,144.73679513100001]
[431,2841.8042999999998,13573.73328,-37.567816598599897,144.69998338600001]
[432,83.462239999999994,83.462239999999994,-37.607460807700001,144.710445757999]
[433,1215.5556999999999,33897.54133,-37.579004079100002,144.734396148]
[434,2194.1341499999999,20768.088329999995,-37.580670396800002,144.701031298999]
[435,93.350669999999994,93.350669999999994,-37.598784411099899,144.79376978400001]
[436,972.66454999999996,11704.59353,-37.590619508499898,144.714104292]
[437,2.9807899999999998,2.9807899999999998,-37.622985058399898,144.782600231999]
[438,193.75163000000001,193.75163000000001,-37.629396990799897,144.734844904]
[439,63.291589999999999,63.291589999999999,-37.624910975299898,144.809241429]
[440,295.1026,295.1026,-37.647988395600002,144.773282104]
[441,689.40130999999997,689.40130999999997,-37.683649394500002,145.20856662700001]
[442,3809.1464599999999,22246.424780000001,-37.696276558000001,145.16433571100001]
[443,560.46415000000002,3452.4252799999999,-37.727327076000002,145.204224963999]
[444,1180.65175,22837.527750000001,-37.708988756899899,145.134475587]
[445,2479.91932,24287.214430000004,-37.721879307800002,145.16270487400001]
[446,546.83384000000001,80253.587239999979,-37.7071873631999,145.149924564]
[447,912.28268000000003,9338.6887800000004,-37.711908939399898,145.18244692600001]
[448,1864.5226399999999,78521.717749999982,-37.725172436500003,145.141207654]
[449,634.19363999999996,6780.29349,-37.724595717500002,145.21901113000001]
[450,729.44475,19105.549220000001,-37.731146908100001,145.159307493]
[451,1165.5161700000001,61214.85691000001,-37.671902008300002,145.118281819]
[452,667.79277999999999,6444.6476699999994,-37.6360299392,145.18454705299899]
[453,1567.8926799999999,9562.1168300000008,-37.680133507000001,145.150474035]
[454,2789.9417600000002,36508.374380000008,-37.678224428900002,145.133755167]
[455,4632.1010500000002,42760.27926000001,-37.686188367699899,145.104730813]
[456,2726.8794499999999,12733.801299999999,-37.695547093499897,145.14692372600001]
[457,269.28629999999998,269.28629999999998,-37.5430420349999,145.220368863999]
[458,907.86149999999998,907.86149999999998,-37.596491909400001,145.22476010700001]
[459,668.73284000000001,668.73284000000001,-37.599910828900001,145.32071610899899]
[460,708.63496999999995,5002.8667599999999,-37.597655168400003,145.16534851]
[461,649.50741000000005,649.50741000000005,-37.6242593760999,145.237636866999]
[462,542.0154,542.0154,-37.673759952799898,145.30551656399899]
[463,255.81205,255.81205,-37.652608733800001,145.21995536200001]
[464,355.99459000000002,355.99459000000002,-37.4550416838999,145.14923535099899]
[465,0,0,-37.466672682599899,145.022408205999]
[466,473.90319,473.90319,-37.4684167911999,145.053822209999]
[467,250.19734,250.19734,-37.483882213100003,145.086709813]
[468,1096.1820600000001,1096.1820600000001,-37.490217404200003,145.120314369]
[469,5.2988999999999997,5.2988999999999997,-37.493477462500003,145.004242148999]
[470,63.396299999999997,63.396299999999997,-37.509073888499898,145.21248998300001]
[471,333.83067,333.83067,-37.503501606299899,145.043238602]
[472,57.219740000000002,57.219740000000002,-37.541611540399899,145.02491071]
[473,1190.03458,1190.03458,-37.511516561500002,145.08634906200001]
[474,271.66401999999999,271.66401999999999,-37.506018009899897,145.15689170300001]
[475,164.80902,164.80902,-37.537922031000001,145.153084648]
[476,2354.0633699999998,2354.0633699999998,-37.513057900299899,145.122235074]
[477,105.51456,105.51456,-37.535600891100003,145.12086023000001]
[478,161.61643000000001,161.61643000000001,-37.538219048999899,145.070194222]
[479,51.339019999999998,51.339019999999998,-37.600157722399899,145.021112012999]
[480,1809.8888099999999,12266.904190000001,-37.592540946699899,145.089201054]
[481,1545.2044699999999,11412.103650000001,-37.612670548200001,145.133573308]
[482,1746.2396900000001,13997.466,-37.593521349699898,145.101191172]
[483,1849.17814,13602.293810000001,-37.620694393599898,145.107334702]
[484,4807.4179400000003,7412.13418,-37.629405764799898,145.01845520000001]
[485,927.50711000000001,59891.210140000003,-37.645846695899898,145.071452851999]
[486,3.0000000000000001E-5,12276.641149999999,-37.643795192200002,145.015916003]
[487,3358.6188000000002,49053.222069999996,-37.646816539900001,145.09476224900001]
[488,3641.4715799999999,24672.55039,-37.641627434599897,145.054548987]
[489,887.44377999999995,70405.641130000004,-37.6445950166,145.02323676200001]
[490,1111.2605000000001,30004.565410000003,-37.6636097341,144.99088821199899]
[491,3847.3511699999999,37788.865509999996,-37.656352544199898,145.065148972]
[492,937.88148999999999,54707.248340000006,-37.654224165000002,145.07823241899899]
[493,1268.41814,81831.281519999975,-37.656478063900003,145.02600516300001]
[494,2.179E-2,85981.608909999995,-37.690407752200002,144.99552610200001]
[495,1189.7316599999999,26862.431770000003,-37.6867800303,145.010026721999]
[496,2014.86286,136784.44554000004,-37.686596909099897,145.02026297500001]
[497,3536.8538800000001,40523.592119999994,-37.681531777899899,145.033202235]
[498,403.23694999999998,92873.848569999987,-37.689717261200002,145.04193124099899]
[499,521.91480000000001,125243.42117000002,-37.784575234099897,145.067720775]
[500,2506.95381,86078.493050000005,-37.785795717100001,145.090381385]
[501,3564.1354999999999,119885.03259000002,-37.798133705600002,145.09174723000001]
[502,1614.4728500000001,168802.99548000007,-37.797054189299899,145.066524423]
[503,795.26556000000005,83594.87258000001,-37.808748767399898,145.10210660800001]
[504,4495.9544599999999,133469.45576000004,-37.805122411699898,145.07221575099899]
[505,1964.7047399999999,152889.61543999999,-37.8202807382999,145.07330783200001]
[506,630.5444,243148.08168999988,-37.820426835100001,145.09948852700001]
[507,1164.6929,294863.19128000014,-37.819097451300003,145.062914823]
[508,505.26751999999999,293475.97064000013,-37.824060484699899,145.06545842]
[509,1534.0425,286413.5281800002,-37.836015566599897,145.07535844399899]
[510,1010.7825,232066.13798999993,-37.829438805000002,145.084125908]
[511,150.75366,610202.75216999953,-37.8258965391,145.06126617499899]
[512,769.99550999999997,474480.12316000002,-37.827739066100001,145.064469376999]
[513,1039.7446399999999,483576.88196999975,-37.830497677499899,145.063311932]
[514,572.90191000000004,381030.00043000001,-37.8354246582999,145.05845036900001]
[515,437.23327999999998,367959.9257100001,-37.833168900700002,145.06101381600001]
[516,1261.5943199999999,327356.02051000006,-37.835642206899898,145.06663684700001]
[517,2468.72901,151959.75962000003,-37.838857388100003,145.08544074]
[518,2213.66003,278731.85644999996,-37.8434830566,145.07193697599899]
[519,2458.4870000000001,241515.69490999993,-37.849105213100003,145.059524831999]
[520,3824.5143800000001,145868.27522000004,-37.855122288799897,145.072299294]
[521,2572.9788699999999,250764.70336999997,-37.852654311099897,145.087539628]
[522,579.67817000000002,262712.19156999997,-37.860083995300002,145.066181667]
[523,1838.3683799999999,224987.0963,-37.8653273454999,145.08523179700001]
[524,1805.0017800000001,358630.90290000022,-37.8155104671999,145.017784471]
[525,655.98523999999998,527069.19444999995,-37.824153905499898,145.02498716400001]
[526,1924.6528699999999,381084.55652999994,-37.818957144899898,145.0436546]
[527,460.26312999999999,497233.51099999994,-37.822266854699897,145.05746099800001]
[528,1596.1282699999999,434670.48003000004,-37.826660931200003,145.046539134]
[529,472.91719000000001,402919.1410399999,-37.825771192700003,145.05285670000001]
[530,921.91331000000002,363328.26247999998,-37.8290235431,145.050698947999]
[531,364.89224999999999,521096.04447000002,-37.828369868099898,145.05511320400001]
[532,1401.9314300000001,345837.69795000006,-37.832590257,145.029446213]
[533,993.47978999999998,297516.28614000004,-37.834330068,145.047230278999]
[534,326.88902999999999,420048.65676999994,-37.832402393999899,145.05453408700001]
[535,1019.90147,264356.65163000004,-37.841456252199897,145.04366523100001]
[536,881.84357,38411.875520000001,-37.789159194200003,145.04507320100001]
[537,678.40049999999997,97045.363030000037,-37.786989530200003,145.05601158900001]
[538,2096.2262599999999,26068.054639999998,-37.7936079212,145.023048762]
[539,2778.81745,51280.256839999995,-37.798564426799899,145.03405508200001]
[540,1834.17616,254984.79972000004,-37.802899403200001,145.02535373699899]
[541,3371.1276200000002,221013.06866000002,-37.812497546099898,145.05324609100001]
[542,1181.3614399999999,210024.58080999998,-37.804685515300001,145.04351623700001]
[543,682.07218999999998,343114.60491000011,-37.8113678948,145.026830168999]
[544,557.38437999999996,7345.4085500000001,-37.7486613194,145.254083906999]
[545,1070.91158,28123.247740000003,-37.739479251699898,145.186556478]
[546,878.89237000000003,25753.200379999998,-37.743958975200002,145.20475975100001]
[547,1281.65843,25753.200379999998,-37.756912847800002,145.18899532399899]
[548,821.57671000000005,16022.51144,-37.777392929900003,145.208061837]
[549,347.46634999999998,9010.3080500000015,-37.767523009000001,145.235620135999]
[550,243.53381999999999,29380.124980000001,-37.774924223699898,145.19513855]
[551,1941.66984,18589.35831,-37.785836000400003,145.21843730000001]
[552,1219.5337400000001,1219.5337400000001,-37.798739656000002,145.20933973800001]
[553,1108.59834,38151.004650000003,-37.744328881400001,145.15080007399899]
[554,589.73077999999998,67055.686259999988,-37.746920369199898,145.129010429999]
[555,990.43808000000001,42970.928110000001,-37.773548608399899,145.185249763]
[556,1081.23983,67738.604319999999,-37.7691324364,145.149421558]
[557,3940.3455600000002,56505.191719999995,-37.7596631856999,145.08836676600001]
[558,4668.9086500000003,109527.75676999999,-37.766724626399899,145.11191249800001]
[559,956.63131999999996,53372.702840000005,-37.7719235629,145.07810773200001]
[560,4641.0760899999996,214077.93418000001,-37.7816989564,145.13389397399899]
[561,4593.5929999999998,97402.93948000003,-37.778778421200002,145.10533293]
[562,3717.82375,79954.270819999991,-37.784758460900001,145.153451459]
[563,643.26612,198272.52655999994,-37.790749931999898,145.17816496200001]
[564,2370.04736,187097.10385000001,-37.793066261200003,145.147424169]
[565,1288.7933800000001,95816.362169999979,-37.802113541799898,145.19761078299899]
[566,1855.1606200000001,175268.75516,-37.8833900517999,145.099898336]
[567,2744.3426599999998,387314.75596999977,-37.893419840900002,145.082249652]
[568,1168.3418300000001,332254.07447999995,-37.898236707599899,145.081099287]
[569,808.07452000000001,171831.00242,-37.898519688100002,145.09907310400001]
[570,1188.3816099999999,175060.35267999995,-37.905356853299899,145.125608521]
[571,675.29138,401646.51202999987,-37.900581396699899,145.093181762]
[572,1455.7605900000001,220526.13587999999,-37.910621634500004,145.133750386]
[573,917.21804999999995,252565.34826999996,-37.910703929100002,145.11697402600001]
[574,3288.97559,181372.86916999999,-37.921352828400003,145.10760267200001]
[575,928.99207999999999,79169.544849999991,-37.9254977911,145.13573518499899]
[576,761.59034999999994,246391.00057999996,-37.925243712399897,145.11679283999899]
[577,1915.3479,164749.06458000001,-37.868050917799899,145.171086661]
[578,2556.0467600000002,193733.93747000003,-37.878558568800003,145.17293277600001]
[579,2544.41779,58761.656559999989,-37.880592466800003,145.18568160800001]
[580,3018.95037,88251.342320000011,-37.897671944899898,145.167306564999]
[581,1491.75153,51162.62616,-37.9006384955999,145.19793320400001]
[582,4807.7754699999996,83159.813670000018,-37.910678827399899,145.17116875299899]
[583,2631.44353,28394.800479999998,-37.917745016399898,145.198792142]
[584,2563.3256799999999,103943.64447000003,-37.9263479528,145.16171047500001]
[585,1879.14257,49331.852670000007,-37.934511470399897,145.208191709999]
[586,2426.0505899999998,146908.73032999999,-37.861755053800003,145.108652087]
[587,2929.8500100000001,135976.24660000004,-37.8632828999,145.12619916200001]
[588,4457.76332,192226.95719999992,-37.865293743000002,145.14356204500001]
[589,4267.9867000000004,165788.13024,-37.866688381899898,145.155268543999]
[590,2550.8668699999998,193507.18738000005,-37.8717890259,145.105556261999]
[591,1180.6286500000001,134153.58732000005,-37.871915927099899,145.120279501]
[592,1871.84692,158316.30598,-37.873248771699899,145.138361946999]
[593,1215.8862899999999,185608.10621000003,-37.875811838700002,145.15797211]
[594,2549.6721499999999,66714.49536999999,-37.887016488,145.11867798399899]
[595,1050.0689,101260.54752000004,-37.897810483299899,145.135369285]
[596,1583.67057,181636.71690999999,-37.890762966300002,145.14923358799899]
[597,902.11175000000003,55053.003569999986,-37.916875965700001,145.15386710799899]
[598,1862.4696300000001,95933.468449999971,-37.805931840100001,145.10796151100001]
[599,2488.3856900000001,244299.83269999988,-37.802850382099898,145.122104699]
[600,1685.3949600000001,264073.90695999988,-37.810485340200003,145.120816391999]
[601,1627.9685899999999,249878.7980499999,-37.814592320300001,145.129541649]
[602,1898.08062,226434.85861999996,-37.813854748499899,145.10876241]
[603,1339.6341299999999,364638.27051999955,-37.815340694100001,145.119940445]
[604,422.99660999999998,415231.40248999977,-37.816038363700002,145.12561229100001]
[605,195.09855999999999,385073.34206999972,-37.818448930599899,145.11726347000001]
[606,103.41473000000001,462017.5911399998,-37.819136229999899,145.124401761]
[607,844.94839999999999,330777.84515999974,-37.820136282999897,145.110083113999]
[608,576.81755999999996,265589.32367999991,-37.820205187299898,145.13419899799899]
[609,1826.0019600000001,163295.98314,-37.825471380800003,145.13272402600001]
[610,462.63191999999998,341707.33756999962,-37.8214096811,145.12533168300001]
[611,585.16024000000004,279402.17825999984,-37.8213719447999,145.121122335]
[612,2098.14786,162493.72349999996,-37.8312215037,145.10254744100001]
[613,1153.27502,125734.77524999999,-37.833712366299899,145.128265167]
[614,1503.73442,107824.07937999998,-37.839934203799899,145.12973116699899]
[615,2374.7081899999998,192763.43232999998,-37.845384295400002,145.113021312999]
[616,742.20525999999995,218709.29521999994,-37.8466974798,145.116810837999]
[617,1845.95072,72993.672999999995,-37.807245422900003,145.183296969]
[618,2607.3359999999998,89152.456629999971,-37.808888674099897,145.200808518]
[619,3295.2095300000001,77721.584620000009,-37.821777069699898,145.203934995]
[620,1726.32249,270663.71319999988,-37.8249436973,145.18094536300001]
[621,3220.0593699999999,124501.52811000003,-37.838254334699897,145.20689967600001]
[622,4569.4956700000002,72957.897540000005,-37.8407912310999,145.180746769]
[623,1068.0677499999999,103403.40303,-37.861380602799898,145.192865299999]
[624,1877.75713,170487.19369999992,-37.859138614499898,145.17455058600001]
[625,1738.90942,128973.98612,-37.801981670399897,145.150597457]
[626,3467.9066899999998,221226.29340999993,-37.8167742268,145.165627196]
[627,2992.8299000000002,248226.05848999997,-37.825761401100003,145.14351522300001]
[628,3176.0873700000002,177646.19656999994,-37.827128561800002,145.16814169]
[629,3210.8138300000001,176892.56065999987,-37.8376675551999,145.150873147]
[630,3268.5774700000002,195644.49533999985,-37.8398086925,145.160188226]
[631,1770.16139,221907.39885999993,-37.855079511200003,145.136902421999]
[632,1375.28925,202548.98573999989,-37.849841262600002,145.164683056]
[633,178.08235999999999,58740.167369999996,-37.841609602600002,145.279783576]
[634,1053.1468500000001,34848.248720000003,-37.844418032100002,145.307586579999]
[635,1548.7977800000001,53641.413030000003,-37.842585503400002,145.23607446]
[636,1201.23019,66159.157729999992,-37.842638235300001,145.220272042]
[637,1328.5570299999999,119575.55831000001,-37.844183862100003,145.26602194]
[638,1072.51585,11766.341059999999,-37.853024458900002,145.325046036999]
[639,3181.4817600000001,71138.168009999994,-37.865948772099898,145.25698255500001]
[640,527.98035000000004,26143.200479999996,-37.881248499199899,145.205894677999]
[641,771.46875,40729.94326,-37.872079701399898,145.287344193]
[642,2679.2386099999999,41210.065590000006,-37.867653613999899,145.29711001800001]
[643,5980.7051300000003,76917.709180000005,-37.870911382400003,145.223170934]
[644,3709.6060900000002,131561.40741999997,-37.877339687400003,145.239781209]
[645,935.66489999999999,94323.944369999983,-37.8856226459,145.289488691999]
[646,2707.88717,120562.96012,-37.883190733100001,145.26361455200001]
[647,794.57046000000003,102185.46790999998,-37.890598175599898,145.29653997400001]
[648,996.58320000000003,83974.46186999997,-37.893683926599898,145.304090339]
[649,2906.7686600000002,30466.494049999998,-37.895356214499898,145.264142671]
[650,2309.1197699999998,54774.483609999996,-37.893859947899898,145.228023173]
[651,0.1736,32626.920750000001,-37.899533177199899,145.24787746499899]
[652,2.8E-3,31217.75633,-37.9095100024999,145.21860718900001]
[653,1131.4395300000001,41958.214650000002,-37.909955654100003,145.25856832700001]
[654,1085.1954800000001,20944.924189999998,-37.9070282697,145.24805803300001]
[655,2613.2457800000002,6391.7790100000002,-37.918843751399898,145.29099877799899]
[656,813.32042999999999,86401.442849999992,-37.922025663200003,145.22007043400001]
[657,2421.8044199999999,113485.85971999999,-37.922463167300002,145.23908941100001]
[658,2109.4729600000001,96996.120829999985,-37.9221117154,145.22950822600001]
[659,2873.0543400000001,2873.0543400000001,-37.939715872100003,145.27761504]
[660,3763.5410000000002,28965.977989999999,-37.768403130899898,145.28026695700001]
[661,2153.75065,16801.815010000002,-37.770725696500001,145.269932498999]
[662,1475.91534,38918.575380000002,-37.785323341100003,145.299243445]
[663,1908.5263199999999,47072.267650000002,-37.787556733400002,145.26399325]
[664,738.48810000000003,85230.561429999987,-37.7881500457,145.280156796]
[665,570.01910999999996,89625.61742000001,-37.785914414600001,145.272561631999]
[666,950.13205000000005,78638.754970000024,-37.796409754000003,145.26478458400001]
[667,472.39756,130935.65436999999,-37.793123989199898,145.276177824]
[668,274.35217,119810.20023999999,-37.7982431062999,145.277983328]
[669,1521.1284499999999,71671.505979999987,-37.805149726400003,145.275340744999]
[670,1143.3166000000001,54320.601400000007,-37.815816518699897,145.295899628999]
[671,589.51472999999999,59012.768739999992,-37.802492597099899,145.266124056]
[672,2389.46182,69931.935659999988,-37.832298043999899,145.272696795]
[673,1692.18436,27670.998009999999,-37.8263438225,145.31058732400001]
[674,3276.4593599999998,51180.200110000005,-37.787986597299899,145.252988174]
[675,4564.4913200000001,15697.606030000001,-37.795500318899897,145.226544803]
[676,441.63353999999998,73309.846019999997,-37.7945563092999,145.256124422]
[677,3027.7714900000001,52117.961439999999,-37.801425477400002,145.23943529900001]
[678,578.27286000000004,108402.8072,-37.8032965551999,145.244726665999]
[679,2242.1117800000002,96260.07133999998,-37.8052074691999,145.24902635800001]
[680,823.08023000000003,47749.105170000003,-37.805549544800002,145.257195035]
[681,844.63829999999996,194728.04216999997,-37.813778960500002,145.223847914999]
[682,537.34496000000001,104857.73409999999,-37.812308274000003,145.241492472]
[683,3838.8501299999998,33427.225299999998,-37.817578534900001,145.25227909500001]
[684,2260.0421200000001,196532.82690000001,-37.820582568200003,145.23245905300001]
[685,383.45616000000001,200120.24382999996,-37.8181491279,145.220901204999]
[686,1163.06449,95463.521569999997,-37.835574170100003,145.22196631700001]
[687,2715.1722199999999,92551.830919999979,-37.8353958561,145.24201204900001]
[688,789.54529000000002,789.54529000000002,-37.7368812355,145.622642157]
[689,2606.7368299999998,2606.7368299999998,-37.833770676999897,145.689518502]
[690,2527.6590900000001,2527.6590900000001,-37.7628108125,145.64664692100001]
[691,2220.9845300000002,2220.9845300000002,-37.752139299200003,145.69857254300001]
[692,2279.7701000000002,2279.7701000000002,-37.769448931900001,145.556356026]
[693,2033.6450199999999,2033.6450199999999,-37.835674568899897,145.54753626600001]
[694,3346.21153,3346.21153,-37.785594216699899,145.59559233300001]
[695,2140.2897600000001,2140.2897600000001,-37.601299490000002,145.44472898800001]
[696,112.96707000000001,112.96707000000001,-37.611099221499899,145.58337501700001]
[697,447.74509,447.74509,-37.615572621600002,145.38068192200001]
[698,6613.7053400000004,6613.7053400000004,-37.659239479500002,145.516603102999]
[699,2178.92607,2178.92607,-37.654578176999898,145.374002249]
[700,152.80928,152.80928,-37.661303347900002,145.35322179100001]
[701,921.77823000000001,921.77823000000001,-37.689543758100001,145.561264265999]
[702,402.05507,402.05507,-37.711904990000001,145.52172094400001]
[703,225.09531000000001,225.09531000000001,-37.690291528800003,145.38339255]
[704,523.79831999999999,523.79831999999999,-37.715975340100002,145.478586197]
[705,792.59657000000004,792.59657000000004,-37.712758764599897,145.31931171400001]
[706,41.838039999999999,41.838039999999999,-37.707946074699898,145.43963868399899]
[707,105.62094,105.62094,-37.722675825300001,145.40403793799899]
[708,231.18152000000001,231.18152000000001,-37.730225986199898,145.330895295]
[709,1919.08962,1919.08962,-37.725912206899899,145.37820198200001]
[710,2440.1739699999998,2440.1739699999998,-37.731580488600002,145.353360366999]
[711,202.13160999999999,202.13160999999999,-37.734012773099899,145.44299362300001]
[712,2594.8177799999999,9765.2204099999999,-37.746792089400003,145.30268835800001]
[713,3663.9830499999998,5583.0726699999996,-37.748494516400001,145.36680622]
[714,559.86275000000001,559.86275000000001,-37.751207334100002,145.39200945600001]
[715,325.33434999999997,325.33434999999997,-37.7541918529,145.425215552]
[716,4951.2913399999998,31750.608130000001,-37.752193269000003,145.326778187]
[717,4445.9780099999998,86782.759009999994,-37.754287590600001,145.348236464]
[718,1709.22003,33040.555059999999,-37.754143752700003,145.31144268]
[719,76.895820000000001,76.895820000000001,-37.7601859984999,145.457294308999]
[720,11646.04314,17823.31033,-37.770129438700003,145.31830099000001]
[721,9174.12255,22291.229869999999,-37.778357355700003,145.34379989600001]
[722,3745.3401199999998,3745.3401199999998,-37.784816790000001,145.476007866]
[723,8671.1293100000003,14826.32735,-37.776135495699897,145.37928046299899]
[724,5256.9315900000001,5256.9315900000001,-37.795523009199897,145.412169234999]
[725,5916.1536699999997,5916.1536699999997,-37.794758057099898,145.31745448999899]
[726,4980.7680600000003,4980.7680600000003,-37.799677561099898,145.341382106]
[727,3665.5206199999998,7108.7201599999999,-37.810829518699897,145.37750988400001]
[728,1398.8340800000001,1398.8340800000001,-37.827772883599899,145.450141793]
[729,4349.11391,17522.17152,-37.811484958800001,145.31689533100001]
[730,2217.3269399999999,10321.458139999999,-37.825783769300003,145.329860852]
[731,1246.3747900000001,1246.3747900000001,-37.872323868199899,145.48690394600001]
[732,3443.1995400000001,10553.322199999999,-37.8361208821999,145.35277496]
[733,849.92840000000001,849.92840000000001,-37.849279023100003,145.39120056100001]
[734,1806.2503099999999,1806.2503099999999,-37.870541768400003,145.4364502]
[735,2622.8288299999999,8196.7491399999999,-37.868514269499897,145.362721542999]
[736,1308.9475600000001,2130.7207699999999,-37.8774015459,145.324158310999]
[737,2892.56412,2892.56412,-37.8864069296,145.40083575200001]
[738,821.77320999999995,2130.7207699999999,-37.894467166299897,145.366023799999]
[739,3429.4628400000001,53055.936069999996,-37.897839013599899,145.33178073900001]
[740,1299.9651699999999,1299.9651699999999,-37.9088960087999,145.41699016000001]
[741,7309.0218199999999,20830.40537,-37.917353217200002,145.35514675100001]
[742,5665.5385500000002,37213.043760000008,-37.9111390873,145.32630459699899]
[743,407.05601000000001,407.05601000000001,-37.928452231500003,145.321737931999]
[744,2280.3749800000001,2280.3749800000001,-37.942724574000003,145.373784188999]
[745,559.09681999999998,559.09681999999998,-37.954511954300003,145.32591355700001]
[746,662.43145000000004,163560.25751999998,-37.894278703300003,144.98788196000001]
[747,1506.7592999999999,186463.16464000003,-37.9008268937,144.98891275099899]
[748,707.97393,338048.11536000023,-37.9031691632999,145.00523483000001]
[749,2810.69643,200047.58829000007,-37.905672883000001,145.012956492999]
[750,1824.92779,242798.67100999999,-37.912239574300003,145.01104288600001]
[751,400.37864000000002,296213.10178000014,-37.915518238200001,144.993486797999]
[752,645.34505999999999,215719.82573000004,-37.918384463099898,144.996906997]
[753,1688.6638399999999,249870.01900999996,-37.916121654800001,144.989374016]
[754,3018.8173400000001,196675.72185000003,-37.9189055314,145.01397696199899]
[755,1450.58581,274076.1840699999,-37.925722120700001,144.99116630699899]
[756,806.61382000000003,108135.87033999999,-37.943732223799898,145.006091056999]
[757,1184.33329,91010.140019999992,-37.944301182899899,145.01668634999899]
[758,1990.4141299999999,127430.31217,-37.935371765900001,145.03005539700001]
[759,4598.5021399999996,90402.633819999974,-37.948464325300002,145.00993356500001]
[760,4113.6148800000001,56227.078549999998,-37.9511293041,145.03022998700001]
[761,1170.36815,40791.142350000009,-37.953277756299897,145.04222236300001]
[762,946.14867000000004,81093.754050000003,-37.957160619299898,145.02467026900001]
[763,2883.7516300000002,64009.22946000001,-37.965504004899898,145.014402045]
[764,4077.4587000000001,69277.09822,-37.982271982,145.026487051]
[765,1298.73857,429981.96084000007,-37.864510608899899,145.02020898800001]
[766,348.02915000000002,385468.08252999996,-37.869366798900003,145.01085488800001]
[767,1692.25477,326865.28298000008,-37.883035690699899,145.019150986]
[768,168.20034000000001,503460.92023000011,-37.880733243500003,145.03942161699899]
[769,2353.44004,432936.20089999994,-37.885565268299899,145.05243170899899]
[770,3345.1718700000001,283305.96045999997,-37.893694190799899,145.00700305800001]
[771,1548.14527,247760.86810000005,-37.8980615933,145.01629006600001]
[772,1221.5549000000001,310274.01361999987,-37.904175685299897,145.058517153]
[773,1702.49551,237439.74083999993,-37.900262899700003,145.03079455599899]
[774,3780.92929,244482.85274999996,-37.906626316999898,145.03209913699899]
[775,3095.1788799999999,304686.16515999992,-37.908213859999897,145.04623665700001]
[776,4112.4972900000002,139192.91714999996,-37.913378331200001,145.056350603]
[777,627.85487000000001,356886.71007999993,-37.916249238500001,145.039442237]
[778,660.45721000000003,342485.25477999978,-37.919827939400001,145.03400206200001]
[779,1107.2343100000001,257880.67397999993,-37.919013380099898,145.02721406200001]
[780,720.86082999999996,226290.16635999997,-37.921196252599898,145.045547185]
[781,3914.1491299999998,132938.7409,-37.9278530692999,145.05363386400001]
[782,993.46097999999995,167336.79635000002,-37.931740766300003,145.09704477899899]
[783,4040.5344700000001,85421.145700000008,-37.934045962200003,145.103934985]
[784,1342.0987299999999,73321.342719999986,-37.935071393199898,145.12256882899899]
[785,698.16989000000001,137857.40650999997,-37.933348209099897,145.136012338999]
[786,168.90538000000001,3816.6862599999999,-37.963797834700003,145.100201567]
[787,557.99316999999996,129109.93949999998,-37.947280849999899,145.047805388]
[788,666.2355,43515.70321,-37.945709745000002,145.06880440800001]
[789,2535.4834799999999,59529.873039999999,-37.950604370999898,145.12630287600001]
[790,183.17823999999999,100770.12075,-37.953119419700002,145.04701636600001]
[791,872.31511999999998,138410.73223999998,-37.955702954000003,145.052830081]
[792,2608.7344800000001,60304.924840000007,-37.956564847300001,145.066827942]
[793,1158.56194,7204.4102599999997,-37.963303926899897,145.12198341600001]
[794,605.75653,38460.362460000004,-37.9768558248999,145.09812122700001]
[795,2068.6676200000002,14409.542359999999,-37.980218229999899,145.115934275]
[796,2217.35419,137673.05966999996,-37.9775802724999,145.05806973700001]
[797,463.54230000000001,167271.88313,-37.977002946699898,145.06947429799899]
[798,3355.5473900000002,138337.28287999993,-37.996534559899899,145.075743762]
[799,768.58450000000005,768.58450000000005,-37.996804312000002,145.09925988500001]
[800,600.47385999999995,42432.697200000002,-37.990002585100001,145.101097162]
[801,2267.2142100000001,7679.0112500000005,-38.002848910799898,145.124209095]
[802,933.94466,103666.59748000001,-38.005896350100002,145.08457849600001]
[803,777.86613999999997,29766.456469999994,-38.015453320600002,145.09229941199899]
[804,3081.9873600000001,38137.180809999998,-38.019585521400003,145.122443688999]
[805,677.61764000000005,76236.022570000016,-38.029758672,145.11041544099899]
[806,770.30772999999999,50605.298179999991,-38.071891582299898,145.15265426400001]
[807,2950.3413099999998,43456.05949,-38.038228886500001,145.131281481]
[808,1019.80006,85025.191550000003,-38.044681554100002,145.11084283400001]
[809,1155.4638600000001,46879.431599999989,-38.054819178300001,145.12874059500001]
[810,849.67633000000001,63945.926549999996,-38.0657677122,145.119051523]
[811,430.90724,50810.026649999985,-38.078637593300002,145.12231346600001]
[812,1150.2274,479463.72650000005,-37.8398785782,145.02724991400001]
[813,1249.6526899999999,487264.38245000003,-37.8535633175999,145.025386591]
[814,2835.5477299999998,439664.26403999992,-37.856317519500003,145.046738769]
[815,2978.6838499999999,445373.12419,-37.860354106899898,145.024506307]
[816,1206.26794,231025.61182999995,-37.866247319700001,145.04463098100001]
[817,435.40642000000003,379531.8144600002,-37.870532157699898,145.06452264999899]
[818,1182.49965,422009.19656999997,-37.874098915600001,145.045879974]
[819,1163.1433,347195.11003999988,-37.875062007300002,145.062669231]
[820,911.66391999999996,122586.97964000002,-37.881617194900002,145.083665994]
[821,5360.4521599999998,25397.507659999999,-37.9475791001,145.19737750600001]
[822,777.53434000000004,56886.146380000013,-37.943022460800002,145.208026061]
[823,2312.5203799999999,62858.470180000004,-37.946187620800004,145.21967113400001]
[824,2520.74244,21626.51081,-37.9551000595999,145.21143152299899]
[825,3193.8207499999999,51236.653620000012,-37.958889428900001,145.19425465]
[826,867.88864000000001,108094.37323999999,-37.963099579100003,145.228433322999]
[827,2742.25297,28323.15136,-37.970192096399899,145.19006195399899]
[828,3263.3046899999999,86431.69541,-37.973287513700001,145.21364417999899]
[829,1774.60842,92882.202339999989,-37.976237273099898,145.22843317100001]
[830,3151.40868,30451.740750000001,-37.985418249200002,145.18838702400001]
[831,3334.2934300000002,120271.43483000004,-37.981858309300002,145.204982387]
[832,1157.39283,208557.60474000001,-37.9854940017999,145.209423872]
[833,1484.2740899999999,94144.895649999977,-37.989515028200003,145.22474857]
[834,2.6825000000000001,100866.26305000001,-37.994084463199897,145.196617823]
[835,1322.84645,72476.345120000013,-37.996320171800001,145.213561623]
[836,276.42811,8040.6349800000007,-38.0062228817999,145.18356657300001]
[837,820.94248000000005,124477.15106,-37.932228691600002,145.14914090100001]
[838,3500.4267500000001,142654.40407000002,-37.942005580999897,145.159401973999]
[839,1148.06115,83581.597269999998,-37.936984491399897,145.16559853800001]
[840,1442.99414,56566.204170000005,-37.949899912600003,145.187437074]
[841,2455.7059899999999,219142.47259000005,-37.949292613700003,145.148304225999]
[842,3724.5950200000002,98470.846980000002,-37.965605222500002,145.180915559]
[843,3793.32665,170938.12012000001,-37.960062584100001,145.15983650499899]
[844,3198.9204599999998,75182.165939999992,-37.963645085899898,145.139585479]
[845,4308.0519199999999,89100.527830000006,-37.970438249200001,145.17560609]
[846,6109.1732499999998,70127.15290999999,-37.9762778395,145.15717167700001]
[847,2371.41185,22711.431500000002,-37.981196774700003,145.169745457]
[848,677.97680000000003,98774.236019999997,-37.994484360500003,145.15949853000001]
[849,864.35862999999995,93629.701450000008,-37.997031469100001,145.17812265000001]
[850,0,36155.470289999997,-38.010653357199899,145.22206272]
[851,5.1999999999999998E-3,42799.117539999999,-38.005662184400002,145.242263318]
[852,180.31273999999999,180.31273999999999,-38.019709018100002,145.160721056]
[853,2.7999999999999998E-4,10353.38341,-38.030504985900002,145.24558947400001]
[854,0,18240.920909999997,-38.0194310247999,145.22320156500001]
[855,190.72809000000001,4733.0905199999997,-38.038005211799899,145.155533797]
[856,0,0,-38.039854053200003,145.24366706199899]
[857,16.94453,838.65791999999999,-38.055746356199897,145.17028611800001]
[858,15.010619999999999,15.010619999999999,-38.068013802300001,145.220630726]
[859,1511.3478600000001,4913.6809499999999,-37.928103305299899,145.500790080999]
[860,661.01544999999999,661.01544999999999,-37.9489094184,145.660348814999]
[861,1730.23855,2911.6352699999998,-37.919277080100002,145.43924653600001]
[862,537.41029000000003,537.41029000000003,-37.945128604399898,145.40491155999899]
[863,899.70748000000003,899.70748000000003,-37.943095165800003,145.44557422099899]
[864,1671.95047,3943.4768899999999,-37.943602938399899,145.487204883999]
[865,203.07527999999999,203.07527999999999,-37.9654982717,145.43587005200001]
[866,759.14170999999999,759.14170999999999,-37.976073570399898,145.498186613999]
[867,524.92593999999997,524.92593999999997,-37.996590399699897,145.428330918999]
[868,303.08305999999999,303.08305999999999,-38.009668301200001,145.536104548]
[869,591.56717000000003,591.56717000000003,-38.001016713399899,145.46072593400001]
[870,25.85266,25.85266,-38.061167803899899,145.613930205999]
[871,507.03300999999999,507.03300999999999,-38.086282472100002,145.573241145]
[872,264.59368999999998,264.59368999999998,-38.0768108579,145.629434027]
[873,642.53872000000001,1199.0163759907314,-38.0932843934999,145.713225260999]
[874,562.06670999999994,562.06670999999994,-38.0184393324,145.50159426600001]
[875,378.29106000000002,28377.212700000004,-38.049688095699899,145.36918664500001]
[876,85.022419999999997,85.022419999999997,-38.045640922600001,145.472729208999]
[877,88.391649999999998,88.391649999999998,-38.0428044863,145.52411958900001]
[878,3.6999999999999999E-4,8683.2165600000008,-38.0607269700999,145.461869428]
[879,207.57522,207.57522,-38.0436947934,145.49143605699899]
[880,58.908630000000002,58.908630000000002,-38.049524101800003,145.50920036599899]
[881,10.8767,10.8767,-38.0506326297999,145.409591371999]
[882,2.8250299999999999,1264.4874200000002,-38.069122944699899,145.392361628]
[883,1011.70029,9224.8107299999992,-38.0616351595,145.48159186199899]
[884,8.4750800000000002,1270.1374700000001,-38.064484836399899,145.39327710200001]
[885,1617.0177200000001,4854.4911700000002,-38.070039575400003,145.443983559999]
[886,654.17439999999999,4568.8449099999989,-38.067218179999898,145.432174476]
[887,8.3483599999999996,13945.531379999999,-38.078480201399898,145.48981518400001]
[888,189.98192,189.98192,-38.079458895400002,145.510552335]
[889,1002.01453,5279.9555899999996,-38.082114432799898,145.458269473]
[890,1.5820000000000001E-2,9058.4885200000008,-38.083921307700003,145.496117833]
[891,8.23475,8.23475,-38.0928838122,145.39448180400001]
[892,75.636809999999997,75.636809999999997,-38.097342540900001,145.52730337200001]
[893,11.30011,11.30011,-38.0990004497,145.439207055]
[894,5.9040000000000002E-2,5260.5437799999991,-38.086120101200002,145.50501060100001]
[895,1301.8279199999999,1301.8279199999999,-38.194988357500002,145.492685163]
[896,666.55124000000001,666.55124000000001,-38.268907494300002,145.56093767900001]
[897,165.63296,165.63296,-37.974364477899897,145.337456371999]
[898,215.72877,215.72877,-38.004055987199898,145.364453027]
[899,117.68735,117.68735,-37.9891477376,145.34049943100001]
[900,579.70344,2093.9389799999999,-37.9903037346999,145.30317232900001]
[901,2336.4541899999999,10304.697970000001,-38.024891971300001,145.336281275]
[902,1370.0359800000001,15398.434370000001,-38.0079948943999,145.30437212199899]
[903,0.90507000000000004,31668.814539999996,-38.017736086100001,145.30449735100001]
[904,384.11748999999998,384.11748999999998,-38.0169349893999,145.359728504999]
[905,565.43727000000001,50394.341619999985,-38.023639337399899,145.2999633]
[906,1293.59358,8542.1573200000021,-38.027658821400003,145.292535278]
[907,1835.41346,42875.917740000019,-38.029993593199897,145.316143407]
[908,2122.9982199999999,40676.299020000013,-38.032331719399899,145.33342067000001]
[909,5511.6400899999999,14737.406200000001,-38.0374839549999,145.313821410999]
[910,1735.4058199999999,10763.283590000001,-38.0399526534,145.352031686999]
[911,378.47915999999998,36533.97683,-38.044375503399898,145.346454612]
[912,2653.92904,54631.114610000004,-38.0545732896,145.333590345999]
[913,3231.58133,34511.99068000001,-38.022823085299898,145.25881350500001]
[914,2935.5072399999999,21606.614900000004,-38.0338402719999,145.276846546]
[915,2150.4613899999999,36082.416960000002,-38.060373984899897,145.256587967]
[916,956.85699999999997,8353.4504500000021,-38.072993878399899,145.25360767999899]
[917,2545.4152600000002,44505.114280000002,-38.075608255900001,145.26815841300001]
[918,0.1164,15363.863499999999,-38.071967907400001,145.28297610000001]
[919,381.72750000000002,381.72750000000002,-38.081020839399898,145.32732168000001]
[920,71.822559999999996,6271.9584000000004,-38.083049466699897,145.252849919]
[921,18.433920000000001,13479.172070000004,-38.0847919266999,145.262938453999]
[922,3118.5546599999998,3118.5546599999998,-38.108174081999898,145.273415938]
[923,1918.46297,17773.683009999997,-38.087127138500001,145.28763834200001]
[924,1194.8675699999999,13905.58778,-38.092550688400003,145.29900165999899]
[925,303.69096000000002,12624.088140000002,-38.118355116300002,145.293740593]
[926,19.539210000000001,32881.685589999994,-38.126597853699899,145.23618709799899]
[927,1132.04465,1132.04465,-38.144287849800001,145.25741779800001]
[928,15.72383,28584.328379999995,-38.120716689399899,145.277583327]
[929,0,15747.221319999997,-37.954078712200001,145.240220725]
[930,3977.7557999999999,5811.7859100000005,-37.966044779800001,145.270646959999]
[931,710.86739999999998,1837.6418600000002,-37.9712349291,145.28587557399899]
[932,2119.69292,45431.113890000001,-37.981166772500004,145.23653988199899]
[933,4685.65146,4685.65146,-37.979212038699899,145.24931038]
[934,114.37127,114.37127,-37.986135534399899,145.288701054]
[935,1835.0413699999999,41931.228900000002,-37.998242089100003,145.24815085]
[936,3200.4384399999999,22810.948710000004,-38.0037215852999,145.27975235900001]
[937,2.445E-2,47799.482149999989,-38.010606978399899,145.26191843800001]
[938,2534.6766699999998,37246.092559999997,-38.014505414399899,145.279841895999]
[939,2544.5914499999999,10799.727440000001,-38.07337089,145.35132707899899]
[940,26.54224,26.54224,-38.136326576800002,145.387427484]
[941,481.7321,23983.081319999998,-38.137590002899898,145.238729715999]
[942,37.801340000000003,37.801340000000003,-38.171926456199898,145.348760048999]
[943,410.22424999999998,410.22424999999998,-38.163387561599897,145.27534968200001]
[944,160.85013000000001,160.85013000000001,-38.1869473175,145.313141481999]
[945,47.561,47.561,-38.207408467400001,145.40508131499899]
[946,8664.2748300000003,8664.2748300000003,-38.0957276611,145.214590208999]
[947,18417.416560000001,39338.969030000007,-38.102366524600001,145.18455467000001]
[948,21892.92512,44199.356749999992,-38.1426766477,145.20181602100001]
[949,4436.8819700000004,4436.8819700000004,-38.181271765200002,145.19269967899899]
[950,12.03651,2492.5590099999995,-38.077198820200003,145.170076518]
[951,6485.9930100000001,9699.8856400000004,-38.095136184300003,145.134202423]
[952,5511.8216300000004,9798.2312199999997,-38.097841127599899,145.159099263999]
[953,2782.9853899999998,77153.14774,-38.116922155300003,145.14189482699899]
[954,3111.0092199999999,55100.16528999999,-38.120281406399897,145.12884796700001]
[955,7941.9709700000003,33756.806340000003,-38.126350098000003,145.162377225]
[956,1503.4241999999999,43386.797319999998,-38.137026738300001,145.124463459]
[957,4153.9985699999997,19777.888800000001,-38.140254848700003,145.13291186800001]
[958,15813.87277,39210.222090000003,-38.147737528699899,145.15570143100001]
[959,3156.8456299999998,38678.901709999998,-38.151297408600001,145.122303531]
[960,10147.23155,13304.07718,-38.165524700600002,145.150297204]
[961,5797.4569000000001,8382.5017700000008,-38.1696956109,145.129798806]
[962,7255.2671399999999,11915.536969999999,-38.166249527700003,145.113161252]
[963,2585.0448700000002,2585.0448700000002,-38.184387103900001,145.148688784]
[964,2364.9052200000001,2364.9052200000001,-38.1879598083,145.13001435199899]
[965,727.48280999999997,727.48280999999997,-38.191714012799899,145.16443919400001]
[966,7903.0889200000001,7903.0889200000001,-38.218401480499899,145.144794257]
[967,3084.5817400000001,3084.5817400000001,-38.220113098600002,145.20498488600001]
[968,3800.9976200000001,3800.9976200000001,-38.263762314399898,145.142335019]
[969,313.73734999999999,313.73734999999999,-38.260469064799899,145.216589363]
[970,667.27088000000003,667.27088000000003,-38.307155668900002,145.133110579999]
[971,6595.74892,6595.74892,-38.299727768799897,145.18920893000001]
[972,424.33258999999998,424.33258999999998,-38.34833158,145.07914499699899]
[973,7216.9758899999997,7216.9758899999997,-38.347254885799899,145.190432719999]
[974,2007.4345599999999,2007.4345599999999,-38.349616349400002,145.13814929700001]
[975,3034.7011000000002,3034.7011000000002,-38.388543556899897,145.167449272]
[976,1034.0958800000001,1034.0958800000001,-38.394449050299897,145.06187388000001]
[977,5219.0972199999997,5219.0972199999997,-38.314358137500001,145.00016373]
[978,5867.7254199999998,5867.7254199999998,-38.331159270599898,144.716324525999]
[979,4080.7124800000001,4080.7124800000001,-38.341327953399897,145.016942403999]
[980,2874.9400300000002,10413.627329999999,-38.337420354599899,144.960934673]
[981,5976.4124000000002,5976.4124000000002,-38.376037639000003,144.945344095]
[982,7538.6872999999996,10413.627329999999,-38.364384223899897,144.906456155999]
[983,13437.12974,13437.12974,-38.377724069700001,144.790868768]
[984,5292.3202799999999,5292.3202799999999,-38.383790721399897,144.883657572]
[985,983.02892999999995,983.02892999999995,-38.4056115128,144.995675202]
[986,7257.0976600000004,7257.0976600000004,-38.378043038900003,144.83833839100001]
[987,2532.83068,2532.83068,-38.4344276385999,144.869448847999]
[988,455.60746999999998,455.60746999999998,-38.446265277800002,144.94881727500001]
[989,1023.79828,1023.79828,-38.424613048700003,145.036020221]
[990,1058.58599,1058.58599,-38.4721700873,145.01806916499999]
[991,4336.5303599999997,21997.373910000002,-38.177282137900001,145.09768365599899]
[992,4780.8362699999998,20493.949710000001,-38.1915529800999,145.078989506]
[993,2590.1034,2590.1034,-38.196591325999897,145.11260283799899]
[994,4757.01026,20493.949710000001,-38.209482018800003,145.08643322200001]
[995,6619.5728200000003,24860.921010000002,-38.218238703700003,145.047793773]
[996,3176.05593,3176.05593,-38.2302088207,145.08388260199899]
[997,4366.9713000000002,10986.54412,-38.254980015900003,145.028332783]
[998,11647.85319,11647.85319,-38.245484384500003,145.04860346199899]
[999,3147.02448,3147.02448,-38.278892899699898,145.063956617]
[1000,5723.9929000000002,5723.9929000000002,-38.283560108499898,145.010074277]
[1001,1847.88598,30553.226199999997,-37.939664811599897,145.147065013]
[1002,963.30241000000001,116808.68002,-37.950645360800003,145.164685066]
[1003,500.27782000000002,89175.007040000011,-37.958282001100002,145.16717105999899]
[1004,377.98173000000003,77954.96617,-37.941074424900002,145.17147922999899]
[1005,505.73928000000001,24601.548400000003,-37.943802814100003,145.18067360000001]
[1006,3143.3582000000001,79075.410400000008,-37.9531482899,145.14449995000001]
[1007,2846.9278599999998,117405.47067000001,-37.958774655500001,145.14372923299899]
[1008,2057.15355,70649.070789999983,-37.959019769500003,145.18164977000001]
[1009,2337.45957,64506.717920000003,-37.956414035599899,145.17332619300001]
[1010,6003.1509500000002,70226.821280000004,-37.967737040000003,145.15853987]
[1011,1103.3903700000001,111103.57610999999,-37.972200031,145.143674070999]
[1012,2503.4996599999999,30759.758580000009,-37.975581685000002,145.172970642]
[1013,4454.4511199999997,40423.688770000001,-37.984966052700003,145.157328393]
[1014,559.68241999999998,116732.41937999999,-37.987720172000003,145.15037153200001]
[1015,5277.6020699999999,88475.080640000015,-37.989535728100002,145.17275118500001]
[1016,2957.1886199999999,44944.673690000011,-37.982925832100001,145.180549192]
[1017,1102.1195299999999,57398.535970000019,-37.951616784700001,145.20596112499899]
[1018,2706.24881,64961.33051,-37.9631774908,145.20186299]
[1019,2534.5085300000001,102396.71698000004,-37.974542220899899,145.198307941]
[1020,2822.2150799999999,27594.101829999996,-37.950763283000001,145.217072833]
[1021,1465.3799899999999,27521.911920000002,-37.958389044699899,145.219338983]
[1022,2.08182,67345.500920000006,-37.9870239352,145.198250927999]
[1023,631.83327999999995,213004.48654000001,-37.992257628799898,145.20484442]
[1024,2291.3438999999998,72472.910810000001,-37.962228742100002,145.215670864999]
[1025,3288.7868199999998,46871.221720000009,-37.9668500939,145.21315588900001]
[1026,55.633450000000003,134379.52275000006,-37.987036463099898,145.21699045400001]
[1027,2140.9095200000002,85321.07928000002,-37.978617405500003,145.213682471]
[1028,1454.9810199999999,100378.69781000003,-37.983483372899897,145.22670143600001]
[1029,1769.5473099999999,121742.15134,-37.982771998899899,145.21684521399899]
[1030,30.902570000000001,219646.25094999999,-37.986029598899897,145.21260326999899]
[1031,573.88309000000004,92040.817559999996,-37.991694105000001,145.21981769499899]
[1032,5.7099999999999998E-3,86942.470420000012,-37.9947694767,145.18879267]
[1033,14.117100000000001,158969.83963000006,-37.9902405047999,145.213212363]
[1034,26.02966,105419.36850000003,-37.9966753705,145.22234672299899]
[1035,1495.6572100000001,56663.806810000009,-37.996306011500003,145.20524429]
[1036,2979.57825,28147.019849999997,-37.9996835464,145.30016333200001]
[1037,2513.5059500000002,4128.6335400000007,-38.033014306699897,145.36259083300001]
[1038,119.89941,79169.787259999997,-37.9987313614999,145.190867188]
[1039,2144.1682099999998,62359.569410000011,-38.0006967441999,145.20660648699899]
[1040,1.25E-3,31163.66275,-38.0088918042999,145.21159536299899]
[1041,0.60596000000000005,7453.4238700000005,-38.0070293538,145.198640482999]
[1042,1759.0206499999999,27738.670839999999,-38.0588483611999,145.36204037600001]
[1043,2529.0225500000001,26269.817660000001,-38.058782018300001,145.34809521]
[1044,0,5689.0145900000007,-38.0177177481999,145.20983489899899]
[1045,0,18247.270859999997,-38.023122735000001,145.20875035]
[1046,0,25235.170569999995,-38.0265518576999,145.20806964299899]
[1047,3.3425099999999999,11696.597280000002,-38.033375776699899,145.206741505]
[1048,0,0,-38.032323778799899,145.19346851]
[1049,0,1322.8600900000001,-38.023849319900002,145.194956504999]
[1050,0,0,-38.016155265800002,145.197188071]
[1051,3108.5930800000001,12635.53514,-38.080153311799897,145.29002987600001]
[1052,8.6899599999999992,8.6899599999999992,-38.013650634599898,145.179947672]
[1053,22.976320000000001,22.976320000000001,-38.020215863499899,145.184871208999]
[1054,0,15519.019809999998,-38.008362444299898,145.230157902]
[1055,197.73645999999999,8350.3620200000005,-38.125426563600001,145.286455773]
[1056,0.2011,0.2011,-37.955091813400003,145.255558726]
[1057,2924.72273,36761.860779999988,-37.973378227300003,145.26891722900001]
[1058,2450.1545599999999,57850.316930000015,-37.9925363889,145.233427796999]
[1059,2414.09861,13319.70191,-37.992703359899899,145.24436540400001]
[1060,3661.4643000000001,3661.4643000000001,-37.981833867200002,145.26231788800001]
[1061,3336.3155200000001,3336.3155200000001,-37.990561637900001,145.264898251999]
[1062,4368.5003800000004,6247.7670600000001,-37.999649694299897,145.262753589]
[1063,2284.4431,47137.143629999999,-38.006350206199897,145.288447047999]
[1064,218.88388,218.88388,-38.178052937799897,145.229903807]
[1065,294.89022,298.21370000000002,-38.1499336511,145.30829217600001]
[1066,370.67430000000002,370.67430000000002,-38.189100119800003,145.269776049999]
[1067,97.966909999999999,97.966909999999999,-38.223255658299898,145.28244225]
[1068,39.799059999999997,39.799059999999997,-38.209653672800002,145.358735451]
[1069,1983.36878,134516.96932999996,-37.797781035900002,145.110236872999]
[1070,1675.55107,203202.64467999997,-37.806794575300003,145.114030278]
[1071,3912.1000800000002,256250.51547999997,-37.802415332700001,145.13252328900001]
[1072,2144.2679400000002,140579.72087999998,-37.807257569000001,145.13679937200001]
[1073,2908.05798,167122.70021000004,-37.807098452600002,145.149114545999]
[1074,4399.8188300000002,277290.39054999989,-37.8148736363,145.147711348999]
[1075,1306.35781,423082.47018,-37.818079796900001,145.105864889999]
[1076,742.02745000000004,217944.22497999991,-37.824858401599897,145.11148148000001]
[1077,1446.1239599999999,241361.07163999992,-37.824152546299899,145.104941604]
[1078,1317.4013199999999,193298.83961999996,-37.815766935299898,145.13599786500001]
[1079,1891.8375599999999,172727.62952999998,-37.8327459355,145.10859678099899]
[1080,1485.4425799999999,297178.99386999995,-37.833727924400002,145.12302668999899]
[1081,2460.9982199999999,165606.79611999996,-37.833058028700002,145.116429614]
[1082,2055.9599800000001,266303.69637999986,-37.826006391500002,145.123408603999]
[1083,1385.16209,204814.08304999996,-37.823509020300001,145.117182920999]
[1084,1735.8345400000001,164151.46831999999,-37.847182635099898,145.10673786300001]
[1085,2273.3379799999998,219741.82198000004,-37.8458061973,145.100305367999]
[1086,2197.36238,227195.08804999999,-37.848216235000002,145.12673060700001]
[1087,2434.5010499999999,243145.53026,-37.853924426600003,145.12532011299899]
[1088,1116.3794600000001,234774.40805999993,-37.853193079199897,145.11605613500001]
[1089,2314.7744899999998,239154.28492000003,-37.860445395100001,145.09680459800001]
[1090,1285.90014,122383.76668999997,-37.859754566699898,145.102721151]
[1091,3097.2345700000001,155032.74790999998,-37.862229871300002,145.11735705500001]
[1092,2025.3714,213889.99821999995,-37.879318158300002,145.10388273300001]
[1093,1245.9329499999999,263901.54889999999,-37.876926816000001,145.09564505]
[1094,1075.21524,305018.90644999995,-37.8703793018,145.096349277999]
[1095,2225.2320800000002,165196.96324000004,-37.878533905700003,145.12224157]
[1096,2045.61256,134736.92195000005,-37.880181548800003,145.114865369]
[1097,2382.7588700000001,115987.28116000001,-37.8880475152,145.09885364300001]
[1098,1338.7650100000001,215939.61056999993,-37.893710144700002,145.09870818900001]
[1099,1496.21414,87612.645119999986,-37.8912405616,145.115439584]
[1100,2160.1814100000001,138099.07068,-37.895515893800003,145.11516120799899]
[1101,952.32108000000005,362234.33298999973,-37.8962544404,145.091680543]
[1102,1746.6123,260845.33869999999,-37.903746540999897,145.077796621]
[1103,1664.4822999999999,342618.60621999972,-37.905094188,145.083126115]
[1104,2118.63078,322135.59927999985,-37.905823116400001,145.089299267999]
[1105,989.09114999999997,299624.74531999993,-37.908785281999897,145.09650786]
[1106,622.57443000000001,191624.71805,-37.9018181596999,145.10184601]
[1107,488.12822,178643.86957999994,-37.905689591200002,145.09953834800001]
[1108,1850.73495,215064.37443999993,-37.907674143999898,145.10848554200001]
[1109,852.95758000000001,204659.21947999994,-37.915154624499898,145.11177116900001]
[1110,2630.6619900000001,234531.12367999996,-37.916430079199898,145.09389138700001]
[1111,1137.7128499999999,216245.16512000002,-37.922635377799899,145.09007671200001]
[1112,2591.32305,132246.95736,-37.809810912700001,145.16755667800001]
[1113,1949.7292199999999,119578.03174999998,-37.805147456299899,145.16840847700001]
[1114,2360.9578700000002,270772.16590999987,-37.827153774000003,145.15823887100001]
[1115,1074.64265,316344.80378999986,-37.827488033900003,145.151452422999]
[1116,3591.9924500000002,147319.98442999998,-37.837115726299899,145.14070822100001]
[1117,2026.1963499999999,207167.49470999994,-37.846955064200003,145.13779141800001]
[1118,2389.7253500000002,212975.6318399999,-37.847658599699898,145.14745584900001]
[1119,2029.5491199999999,240253.96012999996,-37.855411493600002,145.14628769500001]
[1120,2492.1558500000001,136770.15352000002,-37.840325262900002,145.168234364]
[1121,1293.2279599999999,179963.77305999989,-37.857766697099898,145.163096064]
[1122,1234.50333,229017.65812999994,-37.856521383800001,145.154274458999]
[1123,1661.67545,76956.265900000028,-37.850163517600002,145.15674933899899]
[1124,2126.10736,177981.47020999997,-37.864199261000003,145.134393055]
[1125,4314.5616499999996,191068.99755999999,-37.880586867300003,145.137691031999]
[1126,2790.09204,174074.45991999999,-37.867736019600002,145.164477984999]
[1127,1883.9076700000001,107131.25808000001,-37.882641911299899,145.15335976700001]
[1128,1665.0313900000001,236657.28005,-37.8841089529,145.160765091]
[1129,2103.9822199999999,112403.78554000003,-37.8883672491,145.13480411]
[1130,4039.4171000000001,96013.413680000012,-37.897277971599898,145.152472195999]
[1131,1180.4539,206596.90014000001,-37.894270570700002,145.16062942299899]
[1132,4900.9803099999999,164164.68765000001,-37.9025882303999,145.11617370100001]
[1133,583.72577000000001,139638.95383999997,-37.916722571500003,145.144358272999]
[1134,1412.2095300000001,233658.73169999997,-37.917606937400002,145.135614954]
[1135,1776.22534,194509.07963999995,-37.9061559194,145.14669734200001]
[1136,477.09141,252380.67784999998,-37.927437138899897,145.12200394600001]
[1137,4587.7151400000002,224008.65427,-37.918898092200003,145.121985618]
[1138,2214.4975199999999,169911.31743,-37.922941584,145.128317915]
[1139,2298.97019,167155.34588999994,-37.831990564900003,145.180229048999]
[1140,1577.18154,121568.01039,-37.822737211800003,145.18995517900001]
[1141,1229.07656,152406.41579999999,-37.8316105476,145.191065417999]
[1142,4279.53899,120895.01312000002,-37.829737775300003,145.20306535500001]
[1143,2456.6604699999998,99086.635370000018,-37.842042350699899,145.19678445400001]
[1144,3881.4676399999998,138477.97566000003,-37.850495766000002,145.178584583999]
[1145,1028.0191500000001,148338.19043000002,-37.854421395400003,145.18744676099899]
[1146,1498.84393,148338.19043000002,-37.859754923600001,145.183443563]
[1147,2623.8556100000001,41712.855820000004,-37.778719943500001,145.29722915900001]
[1148,4323.9613099999997,45879.996610000002,-37.774505151900001,145.286754906]
[1149,2652.3105500000001,63610.13640000001,-37.791597257299898,145.29533824800001]
[1150,3290.0826699999998,62543.580979999992,-37.7972012038,145.297217700999]
[1151,1038.9176,67864.378490000003,-37.788497767400003,145.285879429]
[1152,1906.8434400000001,48357.963030000006,-37.804792526699899,145.29858375699899]
[1153,4022.4850200000001,34919.194739999999,-37.829292651899898,145.296203499]
[1154,1591.52421,14496.424500000001,-37.8371421919,145.311476535]
[1155,3867.0844099999999,28947.935549999998,-37.776859317499898,145.26495968500001]
[1156,2042.4271900000001,24981.204249999995,-37.772659256099899,145.25422908799899]
[1157,2913.4233899999999,12286.76741,-37.772755165200003,145.24445137500001]
[1158,1967.9103,33504.170180000001,-37.789766737100003,145.24145515999899]
[1159,1132.52107,22410.517599999999,-37.783086901799898,145.242682970999]
[1160,357.81943000000001,85509.833110000007,-37.789183187600003,145.273637065]
[1161,1193.0660700000001,100068.07781999999,-37.795129982699898,145.270722277]
[1162,951.56368999999995,93088.570239999986,-37.797859216600003,145.259325921]
[1163,923.03770999999995,42365.2961,-37.8063166917999,145.266212975]
[1164,1851.3844899999999,70929.003019999989,-37.8064135613999,145.282926995]
[1165,4875.1953700000004,45089.410880000003,-37.820761630699899,145.277634285]
[1166,4008.2202400000001,69294.743899999987,-37.820149493899898,145.264107094]
[1167,1676.22766,96081.480099999972,-37.821252439399899,145.24359892300001]
[1168,1702.818,90481.327420000001,-37.829649623599899,145.25267050599899]
[1169,512.73649999999998,56585.530899999991,-37.822393150800004,145.239326823]
[1170,1818.8767399999999,99528.873760000002,-37.829377208899899,145.2322825]
[1171,998.97433999999998,129829.69196,-37.829013719400002,145.24075325300001]
[1172,2328.1444099999999,49156.091789999999,-37.804015655599898,145.223060121]
[1173,1298.47793,53222.860080000013,-37.809062869999899,145.223609299]
[1174,503.0557,161888.01181999999,-37.8146472715,145.21709141700001]
[1175,507.33265999999998,247522.92306999999,-37.811740848299898,145.23240226799899]
[1176,634.63624000000004,87205.43664,-37.829034768,145.22003207500001]
[1177,1602.6217200000001,130321.99919999999,-37.822579876600003,145.22060678899899]
[1178,538.22311000000002,126637.31422999999,-37.810022790300003,145.25164563499899]
[1179,4949.6871799999999,68847.998579999999,-37.854761480100002,145.21856816900001]
[1180,5286.1660700000002,83915.560169999997,-37.859209438100002,145.23410588300001]
[1181,1906.4263599999999,94421.841559999986,-37.839577040199899,145.257359533]
[1182,1889.7182499999999,82465.598489999989,-37.848011878500003,145.240248917999]
[1183,4035.2701099999999,69990.160919999995,-37.849160720900002,145.253507222]
[1184,2402.8685999999998,29193.263660000004,-37.8537013933,145.263889646]
[1185,1425.1514999999999,33808.81551,-37.850341923899897,145.27304643599899]
[1186,2687.26449,37235.011360000004,-37.857878060600001,145.275689693]
[1187,1028.59087,55796.009050000008,-37.852914046199899,145.281655830999]
[1188,781.13706999999999,35876.839590000003,-37.849108987500003,145.301769541]
[1189,2699.0174400000001,38615.462020000006,-37.841730740899898,145.293855906]
[1190,2574.0342900000001,33819.893980000001,-37.852827404700001,145.29096638600001]
[1191,3441.41624,50870.041750000004,-37.8573646424,145.30108487499899]
[1192,1783.44271,15245.696979999999,-37.860731526000002,145.321947225]
[1193,1908.7314899999999,26994.795539999996,-37.875391957700003,145.29679911700001]
[1194,1354.0209600000001,60147.082680000007,-37.880182400400003,145.301821652999]
[1195,5635.5193099999997,31828.298849999999,-37.873584687799898,145.278734399]
[1196,4926.1527999999998,33599.961330000006,-37.869647317000002,145.26760258900001]
[1197,3408.5789100000002,141030.63952000003,-37.863199413700002,145.245237078]
[1198,1201.3054500000001,40810.486240000013,-37.879883604200003,145.289601183]
[1199,2305.6880000000001,16295.896360000001,-37.891583128999898,145.282154859999]
[1200,2613.5115700000001,27656.22479,-37.897421032600001,145.28151712600001]
[1201,1699.5636,17253.750019999999,-37.898852993299897,145.309343197]
[1202,1960.1442,35109.21574,-37.886886569700003,145.27359605000001]
[1203,5163.99395,48792.249119999993,-37.884768207500002,145.25155498199899]
[1204,3646.3595399999999,3646.3595399999999,-37.891421049000002,145.23943201399899]
[1205,3778.53323,12362.1,-37.906873039899899,145.267236615999]
[1206,3899.4141300000001,32793.667710000009,-37.905549645199898,145.28173837099899]
[1207,1636.00757,82156.234989999997,-37.9143854195,145.24153118300001]
[1208,2182.51044,40873.019170000007,-37.915580182100001,145.25274669000001]
[1209,4973.9211699999996,12937.826100000002,-37.923717758400002,145.25722761200001]
[1210,2510.95676,32913.81437,-37.917563942400001,145.26478437700001]
[1211,6420.10887,65195.931969999998,-37.934743857800001,145.24182321500001]
[1212,2241.8712999999998,62755.862549999998,-37.936366049699899,145.225404462]
[1213,2579.89383,11482.6296,-37.922520732999899,145.275340709999]
[1214,1875.7723800000001,22532.637610000002,-37.893358555200003,145.220271967999]
[1215,5715.2852800000001,96201.228490000009,-37.882984819999898,145.22373188500001]
[1216,2182.4481700000001,52730.70768,-37.869293943400002,145.176660236]
[1217,3357.6196599999998,41618.432649999995,-37.870377554400001,145.18675427599899]
[1218,2648.7476499999998,189728.36334000001,-37.885406067799899,145.17039179899899]
[1219,2753.69382,37967.393219999998,-37.888155226899897,145.187314026]
[1220,2502.96621,43619.017539999993,-37.896893196599898,145.17599195]
[1221,3475.7006299999998,49940.526419999995,-37.898875481200001,145.185813368]
[1222,1194.67671,125093.28118000003,-37.915741037799897,145.16442322200001]
[1223,3359.76181,29845.3488,-37.913307060800001,145.193372345]
[1224,1523.8651500000001,86919.196119999979,-37.909322817400003,145.184087879]
[1225,2033.60977,84027.219269999987,-37.91681543,145.18235992300001]
[1226,3175.49053,83869.899959999981,-37.931195330599898,145.19852646199899]
[1227,3585.0748699999999,108127.26473000001,-37.9266730565,145.185670028999]
[1228,3634.9128300000002,40645.692850000007,-37.927498233199898,145.17056398700001]
[1229,2443.2507999999998,35347.722630000004,-37.933661676299899,145.181446865]
[1230,2990.8943399999998,70463.628140000015,-37.8513976335,145.199311696]
[1231,1786.5770299999999,138613.32820000002,-37.8112414,145.18849029699899]
[1232,1665.6965299999999,206328.04409999991,-37.816316401100003,145.183433213]
[1233,2422.8336300000001,161823.24463,-37.814939508800002,145.204152153]
[1234,1045.8127300000001,243023.74911999993,-37.880903167200003,145.14893878199899]
[1235,476.83402999999998,570651.12499999988,-37.793103374399898,144.933277371]
[1236,706.80830000000003,279416.36323000002,-37.7889001713,144.92531119]
[1237,3540.5219299999999,363135.88056000019,-37.7861125133999,144.935460312]
[1238,1573.0768599999999,213396.73433000001,-37.783835644900002,144.92998794299899]
[1239,1183.7208599999999,172168.31,-37.7824018682999,144.92513607199899]
[1240,2424.2963100000002,203226.19951000001,-37.7742885535,144.91204578099899]
[1241,3555.1170299999999,138179.49166999993,-37.7774751299999,144.918871002]
[1242,4028.7156799999998,232485.89698000002,-37.7683113967,144.912965055]
[1243,1636.1710499999999,223190.86005000002,-37.776042014799899,144.932331258]
[1244,1729.0684900000001,196920.01116000002,-37.770489021499898,144.93151732300001]
[1245,1307.66587,345880.48561000009,-37.769210123100002,144.922850361]
[1246,1954.95983,200369.52070000002,-37.761231958000003,144.93186604799899]
[1247,683.70892000000003,335628.52679000015,-37.763502156500003,144.922133815]
[1248,1592.60835,270404.84667000006,-37.759513347099897,144.920967789]
[1249,1431.7915499999999,276452.07375000021,-37.758859699699897,144.91170203900001]
[1250,1947.3690799999999,280430.73730000027,-37.752289520700003,144.912021912]
[1251,1418.5300199999999,152786.18174000006,-37.755634139999898,144.930561205999]
[1252,2814.8765800000001,272557.26850000012,-37.7530464791,144.92197433600001]
[1253,2204.41527,254933.51697000003,-37.744248570700002,144.91724930300001]
[1254,1004.8159000000001,279983.69186000025,-37.748794613500003,144.91600639999899]
[1255,2331.4480400000002,91752.789189999996,-37.737051754100001,144.91630246400001]
[1256,2217.5378900000001,200979.14450000002,-37.739127788700003,144.92548818500001]
[1257,3156.40184,18156.181639999999,-37.722375695300002,144.90993119999899]
[1258,4078.2859699999999,94858.658029999991,-37.723375385099899,144.88632220400001]
[1259,984.29457000000002,140694.41077000007,-37.750928969,144.88531796800001]
[1260,4918.7603799999997,83380.821999999986,-37.739806285999897,144.884294705]
[1261,5012.32546,127124.13360999999,-37.748628739200001,144.90372883699899]
[1262,1277.4719600000001,173890.28690000001,-37.758597524199899,144.90260667800001]
[1263,3213.54846,154731.90283000001,-37.788274776800002,144.896422978999]
[1264,1856.08735,140184.68614999999,-37.784248631200001,144.877318734]
[1265,2076.4361399999998,119455.07722000001,-37.788367665700001,144.876374008]
[1266,711.03259000000003,337438.30402000021,-37.809813137500001,144.902111445]
[1267,3467.38562,294333.94074000028,-37.809476306500002,144.88942335300001]
[1268,2125.59413,387817.76774000016,-37.804829406899898,144.890775074]
[1269,1025.2888800000001,146160.78,-37.804459361500001,144.875982448999]
[1270,1263.5155299999999,94889.726850000021,-37.8155724062999,144.864475879]
[1271,862.88729999999998,206037.64910999994,-37.816382448100001,144.88123529500001]
[1272,2147.7202000000002,77971.19640999999,-37.815576938900001,144.874298592]
[1273,1633.8232,225160.74000999998,-37.814642936399899,144.888741318999]
[1274,529.10040000000004,250001.44252999994,-37.8313527858,144.88371709200001]
[1275,1364.52691,225588.61548999997,-37.842710674300001,144.888132834999]
[1276,743.46806000000004,74527.033610000013,-37.825736036400002,144.872011128]
[1277,3660.6192000000001,105192.46889000002,-37.837871724800003,144.87429839199899]
[1278,674.00996999999995,98999.996710000036,-37.847222454099899,144.87558689900001]
[1279,1093.55034,97342.382720000038,-37.842892651100001,144.868646864]
[1280,1255.5214599999999,198585.77171999999,-37.844002441800001,144.87829609299899]
[1281,1124.25576,105961.31113999999,-37.861323397299898,144.89402121800001]
[1282,937.93304999999998,107153.13546,-37.867330472100001,144.89630709900001]
[1283,829.30510000000004,89819.798090000026,-37.865900304599897,144.88840174800001]
[1284,1048.4322299999999,127600.22814000001,-37.861482955699898,144.889261957999]
[1285,3599.98684,74881.350529999996,-37.869579373500002,144.814938364]
[1286,1536.66211,100478.80679000005,-37.8614520912,144.844756725]
[1287,1483.5037600000001,17927.10469,-37.856892171799899,144.82556264300001]
[1288,1454.02586,49502.087669999994,-37.858592864400002,144.815128767]
[1289,764.79191000000003,40798.657270000011,-37.845187859699898,144.85131019900001]
[1290,1320.5480299999999,69577.359619999988,-37.841646081,144.84986699800001]
[1291,2655.1745500000002,48264.051330000002,-37.835715842500001,144.853638905]
[1292,1267.7589399999999,86985.362659999999,-37.829130075899897,144.85273005600001]
[1293,2211.1873300000002,20072.26082,-37.6738242423,144.561299805999]
[1294,2417.6286100000002,25893.78197,-37.680393810699897,144.55587154700001]
[1295,1418.6385399999999,32913.447950000002,-37.677889381100002,144.57954756999899]
[1296,1843.2971399999999,29947.377769999999,-37.679184360999898,144.572832546]
[1297,1121.64518,29729.374189999999,-37.687204502199897,144.582679907]
[1298,2692.8280300000001,22067.444639999998,-37.707488718900002,144.56923170100001]
[1299,1606.9909299999999,27387.658319999999,-37.709586080999898,144.576962764]
[1300,69.754980000000003,69.754980000000003,-37.735324437300001,144.693453597]
[1301,733.25133000000005,733.25133000000005,-37.621100801700003,144.71077170300001]
[1302,3611.6739899999998,24613.279159999998,-37.685079113999898,144.751997149]
[1303,2453.0130300000001,49414.809620000007,-37.703857439700002,144.794191807999]
[1304,1892.48702,18924.15467,-37.711590583300001,144.80128223700001]
[1305,3129.4002500000001,46112.3753,-37.7208280742,144.813030212]
[1306,1929.05943,28153.264150000003,-37.709411438700002,144.809811478]
[1307,2530.6882099999998,31140.795320000001,-37.715573763400002,144.820277941999]
[1308,3571.72766,67938.952189999982,-37.720953415899899,144.793197711999]
[1309,3519.7840500000002,10554.844639999999,-37.716992382000001,144.79805666799899]
[1310,1202.36752,50785.90916000001,-37.718459022300003,144.834003639]
[1311,3874.5820399999998,44042.970589999997,-37.7302224536,144.77334862199899]
[1312,1843.9868100000001,92492.782900000006,-37.740418793800004,144.792582899]
[1313,2192.2285900000002,59342.90490999999,-37.737782822100002,144.784501331]
[1314,6219.2556400000003,22275.831910000001,-37.7202168817999,144.77223508500001]
[1315,1020.42869,112554.46181000001,-37.740893350900002,144.80347416800001]
[1316,5273.5461999999998,35732.106889999995,-37.742704516000003,144.816499241]
[1317,1353.6643300000001,49556.265439999996,-37.7240450551,144.860043504]
[1318,6883.95147,22780.595970000002,-37.700997259399898,144.761359422]
[1319,3549.6797700000002,45921.291009999994,-37.786044103599899,144.806952639999]
[1320,1182.2601,143035.34826999999,-37.791703890199898,144.822468456]
[1321,1789.28341,47267.709289999999,-37.768504995500003,144.81199395799899]
[1322,3.6880000000000003E-2,28183.968559999998,-37.8096249894,144.82492669600001]
[1323,2412.12727,213640.52510999999,-37.7905257753999,144.840081465]
[1324,3077.16615,151821.23918,-37.781896215300002,144.840218768]
[1325,2716.60565,126257.43298000003,-37.789022066800001,144.85558108800001]
[1326,2268.7650600000002,28939.059539999998,-37.7468983013,144.774186813]
[1327,3574.0382100000002,22697.30702,-37.746008682499898,144.76454909]
[1328,3151.83295,43843.143810000001,-37.7629897501999,144.76708565800001]
[1329,4889.2374300000001,65726.839689999993,-37.771068408399898,144.76566927299899]
[1330,671.42899999999997,162371.72102999999,-37.774654944399899,144.832161743]
[1331,404.08654000000001,114334.85353000001,-37.775286774599898,144.83803637899899]
[1332,2141.43388,62935.660139999971,-37.768137993000003,144.83733514900001]
[1333,2508.07917,72229.59874999999,-37.772311228900001,144.84559383499899]
[1334,5011.0076200000003,76734.64635999997,-37.753315313999899,144.821604845]
[1335,2219.6496099999999,82733.699939999962,-37.7569128775,144.827809946]
[1336,1715.99729,47194.423169999995,-37.756506781699898,144.805013884]
[1337,2314.17254,10354.98358,-37.765593945500001,144.798008275999]
[1338,728.27446999999995,85865.219140000001,-37.792756813300002,144.880378906999]
[1339,879.97954000000004,215729.05043,-37.799745337399898,144.883616246999]
[1340,863.41799000000003,241183.54206999994,-37.797127252899898,144.885027192]
[1341,1731.2268999999999,221053.04985999994,-37.792924744099899,144.885588767999]
[1342,1440.20352,266608.55263999995,-37.795195821999897,144.89062097300001]
[1343,2103.4401400000002,136064.70164000001,-37.794609700400002,144.870721586]
[1344,2000.40652,101067.69734000001,-37.798087813400002,144.86957683399899]
[1345,613.97649000000001,53825.5383,-37.821737529399996,144.840561678]
[1346,1916.5500099999999,89257.378330000036,-37.8472986336999,144.892471548]
[1347,1822.5896399999999,86611.270810000045,-37.852970105200001,144.895401703]
[1348,1339.1076599999999,88350.840130000041,-37.856889604400003,144.89768868300001]
[1349,2338.52655,52562.562989999999,-37.8263805052,144.839986719]
[1350,4989.8692300000002,58426.030280000006,-37.739164591700003,144.872212929]
[1351,5525.7970400000004,56586.887419999999,-37.748746721499899,144.85475373099899]
[1352,2637.7697400000002,72807.431879999989,-37.735986865900003,144.860868471]
[1353,4657.7755500000003,80397.072320000021,-37.766704649700003,144.85908155800001]
[1354,1645.6969799999999,345462.85489000019,-37.866243943500002,145.01412395200001]
[1355,2254.07312,429572.40090000007,-37.869311812500001,145.021508791]
[1356,313.76137999999997,387073.19022000005,-37.871983698500003,145.031085563999]
[1357,1450.28269,322747.07183000015,-37.8755936389,145.00303471000001]
[1358,884.81078000000002,362134.80976000021,-37.875418431500002,145.014284540999]
[1359,2202.1184499999999,339398.84897000034,-37.880910358100003,145.00195755300001]
[1360,2936.6261500000001,314247.97547000018,-37.882050061800001,145.01108244]
[1361,1727.3315500000001,383392.17359000002,-37.875918478499898,145.02053474300001]
[1362,2157.9733999999999,370197.25174000004,-37.876789605699898,145.02739073000001]
[1363,1902.4800499999999,317086.6486800001,-37.883903818500002,145.026050932]
[1364,1420.2474500000001,444089.38647000003,-37.877846017700001,145.032852042]
[1365,3127.5170699999999,304178.03124000016,-37.885691180099897,145.03464790199899]
[1366,1465.1495399999999,439396.53095000004,-37.8842585400999,145.04545747]
[1367,536.92184999999995,306452.09832000005,-37.898019913900001,145.00031770499899]
[1368,1146.0875100000001,327832.15109000023,-37.888430437799897,144.995745696]
[1369,954.85503000000006,282861.80219999986,-37.895040252999898,144.992513135]
[1370,1505.8664200000001,329775.42678000015,-37.8944473763,145.000125954]
[1371,3195.6796199999999,299289.11185000016,-37.888280736500001,145.00868308]
[1372,1192.5017800000001,282176.34778999991,-37.898588049700003,145.02322934399899]
[1373,2344.4666999999999,299329.16782000009,-37.890820528200003,145.01766116799899]
[1374,1840.8174899999999,297630.05476000009,-37.891377302400002,145.02463759400001]
[1375,3045.7624799999999,229399.9909200001,-37.893389800199898,145.03193114000001]
[1376,2817.5261099999998,299768.12288000016,-37.895679859799898,145.038282205]
[1377,654.65926000000002,106161.45682999997,-37.901160341900002,145.059603917]
[1378,2153.8924999999999,381195.73024999996,-37.894085902999898,145.04351557300001]
[1379,1412.0627999999999,385956.31383999978,-37.901034435200003,145.04231720600001]
[1380,1704.0319500000001,392490.81601999991,-37.889715117999899,145.051740712]
[1381,1601.9964,298165.87732000009,-37.892879350100003,145.05038724600001]
[1382,2516.37057,123272.76397999995,-37.898211533000001,145.05027862]
[1383,1945.8411799999999,302291.67253999988,-37.903104266299898,145.049336904]
[1384,1426.9874500000001,369760.18177999998,-37.8863585305999,145.063171598]
[1385,2838.0947299999998,313665.43852000003,-37.888883286499897,145.07252513700001]
[1386,2133.4577399999998,249401.55584999998,-37.8978326643999,145.06023571]
[1387,3422.9933999999998,398246.11680000002,-37.891679548200003,145.061106462]
[1388,3453.5688700000001,206023.14570999998,-37.9027361505999,145.069449467]
[1389,2604.9578299999998,318472.10632999998,-37.8948228617,145.07061274700001]
[1390,556.62023999999997,232950.91903000002,-37.912249432099898,144.99653724800001]
[1391,439.32360999999997,310527.56901000009,-37.909173711800001,145.00004092399899]
[1392,1526.58881,231628.1287,-37.9072075772999,144.98858171000001]
[1393,1081.0250799999999,265456.54026999994,-37.907705877600002,144.99591861900001]
[1394,2381.3188599999999,278659.27367999998,-37.901906693500003,144.99842111000001]
[1395,1063.5260000000001,336339.72457000019,-37.908290824799899,145.005394911]
[1396,1312.02592,212349.61613000004,-37.916158100799898,145.00065208300001]
[1397,1379.2490299999999,209068.55874000004,-37.914162710699898,145.004211040999]
[1398,2395.3361500000001,284223.13541999989,-37.905619962899898,145.021207309999]
[1399,1793.9566199999999,284927.99758999998,-37.913888678900001,145.020636204]
[1400,2457.2674699999998,227126.87065999999,-37.913402947400002,145.02884114400001]
[1401,1114.6840500000001,304891.82929999987,-37.914798337800001,145.03519099900001]
[1402,3612.42038,208588.61153999998,-37.915032281000002,145.045577831]
[1403,657.21208000000001,374120.34386999981,-37.920418692399899,145.03891196000001]
[1404,5720.5698499999999,171391.94859999995,-37.914754520199899,145.06760950500001]
[1405,4521.1991799999996,217376.97667999993,-37.916233606500001,145.07929635400001]
[1406,2591.9619600000001,137023.19731000008,-37.924051560300001,144.99985559800001]
[1407,3837.4150800000002,41635.363760000007,-37.9263893181,145.01555990700001]
[1408,820.37642000000005,135128.78418999998,-37.9300410455999,145.02903117599899]
[1409,1311.92446,16330.255360000001,-37.928480932299898,145.03291228500001]
[1410,1337.40256,107306.33261999999,-37.923024741100001,145.02995153200001]
[1411,1873.09915,185987.30697000001,-37.924597512299897,145.04304998200001]
[1412,3377.8546799999999,108404.27123000001,-37.930080342700002,145.042622214]
[1413,3430.8849,185855.99350999994,-37.930714983800002,145.07559740400001]
[1414,5565.6471499999998,117964.59417999999,-37.929276360099898,145.06386400599899]
[1415,1181.61142,16374.770469999998,-37.9343205805,145.091336469]
[1416,1107.9992299999999,232228.81918999998,-37.928185538100003,145.083640242]
[1417,4244.7529800000002,130001.67449999999,-37.9351981971,145.113078212999]
[1418,3664.4930800000002,114717.68031,-37.938888083099897,145.133045084999]
[1419,3893.2220499999999,20726.620080000001,-37.949312124099897,145.10537049800001]
[1420,3240.9400799999999,90156.932910000003,-37.962047009800003,145.083300514]
[1421,3647.7808799999998,83726.731699999989,-37.9474303468999,145.085056906999]
[1422,1622.42156,54651.596350000014,-37.944863580000003,145.055532118999]
[1423,1613.3561099999999,86919.99397000001,-37.939924462599897,145.051193896999]
[1424,2514.8527300000001,181045.51569,-37.9386088774,145.04330977000001]
[1425,254.90317999999999,96491.942919999987,-37.941394130500001,145.039115299]
[1426,2626.7783599999998,105504.21023999999,-37.941028361800001,145.03069988300001]
[1427,2237.19229,111352.91104000001,-37.945739461099897,145.031660536]
[1428,1605.5684900000001,69588.49837999999,-37.9406657538999,145.01736842700001]
[1429,1316.1471100000001,61541.733180000003,-37.936581730999897,145.01782532600001]
[1430,1381.9549400000001,31401.16447,-37.9330129011,145.01907757800001]
[1431,1785.84077,72640.543079999974,-37.939811515999899,145.006849601]
[1432,1182.5435199999999,166011.99085999999,-37.935284126500001,145.00737870200001]
[1433,1220.97828,60177.091810000005,-37.931758822200003,145.00863938500001]
[1434,2833.76577,146039.11254000012,-37.934333258000002,144.999065481]
[1435,2832.8022900000001,92496.659709999964,-37.955080824200003,145.011797075]
[1436,410.28874999999999,19164.783759999995,-37.959972409499898,145.03114405400001]
[1437,2235.3164000000002,85060.549210000012,-37.960654587000001,145.044524857]
[1438,716.09173999999996,182117.21026999998,-37.961443494400001,145.052694344]
[1439,679.55406000000005,135552.95705000003,-37.954002449599898,145.05573585600001]
[1440,3942.4926799999998,65469.39334000001,-37.962825466300004,145.06548004499899]
[1441,3091.4784100000002,154845.50552999999,-37.970089680800001,145.06712870300001]
[1442,2971.37293,69623.787120000008,-37.969906801400001,145.026743170999]
[1443,4555.7873499999996,53801.516710000004,-37.971589340999898,145.04506291800001]
[1444,6995.43703,36246.316490000005,-37.985936570600003,145.041098473999]
[1445,3720.71335,118650.79249000001,-37.986083626700001,145.06147394300001]
[1446,1665.0014000000001,163585.72988999999,-37.980217187400001,145.06651562100001]
[1447,2457.43561,120996.33952999998,-37.979047424800001,145.07670782100001]
[1448,2885.4530300000001,38562.920019999998,-37.976895592699897,145.130210726]
[1449,4684.62374,54242.318320000013,-37.9854782783,145.13099998800001]
[1450,1632.0971400000001,120065.23049999996,-37.971211905600001,145.07701122700001]
[1451,1510.6163899999999,34262.942660000001,-37.979604450300002,145.08741669700001]
[1452,3313.0938999999998,98608.140650000016,-37.989153082000001,145.07698845100001]
[1453,5842.4103400000004,68084.20670000001,-37.990078351999898,145.087789654999]
[1454,2360.21765,138866.12699999998,-38.0033777843,145.0892011]
[1455,2742.6555600000002,52343.991970000003,-38.005522256299898,145.098655116]
[1456,2923.1151300000001,28674.551209999998,-38.017019378900002,145.099420264]
[1457,1054.62384,95886.179879999996,-38.030641449999898,145.103002258]
[1458,1970.61886,53718.128339999996,-38.024863947299899,145.10667533700001]
[1459,1859.0848000000001,116552.34603000002,-38.034106122600001,145.11442323200001]
[1460,4214.3080600000003,38948.302390000004,-38.023425502999899,145.11745333900001]
[1461,406.60332,171272.99953999999,-37.9469982683,145.042716988]
[1462,2761.65443,106592.06584999998,-38.0393809179999,145.11749496900001]
[1463,2756.8279200000002,48850.050459999977,-38.044704101000001,145.12178703500001]
[1464,4285.5107699999999,15417.341899999998,-38.053242189899898,145.138788726999]
[1465,666.28096000000005,94308.748230000012,-38.055013814500001,145.115650539999]
[1466,1812.8092899999999,25496.049800000001,-38.050084974400001,145.124010234]
[1467,1519.9332400000001,105703.58100999999,-38.055707629700002,145.120453064999]
[1468,2174.3707599999998,35133.64443,-38.060196472900003,145.127016502]
[1469,1725.15805,31901.446330000002,-38.065623464200002,145.130061657]
[1470,821.71339,44633.218329999989,-38.065133380200002,145.143120463]
[1471,2952.6403799999998,22096.101129999999,-38.0767639703,145.143966968]
[1472,1602.8280199999999,51653.259999999995,-38.071237531100003,145.131383078]
[1473,3440.81765,47819.607729999989,-38.077589859299898,145.132192906]
[1474,1106.4031299999999,120997.47833999997,-37.970058488600003,145.059310033]
[1475,688.69839999999999,176577.14390999996,-37.971769875100001,145.05642934100001]
[1476,1686.05315,282799.62778999994,-37.8843924309,144.988686903999]
[1477,4200.03802,263234.00520999986,-37.878522986699899,144.986674725]
[1478,2630.2876900000001,351837.57772000029,-37.870271317700002,144.98380579299899]
[1479,1926.3638900000001,365664.85757000028,-37.874585537800002,144.996506563]
[1480,3975.3234000000002,325874.10734000016,-37.8641618573999,144.97586770999899]
[1481,517.43556999999998,374599.80517000024,-37.864430608299898,144.992845504999]
[1482,529.61273000000006,445107.34021000011,-37.860872793299897,144.99323593099899]
[1483,1354.54485,357521.99749000021,-37.864282438499899,144.99839881099899]
[1484,1441.7070100000001,362802.39061000024,-37.860305441000001,144.997873537]
[1485,2039.97083,398072.92947000009,-37.861396823299899,145.00562290600001]
[1486,629.58641999999998,443868.11478000012,-37.851774967399898,144.98258077899899]
[1487,965.93813999999998,612785.62163999921,-37.847379398800001,144.98752638100001]
[1488,3155.0828099999999,419412.97082000016,-37.8503403680999,144.99787260700001]
[1489,2086.7395799999999,505959.23326000012,-37.858529163999897,145.01795806300001]
[1490,2644.4441099999999,433001.43493000022,-37.851203368900002,145.007400687999]
[1491,698.19655999999998,485530.95516000013,-37.847379018600002,145.006129523]
[1492,480.72224,486610.20736999996,-37.852919926799899,145.014033321]
[1493,996.01155000000006,556596.90336999984,-37.846271071899899,145.00105541299899]
[1494,1126.9113,427942.15374000021,-37.833205257300001,144.989411088]
[1495,1407.00416,429499.88635000022,-37.836449800899899,145.003062306999]
[1496,478.37891000000002,461723.11396000005,-37.841178886400002,144.982308072]
[1497,3296.8562099999999,482764.13913999993,-37.8370253211,145.01755406999899]
[1498,2360.7639800000002,415958.34851000004,-37.846060286300002,145.017668171]
[1499,1180.0454999999999,515222.57543000014,-37.852108859300003,145.01794010200001]
[1500,2861.14581,305097.28114000009,-37.860667403000001,145.03448599500001]
[1501,807.25804000000005,513253.13864999998,-37.8654070519,145.03060586500001]
[1502,1601.71109,386803.29820000008,-37.847177929300003,145.02652171400001]
[1503,1847.9870900000001,402442.16715000011,-37.8549148325,145.03568950600001]
[1504,2868.7313399999998,324386.81060000014,-37.848530042999897,145.036471543999]
[1505,1056.2134799999999,511958.05537999992,-37.841540600400002,145.035455326999]
[1506,1687.18596,410794.57219999994,-37.8516295181999,145.046843580999]
[1507,1052.00272,384061.73429000011,-37.8566620301999,145.05593566799899]
[1508,2122.0265100000001,311687.04690000013,-37.861557102900001,145.045947961]
[1509,1236.62995,402068.20510000002,-37.8633123774,145.056988023999]
[1510,1391.00443,240690.73601999992,-37.867942017799898,145.05486525800001]
[1511,2908.5045500000001,205096.99088,-37.873309281399898,145.054393304999]
[1512,2756.16419,320923.76731000014,-37.879714594699898,145.05378510400001]
[1513,708.15926000000002,274439.30680999998,-37.886276421399899,145.08429436399899]
[1514,798.90923999999995,311323.6932199999,-37.890562482999897,145.085683074999]
[1515,4374.1823000000004,300962.51288999995,-37.881858705600003,145.068913837]
[1516,1281.9600399999999,220008.89952000009,-37.877925810900003,145.08143638300001]
[1517,593.70613000000003,122601.22988000003,-37.8746537683,145.07992568700001]
[1518,2484.8872700000002,249652.79785,-37.8506148349,144.961507689999]
[1519,2285.9168500000001,250359.74305000005,-37.8472986572,144.95676057700001]
[1520,2074.2544499999999,275027.42013000004,-37.842052556699898,144.95423053900001]
[1521,1090.3011100000001,428648.17147000035,-37.8343883123,144.960143391999]
[1522,4213.4090299999998,223601.95211999991,-37.8377025805,144.940708847]
[1523,3016.7377499999998,136673.86431999994,-37.838650710099898,144.931317229999]
[1524,1069.7293999999999,84412.667870000005,-37.836848061399898,144.92454533]
[1525,1011.35178,291121.40238000004,-37.793470345700001,144.943594856999]
[1526,780.82812000000001,449281.16258000018,-37.801949590699898,144.952060364999]
[1527,3378.49127,353237.32762000023,-37.782927168100002,144.973788079999]
[1528,864.10762,570003.16499999969,-37.805007479799897,144.957205270999]
[1529,544.89860999999996,549381.48726999981,-37.805198173400001,144.96025945900001]
[1530,3977.0468599999999,409194.14690000017,-37.795023665400002,144.971880736]
[1531,1785.9612199999999,439386.81427000015,-37.784273314700002,144.988954401999]
[1532,672.48792000000003,373647.56085000024,-37.7830163552999,144.99147999900001]
[1533,2538.64786,431561.50438000006,-37.789495142900002,144.98073195000001]
[1534,3720.2240099999999,442491.04033000011,-37.803496985400002,144.97934420799899]
[1535,1369.9216300000001,389104.76148000004,-37.803807237100003,144.98224165900001]
[1536,1063.89707,355108.22359000036,-37.791069814700002,144.99203926499899]
[1537,3798.7242099999999,398126.21127000032,-37.798484329300003,144.990310429999]
[1538,967.96371999999997,365800.14518000023,-37.806201105299898,144.98835169]
[1539,2261.1466,350106.52496000036,-37.808650971900001,145.001165966]
[1540,4432.10851,575196.05130999978,-37.821794268700003,144.99420605700001]
[1541,4974.3879200000001,437768.31217000028,-37.823031315199898,145.00306106599899]
[1542,3132.9931299999998,497273.19138999999,-37.823916300800001,145.01167359600001]
[1543,1820.6816899999999,456658.16190000018,-37.830238651000002,145.002304584]
[1544,2660.2487599999999,229035.08606000003,-37.807864021900002,145.014776504]
[1545,2410.8346799999999,452668.66628000018,-37.817670343700001,145.02326498900001]
[1546,1264.9467400000001,475419.01893000019,-37.823208575999899,145.01992155600001]
[1547,3182.72498,327291.89641000016,-37.834492267599899,145.038403663]
[1548,2856.6997500000002,424895.03863000014,-37.825153068200002,145.030332663]
[1549,2446.1681699999999,410909.59292999998,-37.826236722700003,145.03952457099899]
[1550,2505.90922,583164.95349999948,-37.819382831200002,145.039013074]
[1551,1762.38345,519822.82587,-37.818131254999898,145.03163072999899]
[1552,3995.6459500000001,316013.6985800002,-37.8204181686,145.051771444]
[1553,1177.75947,352454.02037000004,-37.831744512999897,145.04846199299899]
[1554,2422.3671899999999,161978.02400999994,-37.840953721600002,145.05028409100001]
[1555,1075.5669,327819.24901999999,-37.847701553599897,145.04972590899899]
[1556,1693.3912399999999,198321.97212999995,-37.8542646074999,145.063381814]
[1557,1168.8508400000001,184799.17249999999,-37.843663822000003,145.06636228400001]
[1558,2475.4004300000001,300278.80922999996,-37.8418339880999,145.059632169]
[1559,1829.8505399999999,115331.22587000002,-37.843349353599898,145.07858385399899]
[1560,3668.07485,248730.46944999998,-37.828187186100003,145.07569601700001]
[1561,4202.2390599999999,210815.69271,-37.830349200999898,145.09249467800001]
[1562,4272.16345,137817.81245999996,-37.843834694199899,145.091502555999]
[1563,2650.2312700000002,175193.83024999997,-37.822133383999898,145.088801789999]
[1564,3285.4261299999998,290990.41523999989,-37.816660887200001,145.08985052400001]
[1565,2682.9988400000002,245975.28519999995,-37.814356678099898,145.070500458]
[1566,875.08259999999996,157149.07409000004,-37.800865376600001,145.101346156999]
[1567,1940.94363,140756.1127,-37.8059617868999,145.09273166700001]
[1568,3355.3558699999999,249102.29328999994,-37.810814373600003,145.09099062799899]
[1569,2285.7381799999998,264121.87870999996,-37.809861548699899,145.071375641]
[1570,1678.8123900000001,336098.54938999994,-37.809928146300003,145.03350475299899]
[1571,1404.9921099999999,314733.95711000002,-37.804397057300001,145.03246269600001]
[1572,1976.73957,300746.59361000016,-37.812098145100002,145.04169411000001]
[1573,3982.1593600000001,180010.28984000004,-37.8045514497,145.05413561]
[1574,1895.80926,141325.44967000003,-37.855708389100002,145.07920249099899]
[1575,2374.0552600000001,159318.36310000005,-37.859913752700002,145.08925987500001]
[1576,1640.2048600000001,401885.33926999988,-37.868720989499899,145.068376067]
[1577,3393.1392000000001,160659.37677000009,-37.8667266896,145.07423838700001]
[1578,1396.1738700000001,179754.24822000004,-37.870599252200002,145.084995805999]
[1579,1620.9676899999999,98431.382150000019,-37.794397273500003,145.043121539]
[1580,2101.8450200000002,228230.19175000003,-37.800074893999899,145.042110337]
[1581,3867.08691,161538.73960000006,-37.795233708399898,145.05666457199899]
[1582,608.13162999999997,73373.844989999998,-37.781962691700002,145.07600512400001]
[1583,1087.903,159699.91215000002,-37.7900586903,145.06891081200001]
[1584,1133.2410299999999,32920.30601,-37.782844997700003,145.08334886]
[1585,3205.74082,109495.97597000001,-37.789943118399897,145.07947289000001]
[1586,1332.3369,148936.79285000003,-37.797697038700001,145.073252588]
[1587,2179.8286499999999,154340.35686000006,-37.798685600500001,145.08052067700001]
[1588,1401.87931,87581.799240000008,-37.787055969199898,145.09712918599899]
[1589,1473.75794,53761.546360000008,-37.794271717100003,145.101711760999]
[1590,1724.86743,63738.884790000004,-37.776419220199898,145.09312047200001]
[1591,3035.0671000000002,76583.88986000001,-37.770094342900002,145.09016709700001]
[1592,4436.8202000000001,50489.43621,-37.759128827300003,145.10288371600001]
[1593,3085.4231500000001,116007.16727000002,-37.782960416199899,145.11627312799899]
[1594,4108.5423300000002,160676.86053999997,-37.792145791700001,145.117004898]
[1595,4335.7199199999995,179805.44245999999,-37.791740966200003,145.13464533000001]
[1596,3521.9754699999999,123782.65243999999,-37.771293393699899,145.137553905]
[1597,3701.3163300000001,97271.003880000004,-37.777797661999898,145.154656622]
[1598,3178.7417399999999,184459.72529000003,-37.7944550343,145.156333883999]
[1599,3273.6910600000001,119285.25038,-37.795857806599898,145.16533181]
[1600,1097.28089,110362.31505,-37.7878620368,145.16954952]
[1601,1142.33592,230008.09832999992,-37.794756241599899,145.173824260999]
[1602,1061.9811299999999,58821.643640000009,-37.800584148200002,145.17382301500001]
[1603,939.30249000000003,190542.89357000001,-37.802190428499898,145.181108131999]
[1604,2486.2893100000001,77122.750590000011,-37.790731895699899,145.190260198999]
[1605,2867.1143499999998,126332.46170999999,-37.7726333706999,145.12239334]
[1606,2318.32726,93063.55717,-37.763496371099897,145.125271529999]
[1607,1824.23621,98775.19620000002,-37.755162067900002,145.122947444]
[1608,2196.7235599999999,73737.161059999999,-37.758405834999898,145.137424928]
[1609,1861.87246,69955.086209999994,-37.751679097299899,145.159326236]
[1610,3272.8500300000001,110048.08690000001,-37.758517239,145.15528956200001]
[1611,3876.6465899999998,113157.10492,-37.766939588299898,145.15658134500001]
[1612,3889.71083,94573.563710000017,-37.757336873500002,145.174617568]
[1613,10680.724770000001,67393.184630000003,-37.775439862399899,145.17355206600001]
[1614,1366.4869699999999,104360.32462,-37.716039132900001,145.14487127199899]
[1615,3252.2112000000002,15580.978009999999,-37.712331202500003,145.156703835]
[1616,4413.4501300000002,11373.663189999999,-37.709104931200002,145.16775506299899]
[1617,1420.3051399999999,18994.213580000003,-37.701122505000001,145.18587826300001]
[1618,4410.3679199999997,28654.897910000003,-37.679569256299899,145.16910740399899]
[1619,3354.0238899999999,12605.997780000002,-37.667633761300003,145.154014281999]
[1620,360.06517000000002,360.06517000000002,-37.697252878199897,145.244928464]
[1621,760.61445000000003,5856.7249700000002,-37.7252559171,145.232730895]
[1622,798.65097000000003,13022.574330000001,-37.734354096499899,145.216895381]
[1623,723.16953999999998,3068.2968299999998,-37.716962749700002,145.200459268]
[1624,399.80829,399.80829,-37.604580747299899,145.279878784999]
[1625,769.3673,13098.925009999999,-37.636301939600003,145.202872157]
[1626,237.46822,237.46822,-37.546673803799898,145.28852268]
[1627,666.35558000000003,666.35558000000003,-37.626822218100003,145.18124086500001]
[1628,500.88198,500.88198,-37.649050460300003,145.257638155]
[1629,535.70916999999997,535.70916999999997,-37.646636254199898,145.246199832999]
[1630,868.59052999999994,8787.7803199999998,-37.706966348000002,145.144287547999]
[1631,1082.22398,13896.168949999999,-37.703653713800001,145.13603086699899]
[1632,1322.45408,2487.9702500000003,-37.645060634499899,145.163375062]
[1633,1111.6782700000001,22651.740370000003,-37.657911351300001,145.13920396]
[1634,773.23598000000004,11238.271049999999,-37.642170872599898,145.197218384]
[1635,853.74163999999996,853.74163999999996,-37.6624428127,145.20052415800001]
[1636,453.92748999999998,453.92748999999998,-37.649842383600003,145.193365183]
[1637,1410.54618,51684.760400000014,-37.684541088300001,145.126053493999]
[1638,519.83938000000001,47785.698130000004,-37.733283904799897,145.143162198]
[1639,420.80047999999999,574565.45100999984,-37.806095491400001,144.94368632600001]
[1640,760.00064999999995,448871.93542000011,-37.798073135499898,144.997663238]
[1641,621.46145000000001,332836.01221999998,-37.835279560499899,145.05394031700001]
[1642,505.70787000000001,445019.20936999976,-37.823369081899898,145.060490496]
[1643,1134.3410200000001,25753.200379999998,-37.754222888599898,145.20757863]
[1644,601.75228000000004,16694.978200000001,-37.742645451100003,145.218046869999]
[1645,688.21506999999997,11104.747000000001,-37.744306804300003,145.228694743999]
[1646,606.55975000000001,9010.3080500000015,-37.7636131139,145.22541050800001]
[1647,139.42429999999999,139.42429999999999,-37.764536038099898,145.206518268]
[1648,509.89125999999999,4830.8166400000009,-37.747352664399898,145.278000555999]
[1649,870.73252000000002,8188.2602700000007,-37.758867493300002,145.26913348599899]
[1650,1579.72885,1579.72885,-37.7233129046,145.268117811]
[1651,1158.83962,19593.10512,-37.777332388799898,145.228409355]
[1652,6013.5645100000002,233152.99294000008,-37.769451370399899,144.95272103600001]
[1653,1325.16821,238594.82777999999,-37.773043703299898,144.98295781300001]
[1654,5474.7732500000002,237422.39705,-37.775855940500001,144.96914970700001]
[1655,4459.2634399999997,202459.36472000007,-37.760594993399899,144.946878709]
[1656,7491.2327699999996,270409.10589000006,-37.764992320200001,144.97191253899899]
[1657,3264.0712199999998,147405.70205999992,-37.741738077100003,144.938687117999]
[1658,5092.40924,207893.15337000007,-37.743777325300002,144.954022442]
[1659,3463.43849,258645.71440000006,-37.753141273799898,144.97178360300001]
[1660,4596.4593500000001,121544.94769,-37.725309088700001,144.945345653]
[1661,1915.3148699999999,57797.707170000009,-37.704164056400003,144.933947695999]
[1662,6036.6905399999996,79210.298390000011,-37.710210638900001,144.94427121300001]
[1663,3912.9706200000001,57611.556039999989,-37.6973157689999,144.927555703]
[1664,1522.2913799999999,51462.277769999993,-37.678275817699898,144.953096418]
[1665,1819.5611100000001,59827.190830000007,-37.669960420400002,144.92814086000001]
[1666,1101.4941799999999,86906.284089999972,-37.690617165500001,144.91139200800001]
[1667,2947.3721300000002,35468.338179999999,-37.700556741200003,144.87437356300001]
[1668,2298.5282699999998,29521.032919999998,-37.679086684399898,144.876102304]
[1669,2773.7851099999998,50046.842500000006,-37.678380668899898,144.8929967]
[1670,7659.3459000000003,41051.794170000001,-37.689230347100001,144.893907904]
[1671,7849.8164699999998,12793.836949999999,-37.6486992253,144.91508855199899]
[1672,7651.9619599999996,22535.176530000001,-37.654441269300001,144.92263078299899]
[1673,5052.6700300000002,8459.6944999999996,-37.650405086200003,144.88905679600001]
[1674,6740.7309400000004,6740.7309400000004,-37.6476455958,144.90154673699899]
[1675,4445.34465,9561.4225800000004,-37.632464505400002,144.92588446900001]
[1676,6688.4658600000002,21874.305760000003,-37.591832035099898,144.930697455999]
[1677,1718.55387,4609.8704799999996,-37.5776780618,144.75420407600001]
[1678,706.20982000000004,6536.3507199999995,-37.579698946100002,144.74470309]
[1679,966.56962999999996,4609.8704799999996,-37.586959261600001,144.755857553]
[1680,3571.69445,11056.79961,-37.595787525799899,144.731656958]
[1681,3147.5414099999998,18239.795829999995,-37.574409874399898,144.703393019999]
[1682,2071.5604800000001,23456.193289999999,-37.582351889400002,144.71676800399899]
[1683,2003.85483,28014.451349999992,-37.575903190399899,144.72026687799899]
[1684,2565.0332699999999,6970.1244399999996,-37.562602706299899,144.70665371300001]
[1685,4156.22084,4156.22084,-37.561945749499898,144.725509251999]
[1686,2121.1560199999999,365903.71870000014,-37.7653946171,144.995636214]
[1687,4660.0678699999999,349266.2290600001,-37.776184523799898,144.994613547]
[1688,2053.1848500000001,379862.22879000031,-37.780918996700002,145.009650647999]
[1689,3537.6819999999998,238848.73903999999,-37.775389499600003,145.007169718]
[1690,2216.0875099999998,295460.45724000013,-37.771132117599898,145.00966534400001]
[1691,424.22417000000002,212226.08927999999,-37.781063393499899,145.020790035999]
[1692,526.63813000000005,155551.16724999994,-37.7802767915,145.02674451300001]
[1693,1368.3956700000001,248333.75959000003,-37.774513866600003,145.031172441]
[1694,1251.66806,229373.66469999999,-37.777597125699899,145.03998800400001]
[1695,1053.38555,48365.89381999999,-37.7780553387,145.050952483999]
[1696,2870.0511900000001,305587.43546000007,-37.7538465282,144.98721968199899]
[1697,1860.7941000000001,333648.52489000006,-37.7556149434999,144.99763263899899]
[1698,1037.9110599999999,324636.80634000007,-37.760707073100001,144.996661956]
[1699,2680.5142599999999,235280.90869000001,-37.762092422099897,145.00763762700001]
[1700,4072.3807999999999,234825.88464999996,-37.756355809600002,145.007146522]
[1701,2648.3361,107248.20912999999,-37.761831890899899,145.021495198]
[1702,1159.64978,121357.38641000002,-37.756424060400001,145.02237899299899]
[1703,1880.8539800000001,109710.30371000001,-37.761255320099899,145.032901667999]
[1704,2574.8178600000001,139609.33100000001,-37.762106467700001,145.039769347]
[1705,1829.1330499999999,176918.93663999997,-37.7612531219999,145.04715583000001]
[1706,1467.7159099999999,145959.48835999993,-37.763806802600001,145.050356061]
[1707,2808.5016599999999,74248.442939999994,-37.768173382100002,145.05200168299899]
[1708,2858.73056,68321.124529999986,-37.765164118000001,145.06187533299899]
[1709,3824.54871,286902.9304500001,-37.740127117,144.990136503]
[1710,2388.6789199999998,297323.2945800001,-37.736717460500003,145.005840898999]
[1711,309.27856000000003,198949.88034000003,-37.749408093900001,145.024257791]
[1712,295.46557999999999,98857.060690000013,-37.7529561525999,145.02456550599899]
[1713,2152.8628899999999,242780.85653000002,-37.743006299999898,145.012862525]
[1714,807.37316999999996,251020.98206000004,-37.7369723577999,145.01496632800001]
[1715,952.15274999999997,147764.26652999999,-37.753627409300002,145.042284653]
[1716,551.59997999999996,139737.27726,-37.7531541213,145.04797203499899]
[1717,864.04714999999999,145919.81163000001,-37.746194662400001,145.044599971]
[1718,2888.0050799999999,103512.01326000001,-37.744915112100003,145.05321919100001]
[1719,1238.1508200000001,121104.02169000001,-37.7535080136999,145.053247322999]
[1720,2598.4164599999999,95807.823669999983,-37.746517381300002,145.062307922]
[1721,2074.1235099999999,117575.63099000001,-37.754198717800001,145.067088963]
[1722,1303.6195,7675.0024899999999,-37.7495499119999,145.089093483]
[1723,2056.8289799999998,126851.18238,-37.7352701557,145.07113732100001]
[1724,1633.45255,100005.52146,-37.735177628599899,145.06314859]
[1725,2682.3105399999999,106211.30633000001,-37.734801234899898,145.04292718299899]
[1726,2928.9189299999998,196264.74845000001,-37.731438210500002,145.021167883]
[1727,2882.9746700000001,168852.78223000001,-37.729514719100003,145.01227383200001]
[1728,5292.1826099999998,75000.981809999968,-37.722163028099899,145.012060693]
[1729,5508.77718,196450.88178,-37.729986417500001,144.997016221]
[1730,1012.49919,57064.279230000007,-37.726727978699898,144.97369097000001]
[1731,3116.4674599999998,71090.011279999992,-37.715193892000002,144.97008807200001]
[1732,760.90452000000005,115298.64308000001,-37.711019893699898,144.99226066400001]
[1733,3164.7965800000002,199391.62991999998,-37.717601814799899,145.00199660499899]
[1734,3234.32879,149940.02935999996,-37.698706546300002,144.96306335200001]
[1735,1932.4655600000001,32723.748250000004,-37.699363671100002,144.99286999]
[1736,2205.0364100000002,119831.89531000001,-37.698345734,145.00488285500001]
[1737,4441.6789600000002,148710.88757000005,-37.703241685499897,145.01548441200001]
[1738,2774.4544700000001,150586.43704000002,-37.717803953900003,145.02439323300001]
[1739,4418.0582999999997,73116.578269999984,-37.704926243400003,145.07039105800001]
[1740,2912.1680500000002,49414.94644,-37.6952891303999,145.08204892500001]
[1741,1558.9999600000001,84768.21437999999,-37.696239467700003,145.038815806]
[1742,4591.4482799999996,93601.734880000004,-37.6922585529,145.05380011899899]
[1743,3746.2598499999999,38196.045850000002,-37.6703238351,145.03657993799899]
[1744,5650.8257800000001,48864.662189999988,-37.6715904546,145.02346196600001]
[1745,1873.73729,109844.01191,-37.6627859078,145.024651385]
[1746,2842.6758199999999,80376.840729999996,-37.671575766300002,145.01163693300001]
[1747,1762.8945100000001,81494.300309999991,-37.662253654200001,145.01215622500001]
[1748,9012.4202000000005,45776.127119999997,-37.672171999100001,144.99823251500001]
[1749,2949.3766999999998,12904.911410000001,-37.6734947733,144.965257393]
[1750,3472.8931200000002,108581.78042000001,-37.724693166900003,145.07544803900001]
[1751,5181.6652100000001,47966.89099,-37.724248289599899,145.093274366]
[1752,3962.41572,91981.575049999985,-37.7091139582,145.10002501599899]
[1753,1763.80062,129065.91267999999,-37.703095821200002,145.10054991600001]
[1754,373.04530999999997,51473.864419999998,-37.7275973206999,145.117151632]
[1755,3191.2953600000001,80337.943169999999,-37.718784632999899,145.117152285999]
[1756,4141.3463400000001,101316.17461999998,-37.7109767116999,145.123675499999]
[1757,2984.2780899999998,13419.88378,-37.692023045500001,145.13777928299899]
[1758,4051.0458100000001,42452.235810000013,-37.6927461577,145.121320779999]
[1759,1102.6718599999999,73766.477840000007,-37.696432918200003,145.095376547]
[1760,1777.39436,48033.403030000001,-37.697309758899898,145.08863264799899]
[1761,715.62693999999999,16797.256819999999,-37.683877196200001,145.08528496599899]
[1762,2922.7714799999999,51779.467190000003,-37.656674566500001,145.096870389]
[1763,3453.1172499999998,46425.243310000005,-37.663982621999899,145.067200679]
[1764,3173.3330700000001,43191.834260000003,-37.673895785299898,145.064608918]
[1765,1808.4168,62977.700040000003,-37.665354202099898,145.04203500099899]
[1766,8589.9790799999992,52613.101429999995,-37.656060178300002,145.047082297999]
[1767,5246.9136200000003,67203.680770000006,-37.649007380999898,145.040685059]
[1768,1137.71453,65252.092050000007,-37.729940952699899,145.126227489999]
[1769,758.03022999999996,4129.2503299999998,-37.9090322051999,144.65400754999899]
[1770,463.09160000000003,15719.257750000001,-37.9063314956,144.66204250600001]
[1771,131.75200000000001,42214.857669999998,-37.903473894500003,144.663013603]
[1772,1279.09968,22547.78887,-37.8923646422,144.68046830200001]
[1773,907.04641000000004,10612.719160000002,-37.901810822000002,144.674347084]
[1774,865.82848999999999,18835.935930000003,-37.902536934399897,144.66841204100001]
[1775,341.16275999999999,9063.988400000002,-37.905702418700002,144.67490447200001]
[1776,1084.5006699999999,11469.951090000002,-37.910032385400001,144.67431540300001]
[1777,1151.57033,16000.047690000001,-37.909671949299899,144.66811170899899]
[1778,190.61364,2442.84141,-37.907386316699899,144.649707855999]
[1779,1596.43985,9028.2047100000018,-37.9075090463,144.68251352799899]
[1780,2188.9587200000001,8083.3737299999993,-37.897818266199899,144.649083424]
[1781,887.16449999999998,9658.1368000000002,-37.9089185009,144.63048208800001]
[1782,2525.4075800000001,17423.447189999999,-37.8914474324,144.638226979]
[1783,2020.05927,17250.285010000003,-37.898128912899899,144.632932506]
[1784,1984.7866899999999,23207.336869999999,-37.8950230385,144.625220493999]
[1785,2050.0150899999999,20414.200359999995,-37.895614920699899,144.61876294800001]
[1786,1679.3738800000001,16391.810850000002,-37.884960245099897,144.62066502299899]
[1787,979.25522000000001,12240.094349999999,-37.8858864088999,144.612783812999]
[1788,1735.03125,6191.8871799999997,-37.880049702199898,144.61245659599899]
[1789,1584.5144499999999,27847.658950000008,-37.892988426400002,144.668399206]
[1790,144.76452,58263.905989999992,-37.898282966799897,144.65919280700001]
[1791,1073.77214,27235.810329999997,-37.895243541299898,144.654829261]
[1792,845.18755999999996,7099.2960500000008,-37.890293818000004,144.648297918]
[1793,1960.5001400000001,9177.8704899999993,-37.881408855099899,144.62759528999899]
[1794,2444.06549,25917.718900000003,-37.884849395899899,144.656791822]
[1795,1421.8209099999999,29233.950460000004,-37.879898507900002,144.65768845900001]
[1796,312.07062999999999,11915.461169999999,-37.882519796300002,144.645231201999]
[1797,484.24955,29282.000120000004,-37.884386137600004,144.665657869]
[1798,1082.24974,30988.004870000004,-37.8793480665,144.66605762]
[1799,1669.9932899999999,48122.554620000003,-37.8799587671,144.672204674]
[1800,684.13664000000006,59461.266489999995,-37.879801913500003,144.679572506]
[1801,1182.6496,26176.891620000002,-37.887136929500002,144.67099103499899]
[1802,1478.4338499999999,19342.276180000001,-37.8870573726999,144.67774968500001]
[1803,806.25918000000001,32578.153180000005,-37.887080482099897,144.684039939999]
[1804,1046.3476700000001,29487.889469999998,-37.880951736199897,144.68554678500001]
[1805,1401.2144000000001,49200.835610000009,-37.882638472399897,144.69165201499899]
[1806,633.26183000000003,72227.834890000027,-37.881351556399899,144.69814190100001]
[1807,1594.11877,25238.042480000004,-37.868708014699898,144.659019683]
[1808,2324.4846899999998,32163.837150000007,-37.873684245299899,144.65731021400001]
[1809,572.64764000000002,12071.664439999999,-37.877145825500001,144.661634448999]
[1810,1353.14455,38630.602619999998,-37.870882701699898,144.679025276999]
[1811,628.08912999999995,45719.301910000002,-37.865833143300001,144.683452458]
[1812,1834.93262,27190.615960000003,-37.865137773599898,144.67651215800001]
[1813,1494.47189,29553.654020000002,-37.8643418033,144.66945500700001]
[1814,1129.2237399999999,46030.269620000006,-37.871038001999899,144.66730948]
[1815,1309.9075600000001,46563.99682,-37.872831838400003,144.67164635200001]
[1816,2301.6247899999998,56196.489569999991,-37.8741634963,144.69801522700001]
[1817,2066.5504099999998,50529.145129999997,-37.8747837324999,144.688940957]
[1818,1422.1850300000001,44342.37614,-37.867053437899898,144.687866638999]
[1819,1425.76019,24616.068660000001,-37.859653493499899,144.692347189]
[1820,1297.8939399999999,40360.166439999986,-37.860988438100001,144.70062727499899]
[1821,511.93567000000002,16309.110799999999,-37.853884401599899,144.693874765999]
[1822,788.19281000000001,27077.676220000001,-37.8521180255999,144.700348211]
[1823,2197.5356900000002,31392.51424,-37.856027239600003,144.709280925]
[1824,1041.9050099999999,19312.58625,-37.847877660400002,144.71025724]
[1825,4111.8877700000003,24050.0903,-37.864125748100001,144.71166266399899]
[1826,2296.2144899999998,5723.5809900000004,-37.855918015900002,144.71981103900001]
[1827,3083.1681899999999,16864.069100000001,-37.872552986400002,144.708490565999]
[1828,34.256459999999997,86035.889870000014,-37.8797641361,144.70333051200001]
[1829,14.909739999999999,86035.889870000014,-37.882015984100001,144.70315227500001]
[1830,31.544550000000001,22899.7906,-37.875053046300003,144.716611669999]
[1831,1044.6079500000001,14905.36364,-37.856846462599897,144.68251885999899]
[1832,899.07083,17206.988429999998,-37.860142394199897,144.680206054]
[1833,2077.0581499999998,12984.375459999999,-37.857484683400003,144.67211018699899]
[1834,974.72023999999999,25009.173620000005,-37.852150512900003,144.67358678599899]
[1835,773.84184000000005,23282.774180000008,-37.848675110999899,144.67336893199899]
[1836,0,18650.845069999999,-37.873012862300001,144.747464984999]
[1837,3958.6999099999998,18017.58324,-37.8801332853999,144.74499576900001]
[1838,1091.1373900000001,21820.90351,-37.88202716,144.729832364]
[1839,711.43580999999995,21210.622309999995,-37.8774125943999,144.731646947999]
[1840,610.28120000000001,14658.922259999999,-37.880233284900001,144.72265350500001]
[1841,1158.5628400000001,15307.20275,-37.886448268199899,144.723077923999]
[1842,940.05915000000005,17816.244879999998,-37.887321145000001,144.72991895499899]
[1843,2339.0648999999999,9802.4494400000003,-37.893370050599898,144.72448033699899]
[1844,834.60019,16575.768919999999,-37.887992925100001,144.735442264]
[1845,1209.4268300000001,13906.43044,-37.894444047699899,144.73443380200001]
[1846,1265.0914,24468.741409999999,-37.889874036800002,144.741883524]
[1847,800.33032000000003,18392.474759999997,-37.8946676553999,144.739113557]
[1848,956.55451000000005,8810.1094499999999,-37.898055396700002,144.746714674999]
[1849,1351.6374499999999,23552.74769,-37.893805575499897,144.747965685]
[1850,1698.9044100000001,23514.869179999998,-37.888803632399899,144.749990994999]
[1851,0.1318,1.1102799999999999,-37.815281559799899,144.77808739400001]
[1852,3.1652,878.88048000000003,-37.829530919,144.773705785999]
[1853,0.80784999999999996,882.44392000000005,-37.832603332399898,144.781831823999]
[1854,2.7555900000000002,6.7316500000000001,-37.839441461600003,144.77534887799899]
[1855,0,2125.5949700000001,-37.828274205600003,144.81043111700001]
[1856,0,2128.3505600000003,-37.833090728199899,144.80185740100001]
[1857,8.4000000000000003E-4,2.7564300000000004,-37.838900961199897,144.78896790600001]
[1858,2.1700000000000001E-3,881.63824,-37.831420338500003,144.78959684]
[1859,0,0,-37.819622521699898,144.803036507]
[1860,0,0.94181999999999999,-37.821278983299898,144.791946306]
[1861,0,0,-37.825711236700002,144.804285553]
[1862,0,0.30025999999999997,-37.8057492724,144.77909619600001]
[1863,0,27278.471909999997,-37.809208416600001,144.812948283]
[1864,2.8210299999999999,3808.0720100000003,-37.8499326467999,144.720293580999]
[1865,746.19934000000001,5598.6016799999989,-37.856017530099898,144.72772809099899]
[1866,1.63073,27728.148629999996,-37.869877600599899,144.72944499600001]
[1867,14.251810000000001,34216.721770000004,-37.887294454200003,144.697750781]
[1868,225.93827999999999,29158.134529999996,-37.892676988300003,144.701905224]
[1869,172.23865000000001,2953.69686,-37.8992433218,144.690175608999]
[1870,295.89287000000002,15685.38026,-37.894632564399899,144.75295009300001]
[1871,0.16846,0.97848000000000002,-37.820210959500002,144.775280103]
[1872,0,28.72953,-37.812797817499899,144.755286154999]
[1873,0,0.19744,-37.816488292300001,144.75479859199899]
[1874,0.11784,11.734349999999999,-37.821827132099898,144.754092542]
[1875,0.11781,875.71528000000001,-37.815335679900002,144.764153236]
[1876,2.8329399999999998,878.48065999999994,-37.8226073278,144.763255504]
[1877,2.85121,878.49892999999997,-37.829714655799897,144.76232927300001]
[1878,2.8740899999999998,2.8740899999999998,-37.836854061799897,144.76126419600001]
[1879,0.11883000000000001,0.11883000000000001,-37.836171911500003,144.752066708]
[1880,0.11398,0.11398,-37.812386897000003,144.73756675600001]
[1881,0.11579,0.31323000000000001,-37.820422421700002,144.74573066599899]
[1882,0.15841,0.15841,-37.819679172000001,144.73666183399899]
[1883,2.83799,2.83799,-37.812151577500003,144.727578338999]
[1884,7.66106,7.66106,-37.819437008999898,144.726622410999]
[1885,5.7986500000000003,5.9144399999999999,-37.8351938164,144.740332545999]
[1886,12.928979999999999,12.928979999999999,-37.826817380000001,144.727470592]
[1887,39.250230000000002,5567.5380800000003,-37.834066775099899,144.72657696600001]
[1888,8.6003500000000006,8.6003500000000006,-37.842816751500003,144.740219008]
[1889,19.985779999999998,5890.1691199999996,-37.849566310299899,144.73852235300001]
[1890,1476.3744099999999,6849.0203800000008,-37.844283101800002,144.72794188200001]
[1891,2540.0830700000001,12774.98983,-37.8420291961,144.71649055500001]
[1892,571.24905999999999,8913.4224699999995,-37.837747405999899,144.70709116800001]
[1893,16.157299999999999,16.157299999999999,-37.845419660399898,144.752503609]
[1894,14.775259999999999,2675.9566399999999,-37.866233473100003,144.74580397400001]
[1895,501.75517000000002,3881.7468800000001,-37.863702383400003,144.72500091699899]
[1896,5.5720400000000003,5.5720400000000003,-37.811356488000001,144.71762483699899]
[1897,24.69436,24.69436,-37.818595944099897,144.71488811]
[1898,794.98942999999997,4395.7407699999994,-37.859299520199897,144.734572622999]
[1899,51.367310000000003,6776.3226799999993,-37.829640241900002,144.715784576999]
[1900,1134.5343800000001,8414.0700500000003,-37.838029085099897,144.700181681999]
[1901,101.48746,26491.743889999998,-37.8364324215,144.69363287600001]
[1902,1499.7294899999999,27023.076870000001,-37.842407567499897,144.702019401999]
[1903,2.0000000000000002E-5,32297.464899999999,-37.849417084499898,144.70457687000001]
[1904,458.87257,18729.553810000001,-37.847031887699899,144.704100006]
[1905,170.11541,26387.505010000001,-37.847170657100001,144.69994523099899]
[1906,1564.4464399999999,16526.135690000003,-37.846372798700003,144.69348965699899]
[1907,803.29738999999995,35677.530020000006,-37.840782395399899,144.692834027999]
[1908,741.86914999999999,11859.249180000001,-37.8373115732999,144.68571074299899]
[1909,350.51121000000001,18434.144120000004,-37.842963945599898,144.684390218999]
[1910,319.11031000000003,24319.892320000006,-37.845727382500002,144.676821566999]
[1911,398.92034000000001,20424.136160000002,-37.845180232099899,144.672307273]
[1912,534.96943999999996,9818.5759099999996,-37.840098618600003,144.673491453]
[1913,650.03223000000003,7415.539929999999,-37.840763261200003,144.677971477]
[1914,479.36664000000002,1792.4848500000001,-37.834721663400003,144.676979270999]
[1915,721.15449000000001,1850.3782299999998,-37.833392846199899,144.66788510999899]
[1916,433.14400999999998,10067.261689999999,-37.838657086200001,144.66832109999899]
[1917,146.65133,7935.7859099999987,-37.8381803973,144.66368787299899]
[1918,422.73205999999999,17612.914369999999,-37.8437798191,144.665408407999]
[1919,72.720650000000006,72.720650000000006,-37.834139037699899,144.65804150700001]
[1920,1811.2559100000001,2940.4796500000002,-37.841519274100001,144.656581421]
[1921,10.218540000000001,10.218540000000001,-37.8268143292999,144.65963112200001]
[1922,10.848990000000001,10.848990000000001,-37.827944836299899,144.66900389]
[1923,13.698560000000001,13.698560000000001,-37.829082615799898,144.67807171499899]
[1924,36.5304,4965.1237599999986,-37.8302870075999,144.68714572100001]
[1925,25.05912,6483.0637399999996,-37.8315092757,144.697923976]
[1926,7.4842300000000002,7.4842300000000002,-37.825164132399898,144.69645920900001]
[1927,20.171589999999998,20.171589999999998,-37.8229596551,144.68843999200001]
[1928,14.894780000000001,14.894780000000001,-37.821839905600001,144.67934098000001]
[1929,14.21687,14.21687,-37.820719413600003,144.67035398100001]
[1930,22.493279999999999,22.493279999999999,-37.8326799953999,144.64426437399899]
[1931,27.89425,27.89425,-37.8400222986999,144.64285062299899]
[1932,23.131399999999999,23.131399999999999,-37.8377201298999,144.624608491999]
[1933,1111.9251999999999,10395.531669999998,-37.8482820653999,144.656300018]
[1934,48.906640000000003,26410.388020000002,-37.853983227699899,144.663057966]
[1935,205.75281000000001,25423.2644,-37.858218731999898,144.662197158]
[1936,2866.16444,23956.331290000002,-37.8636480507,144.66086532200001]
[1937,63.989800000000002,11142.446619999999,-37.859504836500001,144.652108959999]
[1938,60.656579999999998,60.656579999999998,-37.8478661901,144.640214843]
[1939,97.957480000000004,97.957480000000004,-37.8588151672,144.640099128999]
[1940,31.318359999999998,7172.2115299999996,-37.872829662500003,144.630274482999]
[1941,26.901689999999999,7685.6389200000012,-37.875979861799898,144.62170871000001]
[1942,29.829989999999999,4648.148799999999,-37.870653102699897,144.619497733999]
[1943,54.458210000000001,2970.8050699999994,-37.861403373900004,144.61609581100001]
[1944,22.018969999999999,1814.1197499999998,-37.855722069899898,144.604869423]
[1945,0.33784999999999998,7609.8455600000007,-37.874226028199899,144.611595295999]
[1946,860.94195999999999,4209.3680699999995,-37.879254541999899,144.60393606400001]
[1947,253.81644,1933.1903200000002,-37.8834110698999,144.602108345999]
[1948,263.30412000000001,4209.3680699999995,-37.872717061899898,144.60542430199899]
[1949,416.76175999999998,446.92959999999999,-37.866141302899898,144.600838401]
[1950,1238.5630000000001,4154.9098599999998,-37.871287089200003,144.597659698999]
[1951,31.046710000000001,31.046710000000001,-37.8782822143,144.594937509]
[1952,36.749450000000003,36.749450000000003,-37.877151978599898,144.583530803]
[1953,38.99859,38.99859,-37.869700132699897,144.58536048100001]
[1954,44.475000000000001,44.475000000000001,-37.863706916399899,144.59193267699899]
[1955,4.4510199999999998,1683.8249000000001,-37.888683276199899,144.60341460800001]
[1956,1866.49542,6531.8526100000008,-37.893437067900003,144.61070834200001]
[1957,0.67022999999999999,0.67022999999999999,-37.8948636318,144.602330126]
[1958,15.56706,697.45060000000001,-37.900755692099899,144.608832922999]
[1959,10.569240000000001,10.569240000000001,-37.906246466600003,144.611841156]
[1960,26.12144,26.12144,-37.9077406854,144.602240233999]
[1961,11.083209999999999,11.083209999999999,-37.903160307999897,144.59086609600001]
[1962,39.213940000000001,39.213940000000001,-37.885902661099898,144.59144574800001]
[1963,38.770060000000001,38.770060000000001,-37.893296859400003,144.59072832300001]
[1964,1834.3502900000001,7071.1763799999999,-37.892670434499898,144.77119829]
[1965,1734.93526,1738.14228,-37.904359275200001,144.78599256300001]
[1966,157.86453,5394.6906199999994,-37.905052812599898,144.758185615999]
[1967,34.56474,34.56474,-37.9119294017,144.75726495500001]
[1968,1715.3769400000001,6952.2030299999997,-37.903650453300003,144.74897299700001]
[1969,1681.9662599999999,1681.9662599999999,-37.908073150100002,144.74003967300001]
[1970,1187.8963900000001,2282.2408000000005,-37.900784084500003,144.724467718]
[1971,1033.3374200000001,1033.3374200000001,-37.9078425667999,144.72612430800001]
[1972,25.826799999999999,25.826799999999999,-37.9041576037,144.71081203400001]
[1973,763.11087999999995,2379.4233999999997,-37.915349521000003,144.646552165]
[1974,49.201920000000001,9026.6829199999993,-37.863741019000003,144.73515834200001]
[1975,338.63425000000001,3981.45685,-37.859190077999898,144.744373059]
[1976,149.38560000000001,149.38560000000001,-37.860772451800003,144.751786116999]
[1977,12.389799999999999,12.389799999999999,-37.916701681500001,144.605911316]
[1978,0,0,-37.919717888900003,144.59357954000001]
[1979,0,0,-37.912491311899899,144.556490403]
[1980,0,0,-37.917150518900002,144.550509675]
[1981,2.94712,2.94712,-37.9292344485999,144.57240436000001]
[1982,2.94712,2.94712,-37.929772044499899,144.55306365800001]
[1983,2.7170999999999998,2.7170999999999998,-37.940144794600002,144.547871206]
[1984,2.94712,2.94712,-37.954324755899897,144.54661607200001]
[1985,8.0391499999999994,8.0391499999999994,-37.940748076299897,144.52077799700001]
[1986,17.682739999999999,17.682739999999999,-37.926478736,144.52529816200001]
[1987,2.94712,2.94712,-37.959582878900001,144.53286796]
[1988,2.7170999999999998,2.7170999999999998,-37.959596343100003,144.52304878300001]
[1989,487.25961999999998,487.25961999999998,-37.969107086900003,144.511272682]
[1990,50.101089999999999,50.101089999999999,-37.9527029724999,144.51205416400001]
[1991,150.30328,150.30328,-37.953207420299897,144.49361778700001]
[1992,8.1512899999999995,8.1512899999999995,-37.939547748000003,144.50900848500001]
[1993,5.3594400000000002,5.3594400000000002,-37.939238480999897,144.496563487999]
[1994,44.206850000000003,44.206850000000003,-37.920612066099899,144.491916495]
[1995,0,0,-37.933807604000002,144.590507379999]
[1996,2.94712,2.94712,-37.946647325100002,144.58625315]
[1997,0,0,-37.946117789900001,144.568726728999]
[1998,0,0,-37.960334109800002,144.558745786]
[1999,0,0,-37.936300594400002,144.57350154900001]
[2000,0,8038.7396300000009,-38.021017231999899,145.244558208]
[2001,0,5743.6133800000007,-38.015763535600001,145.23864691399899]
[2002,0,20804.735339999999,-38.011632730199899,145.24226423299899]
[2003,0,18247.270859999997,-38.026945860700003,145.21783609299899]
[2004,0,10235.872270000002,-38.028184919399898,145.225122564999]
[2005,0,23.46011,-38.030150326200001,145.23193558]
[2006,0,5743.6136600000009,-38.023586944400002,145.23736791100001]
[2007,0,0,-38.031987891500002,145.24085343300001]
[2008,0,20.116350000000001,-38.039294591800001,145.194901163]
[2009,6.1909900000000002,8756.7362100000009,-38.048871393200002,145.19757202900001]
[2010,50.237099999999998,8365.4233200000017,-38.063594167700003,145.19168222299899]
[2011,0,10218.640310000003,-38.037206919600003,145.221275104]
[2012,0,29.649850000000001,-38.037985368599898,145.234292689]
[2013,5.7439900000000002,5.7439900000000002,-38.044368017399897,145.235355723]
[2014,0,0,-38.0509959550999,145.235223821999]
[2015,5.7439900000000002,11.48798,-38.058222483199899,145.23401401500001]
[2016,5.7439900000000002,1408.47864,-38.056730658600003,145.220835929999]
[2017,5.7439900000000002,14712.802280000002,-38.055878131500002,145.21213136399899]
[2018,0,20683.401779999997,-38.049135590500001,145.21294625100001]
[2019,14.359970000000001,13092.19376,-38.042722054000002,145.21402353400001]
[2020,22.975950000000001,5768.418630000001,-38.046933448300003,145.22206653699899]
[2021,0,12270.480369999999,-38.0341633006,145.21474469399899]
[2022,495.80790999999999,98086.808499999999,-37.995651169200002,145.146811767]
[2023,2451.3665700000001,57502.233240000001,-38.000167674099899,145.14993817600001]
[2024,1396.1733200000001,47138.786680000012,-38.001846336900002,145.15759404900001]
[2025,20.647210000000001,14906.50398,-38.009826112699898,145.15592257200001]
[2026,41.976300000000002,9163.7417999999998,-38.010524307399898,145.16504127799899]
[2027,14.24356,43065.701740000011,-38.002524188199899,145.17651718400001]
[2028,327.22399999999999,23905.205549999999,-38.0031057859999,145.167384685]
[2029,1622.24046,93624.749519999998,-37.995900570099899,145.16883027700001]
[2030,727.63729999999998,12619.348080000002,-38.013225191099899,145.306413964999]
[2031,1986.0455400000001,24557.961170000002,-38.013205411000001,145.296808739]
[2032,2295.1259700000001,31565.805,-38.028932037600001,145.25775505300001]
[2033,4084.07503,30914.999090000005,-38.034888195699899,145.256636681999]
[2034,2866.40931,14424.62916,-38.041966782099898,145.25758209200001]
[2035,166.52907999999999,7659.0115000000005,-38.025973564300003,145.280355345]
[2036,1.239E-2,56519.416860000005,-38.001728408300004,145.21544118899899]
[2037,3535.17481,26685.23415,-38.056131948900003,145.27252166400001]
[2038,0,72379.598960000018,-38.002587861099897,145.220926416]
[2039,611.83705999999995,7884.8270200000006,-38.037394736800003,145.29733507]
[2040,2876.8275199999998,19216.093629999999,-38.046600638599898,145.29201028400001]
[2041,139.99011999999999,2731.9130399999999,-38.069453768300001,145.26021698900001]
[2042,1401.4845,8960.4988200000007,-38.059205361099899,145.247137283]
[2043,31.352370000000001,31.373640000000002,-38.083293384100003,145.24347352999899]
[2044,8.9778199999999995,2904.88427,-38.111217957100003,145.23772923000001]
[2045,0.41027999999999998,73717.209559999988,-38.108560482900003,145.28219333499899]
[2046,350.45679000000001,34687.538840000001,-37.995304158899899,145.31745320799899]
[2047,24.893550000000001,37046.616909999997,-38.022727801000002,145.309890731]
[2048,41.454189999999997,90459.574989999994,-38.038820157499899,145.336438227]
[2049,1688.38877,16447.698189999999,-38.0640614876,145.33236947500001]
[2050,0,11617.03428,-38.010673800699898,145.20463495800001]
[2051,801.63511000000005,49595.261370000007,-37.940731946699898,145.202593471]
[2052,3044.9606199999998,13623.126470000001,-38.051317601400001,145.251919818]
[2053,686.71491000000003,686.73617999999999,-38.074474998200003,145.243923155999]
[2054,1213.33581,1213.33581,-38.067307145800001,145.24544575600001]
[2055,2.1270000000000001E-2,23551.318719999996,-38.0781352164,145.26091657800001]
[2056,438.48944999999998,2732.0290999999997,-38.063139333700001,145.263324802]
[2057,0.60213000000000005,30348.949349999995,-38.0741479235,145.301997067]
[2058,52.243630000000003,57466.390410000007,-38.0677509235,145.30031928899899]
[2059,361.22035,20949.657909999998,-38.0809077551,145.30170010699899]
[2060,10.02117,10.02117,-38.0926053524,145.322530658999]
[2061,2411.6366400000002,14183.019160000002,-38.104394983399899,145.29726210600001]
[2062,685.80619000000002,5974.0965400000005,-38.104312648300002,145.306344935]
[2063,842.32304999999997,842.32304999999997,-38.1112600571999,145.30541027300001]
[2064,255.24,255.24,-38.109348531099897,145.312987109999]
[2065,3.5124300000000002,3.5124300000000002,-38.107133083100003,145.32594271599899]
[2066,315.31360000000001,1289.37564,-38.114240443100002,145.302710808]
[2067,65.745590000000007,4759.5241100000003,-38.111158248599899,145.295323809]
[2068,91.245189999999994,118.62307999999999,-38.120661124199898,145.320607413]
[2069,1.617E-2,14424.62916,-38.042442809199898,145.249384585]
[2070,1.6149100000000001,65486.241839999988,-38.0188939811,145.299160589]
[2071,0.31108999999999998,102172.14581000002,-38.022606055099899,145.30501372200001]
[2072,24.426220000000001,49827.65681,-38.025496525599898,145.31483882200001]
[2073,17.507090000000002,17.507090000000002,-38.129074408400001,145.315912844]
[2074,1585.56141,35000.587589999996,-38.121070247799899,145.255451755]
[2075,2.99261,227.44062,-38.135666151999899,145.27550875399899]
[2076,32.918669999999999,36.242149999999995,-38.147183821699898,145.280375577999]
[2077,4.8848000000000003,8.2082800000000002,-38.102257358499898,145.239550694]
[2078,2.4424000000000001,5.7658800000000001,-38.099400263900002,145.24966237000001]
[2079,3227.67668,14331.546610000001,-38.091783453300003,145.262321028]
[2080,2962.0710199999999,14982.27102,-38.0989832562,145.260820365999]
[2081,2460.58295,44996.790539999995,-38.1064337217,145.259406232999]
[2082,366.96526999999998,57559.103050000012,-38.058847253700002,145.303985732999]
[2083,3303.0336600000001,31768.84216,-38.066917722200003,145.30715239899899]
[2084,1827.5828100000001,26059.336339999998,-38.059409669600001,145.31289343399899]
[2085,3226.5202800000002,38664.061779999989,-38.064352216300001,145.31905852]
[2086,892.52520000000004,892.52520000000004,-38.070146915400002,145.32690030699899]
[2087,18.707080000000001,9353.939510000002,-38.112398391600003,145.291859182]
[2088,1181.39672,1941.57528,-37.928750598999898,145.44778756599899]
[2089,1052.18894,1812.3674999999998,-37.912561588499898,145.480976973]
[2090,760.17855999999995,7147.2666100000006,-37.928645657099899,145.47486091600001]
[2091,662.70065999999997,662.70065999999997,-37.937684426799898,145.465013094]
[2092,709.03929000000005,1679.2433500000002,-37.960186614800001,145.52547322000001]
[2093,569.54138999999998,569.54138999999998,-37.910988820299899,145.53952060399899]
[2094,970.20406000000003,3241.7304800000002,-37.9522496027,145.55151300200001]
[2095,635.87757999999997,635.87757999999997,-38.015993802499899,145.590426038999]
[2096,431.39121999999998,431.39121999999998,-38.0204447837,145.68257877600001]
[2097,5.6500599999999999,5.6500599999999999,-38.076327875700002,145.554556711]
[2098,398.15275000000003,16661.245739999998,-38.0757353845,145.476508932]
[2099,8.8800000000000007E-3,4454.3401199999998,-38.0720834125,145.47011655099899]
[2100,1413.80296,10571.879269999998,-38.070412189700001,145.498953951]
[2101,907.13655000000006,8992.155639999999,-38.068704332300001,145.486711587999]
[2102,907.50597000000005,907.50597000000005,-38.0246204351999,145.393755548]
[2103,226.84266,226.84266,-38.024479683899898,145.41913474500001]
[2104,551.44794000000002,551.44794000000002,-38.169886181800003,145.438045034]
[2105,344.20015000000001,344.20015000000001,-38.175584059899897,145.52426972699899]
[2106,385.26956999999999,385.26956999999999,-38.226246298900001,145.57551983900001]
[2107,258.81074000000001,258.81074000000001,-38.270316352400002,145.65524110300001]
[2108,395.48457000000002,395.48457000000002,-38.196215367599898,145.61171894200001]
[2109,240.35561000000001,240.35561000000001,-38.152292634799899,145.64901160100001]
[2110,370.99101999999999,370.99101999999999,-38.145525461200002,145.716206255999]
[2111,999.75467000000003,999.75467000000003,-37.992904155799899,145.40029008100001]
[2112,229.12936999999999,229.12936999999999,-38.054126190799899,145.58715017]
[2113,437.33330999999998,437.33330999999998,-38.034536066599898,145.60267538400001]
[2114,16.802689999999998,16.802689999999998,-38.060794032099899,145.638695337]
[2115,47.60763,47.60763,-38.062114617600002,145.665610310999]
[2116,137.42534000000001,137.42534000000001,-38.0643568027999,145.69521183800001]
[2117,25.204070000000002,25.204070000000002,-38.0740401001,145.746166112]
[2118,36.406579999999998,36.406579999999998,-38.0628220794,145.728287026]
[2119,8.4750800000000002,8.4750800000000002,-38.076834765000001,145.58458973]
[2120,338.90969000000001,338.90969000000001,-38.129759796099897,145.570832768999]
[2121,34.42051,34.42051,-38.093629166200003,145.583404952]
[2122,66.193299999999994,66.193299999999994,-38.092613122899898,145.55315164300001]
[2123,107.74451000000001,107.74451000000001,-38.075372060500001,145.57057237000001]
[2124,60.873510000000003,60.873510000000003,-38.075585938000003,145.606835359]
[2125,55.209350000000001,55.209350000000001,-38.079193328999899,145.653522587]
[2126,72.99136,1553.6015722955967,-38.088485413500003,145.630431899]
[2127,295.26736,295.26736,-38.113534344900003,145.635426892]
[2128,73.048209999999997,73.048209999999997,-38.091790482900002,145.65129357000001]
[2129,1144.83914,2360.7455859907313,-38.0876035147,145.677471228999]
[2130,132.11868999999999,1480.6102122955967,-38.095506045100002,145.678001515999]
[2131,290.97403000000003,290.97403000000003,-38.110195566999899,145.696630586]
[2132,67.42568,67.42568,-38.085300716699898,145.73682201400001]
[2133,98.077749999999995,98.077749999999995,-38.0843173329,145.698670846]
[2134,79.994370000000004,769.05710229559679,-38.1000680520999,145.716915032]
[2135,450.54005000000001,450.54005000000001,-38.088778954799899,145.72353534000001]
[2136,659.42879000000005,4613.2118687356387,-38.095656227900001,145.72680682000001]
[2137,388.53762999999998,3940.4294200000004,-38.049424703,145.37986675100001]
[2138,2174.3964700000001,3555.27385,-38.0419704165,145.375458544]
[2139,64.860990000000001,64.860990000000001,-38.042297661299898,145.397137797]
[2140,365.96512000000001,3917.8569100000004,-38.050125986799898,145.38297435600001]
[2141,2.9293300000000002,1258.9915800000001,-38.0468803776999,145.39393718700001]
[2142,5.80274,5.80274,-38.048446119300003,145.399630430999]
[2143,17.082000000000001,17.082000000000001,-38.049097778499899,145.40488204100001]
[2144,133.96531999999999,133.96531999999999,-38.0407750249,145.41165199899899]
[2145,99.052819999999997,99.052819999999997,-38.028049515500001,145.47556138100001]
[2146,150.78576000000001,150.78576000000001,-38.049192980400001,145.55089807300001]
[2147,117.67761,117.67761,-38.046900253899899,145.44335703300001]
[2148,37.966659999999997,4188.6859100000001,-38.0545874220999,145.45583365799899]
[2149,27.468599999999999,27.468599999999999,-38.051993742400001,145.429827523]
[2150,13.26327,1752.1907700000002,-38.059302236299899,145.434973509]
[2151,84.484819999999999,84.484819999999999,-38.030608598900002,145.44543277400001]
[2152,87.502129999999994,87.502129999999994,-38.039152877100001,145.443744998]
[2153,176.12225000000001,698.11959000000002,-38.0581035465,145.516614285]
[2154,13.59587,13.59587,-38.052001563799898,145.41934029000001]
[2155,19.034220000000001,19.034220000000001,-38.051306542100001,145.41440344399899]
[2156,42.375419999999998,9814.9680800000024,-38.063877252799898,145.41102327900001]
[2157,0,10212.604520000003,-38.068430285600002,145.41563718699899]
[2158,26.281199999999998,26.281199999999998,-38.075814101799899,145.38538950700001]
[2159,970.73584000000005,4218.7779500000006,-38.0583333639999,145.38354277400001]
[2160,13.606450000000001,17914.54909,-38.055153233299897,145.37769783799899]
[2161,105.09412,3335.7274299999999,-38.063876968999899,145.380500971]
[2162,31.733550000000001,24778.413130000001,-38.055202132300003,145.371254878999]
[2163,1423.1046699999999,3526.1548099999995,-38.0559406815999,145.471714967]
[2164,403.01033999999999,11800.527459999999,-38.067898089899899,145.481980252]
[2165,526.88798999999995,4716.3765000000003,-38.067080169299899,145.47199975300001]
[2166,521.99734000000001,12106.649350000002,-38.064287091200001,145.49860028800001]
[2167,735.30508999999995,5284.7088400000002,-38.057081984200003,145.494346952999]
[2168,372.67878000000002,417.73518999999999,-38.056157277300002,145.482436105999]
[2169,2.7191700000000001,1844.3091700000004,-38.061167288299899,145.39992078]
[2170,42.68591,42.68591,-38.0730303956,145.43716409000001]
[2171,1919.64111,8651.8747600000006,-38.070122873099898,145.454437181]
[2172,12.23527,12.23527,-38.0802308174,145.424696823999]
[2173,8.7373100000000008,8.7373100000000008,-38.0736951555999,145.430418272]
[2174,670.25648000000001,2268.7198600000002,-38.073534518400002,145.46308076899899]
[2175,362.33147000000002,3812.0793199999994,-38.076370102699897,145.47220066200001]
[2176,914.35064,7072.6865200000002,-38.076227291899897,145.49737336600001]
[2177,539.96816000000001,14948.353809999999,-38.0748063359,145.484802935]
[2178,41.660150000000002,41.660150000000002,-38.072455511400001,145.527987018]
[2179,0,0,-38.094215858600002,145.475401543]
[2180,2.8250299999999999,2.8250299999999999,-38.107629299700001,145.481954981]
[2181,8.1039399999999997,8.1039399999999997,-38.094375653999897,145.459705197999]
[2182,1087.7038399999999,3866.1359099999995,-38.087328521499899,145.46315571900001]
[2183,113.45522,113.45522,-38.1308126055999,145.46942450399899]
[2184,1262.6603,6138.2576999999992,-38.083983710299897,145.47636813400001]
[2185,104.2878,104.2878,-38.126855928399898,145.409067972]
[2186,5.34809,5.34809,-38.1014804665,145.412398612999]
[2187,105.35127,105.35127,-38.133874484700002,145.52104273699899]
[2188,58.82902,58.82902,-38.126658417900003,145.43986046000001]
[2189,67.532870000000003,67.532870000000003,-38.127806141900003,145.49829546999899]
[2190,2.7355800000000001,2.7355800000000001,-38.097260050499898,145.50532028000001]
[2191,516.78534000000002,37442.86737,-38.0541499254999,145.36396172900001]
[2192,0,4288.0432000000001,-38.0713275889999,145.37206207700001]
[2193,162.48212000000001,52439.735190000007,-37.597747136400002,144.940494126999]
[2194,1251.1294499999999,49663.052920000009,-37.602976067,144.940240023]
[2195,121.31233,21880.471230000003,-37.591042497899899,144.914602293999]
[2196,4.0000000000000003E-5,75997.290279999972,-37.644242635399898,144.93181150199899]
[2197,0.31359999999999999,70242.354849999989,-37.646177025500002,144.93546102400001]
[2198,25.071770000000001,72220.20024999998,-37.680114316999898,144.916914021]
[2199,205.81376,205.81376,-37.567781957999898,144.863189906999]
[2200,6.1654499999999999,6.1654499999999999,-37.524104802499899,144.901767468999]
[2201,0,0,-37.5311823754,144.89880228800001]
[2202,0,0,-37.5312844093,144.9147079]
[2203,0,0,-37.531586699199899,144.937256835]
[2204,0,0,-37.520614586000001,144.96941709199899]
[2205,2.8370000000000002,2.8370000000000002,-37.533113371699898,144.963434533]
[2206,442.77116000000001,442.77116000000001,-37.5565669962999,144.89216193799899]
[2207,5.8E-4,5.8E-4,-37.545841785999897,144.93483625600001]
[2208,6.1894600000000004,6.1894600000000004,-37.540325044100001,144.89265114099899]
[2209,22.56035,22.56035,-37.563681778499898,144.953069040999]
[2210,124.11987000000001,124.11987000000001,-37.600936471799898,144.871239522]
[2211,44.250709999999998,5096.9207400000005,-37.625458557499897,144.87643164900001]
[2212,39.471130000000002,39.471130000000002,-37.583581150999898,144.885575284]
[2213,3518.9841799999999,16289.52959,-37.585012538800001,144.907875811]
[2214,3306.8971799999999,24036.114860000001,-37.604246642200003,144.90890318199899]
[2215,353.86149,5406.5315200000005,-37.628579052100001,144.887665408999]
[2216,189.03158999999999,189.03158999999999,-37.622706072299898,144.91258458900001]
[2217,5097.0679,24905.148440000001,-37.6263131101,144.93116662200001]
[2218,14.304930000000001,176.78705000000002,-37.536160440700002,144.979844896]
[2219,26.707370000000001,189.18949000000001,-37.539472643700002,144.97001847000001]
[2220,5.9349699999999999,168.41709,-37.549709915500003,144.987545802]
[2221,25.794250000000002,25.794250000000002,-37.5482276826,144.96465885999899]
[2222,2.6301000000000001,1416.2416700000001,-37.6032400661,144.948091014]
[2223,171.36569,5224.0357199999999,-37.644113699899897,144.876363441]
[2224,1515.97578,16268.740389999999,-37.707289114799899,144.552312204999]
[2225,618.45817999999997,32113.736700000001,-37.687114571099897,144.559572105]
[2226,545.98932000000002,545.98932000000002,-37.7012676429,144.541664666999]
[2227,3537.9580099999998,3537.9580099999998,-37.679114423900003,144.54621627]
[2228,43.8932,43.8932,-37.696655201699897,144.527298465]
[2229,73.703710000000001,73.703710000000001,-37.677675293199897,144.52793619299899]
[2230,3762.2797500000001,4735.1661800000002,-37.6655367332,144.56449590700001]
[2231,31.523610000000001,31.523610000000001,-37.656195410800002,144.56256613400001]
[2232,17.018920000000001,7967.3076299999993,-37.656251531199899,144.577628379]
[2233,1332.2329,33573.269970000001,-37.687439967899898,144.573006018999]
[2234,1368.0432599999999,20875.56594,-37.697737565399898,144.578734588]
[2235,38.987749999999998,38.987749999999998,-37.720042241999899,144.608185177]
[2236,13.924200000000001,13.924200000000001,-37.705798794099898,144.61110371300001]
[2237,46.659239999999997,5671.4185000000007,-37.701656675099898,144.59235012100001]
[2238,680.12802999999997,11694.99872,-37.690629135400002,144.59496313700001]
[2239,42.918790000000001,42.918790000000001,-37.747456213699898,144.639941096999]
[2240,5804.3233799999998,32457.306550000001,-37.716648482300002,144.759649967999]
[2241,2751.3416699999998,29878.48055,-37.730412442899897,144.74489821200001]
[2242,4170.1359599999996,18555.149249999999,-37.715968772300002,144.74731387400001]
[2243,2639.98785,17930.980879999999,-37.728977965299897,144.73485523100001]
[2244,3237.1504500000001,3237.1504500000001,-37.711736997099898,144.735989918999]
[2245,43.002429999999997,43.002429999999997,-37.741522003699899,144.71595701499899]
[2246,57.23357,57.23357,-37.710276832799899,144.72669455900001]
[2247,33.718470000000003,11528.65698,-37.705473225799899,144.719744437999]
[2248,38.105359999999997,38.105359999999997,-37.710050747700002,144.70989267100001]
[2249,31.685780000000001,31.685780000000001,-37.708561503799899,144.698346676]
[2250,18.695869999999999,9561.4225800000004,-37.639071868599899,144.93280681300001]
[2251,0,98798.498579999956,-37.644729997900001,144.93924570300001]
[2252,5.1999999999999995E-4,112854.96442999995,-37.6396962801999,144.93900022]
[2253,3741.7055799999998,6281.9892999999993,-37.659863947300003,144.593706008]
[2254,587.92106999999999,5016.5964599999988,-38.089208509499898,145.476204008]
[2255,0,8181.1008400000001,-38.088369480799898,145.49582347200001]
[2256,0,3446.6826399999995,-38.0985210873,145.494735746]
[2257,2.0973899999999999,18588.583150000002,-38.0818659725999,145.48933704500001]
[2258,7.7303199999999999,17395.521089999998,-38.084326309399898,145.488671358999]
[2259,2.8250299999999999,2.8250299999999999,-38.102570552899898,145.460180165]
[2260,21.472249999999999,21.472249999999999,-38.0852062340999,145.44023741999899]
[2261,0,13279.983669999998,-38.0636832048,145.45661865599899]
[2262,0,9861.4976199999983,-38.065511333700002,145.45992332700001]
[2263,9.4299999999999991E-3,2231.0875699999997,-38.057931990199897,145.461856818999]
[2264,3.13496,5867.1637199999986,-38.059868478600002,145.45230183499899]
[2265,5.1121800000000004,5.1121800000000004,-38.0529778683999,145.44025310000001]
[2266,121.68331999999999,1197.1830700000005,-38.0581862206,145.42898550199899]
[2267,1.44628,20077.967010000004,-38.0678827837,145.41025096800001]
[2268,1.30454,16327.679890000005,-38.066759562000001,145.404540865]
[2269,5.5004600000000003,5.5004600000000003,-38.087400692700001,145.41281011000001]
[2270,14.18121,14.18121,-38.084921106499898,145.391604438999]
[2271,4.8561300000000003,4.8561300000000003,-38.079494006700003,145.411259965]
[2272,0,0,-38.096718798600001,145.42717956600001]
[2273,6.7837899999999998,6.7837899999999998,-38.086197504700003,145.426314512]
[2274,17.779969999999999,17.779969999999999,-38.084998460100003,145.35246553900001]
[2275,1220.0683100000001,19668.340570000004,-38.0449075812,145.36010507500001]
[2276,1021.562,29360.960009999999,-38.006494695100002,145.29588634800001]
[2277,934.82138999999995,934.82138999999995,-37.994154559400002,145.28160114900001]
[2278,0,37502.664570000008,-38.017025844700001,145.258415713999]
[2279,4.47E-3,53941.541569999994,-38.019752189199899,145.27879904900001]
[2280,195.35479000000001,81143.445589999959,-38.012633299199898,145.274200108999]
[2281,5.8310000000000001E-2,16991.630860000005,-38.022213941700002,145.291055132]
[2282,2.1289899999999999,56524.139379999979,-38.020426542800003,145.294069312999]
[2283,1.5930200000000001,141170.35347000006,-38.026842133000002,145.304909111]
[2284,0.48031000000000001,0.48031000000000001,-38.100565805999899,145.326424492999]
[2285,8.5379000000000005,66411.745409999989,-38.095509280199899,145.28358695700001]
[2286,1146.4404,3064.8252899999993,-38.0854907461,145.27316730300001]
[2287,1275.9281900000001,35187.6829,-38.093820200700002,145.27185111200001]
[2288,7.6319999999999999E-2,49148.70392,-38.098819474700001,145.281265676]
[2289,1178.5745300000001,39798.80906,-38.101328106799897,145.28810387799899]
[2290,11.993869999999999,51821.813160000005,-38.103972250699897,145.28541233000001]
[2291,897.62298999999996,25417.294709999998,-38.108948389799899,145.28706659900001]
[2292,293.01299,30343.594879999997,-38.097512242100002,145.28782408199899]
[2293,71.979929999999996,37174.492109999999,-38.1157900372,145.28704051899899]
[2294,26.93683,1522.4710700000001,-38.132524695100003,145.299898106]
[2295,48.771709999999999,48.771709999999999,-38.006366484799898,145.344968142]
[2296,2892.92911,22630.006309999997,-38.022244344400001,145.321324457999]
[2297,647.74483999999995,8928.4772900000007,-37.979893759699898,145.32224588400001]
[2298,2651.2826700000001,13596.324740000002,-38.0137088846,145.31405186200001]
[2299,4838.4091799999997,39154.478200000005,-37.969736236400003,145.246802597]
[2300,3.6117499999999998,1837.6418600000002,-37.951128438700003,145.27322231900001]
[2301,99.275030000000001,99.275030000000001,-37.993701590299899,145.27341403200001]
[2302,17.40926,45009.386930000001,-37.999857157800001,145.233941128]
[2303,1109.9292499999999,4568.6930000000002,-38.135253701400003,145.29043947100001]
[2304,1816.91119,19465.940939999997,-38.117731628199898,145.267391269]
[2305,0,42754.366419999998,-38.120702758100002,145.244540110999]
[2306,2.99261,11996.572200000002,-38.0903622652,145.251429352999]
[2307,5.9852100000000004,5.9852100000000004,-38.0926037824999,145.241339189999]
[2308,5.9663599999999999,8345.830100000001,-38.113331383400002,145.246977327]
[2309,179.86758,179.86758,-38.105458835599897,145.31966110299899]
[2310,12.45092,39.981550000000006,-38.113954208700001,145.318604083]
[2311,3.32348,87035.684199999989,-38.109666659200002,145.284096043999]
[2312,22.872949999999999,71067.748759999988,-38.111965963400003,145.284014455999]
[2313,2551.5600100000001,37230.066279999999,-38.100994628800002,145.274465486]
[2314,1562.8083099999999,57810.157100000004,-38.093489246300003,145.27783729199899]
[2315,1606.7321099999999,8459.0535900000013,-38.093724381599898,145.28827346]
[2316,1.22282,63338.653510000004,-38.086207510000001,145.279382443999]
[2317,1526.1535699999999,1526.1535699999999,-38.099122348599899,145.314562564]
[2318,3.7563499999999999,7223.7465500000017,-38.091416804399898,145.30787777500001]
[2319,412.40442999999999,412.40442999999999,-38.082595227399899,145.31488189000001]
[2320,1046.8116299999999,20081.48515,-38.075618159000001,145.31386812]
[2321,2077.2231499999998,37092.90830000001,-38.0781900088,145.27897796100001]
[2322,2061.5007900000001,37903.914819999998,-38.0699650038,145.27337448399899]
[2323,2022.1443200000001,19669.748369999998,-38.072977201599898,145.29287316899899]
[2324,1622.2508700000001,14204.013080000001,-38.049715548899897,145.2610257]
[2325,2512.16626,40696.751250000001,-38.040756252800001,145.270829781999]
[2326,2587.0522099999998,18068.757160000001,-38.0434492969,145.280387625]
[2327,606.14790000000005,67406.613669999992,-38.026415240699897,145.27160649000001]
[2328,927.35830999999996,66163.481409999978,-38.016368967299897,145.28796403300001]
[2329,135.68735000000001,102062.73220000001,-38.029210871099899,145.303711658]
[2330,9.4100000000000003E-2,71129.754329999982,-38.035642419799899,145.303722096]
[2331,176.46529000000001,16515.731400000001,-38.043217736300001,145.29489322000001]
[2332,3371.7814699999999,34828.074709999994,-38.062868623699899,145.285873866999]
[2333,4011.2154599999999,56761.959439999999,-38.058104252299898,145.29325697799899]
[2334,1517.2809500000001,56427.45493,-38.066741251400003,145.294216812999]
[2335,1770.32628,31197.549320000002,-38.050458884000001,145.287775173]
[2336,3187.4475600000001,35258.11623,-38.050139393999899,145.31121989100001]
[2337,3912.28053,18581.866699999999,-38.0442323434999,145.329602045999]
[2338,221.65685999999999,28147.019849999997,-37.998070349700001,145.29211591999899]
[2339,370.45472999999998,370.45472999999998,-37.994345383899898,145.29063126099899]
[2340,568.95192999999995,4530.9799199999998,-37.981805305999899,145.284088260999]
[2341,286.33152999999999,286.33152999999999,-37.983684195099897,145.302979706]
[2342,221.34491,31965.279449999998,-37.993516593199899,145.309382664]
[2343,2117.2777599999999,28742.352609999994,-38.001979387299897,145.308493347]
[2344,89.966189999999997,89.966189999999997,-37.972779643099898,145.30284702700001]
[2345,1526.3002799999999,48631.047900000005,-37.9848303538,145.244046822999]
[2346,3502.53703,7464.56502,-37.9823561762,145.272357976]
[2347,3.2088399999999999,54145.426120000004,-37.977053914300001,145.2594062]
[2348,1123.1627100000001,1837.6418600000002,-37.959233093599899,145.27733722100001]
[2349,1924.27152,13506.136490000001,-38.020023009299898,145.33249542900001]
[2350,886.84592999999995,58848.991810000014,-38.0281425607999,145.34270806999899]
[2351,1552.77089,32909.484510000002,-38.0123282116,145.325794884]
[2352,3430.7247900000002,34853.283620000002,-38.0026453057,145.317727402]
[2353,1855.943,9230.2328300000008,-38.014049857800003,145.33448697399899]
[2354,339.22809999999998,5548.2122200000003,-38.012827421700003,145.340289869999]
[2355,95.925870000000003,95.925870000000003,-38.004027257600001,145.338804216]
[2356,310.24173000000002,310.24173000000002,-38.0002006709,145.34457785000001]
[2357,17.142880000000002,17.142880000000002,-38.002915798099899,145.33124001600001]
[2358,896.44304999999997,28626.047219999997,-38.006615903899899,145.32451698200001]
[2359,261.30077999999997,261.30077999999997,-37.9885030810999,145.32692302300001]
[2360,294.68900000000002,12338.646190000001,-37.984322612600003,145.314483497]
[2361,1290.2989500000001,6962.8965800000005,-37.992599461300003,145.32352113799899]
[2362,190.11104,190.11104,-37.985350631800003,145.366959571]
[2363,1437.9999399999999,11907.402530000001,-38.029138162199899,145.35239503099899]
[2364,523.98233000000005,10006.924060000001,-38.0183523161,145.34941076600001]
[2365,3.06778,3.06778,-38.018846156199899,145.372160355999]
[2366,4.0000000000000003E-5,4.0000000000000003E-5,-38.029717694699897,145.37128517100001]
[2367,735.23703999999998,74372.545649999985,-38.0358396747,145.347006397]
[2368,3243.0886500000001,15678.97768,-38.052212062499898,145.348026154]
[2369,1728.9861699999999,22391.338220000001,-38.067452088400003,145.341255209]
[2370,1721.3212799999999,19923.728149999999,-38.065479446799898,145.351428148]
[2371,2.99281,8258.1288000000004,-38.068959268199897,145.36120260000001]
[2372,11.79655,11.79655,-38.086033802899898,145.37256276700001]
[2373,206.49215000000001,206.49215000000001,-38.134613070599897,145.32939432800001]
[2374,81.419479999999993,84.742959999999997,-38.140632418099898,145.314590533999]
[2375,78.510480000000001,78.510480000000001,-38.158887906899899,145.38631011800001]
[2376,522.89811999999995,526.22159999999997,-38.158624987899898,145.304250956]
[2377,186.87203,186.87203,-38.152898423800004,145.23469662100001]
[2378,118.10473,118.10473,-38.164558539300003,145.23247524600001]
[2379,512.78030999999999,512.78030999999999,-38.160636749399899,145.252511271]
[2380,489.14168999999998,489.14168999999998,-38.170285309299899,145.302149907]
[2381,306.40861000000001,306.40861000000001,-38.210852046600003,145.23338752199899]
[2382,847.40291000000002,847.40291000000002,-38.200179544800001,145.23827198199899]
[2383,531.88089000000002,531.88089000000002,-38.205482058999898,145.23745495]
[2384,973.49859000000004,973.49859000000004,-38.200868022000002,145.232380955]
[2385,211.77601000000001,211.77601000000001,-38.193062227799899,145.225900803]
[2386,271.64634000000001,271.64634000000001,-38.187349088200001,145.247788902]
[2387,30.27505,30.27505,-38.204398934399897,145.331733531]
[2388,619.69533999999999,619.69533999999999,-38.208820827799897,145.310756285]
[2389,537.83515999999997,537.83515999999997,-38.224020815899898,145.31114425499899]
[2390,1327.7813200000001,1327.7813200000001,-38.214611697300001,145.338928288999]
[2391,22.074179999999998,22.074179999999998,-38.228863306900003,145.325167722]
[2392,595.87801000000002,595.87801000000002,-38.1896516316,145.36915068299899]
[2393,305.01605999999998,305.01605999999998,-38.212122286800003,145.376126935999]
[2394,207.27198999999999,207.27198999999999,-38.2043216589,145.388050795]
[2395,32.105020000000003,32.105020000000003,-38.2199447003999,145.40382119]
[2396,115.76558,115.76558,-38.201726756299898,145.44456419599899]
[2397,629.49509,629.49509,-38.203089133399899,145.487595556999]
[2398,102.1384,102.1384,-38.172571899799898,145.489804835]
[2399,341.00605000000002,341.00605000000002,-38.263803985700001,145.573143407]
[2400,82.577470000000005,82.577470000000005,-38.263676866799898,145.519736475999]
[2401,84.293980000000005,84.293980000000005,-38.299439337400003,145.576444181]
[2402,177.61243999999999,177.61243999999999,-38.222149798399897,145.67435594]
[2403,43.765709999999999,43.765709999999999,-38.2196322223,145.468846813]
[2404,29.615739999999999,29.615739999999999,-38.236393551200003,145.527805263]
[2405,189.24274,189.24274,-38.164325054499898,145.56549880200001]
[2406,68.415890000000005,68.415890000000005,-38.192648215200002,145.53582141000001]
[2407,155.36894000000001,155.36894000000001,-38.1763875454999,145.62872187100001]
[2408,8.4750800000000002,8.4750800000000002,-38.079535116800002,145.533019833]
[2409,8.4750800000000002,8.4750800000000002,-38.069712597100001,145.55277781000001]
[2410,8.4750800000000002,8.4750800000000002,-38.107859463099899,145.423359694]
[2411,5.1156800000000002,1167.5592900000001,-38.0631566315,145.515603615]
[2412,640.44627000000003,10914.162469999999,-38.0637057828,145.493333393]
[2413,128.02799999999999,5802.8320199999998,-38.0623120907999,145.46823259600001]
[2414,3.5849099999999998,412.25063999999998,-38.041636451000002,145.388056232]
[2415,1472.1993,14272.199599999998,-38.0805649558,145.496557502]
[2416,2.79636,2.79636,-38.076378294800001,145.50524457]
[2417,884.13432999999998,884.13432999999998,-38.0005866764999,145.412595622]
[2418,1317.67365,5316.6155799999988,-38.081385387600001,145.468508950999]
[2419,0,6614.0104199999996,-38.085274788900001,145.470920054]
[2420,936.22675000000004,14036.648069999999,-38.080694506999897,145.47963850100001]
[2421,186.97762,5414.749209999999,-38.087225608099899,145.48801617300001]
[2422,1272.80429,8749.4581999999991,-38.0633936418999,145.44857256399899]
[2423,198.09811999999999,3605.4901400000003,-38.079130796500003,145.450789020999]
[2424,573.64431999999999,573.64431999999999,-38.077393499300001,145.441794673999]
[2425,7.5891599999999997,7.5891599999999997,-38.072279692800002,145.41839051599899]
[2426,22.90924,22.90924,-38.0772045091,145.428525866]
[2427,0.66498999999999997,0.66498999999999997,-38.122514151700003,145.312042099]
[2428,48.945140000000002,7794.2746699999998,-38.062746400100004,145.406797915]
[2429,2.7191700000000001,3663.3477499999999,-38.0596957367,145.392184611]
[2430,2.8367499999999999,3233.4700599999996,-38.064261162199898,145.38918106400001]
[2431,11.30012,3241.93343,-38.0683571048,145.38842217600001]
[2432,11.30011,8651.3496400000004,-38.071299796399899,145.40362745900001]
[2433,0,12269.460730000001,-38.067931290099899,145.41260626299899]
[2434,2.8735599999999999,11449.152840000002,-38.072573704500002,145.411002104]
[2435,12.157719999999999,12.157719999999999,-38.072387842200001,145.42450521000001]
[2436,204.18716000000001,204.18716000000001,-38.072329326499897,145.433335255999]
[2437,210.71681000000001,5658.58824,-38.0585774973,145.44569226900001]
[2438,9.7526100000000007,69.194140000000004,-38.054068467,145.445834002]
[2439,8.0505999999999993,4690.7584199999992,-38.0595954210999,145.440093835]
[2440,0,3019.4380300000003,-38.0648814081,145.41843094999899]
[2441,21.597580000000001,4204.4491400000006,-38.053281224499898,145.393086772999]
[2442,2.71102,1838.6590200000005,-38.0545914944,145.398353775]
[2443,8.9780899999999999,8.9780899999999999,-38.080830279700002,145.35665569400001]
[2444,3.38307,9467.5369699999992,-38.084693856400001,145.30757947500001]
[2445,27.377890000000001,234.02278000000001,-38.114549492400002,145.324949594999]
[2446,30.753710000000002,1526.36427,-38.125728658100002,145.294321516]
[2447,43.701390000000004,18528.002,-38.053153323799897,145.324147952999]
[2448,879.28486999999996,5386.2771499999999,-38.135675178299898,145.252431599]
[2449,5.6001399999999997,49204.230559999982,-38.052458214700003,145.37234426699899]
[2450,577.07984999999996,26328.652929999997,-38.013264063999898,145.320753]
[2451,0,0,-38.098863702899898,145.474258410999]
[2452,0,0,-38.099932188899899,145.483843019999]
[2453,0,2906.7144799999996,-38.094739138199898,145.484928868]
[2454,0,2906.7144799999996,-38.093861885099898,145.493855362999]
[2455,2.8250299999999999,2.8250299999999999,-38.101964682499897,145.494005684]
[2456,11.30011,11.30011,-38.1054017401,145.472759067]
[2457,2.8250299999999999,2.8250299999999999,-38.093459252899898,145.41279587400001]
[2458,3.24187,3.24187,-38.091747892500003,145.44235762700001]
[2459,21.889520000000001,39.971159999999998,-38.077951622800001,145.399043414]
[2460,845.63831000000005,31549.250800000002,-38.0474678458,145.37396205900001]
[2461,4.2867199999999999,34365.450990000005,-38.044338697199898,145.36816357800001]
[2462,12.4815,42683.128689999998,-38.0461704838999,145.36753873699899]
[2463,36.4178,3267.0511100000003,-38.0474244121,145.38870834599899]
[2464,0.26251000000000002,9245.0782899999977,-38.055498005499899,145.38863163100001]
[2465,1.4957,6348.4130000000005,-38.057639414800001,145.38836648200001]
[2466,67.97936,4275.2449799999995,-38.056389059200001,145.408311575]
[2467,17.122610000000002,74.608080000000001,-38.055357356599899,145.40355069]
[2468,81.581419999999994,4264.4329800000005,-38.052319998500003,145.386516707]
[2469,3.3848699999999998,3248.7078099999999,-38.049563624999898,145.394465457]
[2470,8.4763900000000003,14863.742530000003,-38.059215265799899,145.407778691999]
[2471,19.034220000000001,4231.9498999999987,-38.057155920100001,145.413115637999]
[2472,11.44171,13921.095100000006,-38.060088401800002,145.41254441199899]
[2473,14.59418,4168.5834699999987,-38.058679531899898,145.417954014999]
[2474,8.4750800000000002,8.4750800000000002,-38.052957292000002,145.422944634]
[2475,5.65015,2521.1997500000002,-38.0603239106999,145.422096305]
[2476,0,5421.8777199999995,-38.070436180000002,145.39733291100001]
[2477,8.4750800000000002,6664.0275599999995,-38.065618777700003,145.39864234199899]
[2478,0.40011000000000002,20654.556560000001,-38.066793826999898,145.40837140299899]
[2479,2.8400300000000001,14837.625670000005,-38.060433668100004,145.40846456899899]
[2480,5.6500599999999999,5580.4792099999986,-38.063833250999899,145.41519016500001]
[2481,19.775200000000002,12676.611320000004,-38.063043574700004,145.412937247999]
[2482,302.48065000000003,4664.0671599999987,-38.0666860794,145.42422131500001]
[2483,11.27852,5924.3899499999989,-38.064102144899898,145.43589191300001]
[2484,45.02805,12864.216229999998,-38.063886775599897,145.45369822999899]
[2485,1164.1540500000001,4514.0108499999988,-38.065716023900002,145.44105574599899]
[2486,2.7990000000000001E-2,12732.780299999999,-38.060207153,145.45707349700001]
[2487,2.49864,5778.7847899999988,-38.058061124300004,145.45302970399899]
[2488,9.5617199999999993,2246.0540799999999,-38.054848128400003,145.46441472000001]
[2489,258.37092000000001,5884.5311000000002,-38.072981798199898,145.47357853400001]
[2490,804.67657999999994,8911.9551499999998,-38.068110761100002,145.465159787]
[2491,563.28224,1565.2967699999999,-38.077869491800001,145.46028584499899]
[2492,806.66535999999996,2921.2077299999992,-38.085301737400002,145.48348168000001]
[2493,237.74691999999999,2315.4749299999994,-38.089948616100003,145.48557048699899]
[2494,442.04689000000002,13292.575899999998,-38.0740901084,145.491417041999]
[2495,30.34131,21537.840630000006,-38.078257412699898,145.48055387400001]
[2496,36.814360000000001,22730.101670000004,-38.078145081300001,145.48392050499899]
[2497,326.66822000000002,12448.457190000001,-38.072951857600003,145.47961254500001]
[2498,68.211500000000001,1902.7765000000002,-38.069764845599899,145.50424998]
[2499,2.6473900000000001,1165.0910000000001,-38.067458225499898,145.51079111000001]
[2500,114.07366,114.07366,-38.069941993299899,145.51390407599899]
[2501,1032.59869,9966.4922999999999,-38.0660841324,145.47722155100001]
[2502,258.30144999999999,4447.3162700000003,-38.0633539674999,145.472839693]
[2503,18.546620000000001,8681.8584200000005,-38.0707087653999,145.477473162]
[2504,7.2632000000000003,13179.429749999999,-38.071066875500001,145.48244939]
[2505,5.4142200000000003,2733.3482799999997,-38.06020444,145.47549615700001]
[2506,577.81161999999995,5602.2542300000005,-38.062543959700001,145.488065307]
[2507,675.35901000000001,10578.228119999998,-38.0692221957,145.491997779999]
[2508,725.91121999999996,5750.35383,-38.056929248400003,145.489061472]
[2509,735.03305999999998,735.03305999999998,-38.056902127000001,145.50422767000001]
[2510,385.59147000000002,1548.0350800000001,-38.064080325100001,145.504152855]
[2511,672.12139000000002,8974.0489400000006,-38.0597752599,145.50133071100001]
[2512,32.592840000000002,1867.1578400000001,-38.064612976600003,145.507923457]
[2513,316.39210000000003,1478.8357100000001,-38.062539471500003,145.509977061999]
[2514,66.292240000000007,588.28958,-38.057424381799898,145.511176393]
[2515,14.689629999999999,4497.0076499999996,-38.056072082,145.39153512799899]
[2516,0.93310999999999999,0.93310999999999999,-38.091352477999898,145.426942736999]
[2517,0,0,-38.105416606600002,145.43842007699899]
[2518,2.2642500000000001,16885.80069,-37.9947004441999,145.239190409999]
[2519,0.75673999999999997,65223.627850000004,-38.0046043717999,145.26650728800001]
[2520,5.5849999999999997E-2,81392.700419999965,-38.026231732100001,145.29845170600001]
[2521,88.552490000000006,35269.359109999998,-38.014204389500001,145.32251388500001]
[2522,61.412480000000002,52128.729700000004,-38.031458851300002,145.346192788]
[2523,0.11606,63648.056140000022,-38.033717826199897,145.26572543699899]
[2524,1.7540100000000001,21371.323770000003,-38.034276673500003,145.28403812900001]
[2525,0,40499.558229999988,-38.061728646399899,145.33903199100001]
[2526,25.261289999999999,12802.378290000001,-38.051849901700002,145.25703411699899]
[2527,361.64231999999998,7851.8234500000008,-38.0770193257,145.24926787800001]
[2528,2.9508100000000002,44487.082780000004,-38.081441804900003,145.277321038]
[2529,5.9852100000000004,35187.43475,-38.106748890299897,145.24820428999899]
[2530,0,18103.690989999999,-38.1029140756999,145.26575710500001]
[2531,0.10484,67079.268679999979,-38.1117754855999,145.28200301800001]
[2532,409.02222999999998,38926.861069999999,-38.113785450100004,145.257165031]
[2533,7.9780000000000004E-2,10679.889460000002,-38.099653651799898,145.29439544100001]
[2534,0.11734,0.11734,-38.109295715099897,145.31886516399899]
[2535,29.702089999999998,338.12390000000005,-38.126998589899898,145.302586832]
[2536,1.6969999999999999E-2,315.33057000000002,-38.1220293059,145.29831764900001]
[2537,6.4291400000000003,6.4291400000000003,-38.1195288726,145.30302443400001]
[2538,0.15273999999999999,206.64489,-38.124260874800001,145.319396598]
[2539,8.9778400000000005,8.9778400000000005,-38.130436450799898,145.261075414]
[2540,2.99261,2.99261,-38.118299660600002,145.235744385999]
[2541,2.086E-2,22076.920870000002,-37.888407570399899,144.796586125]
[2542,0.97287000000000001,31869.328900000004,-37.871408347699898,144.79343058800001]
[2543,631.88694999999996,10429.128549999998,-37.867542918600002,144.799609334]
[2544,3.8607,20548.859660000002,-37.874542353800003,144.80660308]
[2545,0,0,-37.9178543883,144.57987900800001]
[2546,0,0,-37.916474817900003,144.566701739]
[2547,2.7170999999999998,2.7170999999999998,-37.9066846545999,144.578327333999]
[2548,27.987030000000001,27.987030000000001,-37.888127586099898,144.57637041999899]
[2549,0,0,-37.886443612199898,144.56104709799899]
[2550,18.05415,18.05415,-37.857871655700002,144.581609657]
[2551,5.4341999999999997,5.4341999999999997,-37.860158695000003,144.563569672]
[2552,24.63964,24.63964,-37.8565822322999,144.62240071599899]
[2553,2.7170999999999998,2.7170999999999998,-37.839593420900002,144.592044829]
[2554,5.4341999999999997,5.4341999999999997,-37.828356562899899,144.569906804]
[2555,146.64917,146.64917,-37.809240243300003,144.667369581]
[2556,5.8720699999999999,5.8720699999999999,-37.819714184200002,144.628132499]
[2557,51.91386,51.91386,-37.807158186300001,144.64888919500001]
[2558,3.17788,3.17788,-37.805170418000003,144.63064793000001]
[2559,3.0639500000000002,3.0639500000000002,-37.817948869600002,144.61229074299899]
[2560,3.1882199999999998,3.1882199999999998,-37.803054180300002,144.612600216999]
[2561,14.813639999999999,14.813639999999999,-37.809237688499898,144.591996631999]
[2562,6478.4591399999999,37752.937810000003,-37.796962062200002,144.81180900000001]
[2563,3419.22129,13383.08426,-37.798977572399899,144.80175310499899]
[2564,0,0.1318,-37.807672365800002,144.79787989600001]
[2565,0,0,-37.8041215565,144.76108459]
[2566,6241.0590700000002,13513.076570000001,-37.789542223799899,144.76298014]
[2567,0.13467999999999999,30356.983479999999,-37.781904109000003,144.781344362]
[2568,2487.7948000000001,10478.606590000001,-37.778780560000001,144.763580577]
[2569,20.604420000000001,20.604420000000001,-37.800822362799899,144.72456072400001]
[2570,20.5137,20.5137,-37.799026087800002,144.706305622]
[2571,331.38265999999999,9734.1203399999995,-37.7879193598,144.74478592200001]
[2572,20.67924,8749.5331100000003,-37.786205529900002,144.72664660800001]
[2573,26.360299999999999,26.360299999999999,-37.784518335000001,144.70835266700001]
[2574,0,0,-37.7827834178999,144.690098452]
[2575,88.698840000000004,88.698840000000004,-37.792943237800003,144.651334335999]
[2576,171.67518000000001,171.67518000000001,-37.774256438199899,144.64157923900001]
[2577,25.751280000000001,25.751280000000001,-37.752534723399897,144.67591533300001]
[2578,22.89002,22.89002,-37.750760719900001,144.657990665]
[2579,19.781030000000001,8748.6349000000009,-37.7712145247,144.72902616100001]
[2580,16.601379999999999,22147.300799999997,-37.758610061900001,144.73112813700001]
[2581,40.332070000000002,40.332070000000002,-37.755847541800001,144.712813197999]
[2582,2.8612500000000001,2.8612500000000001,-37.754966140000001,144.693656113999]
[2583,11.13936,11.13936,-37.745963496199899,144.69489454000001]
[2584,48.641300000000001,48.641300000000001,-37.7388385709,144.65892751000001]
[2585,44.91048,3184.9062595450541,-37.7294087265999,144.65726129800001]
[2586,42.918790000000001,42.918790000000001,-37.745168551100001,144.622450246]
[2587,31.473780000000001,31.473780000000001,-37.732756812799899,144.642177758999]
[2588,55.065429999999999,55.065429999999999,-37.728906258800002,144.62521170700001]
[2589,22.27872,22.27872,-37.722185208100001,144.64370932099899]
[2590,45.540460000000003,45.540460000000003,-37.713563348999898,144.627384664]
[2591,158.78711999999999,158.78711999999999,-37.7416182857,144.587199588999]
[2592,13.924200000000001,13.924200000000001,-37.731069481399899,144.606597784999]
[2593,10.24414,10.24414,-37.729180928300003,144.58850567600001]
[2594,28.216200000000001,28.216200000000001,-37.715423153700002,144.590034333999]
[2595,779.40524000000005,19972.752939999998,-37.719497537800002,144.57210948100001]
[2596,659.82201999999995,11859.006289999999,-37.716142191899898,144.55593225800001]
[2597,4212.3719499999997,28848.98501,-37.6949915541,144.55696837900001]
[2598,2536.1281800000002,19600.505079999999,-37.763156627800001,144.784721082999]
[2599,4770.5128400000003,48624.272499999999,-37.7531774188,144.78868849099899]
[2600,3304.3960999999999,18973.672630000001,-37.742771466800001,144.749017509]
[2601,6461.4228899999998,26619.000209999998,-37.744114718399899,144.731609668999]
[2602,490.82569999999998,490.82569999999998,-37.727297061900003,144.718407662999]
[2603,1601.93245,1601.93245,-37.6967795593999,144.735284931]
[2604,51.42212,51.42212,-37.694465431600001,144.70782128299899]
[2605,57.62368,57.62368,-37.7235985473,144.69716621000001]
[2606,2.73672,2.73672,-37.7219707159,144.66918788800001]
[2607,70.102739999999997,70.102739999999997,-37.712108303199898,144.643995198]
[2608,30.328250000000001,30.328250000000001,-37.707801858499899,144.68515789899899]
[2609,18.196950000000001,18.196950000000001,-37.704383708899897,144.66663937300001]
[2610,70.7577,70.7577,-37.702446572299898,144.64060982000001]
[2611,33.361080000000001,33.361080000000001,-37.693403790200001,144.687071968]
[2612,42.459560000000003,42.459560000000003,-37.691396392900003,144.668881091]
[2613,27.29543,27.29543,-37.694167753999899,144.650163478]
[2614,30.328250000000001,30.328250000000001,-37.685808193500002,144.64681064600001]
[2615,79.48048,79.48048,-37.690479681699898,144.63104730200001]
[2616,102.84488,782.97290999999996,-37.689058245399899,144.612848915999]
[2617,14.10162,1753.04467,-37.671987797600003,144.764087711]
[2618,20.413430000000002,20.413430000000002,-37.6810533608,144.707876333]
[2619,68.090190000000007,68.090190000000007,-37.668185386799898,144.72506563100001]
[2620,159.62299999999999,159.62299999999999,-37.659247786199899,144.650743181]
[2621,483.39528999999999,483.39528999999999,-37.6652907986999,144.604647269]
[2622,1182.8144500000001,2155.7008800000003,-37.662637370600002,144.582281685]
[2623,848.31116999999995,848.31116999999995,-37.666159969900001,144.54395965000001]
[2624,22.653670000000002,22.653670000000002,-37.652495041800002,144.546508856999]
[2625,5.9615900000000002,5.9615900000000002,-37.616196087699898,144.768273416]
[2626,20.865559999999999,20.865559999999999,-37.6088523941999,144.75560728299899]
[2627,2.9814600000000002,8685.2857899999999,-37.595394004299898,144.747803277999]
[2628,29.8385,29.8385,-37.610974983399899,144.73119221900001]
[2629,2528.2925,6893.2695399999993,-37.591130141400001,144.700003565999]
[2630,99.282409999999999,16223.72933,-37.574979580700003,144.685651046]
[2631,22.195170000000001,22.195170000000001,-37.620977127700002,144.69911602900001]
[2632,5.5503600000000004,5.5503600000000004,-37.619523534099898,144.68219278500001]
[2633,35.891120000000001,35.891120000000001,-37.6083804509,144.699255714]
[2634,2.8131400000000002,2.8131400000000002,-37.6042840763999,144.68541849900001]
[2635,5.56968,5.56968,-37.592511617100001,144.68488189600001]
[2636,6.0221499999999999,6.0221499999999999,-37.600367508300003,144.776517388]
[2637,24.08914,24.08914,-37.593720037600001,144.76402845800001]
[2638,9.03322,9.03322,-37.565588516200002,144.76713416000001]
[2639,1926.4802400000001,3645.0341100000001,-37.5659904295999,144.753047866999]
[2640,21.07751,21.07751,-37.546392053399899,144.764212539]
[2641,33.1218,33.1218,-37.529715920999898,144.764807588]
[2642,6.5861599999999996,6.5861599999999996,-37.526509745799899,144.74708385400001]
[2643,0,0,-37.507182887500001,144.75394881099899]
[2644,911.49324000000001,4692.0822099999996,-37.548988520100004,144.711220072]
[2645,274.18740000000003,6058.6311999999998,-37.556656896500002,144.692795211]
[2646,121.70355000000001,10853.632530000001,-37.564384128900002,144.67917513800001]
[2647,59.275410000000001,59.275410000000001,-37.5242288094,144.71536676900001]
[2648,394.29016999999999,394.29016999999999,-37.5175293036,144.679714792]
[2649,1209.5208500000001,72604.734950000013,-37.6529509488999,145.11254829800001]
[2650,2.0000000000000001E-4,1545.2046699999999,-37.620336323799897,145.12226433800001]
[2651,212.42707999999999,114009.47241999999,-37.6803942668,145.06356543300001]
[2652,3223.4210200000002,51561.776140000016,-37.6727067741,145.078293317999]
[2653,3278.08041,41168.367559999999,-37.661957322500001,145.08321856000001]
[2654,4938.9117900000001,19040.763740000002,-37.682811577800003,145.04994844500001]
[2655,6239.9251299999996,43046.515360000005,-37.670585452600001,145.051995191]
[2656,7075.9003300000004,30892.030980000003,-37.681908006299899,144.994258355]
[2657,7.9689999999999997E-2,30573.636689999999,-37.681171906700001,144.978965555]
[2658,1852.6641,55373.851609999998,-37.660961888899898,145.00315187499899]
[2659,101.04311,24777.516980000004,-37.654405952700003,145.005386856999]
[2660,96.714870000000005,2356.8155200000001,-37.656955255900002,144.98107861400001]
[2661,0,2026.08754,-37.654484279899897,144.947937271999]
[2662,1532.89932,13099.255650000001,-37.639811931799898,145.085312501999]
[2663,2.0000000000000002E-5,11683.016190000002,-37.6307666955,145.10459242300001]
[2664,3255.0753,15865.598580000002,-37.629299536600001,145.08740959100001]
[2665,6791.4980500000001,21392.623019999999,-37.630585304299899,145.068017932999]
[2666,5893.3258699999997,36963.858669999987,-37.639934570900003,145.036551304]
[2667,2.8808799999999999,21834.599560000002,-37.642305051400001,145.00173587200001]
[2668,5.5728299999999997,2265.6734800000004,-37.638818276599899,144.978499199]
[2669,1839.2194199999999,1839.2194199999999,-37.610121320399898,145.11780206]
[2670,1875.1760899999999,3420.3805599999996,-37.598042767300001,145.121131271]
[2671,4294.2317899999998,11419.049909999998,-37.587608189599898,145.135542047999]
[2672,2995.8023899999998,7290.0341799999997,-37.579576281199898,145.125984768]
[2673,33.026040000000002,2825.8839600000001,-37.577904728599897,145.10991187600001]
[2674,164.63645,8875.4121400000004,-37.617405749900001,145.077781165]
[2675,15.97221,4584.9508999999998,-37.624341231199899,145.05204853500001]
[2676,1915.1747,19663.621810000001,-37.628627496999897,145.03546422900001]
[2677,448.85431999999997,9327.3088800000005,-37.616324355300002,145.039012450999]
[2678,1046.61823,21660.374990000004,-37.6094504305999,145.099874322999]
[2679,2559.904,16309.466570000001,-37.607140273500001,145.08747521500001]
[2680,72.69614,1119.3143700000001,-37.6054783863,145.072390738]
[2681,8.9024599999999996,8.9024599999999996,-37.603719071599897,145.05839802700001]
[2682,27.862580000000001,27.862580000000001,-37.602308394799898,145.042701088999]
[2683,1635.89662,1635.89662,-37.627229036899898,145.001344829]
[2684,366.85955000000001,3169.4780300000002,-37.614850146400002,145.020968275]
[2685,220.88145,220.88145,-37.611637784499898,144.997485869999]
[2686,13.931290000000001,13.931290000000001,-37.621102153800003,144.98012876600001]
[2687,0,0,-37.614455531399898,144.96169037000001]
[2688,2155.64363,12460.928550000001,-37.603800695099899,144.920414185]
[2689,19.651759999999999,13793.123170000001,-37.596831301899996,144.89093784299899]
[2690,18.173829999999999,1064.79206,-37.591172157000003,145.07227377199899]
[2691,0,0,-37.5877579799999,145.055590024]
[2692,0,0,-37.587919940900001,145.04084330200001]
[2693,99.754400000000004,99.754400000000004,-37.567906092500003,145.06866429300001]
[2694,4.8894299999999999,4.8894299999999999,-37.598157413800003,145.000646700999]
[2695,5.1588500000000002,5.1588500000000002,-37.596368400700001,144.982707637]
[2696,0,0,-37.5949535682999,144.96433033900001]
[2697,66.007320000000007,66.007320000000007,-37.584661934499898,145.022682272]
[2698,7.3341500000000002,7.3341500000000002,-37.5828341932,145.00289615899899]
[2699,2.9674900000000002,2.9674900000000002,-37.5822108411,144.987074331]
[2700,0,0,-37.581754421100001,144.96967169499899]
[2701,26.707370000000001,26.707370000000001,-37.571008322300003,145.023024378]
[2702,7.73827,7.73827,-37.568363599199898,145.005505075]
[2703,2.9674900000000002,2.9674900000000002,-37.567491076899898,144.98919746799899]
[2704,7.3341500000000002,7.3341500000000002,-37.566724378000004,144.97360952099899]
[2705,7.3341500000000002,7.3341500000000002,-37.557649913500001,145.024231966999]
[2706,22.00244,22.00244,-37.551779221099899,145.008305581]
[2707,11.277469999999999,11.277469999999999,-37.580242170299897,144.95184974200001]
[2708,3173.7776399999998,3173.7776399999998,-37.572173575100003,144.929759996]
[2709,2273.6346199999998,2273.6346199999998,-37.572411105800001,144.91104002399899]
[2710,11.277469999999999,11.277469999999999,-37.569846213700004,144.89411806000001]
[2711,3.0827200000000001,3.0827200000000001,-37.569575245000003,144.880629368]
[2712,15.41582,15.41582,-37.548875686800002,144.950504811]
[2713,163.37835000000001,163.37835000000001,-37.5588760135999,144.91423559200001]
[2714,0,0,-37.5419988364999,144.92086203100001]
[2715,1.0000000000000001E-5,1.0000000000000001E-5,-37.546353525599898,144.908480174]
[2716,2.6494499999999999,2.6494499999999999,-37.539537130900001,145.010874763]
[2717,5.2988999999999997,5.2988999999999997,-37.537358163999897,144.993105595999]
[2718,5.2988999999999997,5.2988999999999997,-37.525555801800003,145.01569228899899]
[2719,2.6494499999999999,2.6494499999999999,-37.522499627499897,144.989288340999]
[2720,10.597799999999999,10.597799999999999,-37.5109559692999,145.01250611699899]
[2721,0,0,-37.499762484900003,145.01850826800001]
[2722,101.7299,101.7299,-37.533360720600001,144.95112485600001]
[2723,3.0827200000000001,3.0827200000000001,-37.531969964699897,144.923751697]
[2724,0,0,-37.516647177400003,144.92064654000001]
[2725,14.096830000000001,14.096830000000001,-37.513082794299898,144.903045085999]
[2726,5.2988999999999997,5.2988999999999997,-37.481141040799898,145.017991166999]
[2727,5.2988999999999997,5.2988999999999997,-37.479509113900001,145.002762851]
[2728,2.9434999999999998,2.9434999999999998,-37.465354837200003,145.005767585]
[2729,0,0,-37.453253547899898,145.023484948]
[2730,0,0,-37.450823752300003,145.008331400999]
[2731,0.05,0.05,-37.5072077803,144.992600673]
[2732,0.05,0.05,-37.5057994111,144.968581285]
[2733,0.05,0.05,-37.502521096999899,144.942977807999]
[2734,0.05,0.05,-37.5007029446,144.92597176999899]
[2735,0.05,0.05,-37.499954160599899,144.911283002]
[2736,0.05,0.05,-37.4920320867,144.975723106]
[2737,0.05,0.05,-37.4884306894999,144.95045518699899]
[2738,0.05,0.05,-37.486183826400001,144.926213093999]
[2739,0.05,0.05,-37.477771662499897,144.98903155900001]
[2740,0.05,0.05,-37.4770725594,144.97788054]
[2741,0.05,0.05,-37.475477095899898,144.96434964900001]
[2742,0.05,0.05,-37.473746369399898,144.94783606799899]
[2743,0.05,0.05,-37.472048231800002,144.93074044700001]
[2744,0.05,0.05,-37.463213457800002,144.98452496600001]
[2745,0.05,0.05,-37.4607769725,144.96592810600001]
[2746,0.05,0.05,-37.4591982094,144.950232618999]
[2747,0.05,0.05,-37.457819684699899,144.93494657400001]
[2748,0.05,0.05,-37.4489233259999,144.98937044600001]
[2749,0.05,0.05,-37.446337150799899,144.970795920999]
[2750,0.05,0.05,-37.444109700699897,144.948615547999]
[2751,5.8155900000000003,5.8155900000000003,-38.1590664756,145.36859848500001]
[2752,23.262360000000001,23.262360000000001,-38.146528449000002,145.369313361]
[2753,5.8155900000000003,5.8155900000000003,-38.142925778799899,145.35130523999899]
[2754,43.616930000000004,43.616930000000004,-38.1615171410999,145.35668976599899]
[2755,26.170159999999999,26.170159999999999,-38.157698252899898,145.34080582600001]
[2756,61.063699999999997,61.063699999999997,-38.155674795400003,145.32684909700001]
[2757,157.02096,157.02096,-38.1446210346,145.33469323400001]
[2758,127.55002,130.87350000000001,-38.145286086799899,145.297778671]
[2759,5.8982799999999997,5.8982799999999997,-38.131908818600003,145.37246289999899]
[2760,17.69483,17.69483,-38.1295902475999,145.353883475999]
[2761,41.289470000000001,41.289470000000001,-38.126685052600003,145.33591365999899]
[2762,14.74569,14.74569,-38.115495893499897,145.385013673999]
[2763,5.8982799999999997,5.8982799999999997,-38.119372431000002,145.37203578699899]
[2764,23.5931,23.5931,-38.1146278067,145.356902109999]
[2765,47.186199999999999,47.186199999999999,-38.112412491500002,145.33812606500001]
[2766,8.84741,8.84741,-38.102968406999899,145.387973168]
[2767,14.74569,14.74569,-38.099643784800001,145.36787563600001]
[2768,5.83406,5.83406,-38.101829934199898,145.35567556000001]
[2769,14.74569,14.74569,-38.097668990300001,145.34079006600001]
[2770,20.694749999999999,20.694749999999999,-38.0850944261,145.33985837399899]
[2771,813.97569999999996,429363.00624000013,-37.791801562700002,144.928215959]
[2772,877.50342000000001,382859.26546000026,-37.789949256600003,144.93333038399899]
[2773,7.37697,420844.32094000024,-37.792246165500003,144.93800864599899]
[2774,1448.8070399999999,394648.38357000018,-37.797002864500001,144.92590057300001]
[2775,330.66622000000001,477183.88055000029,-37.7968057406,144.933674134]
[2776,170.571,412973.65710000019,-37.797309089700001,144.94261567800001]
[2777,187.65988999999999,476569.83649000031,-37.8018349098,144.94011992]
[2778,395.98369000000002,494538.1207100001,-37.803749313399898,144.946434931]
[2779,1759.60348,352393.60095000023,-37.796213277600003,144.947400824]
[2780,578.69452000000001,444626.97406000021,-37.8044015571,144.952424955]
[2781,786.45240000000001,476761.56093000009,-37.801278912100003,144.955116664999]
[2782,145.26651000000001,505874.19778000005,-37.7984832928,144.955777974]
[2783,555.90066000000002,455940.62690000009,-37.799007407799898,144.952397709]
[2784,9.9907000000000004,361965.14293000026,-37.7940430122,144.95074247100001]
[2785,30.987970000000001,227065.83330999999,-37.790709683899898,144.95140909200001]
[2786,1567.0108700000001,326502.14291000011,-37.784722515799899,144.95839933299899]
[2787,106.20146,474319.92465,-37.798445142799899,144.96269429500001]
[2788,129.46369000000001,419563.13120000018,-37.798134192500001,144.959454577999]
[2789,24.46819,630625.33861999924,-37.8055123757999,144.962303174]
[2790,25.003530000000001,596940.5574199995,-37.803364794899899,144.962634571]
[2791,708.72805000000005,512029.57250999997,-37.803003739700003,144.95987251899899]
[2792,103.28163000000001,504128.18557999993,-37.801305725299898,144.96295230600001]
[2793,133.61107000000001,494191.25620000012,-37.8009539675,144.959779019]
[2794,211.92170999999999,538182.86452000006,-37.8029164022999,144.956887464]
[2795,1336.00695,413627.23405000026,-37.804008623999898,144.96790140600001]
[2796,182.23383000000001,488407.35209000017,-37.812284215699897,144.98060800100001]
[2797,475.82569000000001,412726.21213000023,-37.809248804500001,144.946634399]
[2798,281.23014999999998,547753.95993999986,-37.8087101566,144.950590594999]
[2799,34.522599999999997,773477.51061999949,-37.810467029500003,144.95447632700001]
[2800,853.94591000000003,685935.25004999957,-37.8096009068,144.95965550099899]
[2801,1215.3036500000001,649988.27865999925,-37.810417266999899,144.957195364]
[2802,215.60141999999999,476220.07196000015,-37.806988818400001,144.955045461]
[2803,1254.97246,586711.53304999962,-37.8077748591,144.96760272399899]
[2804,1445.72532,740994.3777299996,-37.807115184799898,144.961627561]
[2805,1365.2077899999999,668508.36726999958,-37.815387044300003,144.955343728999]
[2806,583.77674000000002,753794.41518999939,-37.8133523431,144.958601552]
[2807,730.96411999999998,766134.3071399997,-37.8116540539,144.96060833799899]
[2808,388.00824,615784.21026999911,-37.815576317999898,144.962425115]
[2809,363.07270999999997,652297.77243999951,-37.814857969599899,144.96489976999899]
[2810,532.40665000000001,667510.49322999944,-37.812892989600002,144.963985132999]
[2811,0.18554000000000001,812585.21157999989,-37.818108704499899,144.96922976100001]
[2812,447.04543999999999,536201.20979999984,-37.816565261100003,144.97733606]
[2813,689.04070999999999,396551.46318000049,-37.822174960399899,144.96765464200001]
[2814,240.10287,557117.19144999993,-37.8228452504,144.958802273999]
[2815,882.16066000000001,428521.27658000041,-37.822409916399899,144.962316026]
[2816,3017.5336200000002,358844.37299000047,-37.825291176500002,144.962208011]
[2817,572.04989,533385.79764,-37.826479908800003,144.95949239999899]
[2818,0.23784,424091.87692000042,-37.829191057099898,144.964946373999]
[2819,9.3902699999999992,384913.42273000052,-37.830295666399898,144.96332135399899]
[2820,328.68858,438378.28702000034,-37.829972328899899,144.966260232]
[2821,224.01958999999999,429860.89609000029,-37.832973602300001,144.96523467200001]
[2822,2427.7773200000001,453455.43613000039,-37.831726627000002,144.96911729000001]
[2823,439.96615000000003,471603.37965000019,-37.833652608599898,144.970319977]
[2824,1142.72253,483262.00460000016,-37.834860104299899,144.97319529999899]
[2825,402.24759,472332.86145000026,-37.834795912600001,144.97642537900001]
[2826,901.00171,500836.87824999983,-37.831537603599898,144.98595631800001]
[2827,933.40284999999994,605364.16788999946,-37.829320922999898,144.99222588699899]
[2828,542.16245000000004,798699.39203999948,-37.827372380500002,144.989634319]
[2829,1600.53478,618583.41680999927,-37.836858860500001,144.989305696]
[2830,2358.3931299999999,523246.91777999984,-37.836845880200002,144.99817902500001]
[2831,262.88983999999999,497321.24981000012,-37.835210702300003,144.99484933700001]
[2832,489.51755000000003,623056.00771999918,-37.8356884198,144.99220662600001]
[2833,406.15188000000001,559124.07514999982,-37.841331968299897,144.997696056]
[2834,354.37245999999999,610541.45293999941,-37.840385988100003,144.99472752]
[2835,2098.6149700000001,583092.00360999955,-37.844783020599898,144.996455989]
[2836,457.83465999999999,612123.21104999934,-37.845085023099898,144.99263558000001]
[2837,1152.29492,466839.83814999985,-37.844431771399897,144.98795064500001]
[2838,746.11401000000001,543396.3072599998,-37.847986359899899,144.99207670499899]
[2839,797.77637000000004,553029.04073999973,-37.850470101200003,144.991656382]
[2840,859.34839999999997,619255.60635999928,-37.849865794300001,144.98707089499899]
[2841,53.520180000000003,445269.21411000018,-37.846267915200002,144.98281074600001]
[2842,529.02623000000006,439326.74049000017,-37.847002744000001,144.98135894999899]
[2843,654.73564999999996,430306.81178000028,-37.842604159899899,144.976693670999]
[2844,1082.3086800000001,412489.16238000017,-37.845794220199899,144.977867406]
[2845,96.930599999999998,518781.70281999995,-37.853097255800002,144.99198248100001]
[2846,376.79914000000002,462004.44297000021,-37.838961056300001,144.977299045]
[2847,463.49265000000003,432907.86018000025,-37.843150968400003,144.97887534]
[2848,1607.5905499999999,374772.56917000032,-37.852757818500002,144.980424734]
[2849,179.17044999999999,406851.21941000014,-37.854531854900003,144.982866755]
[2850,396.76044000000002,502224.01374999998,-37.852835653,144.98964741500001]
[2851,1322.0326600000001,528091.63362999982,-37.852371327699899,144.986214932]
[2852,629.71549000000005,384927.20255000028,-37.854860705599897,144.98574306]
[2853,344.00290999999999,540559.3677699999,-37.854953786400003,144.994390415]
[2854,1110.45875,431587.64597000001,-37.859274353399897,144.990041856999]
[2855,268.94623999999999,421143.39080000011,-37.8565630153999,144.98723146200001]
[2856,1245.62292,384712.37881000031,-37.858561952099897,144.98585896700001]
[2857,968.97010999999998,372216.2670500002,-37.862592638300001,144.98359279900001]
[2858,660.44925999999998,409874.78872999997,-37.858591235299897,144.982539589]
[2859,1160.5827899999999,351721.77120000042,-37.861367798000003,144.980917895999]
[2860,962.97071000000005,392022.79976000014,-37.866434648400002,144.988446842]
[2861,845.94940999999994,705751.4018799992,-37.837757052400001,144.994022317]
[2862,918.47190000000001,375682.83737000031,-37.863900245499899,144.988222955]
[2863,1006.90311,369591.49099000031,-37.861910369699899,144.988046217]
[2864,1555.0849700000001,389457.90569000022,-37.8741340808999,144.98910826900001]
[2865,1871.5766100000001,328167.25993000029,-37.879933342199898,144.99314163700001]
[2866,0.49985000000000002,380197.70078000019,-37.8694661920999,144.98905537900001]
[2867,758.74576999999999,407632.97152000008,-37.874240989800001,144.99268380500001]
[2868,896.73262,358286.39550000022,-37.879103804000003,144.995332362]
[2869,430.60820999999999,488845.59989000001,-37.867369517299899,144.994861168]
[2870,599.23825999999997,351349.7511400003,-37.8639350021,144.99550159399899]
[2871,1379.17562,426882.05348000012,-37.8569292305,145.00911842100001]
[2872,559.64607000000001,409457.1061700001,-37.868823468199899,145.006519967]
[2873,468.25873000000001,405546.88867000013,-37.868262010999899,145.00196235300001]
[2874,629.54453000000001,407407.62939000013,-37.872117821700002,145.005966685999]
[2875,47.726179999999999,435775.09917999996,-37.872067354599899,145.009333957]
[2876,818.81158000000005,374817.92208000016,-37.874667320900002,145.01014796300001]
[2877,578.53635999999995,402690.28877000016,-37.8699433447999,145.015434540999]
[2878,771.00627999999995,408839.08763000002,-37.862281799999899,145.01253531699899]
[2879,1112.7409,461175.33318999986,-37.8575670391999,145.013371667]
[2880,1008.85528,450363.21542999998,-37.868597170900003,145.029165689]
[2881,774.72092999999995,375288.23337000021,-37.865157608700002,145.037099434]
[2882,1402.6095800000001,350611.26759000012,-37.869118849499898,145.03626064900001]
[2883,613.31170999999995,495089.19863000017,-37.872986462599897,145.04082236400001]
[2884,397.17700000000002,331854.71084999997,-37.869511606800003,145.04139323800001]
[2885,513.36999000000003,291459.92313000007,-37.870121793000003,145.046456917]
[2886,149.17339000000001,473737.41593999998,-37.874485434699899,145.03442564599899]
[2887,17.842009999999998,594671.69786999945,-37.876548557100001,145.042518986999]
[2888,92.269739999999999,576322.11160999979,-37.8788625655,145.04677207200001]
[2889,1821.73368,324771.28235000029,-37.799377447300003,144.97110855700001]
[2890,900.33280000000002,403680.50245000015,-37.871596424899899,145.00136265800001]
[2891,834.98026000000004,429797.60220000014,-37.870464502300003,144.996707407]
[2892,478.58983000000001,570974.81978999963,-37.857066285400002,144.99504540000001]
[2893,1145.36313,376616.32026000036,-37.849233534100001,144.979089319]
[3501,97.553026268108994,97.553026268108994,-38.335215866699897,143.619013784999]
[3502,16.699321713018584,16.699321713018584,-38.333694509700003,143.609896633999]
[3503,454.43066570687085,454.43066570687085,-38.331411428099898,143.60143916800001]
[3504,279.74002369093182,279.74002369093182,-38.335316923199898,143.601699193999]
[3505,42.652567861133711,42.652567861133711,-38.341999239000003,143.604073204999]
[3506,408.3177699637148,408.3177699637148,-38.339348588999897,143.598689845]
[3507,24.131306851273862,448.23377572215799,-38.332389296800002,143.59129677499899]
[3508,517.20417989726434,2854.7606117870619,-38.336069014700001,143.59176994500001]
[3509,326.67423207379289,326.67423207379289,-38.344066409900002,143.59797537]
[3510,584.85620851855117,584.85620851855117,-38.348125834900003,143.59412650600001]
[3511,189.66455454065363,1351.9068185148849,-38.341258928000002,143.588839304999]
[3512,249.34656110431052,1555.5504534065042,-38.352269934699898,143.592542635999]
[3513,146.78000382566773,3304.5761377712497,-38.3337817395999,143.58151706300001]
[3514,371.95408762110134,4070.5926443968492,-38.336498235999898,143.582888309]
[3515,424.10246887088414,5728.4748095691266,-38.347235225399899,143.585973311999]
[3516,448.28561443468283,4070.5926443968492,-38.340908020100002,143.580852368]
[3517,540.18738567659443,1461.029381836375,-38.358091027,143.590566115]
[3518,266.50868833826803,266.50868833826803,-38.331714977600001,143.573221539]
[3519,458.20829095063726,1869.7971160291791,-38.335852887100003,143.575494491]
[3520,400.16193237648031,400.16193237648031,-38.329982452800003,143.570741035]
[3521,738.13979510334696,5235.669669785404,-38.345731764999897,143.57870651100001]
[3522,468.67383293244876,892.7763018033329,-38.339291696099899,143.572668978]
[3523,275.30680304779798,275.30680304779798,-38.335073433300003,143.56991426900001]
[3524,766.01650662559928,766.01650662559928,-38.365211864400003,143.58837755600001]
[3525,154.82548953418137,154.82548953418137,-38.372880260599899,143.58972449500001]
[3526,343.58931052083443,343.58931052083443,-38.344426545700003,143.571950122999]
[3527,385.78022113466142,1691.9841134368551,-38.350171704700003,143.57445307]
[3528,285.17153302362294,285.17153302362294,-38.335608247700002,143.564526538]
[3529,438.71045598828294,438.71045598828294,-38.355969072699899,143.56602945399899]
[3530,270.58925923542995,270.58925923542995,-38.318597019199899,143.767984375]
[3531,466.46863544272941,466.46863544272941,-38.340986388600001,143.783644447999]
[3532,863.5650742812461,863.5650742812461,-38.1580732328,143.699744963999]
[3533,209.6822154086488,209.6822154086488,-38.319586711500001,143.64830630700001]
[3534,597.41873393800813,597.41873393800813,-38.443215345699898,143.748911413]
[3535,125.3663389348482,125.3663389348482,-38.372647320600002,143.602326178]
[3536,1254.4608143799953,1254.4608143799953,-38.2516296533,143.54099422100001]
[3537,94.361961033913431,94.361961033913431,-38.3326805425,143.543235657]
[3538,2101.4634607100243,2101.4634607100243,-38.395075684299897,143.459841135999]
[3539,706.77481661799038,706.77481661799038,-38.648841011499897,143.862419577]
[3540,361.01921043501449,361.01921043501449,-38.5996173111999,143.76003046100001]
[3541,327.92712673147884,327.92712673147884,-38.696833079800001,143.733615681999]
[3542,374.39793688241934,2525.9968123716812,-38.723000902400003,143.71398530900001]
[3543,1218.2718160437926,2475.4967091031449,-38.748510840100003,143.666028616999]
[3544,933.32705944546933,1257.2248930593523,-38.758166429200003,143.668117817]
[3545,352.06275559281966,352.06275559281966,-38.748612027199897,143.637857521999]
[3546,93.879133213030599,93.879133213030599,-38.770557603999897,143.656978748]
[3547,323.89783361388311,323.89783361388311,-38.7774177249999,143.657388459]
[3548,922.35509108798715,922.35509108798715,-38.5553624990999,143.46048665500001]
[3549,202.22904732586272,202.22904732586272,-38.7010371062999,143.555949959]
[3550,372.31285681316035,372.31285681316035,-38.681124174399898,143.36306303999899]
[3551,524.88598832026196,524.88598832026196,-37.760920407199897,143.841911135999]
[3552,415.3771304089762,415.3771304089762,-37.728825324299898,143.80455487200001]
[3553,172.25117612742264,172.25117612742264,-37.641755420800003,143.81811349700001]
[3554,503.03029746909903,503.03029746909903,-37.691644573799898,143.80133102900001]
[3555,479.38213877183716,479.38213877183716,-37.6163454581,143.79812704899899]
[3556,502.65271523445074,502.65271523445074,-37.6384805677,143.77892336900001]
[3557,194.33432665083134,194.33432665083134,-37.666492655900001,143.759276613]
[3558,593.05133379753613,593.05133379753613,-37.607066525199897,143.76512968200001]
[3559,96.162564625989333,96.162564625989333,-37.726685192600002,143.733015991]
[3560,195.50960581815298,195.50960581815298,-37.640236137700001,143.739139841]
[3561,100.37182776479519,100.37182776479519,-37.657746547999899,143.728659494]
[3562,531.43019783560931,531.43019783560931,-37.6052482744999,143.73596787100001]
[3563,185.86492761892237,185.86492761892237,-37.630959635400004,143.71210212700001]
[3564,470.79001325114558,470.79001325114558,-37.651631752,143.688739373999]
[3565,494.56910630817083,494.56910630817083,-37.608490786799898,143.689584217]
[3566,584.32490862521422,584.32490862521422,-37.6770483861999,143.674139228999]
[3567,281.650965231876,281.650965231876,-37.630806297600003,143.672770912999]
[3568,525.128698483118,525.128698483118,-37.585233375199898,143.691332149]
[3569,781.09744261702713,781.09744261702713,-37.748928379699898,143.638057411999]
[3570,441.22343718014213,441.22343718014213,-37.686396912699898,143.572173335999]
[3571,154.46527969021292,154.46527969021292,-37.878774031500001,143.547630064]
[3572,322.77608308023144,322.77608308023144,-37.738320489099898,143.516981474]
[3573,28.656432467869667,28.656432467869667,-38.0754177058,144.266915896999]
[3574,275.03293404978763,275.03293404978763,-37.865262894499899,144.184042261999]
[3575,406.83203130298602,406.83203130298602,-38.0906107035999,144.26078182200001]
[3576,180.56169697778174,180.56169697778174,-38.008696066799899,144.21642136099899]
[3577,205.59626037962494,205.59626037962494,-37.946422085199899,144.185930654999]
[3578,54.490230672815798,54.490230672815798,-38.043379871100001,144.199493929]
[3579,601.35778796821353,601.35778796821353,-38.0372651773,144.176905535]
[3580,558.60699483288454,558.60699483288454,-38.056861719799898,144.188498987]
[3581,38.609230115026186,38.609230115026186,-38.0455006639,144.17160544500001]
[3582,576.03679106322227,576.03679106322227,-38.054814069499898,144.172851385999]
[3583,615.24470740473953,615.24470740473953,-38.0509767952,144.169004188]
[3584,512.87237271620381,512.87237271620381,-37.963219035500003,144.136015904999]
[3585,439.12829584289426,439.12829584289426,-38.098877103600003,144.20981130000001]
[3586,321.51983788301345,321.51983788301345,-38.042000486900001,144.16312060800001]
[3587,22.262121095234498,22.262121095234498,-38.046663723000002,144.15335326300001]
[3588,196.68554532398076,196.68554532398076,-37.982021891199899,144.12936547800001]
[3589,276.55683003976441,276.55683003976441,-37.846822944800003,144.10876027699899]
[3590,102.40231264715065,102.40231264715065,-38.007433306000003,144.15787846500001]
[3591,319.68779096182629,319.68779096182629,-37.845880818200001,144.077608725]
[3592,42.506061293921299,42.506061293921299,-38.038281148000003,144.11788925100001]
[3593,111.4404547090779,111.4404547090779,-38.090325086900002,144.12924396099899]
[3594,10.6029421403131,10.6029421403131,-37.8566566237999,144.06608739800001]
[3595,265.33356270230144,265.33356270230144,-37.947264956200002,144.070342259]
[3596,2.9127906166283268,2.9127906166283268,-38.031661310499899,144.085839722]
[3597,27.416689539424016,27.416689539424016,-38.003335124099898,144.05993261]
[3598,103.44820928688118,103.44820928688118,-37.8766964195,144.024609564]
[3599,667.34255494735623,667.34255494735623,-38.030110487100004,144.06110656000001]
[3600,15.095500016559148,15.095500016559148,-38.046946081199899,144.055069312999]
[3601,772.35698055410751,772.35698055410751,-38.021585594800001,144.03524102399899]
[3602,426.47805072476325,426.47805072476325,-38.1022479742999,144.060368514999]
[3603,92.710945027185886,92.710945027185886,-37.873721038500001,143.96117084400001]
[3604,394.87709725118646,394.87709725118646,-38.073551430899897,144.010515814999]
[3605,359.66264710078741,359.66264710078741,-38.104518559699898,143.97595014000001]
[3606,627.25490224254042,627.25490224254042,-37.979850064399898,143.82396839699899]
[3607,784.5633981539919,784.5633981539919,-37.844664148,143.79960645700001]
[3608,820.19946368120804,3945.1833342407845,-38.180825309200003,144.479095599999]
[3609,483.35031765569164,4428.5336518964759,-38.177714614300001,144.47192144600001]
[3610,208.50984432726489,4669.7849937591818,-38.189415062099897,144.482929294999]
[3611,779.78760289393085,1444.4726518350208,-38.181474942599898,144.47033318000001]
[3612,563.94369352442322,2008.416345359444,-38.1872728532,144.477982709]
[3613,15.495337184922057,15.495337184922057,-38.153478495599899,144.42149621300001]
[3614,522.70268606927391,2531.1190314287178,-38.187490742100003,144.47279502200001]
[3615,316.75163025513854,2847.8706616838563,-38.187300218099899,144.470159464999]
[3616,705.26846122251652,4488.9732118910242,-38.180601684700001,144.46152365200001]
[3617,447.99916550614648,3992.785377090252,-38.186256621399899,144.46714672600001]
[3618,1004.9646106170505,13668.499821221003,-38.192658419300002,144.473377395]
[3619,381.15002771206542,3544.7862115841062,-38.187565509099898,144.463975092]
[3620,499.41484895802085,9162.7304383694773,-38.1926627839999,144.46654275399899]
[3621,664.68504894108992,664.68504894108992,-38.186696424300003,144.458885264999]
[3622,412.81783979209524,5376.183922936887,-38.192837303399898,144.461757836999]
[3623,611.11596188586452,4963.3660831447914,-38.1963891889,144.463102894999]
[3624,652.76867594952228,6028.9525988864098,-38.193309000900001,144.45662416600001]
[3625,825.92245714877276,10000.01861866382,-38.188855843500001,144.44790196599899]
[3626,253.24786179614213,4274.7049984182286,-38.175815338500001,144.42939863199899]
[3627,293.38128381444113,6375.2708399134117,-38.1732935295,144.41364392]
[3628,425.79685819893689,2687.8629625544954,-38.1666571652,144.40481960599899]
[3629,378.51156253524908,12723.863849090825,-38.163251357599897,144.398852998]
[3630,639.11718826892172,3326.9801508234173,-38.162607794300001,144.395098714]
[3631,510.12272043759515,19397.831760952482,-38.169707589600002,144.400314046999]
[3632,555.1173640567016,4470.8281451502426,-38.159444518999898,144.389610299]
[3633,12.730480656302033,55512.019064601402,-38.173803603000003,144.401406933999]
[3634,653.96959655281216,17841.560927961156,-38.1628472632,144.389271885]
[3635,141.94291758983243,8509.530089744987,-38.187088912100002,144.412493337999]
[3636,471.9663399481725,51132.58466210281,-38.1690777650999,144.39454256900001]
[3637,569.15775737391141,11998.358333698336,-38.166377999600002,144.388545464999]
[3638,646.64922721507173,36236.121706947277,-38.176891573299898,144.399143928]
[3639,527.51207300715669,16350.557803938775,-38.175060026600001,144.39386820600001]
[3640,676.04011412142393,35587.96599449448,-38.180665196600003,144.398562806999]
[3641,557.16820090422368,55671.719131996666,-38.169877004600004,144.38812224500001]
[3642,572.33774349618807,21199.704837870624,-38.173305778200003,144.386848259]
[3643,427.28762704982438,15144.994040310066,-38.184020122699899,144.39808888600001]
[3644,660.00003660605921,20779.431076601581,-38.179029770900001,144.392136561]
[3645,586.03725690793738,17984.313739852172,-38.176454710999899,144.38720766]
[3646,299.56285259548702,36037.417916179875,-38.187063642299897,144.397405932]
[3647,577.73406967516371,15780.861639862882,-38.183241357,144.39250913800001]
[3648,0,0,-38.2069830241999,144.42392813199899]
[3649,504.3961805597981,28628.067006077155,-38.1792454988,144.38601185600001]
[3650,390.47314387839123,33311.927036344227,-38.189136277800003,144.396168418999]
[3651,596.05296182766051,18887.695384406685,-38.186756401700002,144.39142780500001]
[3652,598.28690926739569,27294.219077064317,-38.182390299600002,144.385613562]
[3653,584.86272529895359,28550.087154108565,-38.193707806699898,144.39568264299899]
[3654,492.818964862342,8396.9644740727417,-38.185471318799898,144.38520531200001]
[3655,643.48055309599954,25158.502872088095,-38.192312157400004,144.39006338900001]
[3656,42.978958879793915,28550.087154108565,-38.192333497200003,144.38377235799899]
[3657,35.763530662557564,35.763530662557564,-38.206898019599898,144.39803263600001]
[3658,341.17777834598166,341.17777834598166,-38.018849659499899,144.431970111]
[3659,189.13089146057501,1552.6074108737253,-38.013733125800002,144.41147352799899]
[3660,560.69526052905428,4304.5965897539236,-38.023977053400003,144.4193381]
[3661,94.911576532925039,94.911576532925039,-38.031128927300003,144.42380844900001]
[3662,0,5022.8341920353078,-38.017109658400003,144.411429244999]
[3663,0,9186.0574898190898,-38.0220332369,144.41136605400001]
[3664,607.88725094557537,5614.580758293554,-38.019928882499897,144.40864100100001]
[3665,2396.5654944990483,2396.5654944990483,-38.030112529699899,144.417335162999]
[3666,652.15818430196714,5674.9923763372753,-38.015735442699899,144.40622299699899]
[3667,755.5892684675747,3743.9013292248692,-38.027981136100003,144.411980489999]
[3668,0,0,-38.036183544099899,144.41154005300001]
[3669,2.2991215409036112,4464.3273299845823,-38.028299777500003,144.401329842]
[3670,702.09691759405564,4414.9469410897327,-38.025927749399898,144.404677491]
[3671,359.43943703389664,7647.8558808548441,-38.0219743116999,144.402381340999]
[3672,473.53000021099325,8121.3858810658376,-38.017866274200003,144.39636993400001]
[3673,649.2714686426109,649.2714686426109,-38.0127535118,144.38706906100001]
[3674,563.29273480302379,2180.2454792906592,-38.034066817700001,144.399709605]
[3675,624.90027666246056,5089.2276066470431,-38.0284210055,144.395906491999]
[3676,533.93175345579868,8770.6573497084464,-38.017618472400002,144.388905741999]
[3677,461.25743035630808,4098.1430680912581,-38.0320060735,144.39718763400001]
[3678,617.41347962585758,8308.5785153064317,-38.020604649200003,144.388842600999]
[3679,66.116916613325827,66.116916613325827,-38.0488722159999,144.406635421999]
[3680,462.0788344020155,9179.1274116887125,-38.0250551771,144.39196584300001]
[3681,528.4959159279631,3793.6695467743311,-38.031375185599899,144.39233154300001]
[3682,16.68419364652296,1569.7302747338179,-38.039714093900002,144.392890196]
[3683,0.87066791939668198,0.87066791939668198,-38.062113490100003,144.40585124]
[3684,128.05176233212137,128.05176233212137,-38.011872705400002,144.36489138600001]
[3685,577.91030223011171,1637.907282042094,-38.069685639299898,144.397583857]
[3686,0.37137260025562829,0.37137260025562829,-38.059275175099899,144.389757162]
[3687,86.09721418083744,1146.0941939928198,-38.065104035700003,144.39151757299899]
[3688,8.4741841808305765,1578.2044589146485,-38.050311383699899,144.374275557999]
[3689,1385.5536449984963,1385.5536449984963,-38.031293657900001,144.36484508800001]
[3690,0,1724.0044962229315,-38.069749577300001,144.385754980999]
[3691,0,1592.9969845712126,-38.066436347200003,144.38168549700001]
[3692,0,1724.0044962229315,-38.074874526800002,144.383990568]
[3693,575.47283961827975,2168.4698241894921,-38.066434320600003,144.37691421900001]
[3694,476.04995601287209,1592.9969845712126,-38.062343387799899,144.37420163900001]
[3695,0,1059.9969798119823,-38.078699723,144.383725161999]
[3696,0,1740.6886898694545,-38.070932289700004,144.377554406999]
[3697,434.29347746018448,20420.023223633951,-38.0638708257,144.371304603]
[3698,0,1458.4774152817376,-38.078424833100001,144.37877204700001]
[3699,514.96099685873912,13906.858248448387,-38.066599039800003,144.371035054]
[3700,0,18152.126725066555,-38.0743321868,144.374509037]
[3701,1.0117596393080088,4059.4147776422055,-38.082008106399897,144.381871219]
[3702,586.72886657637082,13906.858248448387,-38.069980391199898,144.37186971899899]
[3703,41.316546982446972,4099.7195649853447,-38.0852939667,144.38106981799899]
[3704,0,9950.3536053970838,-38.081900341199898,144.37695299699899]
[3705,1.0501689744952929,17082.652043643651,-38.079089423200003,144.37394118]
[3706,473.68938727146337,18153.176894041051,-38.0720928163,144.36836538700001]
[3707,38.135313703424146,11074.92102901171,-38.0849060076999,144.375895515]
[3708,2.6344632857982995,8327.7351483566381,-38.088760099700004,144.380473309]
[3709,0.81932259766301241,18474.590216349541,-38.078435539600001,144.37050223700001]
[3710,0,10541.296840421568,-38.092632544300002,144.38083209600001]
[3711,632.04732422242671,12526.057447156878,-38.068706438200003,144.362957158]
[3712,632.84735462907008,13698.805257174079,-38.057996033899897,144.35281401]
[3713,0.12467879206403301,11666.991033178494,-38.088217985199897,144.374354842]
[3714,669.85655627398364,31300.181779702601,-38.0722859189,144.36247631000001]
[3715,2.9664055748027911,12249.979786647795,-38.083620658500003,144.370394237]
[3716,1.5197409886618347,18152.126725066555,-38.079130138899899,144.36653660600001]
[3717,0,14071.961316009874,-38.096776650899898,144.379203308999]
[3718,558.73517027584933,22303.038780398154,-38.076143169399899,144.362445318]
[3719,0,7847.4896415110761,-38.091915462499898,144.37601118699899]
[3720,530.33004686890422,33559.105266305989,-38.070409094699897,144.357387711]
[3721,0,15598.533898350901,-38.087713109699898,144.368763602]
[3722,0,11072.286565725912,-38.0916016502999,144.37092786100001]
[3723,427.99092035251601,27479.888335900756,-38.067549437099899,144.35386485000001]
[3724,0,17273.10894074299,-38.095615648299898,144.37511546299899]
[3725,5.493609492674815E-3,23794.073473638422,-38.082940671099898,144.36380307600001]
[3726,576.37316818474972,37487.895146184557,-38.0799060173999,144.36060932999899]
[3727,314.88803295973349,18126.143978865537,-38.0989919810999,144.373729924999]
[3728,0,40746.911448099556,-38.0754561116999,144.356556791]
[3729,513.8028683048334,13983.180874966671,-38.086329777700001,144.363675183]
[3730,0,17720.527944203805,-38.0948912652999,144.369947349]
[3731,532.8357096098249,35465.378978778208,-38.0676524012,144.34991750500001]
[3732,572.08042781509516,41462.011317872486,-38.071479678899898,144.352622567]
[3733,0,30223.884573812196,-38.0923539526,144.367068502]
[3734,477.611043559763,16105.356262119076,-38.091190078899899,144.36438073100001]
[3735,373.33992829081842,41370.211918415269,-38.076364504399898,144.353229277]
[3736,0,28035.923363753147,-38.098030535500001,144.367601673]
[3737,0,36164.417512567292,-38.079484271399899,144.35397687400001]
[3738,470.14785121167102,39658.692476782526,-38.069721218200002,144.347280805]
[3739,573.87054278249161,40883.221095800356,-38.075328078399899,144.350105036]
[3740,638.02359975197305,23546.838128546307,-38.089725264899897,144.359523731]
[3741,600.45493386890371,18536.117997607453,-38.066662951600001,144.34411347700001]
[3742,548.3963967933397,14223.259442773153,-38.083975980300004,144.35526894200001]
[3743,0,29569.327498944978,-38.102382453899899,144.367350195]
[3744,614.64761901371753,30140.074516096014,-38.070646897000003,144.34365871399899]
[3745,591.74656625824605,32513.81537914223,-38.097019848099897,144.362887395999]
[3746,578.1167104842425,37720.169176937023,-38.0807942215,144.349920212999]
[3747,670.8633018604063,41967.71197368265,-38.074877616899897,144.34549012100001]
[3748,643.72547296785922,13674.857552370322,-38.088986477299898,144.354166948]
[3749,516.84709042045449,22781.84328462289,-38.0682516096999,144.33919148000001]
[3750,552.54012934564696,37145.09619351905,-38.079570531500003,144.34646194000001]
[3751,549.08367398589576,25929.768180400781,-38.096256127700002,144.35833455900001]
[3752,401.4185326246689,30821.837915968532,-38.0740648015,144.341911581999]
[3753,602.97379022216978,37113.643440456188,-38.086574652700001,144.350040122]
[3754,0,30821.837915968532,-38.073068377299897,144.34013451300001]
[3755,0,25658.845525282304,-38.101037562099897,144.359711022]
[3756,404.90195617650096,14284.594461549737,-38.077920302800003,144.34283473100001]
[3757,576.93004063065314,39353.916585400235,-38.084529646900002,144.34580120000001]
[3758,561.43773345415627,14276.074764684628,-38.0946359609,144.35355582400001]
[3759,550.26013440101292,19010.632865909356,-38.080333217700002,144.34150829199899]
[3760,402.06155984559302,402.06155984559302,-38.057844535199898,144.32606120899899]
[3761,397.74026514772953,37260.433721499176,-38.0916834581,144.348546508]
[3762,0,20118.158979514566,-38.1038151091999,144.357964514999]
[3763,647.83023424323267,35336.601993733369,-38.089081714099898,144.34472278800001]
[3764,0.2243620584861947,11762.522532334506,-38.110951305699899,144.36045628599899]
[3765,477.48886114287814,26165.080110509109,-38.0774242966,144.33650027100001]
[3766,15.857633436148708,15046.703696230585,-38.1077682819,144.360466221]
[3767,562.4291140303294,16685.293997145967,-38.094972816499897,144.348368679]
[3768,8.4741841808305765,37427.16557587633,-38.100732412900001,144.35220437500001]
[3769,620.23946729624095,27782.305132079931,-38.084742747599897,144.34019283699899]
[3770,0,22105.342420794674,-38.107929427800002,144.35509322799899]
[3771,0.16041900058538447,21478.666585646853,-38.091474713399897,144.33739876499899]
[3772,531.4847645627226,27782.299902692874,-38.088831711200001,144.33911448500001]
[3773,5.229387058226783E-3,36493.444757932164,-38.098064555299899,144.344943833999]
[3774,106.36294810406339,106.36294810406339,-38.026742057200003,144.30604670400001]
[3775,3.3681866955496575,22909.441647422078,-38.115091865300002,144.35726630600001]
[3776,0,34979.687744471543,-38.101948032000003,144.346377496]
[3777,390.46391072115631,31190.536247688295,-38.0948789551,144.340742492]
[3778,116.48771389709042,116.48771389709042,-38.081346938700001,144.330752956]
[3779,0.8799198420169867,32526.273517139918,-38.119926919199898,144.357257938999]
[3780,716.5189303631372,27245.830293804545,-38.0865163580999,144.334187146]
[3781,31.778190678114658,20285.524448470282,-38.107231652400003,144.349966873]
[3782,0,39272.429731441778,-38.1048030973,144.34320112399899]
[3783,616.90182891572692,31584.196204301141,-38.096952942100003,144.33726944099899]
[3784,143.41572270130411,25376.575336678277,-38.117340176299898,144.351229112]
[3785,439.48155626306118,48378.103663459886,-38.121534956399898,144.355471432]
[3786,19.066914406868793,28293.962215235009,-38.109513493400001,144.345832798]
[3787,0,31852.954415475342,-38.112181897500001,144.34603855200001]
[3788,606.02707277217962,31573.321448157592,-38.100725723499899,144.33733992699899]
[3789,561.48153441308398,25611.664835614301,-38.094469269500003,144.331849697]
[3790,60.703188479653782,60.703188479653782,-38.0577595516,144.28779761600001]
[3791,12.422273770806303,49784.160133872087,-38.109262794400003,144.34169033500001]
[3792,504.75501463177625,34486.315940095257,-38.104291072499898,144.337301166999]
[3793,7.0010465084385949,13332.590723954325,-38.117479232800001,144.34744165000001]
[3794,469.10162792144348,469.10162792144348,-38.091373298599898,144.326967440999]
[3795,281.36633647404727,11716.32715158795,-38.076977890400002,144.320398361]
[3796,581.60455906284039,38859.813742761558,-38.098711074100002,144.33135612199899]
[3797,624.16320926247374,43419.150208083069,-38.118418083199899,144.344562733]
[3798,415.67090857332619,50006.744328478009,-38.115884493300001,144.34325404500001]
[3799,532.8641558804369,24372.698394882984,-38.095106460899899,144.32674501599899]
[3800,682.61499324962233,39298.493696212681,-38.1078265696,144.33634763699899]
[3801,580.66352528515915,40967.243777829019,-38.113228341000003,144.33960250600001]
[3802,613.45924713640136,39653.185423544637,-38.103696004100001,144.33048421000001]
[3803,538.73007407095508,24895.397427805041,-38.098535088299897,144.32609794499899]
[3804,543.10247736535439,39898.948630081577,-38.109170325100003,144.329905285]
[3805,525.63869817655632,8768.5086169530005,-38.102226894799898,144.32534102400001]
[3806,554.09639109896057,46762.661934745636,-38.112546844400001,144.33270402400001]
[3807,120.35977492693087,120.35977492693087,-38.097369337700002,144.32042105599899]
[3808,268.25785385707417,47613.723813587312,-38.120516471000002,144.33849387199899]
[3809,511.9933897275194,52888.851054210332,-38.116197526000001,144.333670592999]
[3810,137.13492525112164,137.13492525112164,-38.091940113699899,144.31437049900001]
[3811,514.18869046711836,9270.2750336493118,-38.105859201199898,144.324432038]
[3812,449.90617957356687,58337.331269432776,-38.1241044446,144.33541849]
[3813,585.40306356010512,60611.917815433037,-38.128949221900001,144.33761208300001]
[3814,535.20003746036457,54027.859335353292,-38.1190205410999,144.33020430400001]
[3815,587.47164717594285,46013.072896412974,-38.113821009799899,144.325529725]
[3816,478.97371515803076,478.97371515803076,-38.110985157400002,144.322144138]
[3817,1.8333761736013745,17734.287243335435,-38.124242261900001,144.33121260799899]
[3818,525.44420323148483,51801.480196470686,-38.119262062499899,144.326349497]
[3819,515.65640919435316,16570.540706481625,-38.1278579341,144.330414289]
[3820,522.69903292205652,10337.939994247708,-38.1179000518,144.32194369499899]
[3821,702.26768855606883,17147.733298055151,-38.125215021099898,144.32561055100001]
[3822,534.04478950078317,10337.939994247708,-38.1249655977999,144.32228852200001]
[3823,458.21449473430044,10337.939994247708,-38.124681149600001,144.31944969400001]
[3824,512.97565447989984,10969.721758455737,-38.132284816499897,144.31819264000001]
[3825,217.00094079767803,217.00094079767803,-38.093746111000002,144.28525864700001]
[3826,182.78125554402303,182.78125554402303,-38.124819248500003,144.292380361]
[3827,27.039875613416626,15692.103029653646,-38.150006745200002,144.38119042899899]
[3828,568.91739297703998,29305.898313819442,-38.1581539819,144.383718552]
[3829,511.46005253299933,30857.846654220619,-38.1574664842,144.37863698999899]
[3830,936.74044405785185,22993.085788900324,-38.148660906899899,144.370202828]
[3831,562.37685403935268,31346.025195278133,-38.154942826300001,144.37563376200001]
[3832,0.28227440945780424,16659.470709225556,-38.163321107199899,144.38256037100001]
[3833,536.4748382753869,96931.496409760482,-38.146098072900003,144.36401186699899]
[3834,651.49520364002717,79390.262481932834,-38.160403947200003,144.37620154800001]
[3835,158.99611228011668,51475.060192329904,-38.1397419657999,144.35698997200001]
[3836,634.46753736932635,90461.743183242172,-38.1523080499,144.368019543]
[3837,572.74762812308006,38729.842260737212,-38.1557984242,144.370363599999]
[3838,502.91188313224001,27676.160412350626,-38.168255090599899,144.38177626999899]
[3839,164.9163094520616,111015.67403872512,-38.1501721128,144.36185700600001]
[3840,171.05941217043915,113397.49552594288,-38.1461551736,144.357003561]
[3841,765.51602850162283,25994.772291361161,-38.165247565400001,144.376936798999]
[3842,321.41332230849002,75895.577689414349,-38.142403959699898,144.355565504]
[3843,520.84186436508912,43225.272915249618,-38.157822043400003,144.369288092999]
[3844,597.25178586223353,31096.804947291585,-38.161909344100003,144.37069507300001]
[3845,409.70856854318214,24324.030905632779,-38.171332532500003,144.38015592400001]
[3846,438.70092891726006,79344.558292951115,-38.153655967399899,144.36275650600001]
[3847,491.63871740167474,96905.196157387269,-38.155537350700001,144.36122666399899]
[3848,21.154789841204483,19409.065234260539,-38.175355814699898,144.38155669700001]
[3849,550.73809734230906,29841.071779606209,-38.166192498000001,144.371757454]
[3850,525.19859822380533,34420.538691147434,-38.160622973899898,144.366093363]
[3851,74.912276704570417,90252.329789356998,-38.150199367200003,144.35623226600001]
[3852,518.46330317880563,26655.303393280803,-38.177796545900001,144.379037176]
[3853,399.39055670092506,82499.620479757607,-38.157950481999897,144.36087574800001]
[3854,496.75471751599935,92037.667704810068,-38.152867131000001,144.35443694700001]
[3855,14.940279858963823,10366.045023776183,-38.174287470899898,144.373938917]
[3856,749.58903833266038,81090.771733810834,-38.160857228200001,144.359133095999]
[3857,110.6690013290105,84331.245138479047,-38.158043950699899,144.353442736999]
[3858,14.829937337518711,7877.2157823464013,-38.171122881999899,144.36514469599899]
[3859,31.778190678114658,72798.551366082582,-38.163849904499898,144.357716799999]
[3860,0,78217.871582320804,-38.165161846099899,144.356104708]
[3861,0,83766.984278615651,-38.1622410141999,144.35213371200001]
[3862,471.63072359113357,14468.392586311062,-38.1795242014,144.36843589200001]
[3863,27.464589203422236,2685.8097404803834,-38.184124575699897,144.37386785000001]
[3864,0,2107.607053934652,-38.190284801600001,144.37308324399899]
[3865,741.43489300872022,47387.925337753215,-38.124882737500002,144.35563014300001]
[3866,0.50485949749525327,51580.923521227778,-38.126433508300003,144.35195853900001]
[3867,592.07000416678375,25559.312047174357,-38.130174325500001,144.35423596800001]
[3868,25.549325840801124,16760.512135825484,-38.124378520699899,144.347782365999]
[3869,566.3223523906056,8238.5045140299917,-38.128776058200003,144.347439788]
[3870,428.62867088180667,62266.601876246823,-38.134688536200002,144.35336379399899]
[3871,0.85602616415997468,58996.387412572323,-38.124178542099898,144.342616187999]
[3872,25.940122586595006,70210.760573785272,-38.1338548011,144.35092676599899]
[3873,436.17235873291941,69188.141318820155,-38.131162247299898,144.3468397]
[3874,30.068520450255427,59290.52129821101,-38.128014720400003,144.342016151]
[3875,595.51510864515649,59510.011809209449,-38.1354302360999,144.34584948700001]
[3876,1075.6702487407888,84152.128943863892,-38.1406345929,144.350280457]
[3877,532.24980879634541,63056.519819638721,-38.132474212399899,144.34120805800001]
[3878,631.78176420802913,84392.699871400691,-38.141004941699897,144.345819578999]
[3879,617.9595313404742,52735.07459259942,-38.135631790600002,144.340250260999]
[3880,575.07298341797537,87128.929589933701,-38.145846339199899,144.348917513]
[3881,558.6412185251761,63477.402051914716,-38.1388281073,144.341094435]
[3882,634.81381639003894,55465.483709951615,-38.131876829900001,144.334921143999]
[3883,575.40810336949278,74413.63442605568,-38.141075245800003,144.340532309]
[3884,615.30865409609146,51891.840651945487,-38.1430969980999,144.34036427999899]
[3885,614.45892638194118,13203.75156715835,-38.1359526809999,144.334335544]
[3886,545.80019174428571,14866.700190988277,-38.144942956999898,144.33997188500001]
[3887,580.5820419388341,16531.32228396006,-38.132253980800002,144.328712929999]
[3888,594.77397902601933,37888.1672698275,-38.1396027876999,144.33312758700001]
[3889,586.55394528028398,10337.939994247708,-38.1304105777999,144.32237428299899]
[3890,773.97425394366496,37337.429172485194,-38.143158289399899,144.332642534999]
[3891,459.39322704072038,13784.415092443509,-38.1378287,144.327414793999]
[3892,580.17244250282408,14781.200177466777,-38.133888145299899,144.32328680200001]
[3893,0,10337.939994247708,-38.134517833499899,144.31946133400001]
[3894,587.00174183421802,10969.721758455737,-38.137725861,144.32169431899899]
[3895,406.53243600927698,406.53243600927698,-38.117053429400002,144.679596745]
[3896,3427.7598667693492,5717.3075292379554,-38.137165430800003,144.70614789000001]
[3897,1276.2952713427871,7400.1352365900193,-38.117210364999899,144.66432668799899]
[3898,867.69990268277468,6486.2095730647843,-38.116911979400001,144.653660981999]
[3899,1350.842160207264,6922.5972010021751,-38.119888271999898,144.643950733]
[3900,1307.2981980576349,6879.0532388525462,-38.115466743699898,144.634576821]
[3901,914.45453226987331,2289.5476624686062,-38.175721361900003,144.71006754800001]
[3902,1812.9107008685689,1812.9107008685689,-38.1628514521,144.67883276500001]
[3903,1375.0931301987328,2289.5476624686062,-38.187196472899899,144.70829456499899]
[3904,683.50300601228616,683.50300601228616,-38.1607680316,144.61339576399899]
[3905,550.93994733155114,5987.4674167109588,-38.146102492200001,144.58308563400001]
[3906,909.0479445928828,6801.316667253499,-38.1505469296999,144.57854645]
[3907,543.02635377007618,6801.316667253499,-38.1475734741,144.573689895]
[3908,549.5010835994467,5987.4674167109588,-38.154989501400003,144.57893214500001]
[3909,481.86049508378488,7571.9682513074504,-38.155518928200003,144.57236448800001]
[3910,644.82890122796869,5446.9644335184294,-38.1615407412,144.576775239]
[3911,646.43674095269205,4638.0517529177605,-38.154394724299898,144.565443534]
[3912,367.05674928088604,6801.316667253499,-38.1598966180999,144.57006161300001]
[3913,770.65158405395186,8571.1697805366675,-38.163542997500002,144.568960882]
[3914,580.30039600278678,3926.5554163368593,-38.164388027100003,144.55867732799899]
[3915,700.70580327484993,11731.95653436161,-38.170344276599899,144.572248895999]
[3916,765.76539890305889,3991.6150119650679,-38.160162375399899,144.55780784999899]
[3917,813.84925054253983,5337.9611376443627,-38.168051398499898,144.56500265400001]
[3918,593.53230719379337,3926.5554163368593,-38.160715761799899,144.55259555999899]
[3919,467.51607526893764,12793.00491682434,-38.1777638258,144.572891857]
[3920,588.73063027012313,10282.034798943292,-38.178855420600001,144.563968703]
[3921,723.20246051769686,3124.9838705595757,-38.185610307700003,144.529677195]
[3922,805.38389824652518,805.38389824652518,-38.233471110499899,144.600457562]
[3923,1164.6499303459211,4351.6424293485625,-38.273804315500001,144.61009532899899]
[3924,587.59976000815902,4470.6895239723572,-38.231072449899898,144.534846985999]
[3925,1175.624877470744,3016.0909932724144,-38.253098064500001,144.55151734500001]
[3926,625.39372822765984,5697.4214248860508,-38.255679808399897,144.547695468999]
[3927,776.05327801113663,3334.4809857178125,-38.261976810199897,144.55480343900001]
[3928,4.444613889678397E-2,4.444613889678397E-2,-38.253947004099899,144.53890160399899]
[3929,157.80486235799464,6468.1749775321214,-38.256150110900002,144.542859362999]
[3930,612.94869028807602,6310.370115174127,-38.2610031570999,144.54639235100001]
[3931,818.83879417542346,818.83879417542346,-38.264345495400001,144.54829207700001]
[3932,550.77709862431368,7050.4379786463451,-38.232441418699899,144.49598351200001]
[3933,400.39146703156973,8818.1551521046058,-38.252953401100001,144.52464969900001]
[3934,962.14064023975379,3229.4721329157537,-38.261878647300001,144.53897479099899]
[3935,633.19473909570422,633.19473909570422,-38.2614679632999,144.532973849]
[3936,787.35639461997471,787.35639461997471,-38.269082480199899,144.545478215]
[3937,892.58750961691351,7870.2765459198499,-38.259116218099898,144.52726099399899]
[3938,661.13630388060176,2267.3314926759999,-38.267331801799898,144.53946789400001]
[3939,825.95718679594188,6414.6402059847933,-38.2581581146,144.52040825399899]
[3940,773.14981916056797,8643.4263650804187,-38.263267087400003,144.526543481999]
[3941,803.88901039202938,7495.6372199905654,-38.2689562853,144.53131701999899]
[3942,1271.3483243097573,7685.9885302945504,-38.253814156600001,144.509209301]
[3943,885.70168650042569,13896.798152449241,-38.259341767099897,144.514995091999]
[3944,892.18693532134512,14443.574525895658,-38.267396058499898,144.52155451900001]
[3945,1121.0650174957384,15465.201847521901,-38.267002930300002,144.51533809200001]
[3946,0,5311.7329702012912,-38.2683157823,144.50109311899899]
[3947,647.86614993534943,7281.9061787003102,-38.2667331046,144.493582648]
[3948,14.829822316453502,7340.2153196303962,-38.2747564943,144.506607019]
[3949,624.17401665766613,7258.2140454226274,-38.2656285797,144.487713396999]
[3950,1323.5541907027248,6334.31727534733,-38.273475554500003,144.49320502699899]
[3951,1031.0553125737172,8776.433013643109,-38.276117620999898,144.485956587999]
[3952,1011.5363496836979,6338.0991422014431,-38.284671692800003,144.492113469]
[3953,83.724368165224575,5602.9847161912439,-38.284954358199897,144.478652189999]
[3954,268.66155793020943,6202.5873662459699,-38.2648236385999,144.44584158999899]
[3955,0,0,-38.2904767932,144.40178504100001]
[3956,249.98843333450196,249.98843333450196,-38.295367837299899,144.390910547999]
[3957,0,0,-38.296878794900003,144.384782067999]
[3958,488.26059386180555,488.26059386180555,-37.982254410800003,144.50185278199899]
[3959,69.498811576479042,69.498811576479042,-38.034313640699899,144.498533861]
[3960,408.47006198026691,1771.9465813934171,-38.004088205000002,144.42154682500001]
[3961,591.1918847124457,591.1918847124457,-37.912474268300002,144.384937570999]
[3962,208.09569344290159,208.09569344290159,-38.0596640622,144.41870735200001]
[3963,630.30935924049481,630.30935924049481,-37.982379330800001,144.37296227600001]
[3964,618.53951330645941,618.53951330645941,-37.979619303299899,144.294801052]
[3965,552.99766866500988,62260.383573859755,-38.149038335699899,144.34958331600001]
[3966,630.34834142101602,29690.662499129216,-38.152643642000001,144.34889799600001]
[3967,720.73115183048412,13033.505206250184,-38.148727394799899,144.343884137]
[3968,491.09301546221775,27816.268523806848,-38.155743978099899,144.348708665]
[3969,449.3968584825401,22905.036788294994,-38.158188255799899,144.34736598800001]
[3970,679.87833246002731,23758.620833520239,-38.1533424072,144.343058961]
[3971,604.89256580110612,11770.806165719989,-38.148013310400003,144.338065392999]
[3972,574.69082995913891,11770.806165719989,-38.1528970731,144.337535954]
[3973,545.61169846440907,22905.036788294994,-38.157844102799899,144.342417055]
[3974,546.1520736723586,11770.806165719989,-38.1467110822,144.33209754999899]
[3975,716.85896458316256,11770.806165719989,-38.141836054700001,144.32431325600001]
[3976,639.95247971963613,22394.97723026506,-38.157230152700002,144.336635207999]
[3977,129.14001135382259,22394.97723026506,-38.161726685200001,144.340557367999]
[3978,459.45342793263256,18964.097173494396,-38.150176039400002,144.328693184]
[3979,561.78919262823524,11770.806165719989,-38.153151675099899,144.33077696300001]
[3980,14.102946915157119,7652.7044439159008,-38.146224095400001,144.320350784]
[3981,455.37170483117131,21098.838665927677,-38.157133284899899,144.330370797999]
[3982,493.81949204427286,11770.806165719989,-38.154805836999898,144.323743041]
[3983,474.07600871633235,15757.384118012886,-38.161916238499899,144.327467391]
[3984,8.5673423624973442,811.60694874885735,-38.182184442599898,144.358787836]
[3985,13.881874704568569,2699.6916151849518,-38.1987970156,144.38283224]
[3986,63.315499542607959,510.73450300342284,-38.218287018600002,144.39194463800001]
[3987,651.43395826445192,70360.533781006787,-38.168830483400001,144.34645328299899]
[3988,657.09005062569759,62791.826324319518,-38.173919833699898,144.348918145]
[3989,0,0,-38.2325896296,144.414038756]
[3990,565.44017313510085,36730.566459024027,-38.168063007100002,144.342299346999]
[3991,30.445096753988867,75102.933968310434,-38.1724929372999,144.34573800499899]
[3992,46.931174839178837,2812.5238992266691,-38.200363058500002,144.375408902999]
[3993,46.291257936420884,13757.996910135427,-38.191068655499897,144.362767402999]
[3994,573.80939422287031,11095.777715151509,-38.178113138000001,144.348249251]
[3995,453.83744874351447,34155.553051764691,-38.181838411800001,144.348708139]
[3996,494.73812286816252,15184.429844931334,-38.167884233599899,144.335398013999]
[3997,593.56027102669964,59647.368381065477,-38.172507832999898,144.339038133]
[3998,26.153632875382364,240.7479982956292,-38.203673492599897,144.36870599]
[3999,547.79583061651044,67553.293128867837,-38.177994333500003,144.34255921100001]
[4000,33.832975244140414,2657.1040364507917,-38.2491011547,144.41767933200001]
[4001,572.95427308155001,11300.690020694577,-38.151204784800001,144.31773490500001]
[4002,573.70479363675099,47521.864536857327,-38.185404251199898,144.34759143100001]
[4003,563.70952983293239,41793.015537009,-38.171850346200003,144.333610698999]
[4004,606.32472226629125,18930.129592243713,-38.176733842200001,144.338080985]
[4005,824.58614584071154,2507.124772791899,-38.193653513500003,144.354654998]
[4006,556.0396512025045,45771.065611663827,-38.181247506200002,144.341048282999]
[4007,431.14385801060502,43280.215372695267,-38.189204323699897,144.347159253999]
[4008,538.33865957842511,8733.417804901459,-38.1565132043999,144.31540549900001]
[4009,492.83032771912178,21041.887106666421,-38.178738942099898,144.33512531400001]
[4010,563.19522073181588,38692.161502678638,-38.171761730299899,144.32838465]
[4011,447.41900346081491,14516.613892610781,-38.201480130999897,144.359938083999]
[4012,554.78957766856706,13037.266719077859,-38.184060106499899,144.339050246]
[4013,468.51828615469378,15184.429844931334,-38.168825891700003,144.32483452599899]
[4014,762.45807658068077,25935.908990030133,-38.166258605899898,144.321648606]
[4015,465.93391917434377,18437.29926452459,-38.179201335400002,144.33269775900001]
[4016,586.72827685673303,25091.419069427284,-38.161876298400003,144.31794898000001]
[4017,0.80435984678116701,33281.956632912843,-38.1944386593999,144.346681883]
[4018,581.38990211063765,23161.396750532753,-38.1877110565,144.340355862]
[4019,556.47764832228938,34499.817487384236,-38.178022614900001,144.329686186999]
[4020,453.98165007615842,33354.329844355336,-38.1980051205,144.349603933]
[4021,0.48823161168191781,0.48823161168191781,-38.150617122699899,144.30342805800001]
[4022,0.16385090448043557,26649.689233833757,-38.172105856199899,144.32182305000001]
[4023,483.24694224888333,35534.550752034331,-38.176848792900003,144.32656234300001]
[4024,429.9350553726627,27809.889514871284,-38.166010534400002,144.317124202]
[4025,36.299264372133358,1763.9984056917579,-38.246291599700001,144.398421149]
[4026,556.62514929611734,28889.831739160072,-38.163169109099897,144.31321271799899]
[4027,853.72756392694907,853.72756392694907,-38.153484635399899,144.305091562999]
[4028,528.52497658846141,24528.899166102306,-38.190004168199899,144.33218039600001]
[4029,497.59663798831855,33772.214239311004,-38.176904684500002,144.323062284]
[4030,656.14645379829346,25259.320275088256,-38.187168877200001,144.33380143900001]
[4031,23.157826988587818,23.157826988587818,-38.232158272200003,144.379550405999]
[4032,0.10175608558035663,22655.127189864914,-38.1913384226999,144.337765375999]
[4033,614.44670401163398,45259.662578033065,-38.1941331125999,144.340059403]
[4034,18.504820968166346,15524.732280420607,-38.159393405700001,144.30861004600001]
[4035,573.87865143346085,21302.591911311662,-38.1839459674,144.329393874]
[4036,828.95458172594203,24339.31609354504,-38.2035128427,144.34895518900001]
[4037,598.63527001002603,27801.158321604307,-38.1699168837999,144.31677280599899]
[4038,0.48690989965032777,32527.992244312165,-38.199995698099897,144.35434843300001]
[4039,1103.8670077662903,32998.96994474333,-38.175412063899898,144.320159808]
[4040,315.47525177461165,16309.825724506465,-38.162935836800003,144.30805197199899]
[4041,773.07867011281132,25395.912918417798,-38.202552488800002,144.34386162300001]
[4042,289.5102613592947,15524.732280420607,-38.159144704699898,144.304892053999]
[4043,617.86165090917598,35066.809643174296,-38.195724110199897,144.335502416]
[4044,353.08360985447075,34602.354581618296,-38.207256654799899,144.34718096]
[4045,507.40179523895904,19198.951991635971,-38.199650070499899,144.339688948999]
[4046,561.08392051805868,29091.634361535973,-38.1704888461,144.311693306]
[4047,656.5037417875825,32417.58004263269,-38.1751207322,144.31514180299899]
[4048,517.33195149850212,23917.050973461271,-38.181006741600001,144.319950925]
[4049,506.18168523044511,30340.40846544048,-38.166265204699897,144.30750888200001]
[4050,9.595521994876032,493.74686221222339,-38.225534572800001,144.363459826]
[4051,21.650171854316376,756.74834844993916,-38.215319257700003,144.36538962700001]
[4052,113.84858250304494,113.84858250304494,-38.157107572599898,144.29833955500001]
[4053,537.91854886320152,12536.92514068156,-38.183779394200002,144.322063711]
[4054,495.48848913930942,28602.9641449839,-38.187896292300003,144.32490749900001]
[4055,486.93229855747273,28550.865895166786,-38.2078757694999,144.342687493]
[4056,304.37906285453897,14091.321318518014,-38.160731650400002,144.297634122999]
[4057,611.74892822818924,22863.501373104034,-38.203522933899897,144.33797171200001]
[4058,509.75127066109366,25769.564607121614,-38.193153839399898,144.32695153399899]
[4059,242.5597323029198,16309.825724506465,-38.164558024599899,144.301944784]
[4060,429.21859853761794,29534.798016662317,-38.200210128400002,144.33392352600001]
[4061,722.34682799571522,14564.495498351642,-38.195926053599898,144.330390897999]
[4062,32.137205476343944,32.137205476343944,-38.243706631599899,144.38299834]
[4063,13.081226913651772,26632.484433979338,-38.213876358100002,144.353276943]
[4064,599.29511254803651,24574.087117928786,-38.1804331003,144.31415490699899]
[4065,371.37280006821163,21631.269030818898,-38.176872515299898,144.31012312300001]
[4066,538.2988610145153,26696.445505671742,-38.171162433900001,144.30493283000001]
[4067,470.08190512737661,29575.661323252076,-38.203869763900002,144.333595414]
[4068,512.7798272230998,11456.776928580262,-38.187939306499899,144.317998711]
[4069,47.755531691241508,13181.839702460731,-38.215083696199898,144.34387321200001]
[4070,714.52796733142509,24636.055437185893,-38.191733518299898,144.32153198699899]
[4071,639.52172998539845,24153.223198945929,-38.208668586100003,144.337462106]
[4072,436.82994920072173,16309.825724506465,-38.168147257000001,144.301142975999]
[4073,30.392789563374816,30.392789563374816,-38.236405433599899,144.363256146]
[4074,564.74325195846393,29091.634361535973,-38.175143632000001,144.30526085100001]
[4075,42.536557418143786,42.536557418143786,-38.164635509599897,144.29537550800001]
[4076,506.26956066783725,12024.145313458461,-38.1853312333999,144.31348123199899]
[4077,521.84011501464943,32988.389881500865,-38.1986264214,144.32585187000001]
[4078,296.12349864350165,23626.965066710971,-38.206648645900003,144.33300699700001]
[4079,385.00140338450291,23950.905912874208,-38.183433424900002,144.309338096]
[4080,201.76074820343965,201.76074820343965,-38.169463235800002,144.294516233]
[4081,558.24682510359332,22203.660326497287,-38.204754801199897,144.32895679699899]
[4082,15.545789721755394,499.69712993910275,-38.2264241033999,144.350831239]
[4083,518.31719271204554,15440.514806337294,-38.180044347500001,144.30505670700001]
[4084,517.13154749443754,34093.965546478918,-38.202453841900002,144.325050180999]
[4085,392.97258371708136,21323.232802345527,-38.212426423099899,144.33013803700001]
[4086,647.12718196400181,19548.422425654186,-38.190601733199898,144.312554807]
[4087,396.00447811226684,23131.47657757167,-38.209777345500001,144.330235886]
[4088,145.44145350410884,145.44145350410884,-38.177446888600002,144.300135178]
[4089,0,21323.232802345527,-38.211707519599898,144.335791298]
[4090,510.17454919050004,28192.467198465456,-38.206195382399898,144.324455989]
[4091,11.906702701126033,13170.690044806939,-38.224360254700002,144.34085227]
[4092,3.3566297846809037,11206.463614878852,-38.228112529599898,144.34357732500001]
[4093,513.19289934503865,23635.153762273949,-38.199388098900002,144.31467748399899]
[4094,1236.3187467592306,13965.819486317279,-38.195560645299899,144.30850874500001]
[4095,47.241747430719705,1371.1561693513195,-38.2158892016,144.330915422]
[4096,625.62565581850674,25603.873809981767,-38.204175090200003,144.317981954999]
[4097,631.58429424052338,27032.000678452536,-38.210351969900003,144.32374789299899]
[4098,646.39359183529837,19067.111626339818,-38.207224677900001,144.319616045]
[4099,540.17852443268043,30340.804485052489,-38.212343357199899,144.319334871]
[4100,625.49422998010357,16787.291404381434,-38.206341771200002,144.306841945999]
[4101,40.722051399507819,13189.220049944179,-38.237980250200003,144.344056475999]
[4102,299.42263768531552,299.42263768531552,-38.1645625381,144.27286093000001]
[4103,678.11351625815473,32240.339727054437,-38.210397542300001,144.313800754]
[4104,26.812385795536041,1790.810791487294,-38.247725488299899,144.352863928]
[4105,55.734927836055519,14752.703817100137,-38.225621221399898,144.327338986999]
[4106,646.17141808454244,17555.364252207066,-38.2095561012,144.306962572]
[4107,20.06602818121419,9249.5703174885111,-38.218729500099897,144.31037696000001]
[4108,43.435445776945016,9096.6078127958262,-38.199125999099898,144.293941859]
[4109,937.60425224406151,14854.762027710598,-38.213490302399897,144.30592344799899]
[4110,27.480325569847015,9122.2988889068656,-38.2364774459,144.32855490399899]
[4111,869.10102346810584,16096.146224080749,-38.211063376299897,144.29897421300001]
[4112,36.440328214193848,1419.0980693182635,-38.243291628000001,144.32579559499899]
[4113,203.01718598861112,203.01718598861112,-38.193380254700003,144.27346730299899]
[4114,13.989101493776424,8204.5217282919857,-38.226187241200002,144.30898868400001]
[4115,151.52725875809548,151.52725875809548,-38.209398203200003,144.286978003]
[4116,30.828651611504213,30.828651611504213,-38.238252059600001,144.308751269]
[4117,28.186305544961304,28.186305544961304,-38.230138978100001,144.29012695399899]
[4118,73.917233519902481,73.917233519902481,-38.225336586399898,144.263836355]
[4119,14.794463445829077,14.794463445829077,-38.253565264199899,144.670754418]
[4120,104.51931754824699,4489.5438759482513,-38.266825030699898,144.66321000900001]
[4121,725.50120660784785,4489.5438759482513,-38.268027520099899,144.658864317]
[4122,539.17381061564606,4489.5438759482513,-38.267709414800002,144.63180023199899]
[4123,561.92183346983472,4489.5438759482513,-38.271897242599898,144.619105499]
[4124,675.81618545574918,4351.6424293485625,-38.278095319000002,144.61361202000001]
[4125,717.96159190500543,4489.5438759482513,-38.286520424400003,144.60937098100001]
[4126,101.65041744254962,404.14495061689945,-38.264351262799899,144.39785238600001]
[4127,26.036728583522493,330.99755088586528,-38.259368053899898,144.358022715]
[4128,37.560124529064439,37.560124529064439,-38.2779342044999,144.387191935999]
[4129,162.64066790807937,1926.6390735998373,-38.254225942600002,144.35009576799899]
[4130,46.185118713455282,46.185118713455282,-38.277432015899898,144.35076054500001]
[4131,21.884063074548322,1596.3656061814524,-38.253699159100002,144.312745543999]
[4132,298.04416426619701,298.04416426619701,-38.299648171599898,144.34746258300001]
[4133,34.802409123548443,1113.4362707729472,-38.272590017299898,144.309328561999]
[4134,333.95091111456946,951.49377308045882,-38.311119657699898,144.356085299]
[4135,20.74132552444253,20.74132552444253,-38.250454433100003,144.285719618999]
[4136,110.55443368993029,2689.8846284441911,-38.298140371499898,144.33248775300001]
[4137,655.97732710998866,3965.5849802193861,-38.312796802500003,144.34235634300001]
[4138,617.54286196588941,6172.9452707595201,-38.317344259400002,144.338607314999]
[4139,1446.0180140768048,3053.4891142672523,-38.312974666499898,144.331441781]
[4140,349.64594139762727,349.64594139762727,-38.159505159600002,144.167907638999]
[4141,92.62987617003219,92.62987617003219,-38.2441767056999,144.239581888]
[4142,688.79454200800967,6172.9452707595201,-38.319823735999897,144.33274488199899]
[4143,87.485913742726879,1179.2592662355214,-38.298376208599898,144.304143025999]
[4144,43.239397417019504,43.239397417019504,-38.283343547800001,144.27913623000001]
[4145,590.68547637153051,6377.405190922681,-38.322849157299899,144.325774198]
[4146,759.92832258149497,8320.2731328427944,-38.317768550700002,144.313365675]
[4147,608.13398650006945,9102.6874433376379,-38.3273835448,144.32222103000001]
[4148,79.042702306803704,9244.5076136948464,-38.330194470400002,144.325406679]
[4149,123.16816251885049,12349.985477111462,-38.3239426385,144.31565482900001]
[4150,1.4139538818332911,11490.41886942376,-38.327187797999898,144.314882232999]
[4151,955.46569913054816,13271.160166127955,-38.330340374499897,144.315761369]
[4152,670.91145455047456,3464.7379287879357,-38.335360461199897,144.321394849999]
[4153,59.335166199909246,59.335166199909246,-38.263594906400002,144.240576232]
[4154,204.45992016316094,1159.9256192937091,-38.315204427399898,144.291626321]
[4155,11.725536961562618,6205.8177337517427,-38.3404604155999,144.31534822699899]
[4156,758.85209250748358,5936.2076853800536,-38.334705259899899,144.308284036999]
[4157,161.24636643499863,3080.349336584045,-38.3246411951,144.29645438099899]
[4158,778.25722457677307,2427.8563730339324,-38.343370502900001,144.304647832999]
[4159,570.84503228292988,570.84503228292988,-38.342153551700001,144.29952154700001]
[4160,492.07384951293267,492.07384951293267,-38.343502563400001,144.29496878699899]
[4161,754.59392481763791,754.59392481763791,-38.334707191100001,144.27632388000001]
[4162,502.74305492968779,1649.5991484571596,-38.349135057399899,144.29842729699899]
[4163,67.164382270992121,67.164382270992121,-38.3308932184,144.266906557]
[4164,576.01106124454179,576.01106124454179,-38.350199422700001,144.287731683999]
[4165,403.53895398982178,403.53895398982178,-38.223811888999897,144.146025041999]
[4166,66.337419014045921,66.337419014045921,-38.256748604000002,144.191662756]
[4167,424.00217583804647,424.00217583804647,-38.2461159916,144.17032788399899]
[4168,222.00125506659506,222.00125506659506,-38.363787581399897,144.26447674600001]
[4169,0,0,-38.377922305799899,144.25757031699899]
[4170,73.561686162544788,73.561686162544788,-38.330710937200003,144.253045047999]
[4171,219.04161255991571,219.04161255991571,-38.359137951999898,144.227372906]
[4172,798.6211569822284,798.6211569822284,-38.2998552958,144.14499445499899]
[4173,203.12248412140886,203.12248412140886,-38.181838899100001,144.030326973999]
[4174,718.95840710182665,718.95840710182665,-38.404112483799899,144.19535533300001]
[4175,918.27887744901295,918.27887744901295,-38.4060957559999,144.180657779]
[4176,756.60245913080064,756.60245913080064,-38.408268137699899,144.17015566699899]
[4177,1467.1117973136811,1467.1117973136811,-38.419891130400003,144.176614113]
[4178,381.8545212660041,381.8545212660041,-38.235535403999897,144.00104250000001]
[4179,298.28044038745605,298.28044038745605,-38.2402067015,143.98608997599899]
[4180,389.9636929670757,389.9636929670757,-38.249610548600003,143.98893033100001]
[4181,1167.2425343734019,1167.2425343734019,-38.450971723899897,144.108829235999]
[4182,874.06042636913094,874.06042636913094,-38.2820151288999,143.92523775800001]
[4183,1026.8965327765163,1026.8965327765163,-38.4571070613,144.07952316000001]
[4184,129.60124344077857,129.60124344077857,-38.440080153300002,144.01030436100001]
[4185,928.00065963301404,928.00065963301404,-38.496612013899899,144.01082105699899]
[4186,1377.3884813232444,1377.3884813232444,-38.548377016000003,143.97169475000001]
[4187,136.91895774674856,136.91895774674856,-38.013834688099898,143.533957407999]
[4188,0,0,-38.180734420900002,143.426126415]
[4189,511.47842694721129,511.47842694721129,-37.681199153900003,143.36187940299899]
[4190,378.88675164489359,378.88675164489359,-37.9540082639,143.33792838900001]
[4191,557.99814617187337,557.99814617187337,-37.840969252100003,143.28348157100001]
[4192,242.27803700080216,242.27803700080216,-37.943271594199899,143.217837285999]
[4193,574.4481920128959,574.4481920128959,-38.0585605278999,143.22980039500001]
[4194,376.13959418063234,376.13959418063234,-38.2271355962,143.243243019]
[4195,702.37307907318529,702.37307907318529,-38.224826302399897,143.153812211999]
[4196,767.92500920074792,767.92500920074792,-38.238010060699899,143.14943363200001]
[4197,97.938677653287172,97.938677653287172,-38.232352064300002,143.146597746]
[4198,357.76578584667124,357.76578584667124,-38.242661213399899,143.14490321100001]
[4199,717.92566600373584,717.92566600373584,-38.230057914900001,143.13738023100001]
[4200,553.31886388807868,553.31886388807868,-38.235699877000002,143.131585266]
[4201,652.31922675558224,652.31922675558224,-38.196890474999897,143.07342587100001]
[4202,982.32392133940027,982.32392133940027,-38.203261306100003,142.935710011]
[4203,74.262009954171617,74.262009954171617,-38.2304733251,142.92168010500001]
[4204,642.58672110392604,642.58672110392604,-38.236507030399899,142.920265806]
[4205,90.022629643661759,90.022629643661759,-38.2514687822,142.915517007999]
[4206,430.08716362263777,430.08716362263777,-38.2425901225999,142.920106352]
[4207,7.2145033708055412E-5,7.2145033708055412E-5,-38.246294141500002,142.91145297200001]
[4208,324.20964897843652,324.20964897843652,-38.242368299299898,142.903771011999]
[4209,365.38261135792033,365.38261135792033,-38.2361755575999,142.90377934200001]
[4210,145.11030730445776,145.11030730445776,-38.238491031099898,142.86734010000001]
[4211,1019.027312063136,1019.027312063136,-38.330738220999898,143.21758059499899]
[4212,415.24017465784732,415.24017465784732,-38.454029564700001,143.21939339900001]
[4213,329.58696350071835,329.58696350071835,-38.5462234568,143.249606806999]
[4214,158.679596110196,158.679596110196,-38.501806546799898,143.213765454]
[4215,574.38776932570977,574.38776932570977,-38.3206274964,143.07734321999899]
[4216,798.16674879023697,798.16674879023697,-38.330845203000003,143.07305935599899]
[4217,1537.1310621361904,1537.1310621361904,-38.388220625599899,142.977832165]
[4218,455.36113214215868,455.36113214215868,-38.668478989100002,143.18631947700001]
[4219,1231.7136492810446,1231.7136492810446,-38.551282810700002,143.02030801500001]
[4220,854.07079052942743,854.07079052942743,-38.487307031299899,142.978484589]
[4221,536.48272005448371,536.48272005448371,-38.619081852199898,143.00235829299899]
[4222,453.88066156568118,453.88066156568118,-38.155460597199898,141.77145987500001]
[4223,646.8799785492497,646.8799785492497,-37.955591561200002,141.65430775799899]
[4224,254.64655754972134,254.64655754972134,-38.142833298100001,141.635928081999]
[4225,609.62827009291937,609.62827009291937,-38.129381630600001,141.62784121300001]
[4226,467.97635746281912,467.97635746281912,-38.134760131599897,141.619467732]
[4227,1147.5072798056494,1147.5072798056494,-38.195229441400002,141.635099037999]
[4228,360.60740246688857,360.60740246688857,-38.040006919200003,141.513974773]
[4229,1.8108939325195458E-2,1.8108939325195458E-2,-38.383733649699899,141.51657411100001]
[4230,1272.0306139113591,1272.0306139113591,-38.327370630399898,141.543649687]
[4231,598.73600973532723,598.73600973532723,-38.112371332599899,141.29280397599899]
[4232,602.73701198353308,602.73701198353308,-37.9124982262,141.20253915999899]
[4233,375.83197620011464,375.83197620011464,-38.0417169012999,140.98557293600001]
[4234,665.32940159003908,665.32940159003908,-37.777987991800003,141.60844218899899]
[4235,676.53978214933272,676.53978214933272,-37.557817677899898,141.41932392800001]
[4236,299.27616689427589,299.27616689427589,-37.5903894064,141.413464629]
[4237,658.1028782985145,658.1028782985145,-37.5863681509,141.40306289500001]
[4238,651.0358098382294,651.0358098382294,-37.5909143509,141.38351028400001]
[4239,482.22459058157744,482.22459058157744,-37.728710669400002,141.24192979700001]
[4240,139.16726809390954,139.16726809390954,-37.500234573,141.17952638899899]
[4241,613.59353045983084,613.59353045983084,-38.302935653500001,141.61424016199899]
[4242,454.7281310256127,454.7281310256127,-38.2878002405999,141.605905323999]
[4243,24.206492984662678,24.206492984662678,-38.351116845500002,141.614366856999]
[4244,1096.4597057449193,1096.4597057449193,-38.3661132772,141.619444012]
[4245,870.61574852070828,870.61574852070828,-38.3593462677999,141.617375657]
[4246,1008.4493710765901,1008.4493710765901,-38.337011087,141.604446811999]
[4247,843.73943465916284,843.73943465916284,-38.360854671600002,141.609392689999]
[4248,532.77280919597445,532.77280919597445,-38.349562763100003,141.604264204]
[4249,955.97850532884661,955.97850532884661,-38.328055679199899,141.59891126700001]
[4250,70.673699586059982,70.673699586059982,-38.380837215299898,141.61124775100001]
[4251,910.94079959478722,910.94079959478722,-38.337175799000001,141.59614894500001]
[4252,359.03088713394357,359.03088713394357,-38.367396682200003,141.604918607999]
[4253,682.21771579919789,682.21771579919789,-38.361277383500003,141.599001267999]
[4254,680.17778045584748,680.17778045584748,-38.347191225499898,141.595698019]
[4255,664.86922214155743,664.86922214155743,-38.364401606500003,141.59164884200001]
[4256,281.47988620487132,281.47988620487132,-38.356191089699898,141.59412597900001]
[4257,397.52920403263295,397.52920403263295,-38.330391858500001,141.58039688700001]
[4258,544.21457533180171,544.21457533180171,-38.344845920200001,141.580491575]
[4259,404.18309786279787,404.18309786279787,-37.977162391299899,142.95034691800001]
[4260,513.31491121586259,513.31491121586259,-38.0799895371999,142.820315007999]
[4261,496.67922662430539,496.67922662430539,-38.075418385699898,142.803532805999]
[4262,413.34161942209704,413.34161942209704,-37.9188595675,142.753866496999]
[4263,185.71564813159972,185.71564813159972,-38.082954231499897,142.746001605]
[4264,443.92504539428791,443.92504539428791,-38.166659490000001,142.68726279000001]
[4265,644.60763446162696,644.60763446162696,-37.975860912400002,142.44989805700001]
[4266,744.85115214150414,744.85115214150414,-38.161400156900001,142.467191001]
[4267,456.54954322932122,456.54954322932122,-38.175631825899899,142.160600461]
[4268,539.57985644903499,539.57985644903499,-38.045796483300002,142.148101150999]
[4269,325.51076101132747,325.51076101132747,-38.027253708000003,141.998307917999]
[4270,189.37704078246847,189.37704078246847,-37.999212973100001,141.912542642999]
[4271,125.29055446523164,125.29055446523164,-38.178872584700002,141.940177288999]
[4272,0,0,-38.081560334999899,141.892563658]
[4273,639.15353584586421,639.15353584586421,-38.382968736099897,142.80822135899899]
[4274,421.84710696757622,421.84710696757622,-38.602102796799898,142.874563330999]
[4275,914.15035759351895,914.15035759351895,-38.473175806100002,142.732291721]
[4276,1720.2661014160292,1720.2661014160292,-38.302820628699898,142.630848558]
[4277,515.96448362582919,515.96448362582919,-38.284501479900001,142.44085887700001]
[4278,110.13889042273124,110.13889042273124,-38.291600288799899,142.367581874]
[4279,345.4977974065327,345.4977974065327,-38.295568434899899,142.37019790400001]
[4280,481.41408432966898,481.41408432966898,-38.302864440999898,142.369726171]
[4281,352.3375420024152,352.3375420024152,-38.252860013800003,142.35746154]
[4282,333.17858703293621,333.17858703293621,-38.2879008795,142.36212120299899]
[4283,1.5512880759585543E-4,1.5512880759585543E-4,-38.3174518322,142.36083759600001]
[4284,367.83495984651728,367.83495984651728,-38.298924192500003,142.344058410999]
[4285,759.97736300697363,759.97736300697363,-38.336671048100001,142.34266352399899]
[4286,1101.4367416181672,1101.4367416181672,-38.366122591,142.25176325800001]
[4287,1290.3046175957975,1290.3046175957975,-38.388427087099899,142.238758684]
[4288,1185.0377172502781,1185.0377172502781,-38.387503572699899,142.217685246999]
[4289,991.9281027891958,991.9281027891958,-38.292973221799897,142.134691127]
[4290,221.65498927717456,1831.3536961510308,-37.725977688100002,142.046874207]
[4291,739.72567212529066,739.72567212529066,-37.746657380499897,142.04237186399899]
[4292,722.28336624273845,722.28336624273845,-37.740581513899897,142.042650350999]
[4293,441.22910131246783,441.22910131246783,-37.755771854499898,142.040727358]
[4294,627.87076574089178,2506.2874670191154,-37.734937157700003,142.030808627]
[4295,343.62734248602436,343.62734248602436,-37.748445439500003,142.03263508200001]
[4296,674.93376793510015,2284.6324748089569,-37.730084217600002,142.034194740999]
[4297,0,0,-37.7504958544,142.029404220999]
[4298,456.78509976695437,3083.5310898513567,-37.738294192200001,142.028503462999]
[4299,120.45852306528764,3083.5310898513567,-37.741658035599897,142.02465766700001]
[4300,975.67308953545785,981.82794113296461,-37.728133335400003,142.023756698]
[4301,558.2305955929196,678.68911865820724,-37.746904650200001,142.023212624]
[4302,5.7924152004797582,5.7924152004797582,-37.736040035400002,142.02349778300001]
[4303,513.45952698200608,1857.51182485656,-37.739125065099898,142.017353189]
[4304,0.36243639702692021,2845.9345288496811,-37.7324913267,142.018665844]
[4305,494.19905319410435,1268.7239898940436,-37.7441138002999,142.01782687400001]
[4306,663.43442060481004,1646.0647093974512,-37.735589950799898,142.01796480900001]
[4307,95.835818041731869,774.52493669993908,-37.7534125829999,142.00970582400001]
[4308,569.52736117461473,1248.216479832822,-37.7405982963,142.001971965]
[4309,982.26785239561434,2839.7796772521742,-37.7292871382,142.005623778]
[4310,0,0,-37.217692119200002,141.985351724]
[4311,0,0,-37.227087908100003,141.971304484]
[4312,166.9740043090377,166.9740043090377,-37.371105901900002,141.868009040999]
[4313,421.17298370354951,421.17298370354951,-37.222465190599898,141.830413612999]
[4314,585.82011397768099,585.82011397768099,-37.605926032100001,141.694683973]
[4315,466.81228891963923,466.81228891963923,-37.595346900800003,141.69201243000001]
[4316,156.12233094526113,156.12233094526113,-37.646869297499897,141.69868939099899]
[4317,397.76609179675665,397.76609179675665,-37.529574536200002,141.68174187599899]
[4318,417.24292048353232,417.24292048353232,-37.323359515,141.620524665999]
[4319,421.90198792013757,421.90198792013757,-37.723927033800003,142.495053727]
[4320,526.38349049473686,526.38349049473686,-37.647052981999899,142.343991614]
[4321,833.30169403254899,833.30169403254899,-37.844059874899898,142.30761969]
[4322,86.225074261037676,86.225074261037676,-37.3683033262,142.328189589]
[4323,1106.5357954747863,1106.5357954747863,-37.652907081400002,142.098173965]
[4324,762.37546814890243,762.37546814890243,-37.763475130700002,142.10565526900001]
[4325,691.73308496990535,691.73308496990535,-37.378349235100004,142.109557669]
[4326,2.9329839368175527E-6,1609.6987098068403,-37.719477331299899,142.027987408]
[4327,126.48172132481272,126.48172132481272,-37.712449851400002,142.018531884]
[4328,1223.2130706897028,1223.2130706897028,-37.843396165100003,141.96767676299899]
[4329,710.3456938360556,710.3456938360556,-38.386487580800001,142.599451958999]
[4330,516.96122873029037,516.96122873029037,-38.4041830468,142.57378930600001]
[4331,95.066546437022552,95.066546437022552,-38.3659923803,142.53432597899899]
[4332,592.93034757125213,592.93034757125213,-38.3894418852,142.53432025800001]
[4333,506.39586665646311,506.39586665646311,-38.385311033100002,142.52583415800001]
[4334,590.86857705682758,590.86857705682758,-38.378737412500001,142.52064308600001]
[4335,7.6487399404698668E-3,7.6487399404698668E-3,-38.382337446199898,142.520761026]
[4336,582.2085818768835,582.2085818768835,-38.381462608600003,142.51559724699899]
[4337,215.79899239117751,215.79899239117751,-38.3581201306,142.51063112099899]
[4338,578.63618872182531,578.63618872182531,-38.386072032400001,142.51540708799899]
[4339,651.29387708011745,651.29387708011745,-38.365854261000003,142.50820280299899]
[4340,410.94018337795995,410.94018337795995,-38.3710458507,142.511838404]
[4341,0,0,-38.360679857400001,142.505267242999]
[4342,503.62449383737646,503.62449383737646,-38.372627228399899,142.50692992]
[4343,494.91565219978179,494.91565219978179,-38.3944502509,142.514238250999]
[4344,275.74722580945166,275.74722580945166,-38.378249461300001,142.50873612999899]
[4345,316.45770706989231,316.45770706989231,-38.323829173199897,142.493709096999]
[4346,60.380995322877126,60.380995322877126,-38.385915025000003,142.510432525]
[4347,524.42149613178594,524.42149613178594,-38.383124263299898,142.50736540400001]
[4348,695.46303750956133,695.46303750956133,-38.3627366077,142.501069790999]
[4349,590.04254460771085,590.04254460771085,-38.388143634400002,142.50826007699899]
[4350,540.06339695141003,540.06339695141003,-38.369380659400001,142.501809186999]
[4351,481.74384537650531,481.74384537650531,-38.339457068500003,142.493156279999]
[4352,647.66449546554918,647.66449546554918,-38.365741589899898,142.499731131]
[4353,327.11836340210863,327.11836340210863,-38.393289030399899,142.507629025]
[4354,569.94065310676353,569.94065310676353,-38.372916148500003,142.499353404999]
[4355,565.01383308636935,565.01383308636935,-38.368433511600003,142.496769478]
[4356,649.50725568133419,649.50725568133419,-38.360210007500001,142.49263880300001]
[4357,650.40346417148726,650.40346417148726,-38.389039555899899,142.501816606999]
[4358,601.48089747425786,601.48089747425786,-38.375442076399899,142.49735274700001]
[4359,598.61007397545495,598.61007397545495,-38.384765799500002,142.4998875]
[4360,5.4077537976693736E-4,5.4077537976693736E-4,-38.380136916799898,142.49863462600001]
[4361,311.64242608300879,311.64242608300879,-38.371663961800003,142.494741433]
[4362,515.49774287867876,515.49774287867876,-38.3932830717999,142.503053765999]
[4363,354.58050990001061,354.58050990001061,-38.364974934899898,142.48963332700001]
[4364,819.27184982160588,819.27184982160588,-38.3701011032,142.49049434]
[4365,653.31397178581983,653.31397178581983,-38.3884708589,142.49539376000001]
[4366,546.55280242712502,546.55280242712502,-38.3770312957,142.491138089]
[4367,625.68460161914322,625.68460161914322,-38.381508412499898,142.491386761999]
[4368,7.2456336564909147,7.2456336564909147,-38.3739312858999,142.486235787]
[4369,286.6490561313924,286.6490561313924,-38.3696057039,142.48562757299899]
[4370,613.82323291511727,613.82323291511727,-38.3850806381,142.49076649200001]
[4371,118.14785305803566,118.14785305803566,-38.400038952800003,142.50830858500001]
[4372,279.04665649834578,279.04665649834578,-38.3773493339,142.486460032]
[4373,227.860604850182,227.860604850182,-38.365061388400001,142.481379653999]
[4374,591.74323537747955,591.74323537747955,-38.387214186800001,142.488695546999]
[4375,330.51236650745483,330.51236650745483,-38.38338916,142.48441152999899]
[4376,470.00094147408947,470.00094147408947,-38.374881857799899,142.48166774000001]
[4377,509.54176169656722,509.54176169656722,-38.3887494377,142.485078907]
[4378,461.60633226817492,461.60633226817492,-38.364402006200002,142.47642847]
[4379,439.81814807324395,439.81814807324395,-38.370035848199898,142.47775128200001]
[4380,183.94758697504713,183.94758697504713,-38.324662130500002,142.458566859999]
[4381,328.48146382801337,328.48146382801337,-38.380352276899899,142.47966145500001]
[4382,436.59654607496566,436.59654607496566,-38.359659501899898,142.472368450999]
[4383,479.07036774872898,479.07036774872898,-38.364820608000002,142.471750173]
[4384,540.3639947466238,540.3639947466238,-38.373539952400002,142.474560569999]
[4385,512.10147883718753,512.10147883718753,-38.354345878399897,142.467342785]
[4386,728.90205824349357,728.90205824349357,-38.3770876387999,142.47392508799899]
[4387,413.44244576915503,413.44244576915503,-38.360055448899899,142.467271643]
[4388,518.8297358671748,518.8297358671748,-38.363545782000003,142.467338256999]
[4389,592.31810873613642,592.31810873613642,-38.368023417700002,142.46960968299899]
[4390,874.58915395863403,874.58915395863403,-38.381139859999898,142.47267963900001]
[4391,14.491267312981829,14.491267312981829,-38.3698655735,142.46876249100001]
[4392,298.38813434058324,298.38813434058324,-38.359726373999898,142.46342996800001]
[4393,482.52852277014745,482.52852277014745,-38.371134826599899,142.46653720800001]
[4394,27.243277208337734,27.243277208337734,-38.375387806500001,142.466490091]
[4395,0,0,-38.354769014200002,142.46026361099899]
[4396,523.53554479756872,523.53554479756872,-38.363424902399899,142.46234197000001]
[4397,0.55644031406187466,0.55644031406187466,-38.382316355199897,142.46928252999899]
[4398,541.31240649289441,541.31240649289441,-38.393932343499898,142.470393645]
[4399,581.23007154916104,581.23007154916104,-38.369100281999899,142.462016328]
[4400,557.44617616242806,557.44617616242806,-38.386928447199899,142.46801948000001]
[4401,658.33373310411537,658.33373310411537,-38.359534350499899,142.455944268]
[4402,24.152112188303047,24.152112188303047,-38.362585910599897,142.454687608999]
[4403,596.57312447859556,596.57312447859556,-38.3822494255,142.461442320999]
[4404,14.491267312981829,14.491267312981829,-38.370835008199897,142.455596184999]
[4405,505.45804611059771,505.45804611059771,-38.378428108599898,142.45511486300001]
[4406,0,0,-38.387541733299898,142.454845605]
[4407,559.56861822891108,559.56861822891108,-38.354657586099897,142.445959953]
[4408,632.30405094107641,632.30405094107641,-38.366338296999899,142.44502293100001]
[4409,121.53979079277913,121.53979079277913,-38.353173703700001,142.43912740600001]
[4501,13.636599847990819,3560.5751307524042,-37.6206656114,143.82843562100001]
[4502,51.965831628450488,51.965831628450488,-37.7607466645999,143.046839541]
[4503,524.83435774891382,524.83435774891382,-37.568898560500003,142.99951666800001]
[4504,650.81308520089453,650.81308520089453,-37.390691565600001,143.012129708]
[4505,1081.2452957420462,1081.2452957420462,-37.2419542057999,143.08051462200001]
[4506,552.84500758978766,2278.434740306755,-37.293455024700002,142.94687140299899]
[4507,304.19182944054432,1069.6079700868345,-37.276268738100001,142.954425098999]
[4508,112.68372538795921,112.68372538795921,-37.313336178500002,142.93485638600001]
[4509,952.17949530210092,1677.0819866419911,-37.282062612300003,142.942222568999]
[4510,653.57913746321367,2932.0138777699685,-37.290930792300003,142.935997520999]
[4511,420.71066189934584,1723.187107550048,-37.2762998786,142.94249432000001]
[4512,111.74125869655595,1725.5897327169673,-37.299747335500001,142.92818345200001]
[4513,599.21391916756784,1725.5897327169673,-37.289522137600002,142.931106124]
[4514,344.70547874694427,2262.0848016640693,-37.277400000599897,142.932992896]
[4515,449.98744148938221,449.98744148938221,-37.286864377400001,142.925976357]
[4516,564.64711336346136,1014.6345548528436,-37.291173032700001,142.92161564099899]
[4517,431.49051934977251,431.49051934977251,-37.282867445599898,142.92385710600001]
[4518,469.44729687530548,469.44729687530548,-37.277077740700001,142.92563288900001]
[4519,530.37493064438468,530.37493064438468,-37.279827947000001,142.918762294999]
[4520,533.93139480655259,533.93139480655259,-37.2843588952,142.915938431]
[4521,527.96709871353744,527.96709871353744,-37.274318920399899,142.91515288900001]
[4522,676.01864969992266,676.01864969992266,-37.689392628299899,142.768137774]
[4523,1569.476416306175,1569.476416306175,-37.403039721900001,142.63172828500001]
[4524,63.913744652253499,512.11435464347676,-37.574957239500002,143.899788169]
[4525,703.37747641375176,4596.1881042205205,-37.572040732300003,143.894260352999]
[4526,815.84387255194702,815.84387255194702,-37.556358211099898,143.90379116700001]
[4527,4.2888011032489555,4.2888011032489555,-37.560941265300002,143.901626007999]
[4528,404.45781981433686,9216.8318363881772,-37.5529213477,143.897377162]
[4529,0,5601.2486878956897,-37.550870571300003,143.89589109100001]
[4530,645.37093029013442,2586.3469536557932,-37.580054392199898,143.883742240999]
[4531,794.34931950749967,3380.6962731632925,-37.573479168900001,143.883392079]
[4532,30.744035650964229,13550.961120115984,-37.579601124699899,143.87228111600001]
[4533,707.41800995202721,2909.191560309037,-37.567731100000003,143.885134257]
[4534,991.96580675345501,2201.7735503570098,-37.562424141400001,143.88587126799899]
[4535,732.1657076746742,19214.966619056864,-37.554454606199897,143.88925409500001]
[4536,7.5248629239450734E-2,11449.450993035953,-37.556021019699898,143.884856171]
[4537,180.05204262797665,2939.2951988203649,-37.550044404700003,143.88321963000001]
[4538,795.08202441435719,3156.4678544228873,-37.576451045200002,143.872636489999]
[4539,936.71502512622124,29343.128779806899,-37.5687412439,143.87494231400001]
[4540,352.77171558972265,1085.0126718936363,-37.559649650300003,143.87848336100001]
[4541,398.61938304587488,7829.858180681329,-37.5533288962,143.878173584]
[4542,0.68230375549188804,1085.6949756491281,-37.558977394700001,143.87487080899899]
[4543,695.55921066817814,20047.440000793777,-37.556949603600003,143.87546617999899]
[4544,637.25921456498827,3828.3382151713995,-37.563602519500002,143.873457462]
[4545,448.20060999122325,42357.24712376047,-37.568686949400004,143.86711544100001]
[4546,0.94344952370181057,6822.6755468583069,-37.552573852000002,143.872795228999]
[4547,130.24697892870881,2257.6589889571619,-37.562735967599899,143.86764662600001]
[4548,1109.1937918792382,5934.1475997745583,-37.5764017979999,143.863434157]
[4549,691.19685630905155,7751.762036206851,-37.552396269100001,143.867692546999]
[4550,741.21059944102126,6785.0318902625422,-37.547787904000003,143.869495035]
[4551,517.86450800319005,9871.0125949362009,-37.5571395415,143.865551353]
[4552,628.79635594493004,4468.1060315825061,-37.579797352699899,143.85540936300001]
[4553,170.5891031128086,17050.046219073087,-37.5638865564,143.858960954]
[4554,36.700207072063208,65085.767009625713,-37.560802541599898,143.85982994400001]
[4555,877.07959395657599,6785.9753397862441,-37.541274217500003,143.867083124999]
[4556,665.44969703745153,6952.9225257870157,-37.554222609900002,143.861444433]
[4557,0.25629033729092926,13503.094230684626,-37.558738734000002,143.861476877]
[4558,2554.7695226547617,13372.380596642217,-37.574032244900003,143.85245198600001]
[4559,876.88818160870971,6822.6755468583069,-37.547637836,143.862761293999]
[4560,482.42915180623532,3628.1231949764206,-37.5535393595,143.85730304200001]
[4561,680.33671482792556,34694.128935165936,-37.540353432700002,143.86168667800001]
[4562,63.263729172468203,99.963936244531411,-37.5559118944999,143.854923859]
[4563,752.15877921574304,2971.7251725194296,-37.547246915599899,143.85825333400001]
[4564,1252.5549234376444,34163.747543742502,-37.568571796400001,143.84952225800001]
[4565,564.54089555190558,8290.3017918615751,-37.563684158999898,143.84997451300001]
[4566,401.22658786116853,20306.176874105291,-37.558485849599897,143.85042216100001]
[4567,634.38028333031798,734.34421957484938,-37.554177536200001,143.85088604500001]
[4568,597.19448988085389,2816.7608831845405,-37.546621907400002,143.85327267900001]
[4569,59.203532576137363,65552.149743328046,-37.560595954999897,143.847644355]
[4570,620.79226758401421,1835.9000468056493,-37.539332025500002,143.85435601399899]
[4571,685.22415233930462,8914.3213635512147,-37.579299853999899,143.83898370200001]
[4572,707.29604579902286,707.29604579902286,-37.574927533599897,143.84038366300001]
[4573,699.28162112935308,699.28162112935308,-37.570788667999899,143.841317764]
[4574,915.54513824372191,23631.125027196071,-37.566614293299899,143.84209014000001]
[4575,822.99089714383047,23631.125027196071,-37.562741111999898,143.84281362799899]
[4576,715.65717706455712,18916.141300318905,-37.552652084599899,143.84657534300001]
[4577,886.6526276178048,42518.298653455538,-37.5574373846,143.843646901]
[4578,1121.0295570931985,10757.949030205353,-37.546823440399898,143.84772074700001]
[4579,0,4234.1145973822986,-37.578603893599897,143.831630523999]
[4580,575.34952823099354,8914.3213635512147,-37.568166240799897,143.834647233]
[4581,608.70649334952645,50587.971771948229,-37.557135572200004,143.83013800800001]
[4582,878.869507505706,7458.7177070118923,-37.572889857600003,143.831731644]
[4583,1250.5858762134658,6775.4931124238046,-37.562020085299899,143.833100841]
[4584,6.4737939679278336,8188.7550670920755,-37.549758601100002,143.831929841999]
[4585,1.4903223116863131E-3,5524.9087265326507,-37.564292221700001,143.823745116]
[4586,26.897445860126791,26.897445860126791,-37.567598563600001,143.815955032999]
[4587,661.74613099924341,2253.0089916147754,-37.558834865800002,143.81544479900001]
[4588,447.2846893196662,447.2846893196662,-37.5702209556,143.92104819900001]
[4589,119.50078824899028,119.50078824899028,-37.534031038999899,143.929446856]
[4590,253.04831498140919,253.04831498140919,-37.554831454800002,143.91594182399899]
[4591,426.69556880091699,2837.6249812611973,-37.543167758899898,143.91766317400001]
[4592,23.464317071919822,23.464317071919822,-37.504529821699897,143.90992741900001]
[4593,524.70476281035872,1618.8833565244117,-37.5458075909999,143.886863164]
[4594,289.46420434222887,4301.2945205181222,-37.533225947799899,143.883445088]
[4595,452.51014319655411,4464.3404593724481,-37.539540493099899,143.87835813000001]
[4596,518.02073391547697,6080.7011993195238,-37.5447637685999,143.87356300900001]
[4597,540.48244966701782,6785.9753397862441,-37.540277374399899,143.873363533]
[4598,614.60863244797292,6785.9753397862441,-37.534912284500002,143.87124234300001]
[4599,644.16704365384396,644.16704365384396,-37.497204135899899,143.877607552999]
[4600,0,3568.9196624002834,-37.5328866268,143.864300974]
[4601,475.47548258682343,3298.3442070470783,-37.527875895400001,143.865313802]
[4602,257.20682603746229,23769.115129253089,-37.534548705399899,143.854574555]
[4603,954.3860964853593,3568.9196624002834,-37.523890497700002,143.857280860999]
[4604,270.57545535320526,3093.4441798134599,-37.529629008500002,143.85549742699899]
[4605,614.86722825856623,19881.219909426844,-37.541293918599898,143.84424334400001]
[4606,9.8795568260169322,17428.435601820525,-37.538239527099897,143.845804469999]
[4607,16.048772019544987,2920.1027810084843,-37.524728064000001,143.846322391]
[4608,575.07741463560001,22476.032551119413,-37.537398721700001,143.83872194400001]
[4609,934.66014832390476,5897.6752498862661,-37.531610183600002,143.83765404100001]
[4610,781.81969955103909,20371.501100752816,-37.537204327399898,143.83438635100001]
[4611,548.12426516023504,5897.6752498862661,-37.528014750099899,143.836861185]
[4612,583.15192098720433,12567.371804119042,-37.524782316100001,143.83764354300001]
[4613,218.5584083200738,19794.861691072634,-37.541561432500004,143.830892269999]
[4614,14.870836682545415,20000.767166664915,-37.540603023700001,143.830892750999]
[4615,506.78701033902644,5897.6752498862661,-37.521103999799898,143.838254519999]
[4616,733.00975432515861,3287.2798532724173,-37.536355784000001,143.82858752000001]
[4617,1537.4193897345401,18533.207467547712,-37.529539745500003,143.828669104]
[4618,608.00588751089185,15241.491895901607,-37.5199413218999,143.830254405999]
[4619,1179.5266278304639,14491.098904307213,-37.5242377293999,143.829281055]
[4620,430.43263496155572,7982.6946300840536,-37.587246764600003,143.802219976]
[4621,13.281851478917051,5268.4063379246045,-37.580324183800002,143.803637098]
[4622,1823.8166480629368,6147.4752531407848,-37.544315146800002,143.81612379500001]
[4623,3.0465127827752592,3.0465127827752592,-37.572950660899899,143.80506609099899]
[4624,12.867289310589415,1604.1301499261212,-37.564483116799899,143.807127442]
[4625,1245.2482423817269,7353.3305633543896,-37.530172012599898,143.81995430000001]
[4626,775.71353238128552,4943.1157535501097,-37.5564865107999,143.808561309]
[4627,1.8894044467343895E-2,6135.5809197629869,-37.549883555400001,143.811633583]
[4628,610.88295033975771,4943.1157535501097,-37.5531241123999,143.80847299800001]
[4629,589.52795334846792,3550.3212309797937,-37.525508444099898,143.81885722600001]
[4630,423.09025875933889,423.09025875933889,-37.4974615215,143.82998219000001]
[4631,0,10224.866853942245,-37.520842326199897,143.82063530900001]
[4632,191.98362025505023,744.37002112992207,-37.559166511500003,143.80265054700001]
[4633,546.27296877377978,4943.1157535501097,-37.5525736126,143.802617045999]
[4634,34.949359200967464,34.949359200967464,-37.571388698500002,143.79126103600001]
[4635,653.23077224258441,3132.8385046284684,-37.525106403199899,143.811783832999]
[4636,590.30874177031262,2648.2061449533412,-37.5787277907,143.78992470200001]
[4637,683.22310426577542,5568.7236727297131,-37.5862619428,143.79040930900001]
[4638,120.77503859987877,6505.0340900932042,-37.5312605158,143.80945204400001]
[4639,552.38640087487181,1098.6593696486516,-37.556808708600002,143.79684793800001]
[4640,506.97375612130412,4705.719488541492,-37.550811474100001,143.79887062500001]
[4641,37.195488156169411,37.195488156169411,-37.564057427900003,143.792599147999]
[4642,637.89962359914341,3473.4423038865662,-37.5562471458,143.78941875300001]
[4643,2093.4744703926522,4004.5955218675535,-37.548525626699899,143.79134269400001]
[4644,107.16670594479905,2746.9141451112309,-37.536601956399899,143.79261447100001]
[4645,73.305716613472399,73.305716613472399,-37.569566268499898,143.775693883999]
[4646,98.08663321407046,3160.9916342289252,-37.513009127499899,143.7994678]
[4647,436.64970384801103,3538.1446111324494,-37.499970248700002,143.80625360400001]
[4648,4.3213859229673739E-2,3132.8385046284684,-37.525828823300003,143.79232650500001]
[4649,0.17177105191767036,3132.8385046284684,-37.522092110300001,143.79793243]
[4650,130.99542334710713,130.99542334710713,-37.587036791000003,143.76655779500001]
[4651,88.628535176191676,2835.5426802874226,-37.531563988899897,143.78073525299899]
[4652,6.4723749839576489E-2,3034.751871414398,-37.5110226571,143.790211938]
[4653,619.7817531571792,3455.3244334446017,-37.549194588399899,143.779139173]
[4654,745.71616135146189,2054.7380179169936,-37.4810663945999,143.79912101100001]
[4655,80.585521272498653,80.585521272498653,-37.567970427799899,143.762064216]
[4656,109.3069588484817,109.3069588484817,-37.527039269500001,143.77169130600001]
[4657,638.74553402978688,638.74553402978688,-37.545807019000002,143.765851739]
[4658,28.217853350296465,1336.9600012548412,-37.512306020499899,143.77761718100001]
[4659,377.08825315368438,377.08825315368438,-37.4502929354,143.805927397999]
[4660,42.987768669196356,42.987768669196356,-37.523845370399897,143.762777626999]
[4661,20.770130947118023,20.770130947118023,-37.508967839299899,143.76639660500001]
[4662,662.66999500491897,662.66999500491897,-37.544723260200001,143.711980901]
[4663,508.75396569390659,508.75396569390659,-37.495546636900002,143.70087303700001]
[4664,240.80164750951872,240.80164750951872,-37.381153065200003,143.81005542099899]
[4665,802.55415931072264,802.55415931072264,-37.403928533600002,143.69460654400001]
[4666,439.45522443415268,439.45522443415268,-37.686261411700002,143.909763819999]
[4667,501.7265414750276,501.7265414750276,-37.643973123199899,143.905477246]
[4668,533.47208337127859,3786.240068143446,-37.6482249329,143.89001148899899]
[4669,603.6599078296839,3856.4278926018515,-37.655745592599899,143.8876453]
[4670,38.975647891423264,9045.6249910552888,-37.6499272046999,143.88429917400001]
[4671,685.49306582420922,5665.3782932680024,-37.624358180900003,143.89102685500001]
[4672,488.82438674138456,5277.9614168240341,-37.618709615,143.889850792999]
[4673,571.58777863044554,6638.4439430435568,-37.653500573999899,143.87893304400001]
[4674,589.98525147066255,2240.5488785391863,-37.645671221199898,143.87803471300001]
[4675,438.46152779443668,11906.657385015667,-37.632442328899899,143.87667187900001]
[4676,249.64951450397865,8245.6832813500096,-37.609670295599898,143.878462539]
[4677,419.06168654574697,4038.4643877700178,-37.5898765045999,143.88717246100001]
[4678,601.53867275221808,13085.183617842,-37.6255090205999,143.875983359]
[4679,488.50910404824896,488.50910404824896,-37.665526094000001,143.85955652600001]
[4680,412.74110894090478,10859.15363322025,-37.608035549,143.87343387300001]
[4681,0,11312.881595130022,-37.611613065599897,143.86778673500001]
[4682,569.6110924136002,10990.943331003557,-37.5989321391,143.87080737700001]
[4683,288.24879313090008,2599.9988477660568,-37.628686488500001,143.857178339]
[4684,524.72765072964955,524.72765072964955,-37.606592741999897,143.86632720399899]
[4685,552.85450131953405,552.85450131953405,-37.600510955600001,143.86556039300001]
[4686,370.2026418451606,19298.441386540893,-37.588042448800003,143.869025873]
[4687,484.24126303416926,10094.44446877195,-37.5942277187999,143.865794265999]
[4688,594.14411097417019,4297.5169284696976,-37.585604393099899,143.861311683]
[4689,519.80693889583586,8771.3625184637604,-37.5867038041999,143.851210958]
[4690,652.45172365043584,14498.646533561063,-37.599042300800001,143.84557863500001]
[4691,528.96929260073875,6321.1793459581095,-37.604614064099898,143.84308817100001]
[4692,550.65087621118505,5792.2100533573703,-37.611500911199897,143.84042779999899]
[4693,532.91492450169028,15948.972409875189,-37.591782820699898,143.84485041299899]
[4694,3.7298473203963698,3550.6683782248101,-37.6188323473,143.837006199]
[4695,606.53193868206756,606.53193868206756,-37.598296746499898,143.83879127]
[4696,423.50405386375166,5792.2100533573703,-37.616519484599898,143.82990188900001]
[4697,75.658496663569224,26672.139307191865,-37.585422297400001,143.84125056299899]
[4698,485.56652022350221,3058.3501210529794,-37.607569851400001,143.83319879499899]
[4699,566.76646264704982,6887.9458086051582,-37.589357012699899,143.837506999]
[4700,691.4034314147749,691.4034314147749,-37.592460661700002,143.83446368700001]
[4701,874.224225837929,2620.8158908771265,-37.602436315299897,143.83232262799899]
[4702,633.76377880047926,8927.6032150301289,-37.583841137100002,143.836223198]
[4703,776.66133031645109,776.66133031645109,-37.596140751,143.829751458999]
[4704,439.74186875302576,3060.5577596301523,-37.607467057000001,143.825815699]
[4705,445.73890763849909,3066.5547985156254,-37.6125781784,143.82810588800001]
[4706,326.84295101590328,5313.9705449693938,-37.588798041300002,143.82883106099899]
[4707,736.00455915348812,3531.5212650067174,-37.583455653000001,143.829731162999]
[4708,421.47431925091155,421.47431925091155,-37.607648008600002,143.81928683999899]
[4709,251.00436163975417,5577.4363357238035,-37.589095685499899,143.823290630999]
[4710,615.16904802326303,615.16904802326303,-37.612920729300001,143.81691410900001]
[4711,1446.2559318807359,4019.5892264240215,-37.584174939299899,143.821614125]
[4712,490.61238240424626,490.61238240424626,-37.599968942499899,143.819861000999]
[4713,944.08816258181469,4736.1232323137365,-37.594710508699897,143.813419576999]
[4714,626.29986806561021,626.29986806561021,-37.6068063568,143.809573951]
[4715,54.396198404425945,54.396198404425945,-37.5752923262,143.818824285999]
[4716,598.35961982337551,4019.5892264240215,-37.5873838945,143.81140044399899]
[4717,1115.7170172674803,1115.7170172674803,-37.582123440499899,143.81276752100001]
[4718,651.18320085732807,651.18320085732807,-37.598750757300003,143.80050152800001]
[4719,70.397375027298523,70.397375027298523,-37.595961997899899,143.785943817999]
[4720,691.100687868607,691.100687868607,-37.3963383368,144.330506504]
[4721,325.01004945406083,325.01004945406083,-37.3667932679,144.36284507299899]
[4722,435.52802811886892,435.52802811886892,-37.384780319800001,144.292953205]
[4723,460.1496723549381,460.1496723549381,-37.358134873600001,144.22773151000001]
[4724,190.55660734028152,190.55660734028152,-37.298314062000003,144.24565327299899]
[4725,768.91191529549371,768.91191529549371,-37.314496772600002,144.21649986700001]
[4726,543.15450464327068,543.15450464327068,-37.362787961000002,144.147492833999]
[4727,111.76129475990129,111.76129475990129,-37.356848585500003,144.127004064]
[4728,492.09167586320604,492.09167586320604,-37.347846724500002,144.151716529]
[4729,0,0,-37.351981085799899,144.146246671]
[4730,642.67381909750691,642.67381909750691,-37.340251638200002,144.149343351]
[4731,149.00616203862899,149.00616203862899,-37.342053282800002,144.142704495999]
[4732,630.78313809389704,630.78313809389704,-37.329465921900002,144.142407574999]
[4733,984.21592297803579,984.21592297803579,-37.237552488299897,144.242459698999]
[4734,612.73729199053662,612.73729199053662,-37.339928640300002,144.132105462]
[4735,392.55104768139074,392.55104768139074,-37.343401992700002,144.106462779]
[4736,111.52771442583061,111.52771442583061,-37.3079868688,144.142292548999]
[4737,788.16941710281333,788.16941710281333,-37.309716698700001,144.133283474]
[4738,334.09727538121729,334.09727538121729,-37.203640020800002,144.110720442999]
[4739,2.9324832420823716E-4,2.9324832420823716E-4,-37.434584012499897,144.071615546]
[4740,906.53198966219702,906.53198966219702,-37.4173453014999,144.006351739]
[4741,283.33864896553729,283.33864896553729,-37.427404826100002,143.927033744]
[4742,260.84599866355978,2148.3052808394568,-37.455836451099898,143.89749775000001]
[4743,649.59162291850328,2629.1699245843683,-37.413422960299897,143.89369700500001]
[4744,454.8352308012241,3994.185968569248,-37.4307949093999,143.89299361299899]
[4745,434.61111128433163,2629.1699245843683,-37.423016430700002,143.89189581100001]
[4746,403.10370076419269,403.10370076419269,-37.3834971616999,143.91783869]
[4747,348.42131717183793,2164.354052859002,-37.427310122999899,143.88284526499899]
[4748,464.81587172536615,2003.8538367294252,-37.417379920899897,143.86628811899899]
[4749,529.77481538908046,529.77481538908046,-37.290368729999898,143.94477907199899]
[4750,242.82865697627449,242.82865697627449,-37.295659497499898,143.81551512600001]
[4751,337.26735704266093,1101.851509916195,-37.292763197600003,143.79284511200001]
[4752,764.58415287353398,764.58415287353398,-37.301997316799898,143.77015662900001]
[4753,368.02473934060288,368.02473934060288,-37.275755247600003,143.711138906999]
[4754,319.71149616980404,319.71149616980404,-37.701478971900002,144.502591499999]
[4755,357.98571197903226,357.98571197903226,-37.7178257935999,144.46578324500001]
[4756,522.17621960942529,522.17621960942529,-37.664090329700002,144.493359712]
[4757,633.68812793904726,633.68812793904726,-37.599508205900001,144.48174087199899]
[4758,7.9099983397998912,95.411030499455507,-37.687016761499898,144.44053603]
[4759,463.4618018452623,463.4618018452623,-37.672954271199899,144.44394939700001]
[4760,290.82475369514134,290.82475369514134,-37.678189911700002,144.44233207600001]
[4761,520.16501454815204,520.16501454815204,-37.681098156799898,144.43816581900001]
[4762,482.36071120525435,569.86174336491001,-37.687193765300002,144.434640341999]
[4763,551.27882104079606,551.27882104079606,-37.662133259400001,144.442445107]
[4764,591.24744455724147,591.24744455724147,-37.671443585600002,144.439252571]
[4765,657.36380773100211,657.36380773100211,-37.6570261978,144.443837739999]
[4766,338.56967459436868,338.56967459436868,-37.677021809899898,144.43662242299899]
[4767,712.21955475159768,712.21955475159768,-37.665284229500003,144.436844278]
[4768,642.38506193717649,642.38506193717649,-37.673495472100001,144.43205309499899]
[4769,584.31120993161255,584.31120993161255,-37.669607494600001,144.43442368000001]
[4770,618.84388701843352,618.84388701843352,-37.684033322600001,144.425654855]
[4771,502.39732465120619,502.39732465120619,-37.650488636699897,144.440456531]
[4772,50.082433271910624,50.082433271910624,-37.689528653899899,144.42310675900001]
[4773,547.29679221536674,547.29679221536674,-37.660152764300001,144.434956744999]
[4774,590.44256632769896,590.44256632769896,-37.656000870200003,144.437343777]
[4775,743.28404427385146,743.28404427385146,-37.676718008400002,144.426997742]
[4776,672.75594159750062,672.75594159750062,-37.662278985100002,144.428094391999]
[4777,486.08766676027807,486.08766676027807,-37.693039581400001,144.41583661600001]
[4778,789.96403016222882,789.96403016222882,-37.645499897100002,144.43261444199899]
[4779,222.3668904385936,222.3668904385936,-37.6517660218,144.430360756]
[4780,575.51887662426248,575.51887662426248,-37.655223086900001,144.42794805099899]
[4781,587.53586396717208,587.53586396717208,-37.668038977000002,144.421495596]
[4782,593.94600616850983,593.94600616850983,-37.673700640299899,144.419113925]
[4783,515.65855561509284,515.65855561509284,-37.774691080499899,144.385611990999]
[4784,348.37975139239529,348.37975139239529,-37.658726931300002,144.419651523]
[4785,604.34884539616337,604.34884539616337,-37.646281468700003,144.42172714200001]
[4786,709.02826953384454,709.02826953384454,-37.629806012800003,144.41082785500001]
[4787,373.94850587198238,373.94850587198238,-37.6785940635,144.378357397]
[4788,373.36475776999271,373.36475776999271,-37.604368188700001,144.366050723999]
[4789,9.5609284825146665E-4,9.5609284825146665E-4,-37.5194284041999,144.40888702800001]
[4790,852.63618232014232,852.63618232014232,-37.585159880699898,144.313758968]
[4791,292.70183784915508,292.70183784915508,-37.6700906121999,144.273961638]
[4792,0,0,-37.599446555199897,144.294954421]
[4793,406.39475330889479,406.39475330889479,-37.521859182199897,144.30295891200001]
[4794,0,0,-37.478612060700002,144.32873616800001]
[4795,559.90409792695141,559.90409792695141,-37.6026701645999,144.23649853699899]
[4796,397.73017583933017,397.73017583933017,-37.747338891699897,144.21226651800001]
[4797,709.44224381447248,709.44224381447248,-37.594511959800002,144.229404211999]
[4798,87.501032159655622,577.77174170470983,-37.600456005300003,144.2254867]
[4799,597.51945773654836,597.51945773654836,-37.602289380999899,144.220523232999]
[4800,583.56182247855611,583.56182247855611,-37.491687600500001,144.281245375]
[4801,286.1777942991377,286.1777942991377,-37.638110205700002,144.17715292899899]
[4802,731.23542200751342,731.23542200751342,-37.582342494400002,144.198858693999]
[4803,110.90377332406769,110.90377332406769,-37.775317219900003,144.110034439999]
[4804,718.61686346466956,718.61686346466956,-37.547715830000001,144.15088519700001]
[4805,142.16274140273467,142.16274140273467,-37.709419434799898,144.10248294900001]
[4806,279.40425734040002,279.40425734040002,-37.4685777718,144.19699763200001]
[4807,338.13740074729412,338.13740074729412,-37.6284945966,144.103083486]
[4808,445.39766611532156,445.39766611532156,-37.5817554853,144.106905259]
[4809,565.49610878540614,565.49610878540614,-37.683830239599899,144.02900759299899]
[4810,373.69648484191458,373.69648484191458,-37.6213168905999,144.05201969999899]
[4811,50.081895183656599,50.081895183656599,-37.481510006800001,144.110391921]
[4812,645.44742521401258,645.44742521401258,-37.763643626899899,143.98530332300001]
[4813,1174.1955023522858,1174.1955023522858,-37.524869751300002,144.02187955700001]
[4814,289.83051084631813,289.83051084631813,-37.641227890400003,143.97844172500001]
[4815,184.76157676848933,184.76157676848933,-37.682057486200002,143.958419695]
[4816,411.86628925557403,411.86628925557403,-37.599254782499898,143.968453815]
[4817,241.87518743780066,241.87518743780066,-37.627695047700001,143.92760601699899]
[4818,128.07321803649549,128.07321803649549,-37.565658900800003,143.96007624699899]
[4819,146.5297465067533,146.5297465067533,-37.597040589999899,143.917869161]
[4820,460.28432713660743,460.28432713660743,-37.3843087971999,143.531491203]
[4821,456.27668397557369,456.27668397557369,-37.261825415799898,143.557976389999]
[4822,188.13305016615001,188.13305016615001,-37.1217427087999,143.510986562]
[4823,407.89385940569622,407.89385940569622,-37.093795549600003,143.46974144000001]
[4824,562.49488264147953,562.49488264147953,-37.079781705199899,143.476901097]
[4825,846.6910727148462,846.6910727148462,-36.994219405300001,143.384714231]
[4826,793.50611977631297,793.50611977631297,-37.131001621899898,143.281119348]
[4827,1353.3739079313477,1353.3739079313477,-37.539536367300002,143.52256156600001]
[4828,385.84531973601639,385.84531973601639,-37.4275600633,143.38580782899899]
[4829,625.40090262979936,625.40090262979936,-37.432006272499898,143.37629589900001]
[4830,420.56061809480724,420.56061809480724,-37.567093207100001,143.30664133400001]
[4831,397.42318608942475,397.42318608942475,-37.361471180899898,143.304676191]
[4832,66.656973006990526,66.656973006990526,-37.669864741200001,143.16172666099899]
[4833,445.56145001342304,445.56145001342304,-37.059956032700001,143.759579755999]
[4834,5.6145793916107829,5.6145793916107829,-37.046640782200001,143.76290498700001]
[4835,302.21380063700911,302.21380063700911,-37.068791213600001,143.73598251799899]
[4836,732.95606143006069,732.95606143006069,-37.0481573856,143.752110939999]
[4837,27.527525764413735,27.527525764413735,-37.0622157411999,143.73732682400001]
[4838,397.94635955601876,397.94635955601876,-37.053391466900003,143.743897487]
[4839,488.91781362481765,488.91781362481765,-37.0462924411,143.747083785999]
[4840,419.47214363642928,419.47214363642928,-37.051508439099898,143.738512482]
[4841,669.12639961800653,669.12639961800653,-37.056719152500001,143.729927119]
[4842,112.604676389118,112.604676389118,-37.0477747407,143.73904811400001]
[4843,90.098398942607417,90.098398942607417,-37.0363876121,143.75020879300001]
[4844,263.3827892023503,263.3827892023503,-37.045895315099898,143.73510313700001]
[4845,489.17822676548604,489.17822676548604,-37.042998131200001,143.73205282500001]
[4846,516.48713313436053,516.48713313436053,-37.036436512400002,143.739476908]
[4847,726.87602096926412,726.87602096926412,-37.0385717869,143.73512912300001]
[4848,1231.1189268717981,1231.1189268717981,-37.045606012599897,143.727684753999]
[4849,435.1312604177408,435.1312604177408,-37.0293628157999,143.74252413599899]
[4850,88.415240740937421,88.415240740937421,-37.049682730599898,143.715207773999]
[4851,7.4859193079685333,7.4859193079685333,-37.0396338089,143.722881683]
[4852,65.875770864034408,65.875770864034408,-37.168175148700001,143.87316103000001]
[4853,193.44244886696529,193.44244886696529,-37.103373516600001,143.840395086999]
[4854,21.402165900799098,21.402165900799098,-37.0675056944999,143.961567887999]
[4855,14.975746602497152,14.975746602497152,-37.060852168099899,143.908844294]
[4856,408.20045273615341,408.20045273615341,-37.185805258999899,143.736149187]
[4857,7.2404984846166007,7.2404984846166007,-37.057890341700002,143.823818168999]
[4858,676.31429528006277,676.31429528006277,-37.043553678400002,143.81405384000001]
[4859,25.268806896158228,25.268806896158228,-37.080358003199898,143.777871885]
[4860,535.21256008751629,535.21256008751629,-37.170376192699898,143.696277331999]
[4861,108.07301509694047,108.07301509694047,-37.0563365852,143.79371563800001]
[4862,26.136650302669004,26.136650302669004,-37.031883920699897,143.82324429400001]
[4863,259.37512266697928,259.37512266697928,-37.098377823299899,143.73966782599899]
[4864,52.828288712293862,52.828288712293862,-37.1303919092,143.699504706]
[4865,99.758068663637573,99.758068663637573,-37.036732108000002,143.78983129700001]
[4866,76.766426070034981,76.766426070034981,-37.024661049300001,143.76690925400001]
[4867,132.10275635634039,132.10275635634039,-37.086385456800002,143.69961576200001]
[4868,222.13619597905691,222.13619597905691,-36.995180969700002,143.81209530199899]
[4869,356.93114564156303,356.93114564156303,-37.1173147218,143.618524745]
[4870,0,0,-37.0144549701999,143.732411560999]
[4871,0,0,-37.0311956502999,143.70929876599899]
[4872,94.69474241463611,94.69474241463611,-37.046111347,143.69524332200001]
[4873,1.425735743882697,1.425735743882697,-37.029744602100003,143.690575704]
[4874,404.95694701794667,404.95694701794667,-36.912811919200003,143.79252756700001]
[4875,0,0,-36.897848301000003,143.73579629400001]
[4876,249.71586795245219,249.71586795245219,-36.852007320200002,143.74366136500001]
[4877,531.11621316237245,531.11621316237245,-36.862318947200002,143.729124681999]
[4878,594.1777001846458,594.1777001846458,-36.924401823300002,143.612040441]
[4879,86.975643225306001,86.975643225306001,-36.788599021400003,143.641551507999]
[4880,250.18857804574694,250.18857804574694,-36.782903524200002,143.547871015]
[4881,0,0,-36.753169944,143.51758685300001]
[4882,581.78142405331232,17162.199593458947,-36.7823590596999,144.24987981000001]
[4883,550.54640255114566,9242.5215179514671,-36.781639241999898,144.24432958099899]
[4884,696.35385952467857,17309.409852205361,-36.775440078700001,144.25403927400001]
[4885,427.51019421834377,5074.7839406599323,-36.771641573700002,144.26251876200001]
[4886,444.13645848393674,43663.990101014722,-36.763670757299899,144.27779363100001]
[4887,465.06207470423067,8660.7400938981536,-36.776096542799898,144.24696100400001]
[4888,748.13708242382086,39287.905733255902,-36.766653444500001,144.26996074300001]
[4889,830.99480519199506,7369.0998112703301,-36.767543766800003,144.25692681000001]
[4890,959.89861322292802,24795.519458941846,-36.757516394600003,144.281243950999]
[4891,510.88096478648538,510.88096478648538,-36.763455343499899,144.26109171300001]
[4892,794.48876131798102,6736.8113579341061,-36.768617963499899,144.24920888400001]
[4893,1233.6506585083928,7130.1213014126324,-36.759706332999897,144.266184028]
[4894,980.02543227448609,18772.145296041017,-36.751731583599899,144.28633626800001]
[4895,776.45990682509341,8609.6679855347247,-36.7617359828999,144.25171380699899]
[4896,988.3589826675709,24739.841706209008,-36.749952154900001,144.27804955299899]
[4897,848.72177311691928,28102.294195427705,-36.7538191591999,144.26833162200001]
[4898,1432.7529578073634,18917.430916858662,-36.743929408699898,144.28749941999899]
[4899,536.97440260464089,2869.2958985870423,-36.7486612366,144.26956200800001]
[4900,697.4418630730006,5870.2128459730302,-36.755404312499898,144.254979668999]
[4901,630.16130028875568,22817.218161805595,-36.743904324900001,144.277514505]
[4902,635.45257585880233,23360.429935729622,-36.749510752299898,144.261096186999]
[4903,414.23587624516068,3925.3571765555466,-36.747499206100002,144.26427149899899]
[4904,638.91106999375563,3925.3571765555466,-36.740068856999898,144.27631443600001]
[4905,649.01324945472913,3925.3571765555466,-36.743233488000001,144.268894872]
[4906,681.46840726180881,15291.782524374568,-36.747900176500004,144.255047308]
[4907,537.89771267092476,15618.976079111972,-36.738939821999899,144.265303934]
[4908,422.57978066036299,3925.3571765555466,-36.732010951600003,144.274356673]
[4909,741.86465799091854,6592.7331178739369,-36.741157586299899,144.25026163300001]
[4910,1246.2012479171092,17022.233012488032,-36.733312337500003,144.259025468999]
[4911,574.03440555252655,13577.041418387296,-36.728426707099899,144.269660276]
[4912,660.9535067614114,10104.987193111914,-36.721876498699899,144.276160659]
[4913,705.07255158608052,15430.936804112549,-36.723752208800001,144.267724716]
[4914,427.07442414796509,9449.2073367950634,-36.727706288900002,144.253169493]
[4915,778.23218546764122,12074.280447529809,-36.7227249001999,144.260750296]
[4916,358.02553484464386,9873.9986892724555,-36.717737237500003,144.266469755999]
[4917,695.8201334418485,10500.981570380281,-36.7219933428999,144.252304624]
[4918,383.91418254645146,383.91418254645146,-36.724077009200002,144.24113801600001]
[4919,656.6886957926896,6787.038255880937,-36.714794747299898,144.258041779]
[4920,550.97202417289782,5615.6165720595664,-36.710205803999898,144.254750925]
[4921,808.62917892065809,7952.3343209674922,-36.712382225299898,144.244392828999]
[4922,351.05917107668137,351.05917107668137,-36.705928364999899,144.24785845900001]
[4923,539.83022933924553,4988.047076458698,-36.801618477399899,144.290448406]
[4924,8.8890582412661168,3773.7246402381306,-36.796898202599898,144.299238987]
[4925,530.72876115416057,4546.3939615498284,-36.793564055300003,144.289250705999]
[4926,781.55837955296374,4015.6652003956679,-36.790703780500003,144.29384864400001]
[4927,555.64555405358522,10659.236171925451,-36.780535347799898,144.31588138500001]
[4928,577.27937392800379,10659.236171925451,-36.783538424500001,144.307654539]
[4929,378.18758359033279,1160.6737243718794,-36.791558426999899,144.280790849]
[4930,625.15074768440513,14013.539854493716,-36.777985105299898,144.312369109999]
[4931,554.76774710905397,7949.7273063020193,-36.775172058700001,144.318901971]
[4932,382.13113487473606,9291.3513525408162,-36.781119195099897,144.30041516200001]
[4933,264.78854744075772,2493.8415889801072,-36.793790721599898,144.269354069]
[4934,1111.9936089393609,1494.124743814097,-36.782059682300002,144.294289969999]
[4935,494.29739190960697,14013.539854493716,-36.776201924200002,144.305115462]
[4936,864.95174412049562,5062.1178339188828,-36.781885937200002,144.289207046]
[4937,333.88626926208246,1494.559993633962,-36.784267251400003,144.285661361]
[4938,432.97440741623683,5100.0621632283737,-36.786567996700001,144.27779151300001]
[4939,771.75665348277334,771.75665348277334,-36.767900849299899,144.32326682300001]
[4940,617.01311888718305,617.01311888718305,-36.769018926199898,144.319959240999]
[4941,1001.0208080604933,14013.539854493716,-36.770555609900001,144.31167027199899]
[4942,569.63600050097125,7374.7820554909958,-36.7743196724999,144.29835796]
[4943,609.97051713402789,7398.2508139724378,-36.775529237100002,144.290036020999]
[4944,358.05737519204695,15071.598968306012,-36.788569730600003,144.255534170999]
[4945,516.26946237110269,7321.4155173611271,-36.770038390700002,144.30355577399899]
[4946,477.92178822005076,477.92178822005076,-36.763004007699898,144.317135272999]
[4947,687.56401548580902,18188.64535066994,-36.771332165899899,144.293977888]
[4948,590.60227371663177,5967.9161431539424,-36.778613696999898,144.277733152]
[4949,407.44020670158898,10816.255126351727,-36.764944088,144.30657234399899]
[4950,711.45300943785742,19112.274763467238,-36.767190573699899,144.29975267699899]
[4951,714.3346274363571,714.3346274363571,-36.762122627099899,144.31087990699899]
[4952,631.60574369376945,21704.862420337478,-36.770769168800001,144.28873937]
[4953,733.85619330616908,5697.2662715578272,-36.771983742899899,144.28152917700001]
[4954,158.84648295527194,2958.0878926575629,-36.776338504100003,144.268678201]
[4955,564.70439799658209,11569.941453483752,-36.764211641300001,144.29666499499899]
[4956,707.35427589845347,707.35427589845347,-36.7610935103,144.302645697]
[4957,582.92009252415824,27085.333790929049,-36.764891254699897,144.29070977500001]
[4958,154.20921991544574,7399.0318088524773,-36.779097185700003,144.257269006]
[4959,453.83000106907684,6393.9542733632106,-36.777630771600002,144.26125551600001]
[4960,611.72220228317042,7556.3531208911845,-36.767595350199898,144.28308678900001]
[4961,1068.5178607076271,1068.5178607076271,-36.756629958700003,144.30634774999899]
[4962,1115.9383213231786,24704.771876734067,-36.757833603000002,144.29330934000001]
[4963,867.85397992556864,13997.72991774691,-36.7498859686999,144.299761348999]
[4964,257.73035576896348,1217.6289689918915,-36.751192257100001,144.311763418]
[4965,448.10871137170392,23755.984573002352,-36.742150901700001,144.29531756399899]
[4966,567.46754284893495,567.46754284893495,-36.731760074199897,144.31623044]
[4967,492.12922760637548,18745.177118794381,-36.735351347600002,144.297264584999]
[4968,947.95985437077866,16026.038518548557,-36.729681644400003,144.30516767200001]
[4969,633.48149730814157,3925.3571765555466,-36.731611216600001,144.285621085]
[4970,299.45913542989263,299.45913542989263,-36.700391206200003,144.373362579999]
[4971,740.65839123484454,5041.6345746655516,-36.723407570200003,144.29736139100001]
[4972,605.58072625135549,10243.374611680594,-36.715616786200002,144.31132158200001]
[4973,562.26695548849943,5885.5913796134773,-36.709501655799897,144.324671215]
[4974,541.13963416940669,2002.373672968756,-36.699992679600001,144.329585815]
[4975,720.57564756450461,6303.3498563994635,-36.709337098100001,144.302421415]
[4976,158.98948005903605,2803.6679688007084,-36.712555227800003,144.286966087]
[4977,872.02455776144234,5456.62709200053,-36.7094390643,144.269104935]
[4978,788.28813143850152,8303.4505661831772,-36.689397745100003,144.321288796999]
[4979,272.03906889253795,3601.3716506728174,-36.674806381499899,144.33303302600001]
[4980,136.67882209351686,1124.1826918131605,-36.659046529100003,144.364291428999]
[4981,500.2644382352039,4678.2884117444137,-36.666452660600001,144.338877483]
[4982,487.23943148443988,4678.2884117444137,-36.654971398999898,144.33661393]
[4983,605.15207625570281,605.15207625570281,-36.6673830362,144.27156770100001]
[4984,395.10238299077611,395.10238299077611,-36.831677432600003,144.22628107200001]
[4985,473.20221592351089,5140.2743424900691,-36.8135876017,144.243250692]
[4986,977.44543054251665,977.44543054251665,-36.829846182600001,144.188609773]
[4987,616.61868300405968,11161.76504568933,-36.8104335453,144.23853304400001]
[4988,863.68347451646764,5140.2743424900691,-36.810933702200003,144.22789223800001]
[4989,497.38441076794993,6391.2641173195789,-36.804062134699898,144.236182743]
[4990,481.97596092813632,9037.549500931651,-36.798835058800002,144.243713786999]
[4991,644.1710696179058,6818.5534087191854,-36.799241688000002,144.235827855]
[4992,234.38518363214686,7925.2583902544957,-36.793412395799898,144.24304522400001]
[4993,760.1059380563205,7315.937819487136,-36.8012309856,144.222719152]
[4994,699.36136405158322,31283.778924642265,-36.790240757900001,144.24784013300001]
[4995,468.12004105924825,6818.5534087191854,-36.793703944199898,144.236915447999]
[4996,631.14063853581365,8448.0327566334854,-36.786392085899898,144.24144937200001]
[4997,899.16546542580443,7866.2513325801729,-36.7887166772,144.23389352000001]
[4998,927.51983522010926,7369.0998112703301,-36.783231941499899,144.230737264]
[4999,158.33388931324365,5444.9735326705377,-36.779143577200003,144.237146016]
[5000,492.71005665843506,6971.110647281459,-36.774678081700003,144.24283737100001]
[5001,497.15152130984262,2492.5196999756918,-36.774308738000002,144.23749147999899]
[5002,542.71042587818431,6478.2520669575524,-36.768079276000002,144.24168026800001]
[5003,234.84264519502261,3143.3352303807351,-36.764196151999897,144.22851009300001]
[5004,265.13261340011553,2995.5082102929464,-36.750641180300001,144.238537737999]
[5005,199.87864894374655,4982.6709732856025,-36.749361898399897,144.21506441700001]
[5006,897.76526006877953,897.76526006877953,-36.754454374300003,144.203227051]
[5007,941.57048283608776,1633.572223301775,-36.7419778091,144.228080038]
[5008,586.27304856666956,586.27304856666956,-36.760975937399898,144.17447911100001]
[5009,692.00174046568725,1589.7670005344667,-36.7434912537,144.206120091999]
[5010,875.7186568186894,875.7186568186894,-36.743284410500003,144.193873330999]
[5011,695.42639758778796,695.42639758778796,-36.709613189999899,144.17524517499899]
[5012,787.28640090430292,787.28640090430292,-36.6913464910999,144.21682107000001]
[5013,1297.0867600378854,1297.0867600378854,-36.970860166199898,144.618360604999]
[5014,810.86276812402616,810.86276812402616,-36.929164322399899,144.71424810299899]
[5015,759.71969208256985,1570.5824602065959,-36.918782001799897,144.70052008299899]
[5016,1428.574720647702,1428.574720647702,-36.9052993411999,144.77255498]
[5017,851.30445156271844,2421.8869117693143,-36.904956505999898,144.696356632]
[5018,1025.7940267089434,1025.7940267089434,-36.8925048778,144.471416038]
[5019,1197.2510542341877,1197.2510542341877,-36.817450318100001,144.640255997]
[5020,995.5315338729871,995.5315338729871,-36.907256824900003,144.26973698]
[5021,1039.1231989384244,1039.1231989384244,-36.866791164799899,144.34080496499899]
[5022,833.57717642144542,833.57717642144542,-36.806373523200001,144.414572273999]
[5023,207.27539431653705,207.27539431653705,-36.786304890499899,144.475946647999]
[5024,64.472587560092364,64.472587560092364,-36.837940961400001,144.29946991700001]
[5025,215.2441622271657,215.2441622271657,-36.7563157819,144.437111547999]
[5026,833.97961760290639,833.97961760290639,-36.698943982499898,144.474757625]
[5027,1589.5584860274864,1589.5584860274864,-36.8476512286,144.102683286]
[5028,642.86498886741003,642.86498886741003,-36.705370881500002,144.11819283899899]
[5029,922.99938334188357,922.99938334188357,-36.511713612000001,144.541143748]
[5030,961.92720566503294,961.92720566503294,-36.492599263899898,144.609246501999]
[5031,455.22308128854428,455.22308128854428,-36.531601281900002,144.39210860399899]
[5032,1293.6065781998661,1293.6065781998661,-36.570162140199898,144.243146102]
[5033,392.80221858996322,2401.33372923769,-36.827566574400002,144.33848927700001]
[5034,0,0,-36.832585816300004,144.31734757800001]
[5035,683.38126512258793,1214.1100262767486,-36.823769948200002,144.29941349699899]
[5036,563.95833362391613,8648.9536949075955,-36.812459417100001,144.35145893000001]
[5037,8.6639996692094812,1180.627880075504,-36.8009980601,144.353166343]
[5038,149.10177746353423,8648.9536949075955,-36.805205049199898,144.35524653100001]
[5039,458.90376931884413,4010.6559486727747,-36.7985002433999,144.363864624999]
[5040,674.34291838530396,10551.043546611332,-36.805256341300002,144.34037582400001]
[5041,690.8478785627899,1737.5970285827455,-36.787636352299899,144.37497936]
[5042,820.43410319879911,11118.139941244295,-36.7983382558999,144.344030178]
[5043,612.46448150576327,11510.94215983426,-36.801017365699899,144.336045418]
[5044,21.490862520030788,21.490862520030788,-36.8233957903999,144.267161122999]
[5045,722.78656550740413,11118.139941244295,-36.793965682100001,144.33879334900001]
[5046,0,8977.6134479458651,-36.7940056853,144.322423324]
[5047,1046.7491500199556,1469.2687065636583,-36.771317813099898,144.37563575600001]
[5048,242.65591144230112,1465.8674059041346,-36.7982036517,144.283387406999]
[5049,841.72946275623019,2786.6018856555124,-36.773431665099899,144.34125750600001]
[5050,213.77457463454223,213.77457463454223,-36.807935413099898,144.25079253600001]
[5051,159.9596622682935,159.9596622682935,-36.747178269300001,144.374171480999]
[5052,598.42126569319657,598.42126569319657,-36.396984553800003,144.114315363999]
[5053,1122.4894898895338,1122.4894898895338,-36.1198619522999,144.15063186]
[5054,373.97809380420262,373.97809380420262,-36.090559990300001,143.900629955]
[5055,1078.7091461921832,1078.7091461921832,-36.078713631500001,143.653955158]
[5056,701.36821612247252,701.36821612247252,-36.7892172751,143.95994195399899]
[5057,279.36884195117,279.36884195117,-36.806042175199899,143.792861152999]
[5058,716.05322255123724,716.05322255123724,-36.587185034900003,144.04256854100001]
[5059,348.06856350708051,348.06856350708051,-36.703578343099899,143.766164554]
[5060,653.6026844148995,653.6026844148995,-36.577584327499899,143.86999408899899]
[5061,0,0,-36.734002970200002,143.51599899499899]
[5062,0,0,-36.752841563899899,143.489777554]
[5063,350.84395645651966,350.84395645651966,-36.478980501499898,143.83462917400001]
[5064,92.291101381074043,92.291101381074043,-36.656503374700002,143.55351388]
[5065,519.48546016981288,519.48546016981288,-36.507402669800001,143.60967532999899]
[5066,169.99072552160303,169.99072552160303,-36.425551646800002,143.619986920999]
[5067,36.82119728313441,36.82119728313441,-36.3980913430999,143.65987915700001]
[5068,535.43768986711245,535.43768986711245,-36.414615379600001,143.61146418000001]
[5069,454.4533927545462,454.4533927545462,-36.284336847399899,143.699374264]
[5070,143.23646223688118,143.23646223688118,-37.348772092799898,144.431641595]
[5071,507.36083813927399,507.36083813927399,-37.290258701100001,144.47348821899899]
[5072,328.91665139435895,328.91665139435895,-37.3269260751999,144.407426681999]
[5073,475.39479092994338,475.39479092994338,-37.257745789600001,144.465624335]
[5074,839.09038380376171,839.09038380376171,-37.244312889900002,144.483781158]
[5075,736.77628027941341,3677.3764266195899,-37.256884297600003,144.45678756800001]
[5076,542.67380419200106,542.67380419200106,-37.248307335100002,144.46741775500001]
[5077,532.7994000822971,532.7994000822971,-37.171850055999897,144.617511476]
[5078,782.89102345704941,812.52371377589498,-37.245371164200002,144.45840463900001]
[5079,218.72729025488624,1614.5844067009646,-37.250249624200002,144.45827298]
[5080,567.49780936907689,1001.0516585151322,-37.249492570400001,144.44705690699899]
[5081,173.28133941035549,173.28133941035549,-37.257101167599899,144.423454703]
[5082,365.05406622774876,394.68675654659427,-37.245433974000001,144.44716523599899]
[5083,22.224357338599294,22.224357338599294,-37.234826524600003,144.458917138999]
[5084,545.68846685873325,545.68846685873325,-37.2390873380999,144.449805102]
[5085,490.28850286570503,490.28850286570503,-37.244282911299898,144.435657736]
[5086,755.71761753669443,755.71761753669443,-37.256723376700002,144.372298693]
[5087,636.92414161479292,636.92414161479292,-37.193967775600001,144.461374038]
[5088,649.10685627672694,649.10685627672694,-37.193090290000001,144.38515317700001]
[5089,136.90163765653318,136.90163765653318,-37.475890505599899,144.698013686]
[5090,679.96896244656216,679.96896244656216,-37.459613281700001,144.69336721900001]
[5091,2975.587267231545,2975.587267231545,-37.433227420400002,144.820780517999]
[5092,91.798090032915695,1419.072150162659,-37.463697877100003,144.678793689]
[5093,460.34900091095972,460.34900091095972,-37.454586890400002,144.68225349400001]
[5094,472.16429838844937,472.16429838844937,-37.460355654700003,144.666863275]
[5095,570.43511743763963,570.43511743763963,-37.4486518617,144.671917863]
[5096,408.01245961463457,408.01245961463457,-37.441586393900003,144.687466059]
[5097,408.00840408797058,408.00840408797058,-37.4208108252,144.667852673]
[5098,470.99492181556843,470.99492181556843,-37.360359987800003,144.75083459300001]
[5099,448.39107994875934,448.39107994875934,-37.3590743407999,144.7378343]
[5100,533.64563430241128,533.64563430241128,-37.354467057599898,144.75029995099899]
[5101,457.52731331019868,457.52731331019868,-37.353400181300003,144.73695447700001]
[5102,49.387460752442884,49.387460752442884,-37.349082840199898,144.74202742200001]
[5103,426.35397173169576,426.35397173169576,-37.345645356299897,144.75009291699899]
[5104,524.82265706577459,524.82265706577459,-37.346015079399898,144.735583386999]
[5105,590.44392890107656,590.44392890107656,-37.342054927699898,144.74198813999899]
[5106,683.34181128457203,683.34181128457203,-37.320366854900001,144.79094563199899]
[5107,975.17065802595505,975.17065802595505,-37.342594327800001,144.694591269]
[5108,700.44915478312782,700.44915478312782,-37.280268039200003,144.73212956200001]
[5109,548.77624778957681,548.77624778957681,-37.2745875074,144.72447079400001]
[5110,764.4354809401666,764.4354809401666,-37.2414841549,144.742459932]
[5111,0,0,-37.217712552800002,144.65360471100001]
[5112,1124.527234095809,1124.527234095809,-37.542345990000001,144.60232948000001]
[5113,678.37774062233166,678.37774062233166,-37.516324624299898,144.607683979999]
[5114,607.75198589384752,607.75198589384752,-37.482434779899897,144.643862936999]
[5115,506.63803296564561,506.63803296564561,-37.503558607499897,144.60109148199899]
[5116,834.14610726355397,834.14610726355397,-37.495491364700001,144.59748258900001]
[5117,616.27459850682942,616.27459850682942,-37.503961518099899,144.584693364999]
[5118,328.94299188576468,979.69436866831393,-37.486761987500003,144.60476679499899]
[5119,669.06228032786385,669.06228032786385,-37.490984790200002,144.591465293]
[5120,237.10991120648541,237.10991120648541,-37.475646147200003,144.610264269]
[5121,568.76100703268378,568.76100703268378,-37.493437526800001,144.58237154]
[5122,178.33945819405301,178.33945819405301,-37.4858580183,144.592244636]
[5123,659.84639348069322,659.84639348069322,-37.480815708599899,144.598952045]
[5124,191.1511702811394,191.1511702811394,-37.474310880300003,144.60043901500001]
[5125,472.41191858849618,3998.8417633941731,-37.479054296100003,144.59119447200001]
[5126,7.5063321234776481,185.84579031753066,-37.466058563200001,144.60525763300001]
[5127,510.34717943755948,2722.9316804439914,-37.466642817999897,144.59977374900001]
[5128,461.55970268744528,461.55970268744528,-37.4756882934999,144.581591127]
[5129,532.12471247161136,3874.1204947168667,-37.4645654057,144.593671285]
[5130,290.79287508483202,2739.9442735328757,-37.4517148605999,144.60465613599899]
[5131,434.83955359160848,434.83955359160848,-37.466737136600003,144.55381186599899]
[5132,669.41151123672773,669.41151123672773,-37.4168496648999,144.615485702999]
[5133,239.64352628413894,239.64352628413894,-37.431420435500002,144.57549752400001]
[5134,520.6119862083915,520.6119862083915,-37.425678355400002,144.585907789999]
[5135,515.24996088321154,515.24996088321154,-37.486629682699899,144.50402568499899]
[5136,501.14719105808967,5027.4542905706476,-37.426572914600001,144.56264833200001]
[5137,535.33399398682161,5061.6410934993783,-37.419083854,144.562524462]
[5138,457.35289004100684,457.35289004100684,-37.3987451636999,144.581904033999]
[5139,219.77420034837084,219.77420034837084,-37.422641465799899,144.538095527]
[5140,643.92016499808744,643.92016499808744,-37.378692618099898,144.57371577500001]
[5141,684.9091743444485,684.9091743444485,-37.3336166429999,144.614342897]
[5142,582.77268252896283,582.77268252896283,-37.380502014999898,144.519592176]
[5143,590.19467084709788,2654.2450112562547,-37.366726075700001,144.532908671]
[5144,393.73263466428739,393.73263466428739,-37.415018301300002,144.43463841600001]
[5145,453.4011679889104,2226.658633313235,-37.3620012648,144.53581976199899]
[5146,426.96927331320137,3625.2895956644447,-37.3635832282,144.52240610600001]
[5147,496.86974962503405,496.86974962503405,-37.3489860785999,144.54583382600001]
[5148,469.18112545397668,469.18112545397668,-37.369073646700002,144.50220303699899]
[5149,29.632690318845505,4474.527113205012,-37.357096518500001,144.52800480100001]
[5150,403.92115882720992,4388.4665808024156,-37.353015857899898,144.532241529]
[5151,387.8750534195903,923.20904740641186,-37.353218449300002,144.52282901999899]
[5152,673.31877777105171,673.31877777105171,-37.3407848704,144.533224647]
[5153,571.64951318853127,571.64951318853127,-37.3374446881,144.50583927900001]
[5154,318.54912185325662,318.54912185325662,-37.273432872100003,144.62045006400001]
[5155,660.01260731272725,1160.5069449726818,-37.077553356800003,144.234126573]
[5156,780.26221087956731,780.26221087956731,-37.075075679199898,144.21984779300001]
[5157,684.46685210114561,1844.9737970738274,-37.059103898700002,144.24070103]
[5158,642.24116548711334,642.24116548711334,-37.071106607399898,144.21162015799899]
[5159,940.58927595061459,940.58927595061459,-37.064230914100001,144.22262308800001]
[5160,1.7585762279456052E-4,2302.776510331294,-37.053913527699898,144.232549237]
[5161,810.52666252324138,810.52666252324138,-37.072892078199899,144.199174677]
[5162,970.81331897621055,970.81331897621055,-37.055929707799898,144.21968933100001]
[5163,370.65556754743659,1070.0169315990197,-37.060704639400001,144.21220701799899]
[5164,434.27205068617508,2302.776510331294,-37.044342411400002,144.22985205699899]
[5165,527.03539726384884,2302.776510331294,-37.043871436000003,144.213707494]
[5166,696.14235769336597,696.14235769336597,-37.054756699199899,144.200530611]
[5167,902.86548902799802,902.86548902799802,-37.135111336900003,144.344092996999]
[5168,90.88553648873193,90.88553648873193,-37.183890771800002,144.242167174]
[5169,172.90992731666657,172.90992731666657,-37.140714598800002,144.25602751599899]
[5170,837.90046401170991,837.90046401170991,-37.052918311200003,144.42574986599899]
[5171,407.91273890100979,407.91273890100979,-37.153836145900001,144.179311893999]
[5172,16.120662844363256,16.120662844363256,-37.107150272299897,144.23395292000001]
[5173,500.49433765995451,500.49433765995451,-37.087700465600001,144.25982952499899]
[5174,419.60864118461029,419.60864118461029,-37.0565168718,144.294650816999]
[5175,973.54124397744272,973.54124397744272,-37.083794218999898,144.20851298400001]
[5176,7.7112941240103474,7.7112941240103474,-37.055717973,144.257474892999]
[5177,391.16151931770935,391.16151931770935,-37.115846371300002,144.174442623999]
[5178,649.15009276078342,649.15009276078342,-37.078798237100003,144.172137048]
[5179,0,0,-36.998717933400002,144.30447675600001]
[5180,170.88465484641239,170.88465484641239,-37.130426003300002,144.10236061699899]
[5181,127.91515893370685,127.91515893370685,-37.169737165400001,144.037501956]
[5182,104.46404646252731,104.46404646252731,-37.200155610300001,144.003878939]
[5183,0,0,-37.038401686900002,144.196788113]
[5184,0,0,-37.028739440099898,144.201813028999]
[5185,1379.9364858140957,1379.9364858140957,-36.991851908900003,144.256035956999]
[5186,212.71834683764104,212.71834683764104,-37.0480264953,144.14857611900001]
[5187,508.54352672178499,508.54352672178499,-37.1119112282,144.06254326499899]
[5188,157.89261680119671,157.89261680119671,-37.116982675300001,144.01822447200001]
[5189,5.9659281773717749,5.9659281773717749,-37.057566385400001,144.094725788999]
[5190,255.07479839395063,255.07479839395063,-37.0721281645,144.035511055]
[5191,457.65684281224003,457.65684281224003,-36.975894593100001,144.156193207]
[5192,127.63025085107343,127.63025085107343,-36.933119693999899,144.096662232]
[5193,575.95895329679297,575.95895329679297,-37.013884454699898,144.05999007400001]
[5194,678.23500170792227,678.23500170792227,-36.9920377069,144.066882096]
[5195,376.11745165281872,376.11745165281872,-36.979747740400001,144.07356639899899]
[5196,167.9792562153188,167.9792562153188,-36.981741672699897,144.058984409999]
[5197,0,0,-37.013160295900001,143.97206021700001]
[5198,428.82991456974781,428.82991456974781,-36.9579811362999,143.943330621999]
[5199,1468.0542275470209,1468.0542275470209,-36.452325490200003,142.028543627]
[5200,0,0,-36.5079282057999,141.778819056]
[5201,407.19512646592938,407.19512646592938,-36.144582973600002,141.985937992]
[5202,1048.2921953704649,1048.2921953704649,-36.290268677100002,141.866715121]
[5203,869.65291961390562,869.65291961390562,-35.966521937499898,142.021927390999]
[5204,1902.0020388752989,1902.0020388752989,-36.3360731235,141.65297775299899]
[5205,455.48527750057679,455.48527750057679,-36.146317345699899,141.48123621400001]
[5206,0,0,-35.7536296838,141.69503465]
[5207,973.77123535250621,973.77123535250621,-36.732350255,142.21496471500001]
[5208,579.40139148561582,579.40139148561582,-36.719367994499898,142.216509962]
[5209,265.17048810611089,265.17048810611089,-36.709330723100003,142.217013001]
[5210,22.80843319565863,22.80843319565863,-36.720225433499898,142.206724544]
[5211,519.55409315447673,519.55409315447673,-36.7140762318,142.210424504999]
[5212,538.83936990732229,538.83936990732229,-36.704744013300001,142.218092829]
[5213,18.703542672858315,18.703542672858315,-36.736901443400001,142.19519475000001]
[5214,331.25075192826387,331.25075192826387,-36.725878729199898,142.20051644700001]
[5215,19.394333971859169,19.394333971859169,-36.699563504300002,142.215794356]
[5216,618.09509632189076,618.09509632189076,-36.714295524800001,142.204950432999]
[5217,62.327760367574847,62.327760367574847,-36.729661516,142.19455184399899]
[5218,598.9136796878912,598.9136796878912,-36.708853210400001,142.20835559]
[5219,439.10651453712472,439.10651453712472,-36.702913909899898,142.21071264]
[5220,1.7508872833246774,1.7508872833246774,-36.7237754420999,142.196915743999]
[5221,163.54201922826371,163.54201922826371,-36.716782507700003,142.200094401]
[5222,408.59984682250433,408.59984682250433,-36.704709384399898,142.204873115]
[5223,409.53417624743685,409.53417624743685,-36.700051287400001,142.206611151]
[5224,1328.5610714305938,1328.5610714305938,-36.7209755181999,142.19186358100001]
[5225,566.80382831510803,566.80382831510803,-36.709917351599898,142.19979314099899]
[5226,359.07203400045023,359.07203400045023,-36.707050060299899,142.19844323800001]
[5227,615.62880737158946,615.62880737158946,-36.711316603599897,142.191877893]
[5228,15.595946717104535,15.595946717104535,-36.729929387200002,142.182984283]
[5229,629.90670005379957,629.90670005379957,-36.700104305300002,142.20113431799899]
[5230,5.9014056785496214,5.9014056785496214,-36.714584708899899,142.19038118]
[5231,866.43499126026722,866.43499126026722,-36.723692310600001,142.183366017]
[5232,1019.1421801344836,1019.1421801344836,-36.7046086500999,142.193346504999]
[5233,789.87559765434696,789.87559765434696,-36.714990902799897,142.183733023]
[5234,26.511278695428736,26.511278695428736,-36.7353450288999,142.17372196400001]
[5235,940.1517267422588,940.1517267422588,-36.719868607499897,142.18071079200001]
[5236,371.98708525567702,371.98708525567702,-36.699545928500001,142.192242257]
[5237,2.8795157082903204E-4,2.8795157082903204E-4,-36.711121559799899,142.184784194999]
[5238,870.64825530790972,870.64825530790972,-36.726890287499899,142.17362057]
[5239,0,0,-36.717091224999898,142.179367316]
[5240,0,0,-36.722557951500001,142.17254504100001]
[5241,334.43623529474877,334.43623529474877,-36.701067485099898,142.18165083100001]
[5242,0,0,-36.7160881723999,142.17424005500001]
[5243,0,0,-36.706326335,142.174841077]
[5244,826.59106888507461,826.59106888507461,-36.83202412,142.33169653100001]
[5245,657.3345293660783,657.3345293660783,-37.0598136471,142.066033734]
[5246,892.93181121964778,892.93181121964778,-36.7595758016,142.20908036399899]
[5247,832.59928841195108,832.59928841195108,-36.572285859399898,142.27961619800001]
[5248,1.1644932788199509,1.1644932788199509,-36.7476200236,142.163845928999]
[5249,899.50398835652038,899.50398835652038,-36.797823396399899,142.094471556]
[5250,274.20761858005602,274.20761858005602,-36.895734542200003,141.892541424]
[5251,1301.4636098254705,1301.4636098254705,-36.658471538800001,141.97584104699899]
[5252,350.96052182755591,350.96052182755591,-36.801689039000003,143.383529503999]
[5253,0,0,-36.777834070300003,143.259064776999]
[5254,91.290764392546151,91.290764392546151,-36.537902440300002,143.313008529999]
[5255,260.14868681303409,260.14868681303409,-36.611736736399898,143.29524538800001]
[5256,871.48930089655357,871.48930089655357,-36.630966092500003,143.255152041]
[5257,124.88349870607348,124.88349870607348,-36.614025004699897,143.25616199300001]
[5258,613.73887814580701,613.73887814580701,-36.615414358999899,143.249646934]
[5259,609.81827114895145,609.81827114895145,-36.607254653399899,143.25247034]
[5260,65.657039717432156,65.657039717432156,-36.588148220900003,143.144990329]
[5261,331.52346154227149,331.52346154227149,-36.684136068800001,143.018662312999]
[5262,95.36113451750218,95.36113451750218,-36.486149066300001,143.137071451]
[5263,589.93773810478797,589.93773810478797,-37.094281436800003,142.93776051200001]
[5264,570.03879873062635,570.03879873062635,-37.128382223400003,142.777106248]
[5265,430.06474745128901,430.06474745128901,-36.900227188599899,142.90618135700001]
[5266,138.49468839801955,138.49468839801955,-37.0714188388,142.784720738999]
[5267,21.970597865242787,21.970597865242787,-37.056383173599897,142.79633759000001]
[5268,405.76287957989132,405.76287957989132,-37.062926752400003,142.79000228000001]
[5269,159.05445798206372,159.05445798206372,-37.046366877600001,142.793895378]
[5270,543.14785125627895,543.14785125627895,-37.062977504499898,142.78271873]
[5271,419.3400913067556,419.3400913067556,-37.057239373999899,142.78343726099899]
[5272,325.51130824146264,325.51130824146264,-37.065116462699898,142.77713709700001]
[5273,527.4921116349783,527.4921116349783,-37.050714853400002,142.78041402599899]
[5274,651.44806221777355,651.44806221777355,-37.060167557699899,142.77248070600001]
[5275,116.37738737524136,116.37738737524136,-37.043255421399898,142.77943016699899]
[5276,521.98821195666346,521.98821195666346,-37.055406414099899,142.773192690999]
[5277,853.45028355548459,853.45028355548459,-37.067262101300003,142.76567443100001]
[5278,7.2280990861529823E-3,7.2280990861529823E-3,-37.069103586200001,142.757990425]
[5279,571.51850708021016,571.51850708021016,-37.049929583999898,142.768669131]
[5280,51.317235858436035,51.317235858436035,-37.051413731899899,142.756671756]
[5281,86.540635790598657,86.540635790598657,-37.042388169200002,142.74607899200001]
[5282,0,0,-37.013629772900003,142.75137654100001]
[5283,7.444834602754784,7.444834602754784,-37.077378743799898,142.694752526999]
[5284,91.994821252300838,91.994821252300838,-37.026012050200002,142.704567242]
[5285,301.97044563272829,301.97044563272829,-37.107609820199897,142.627479682]
[5286,5.6098845434857436,5.6098845434857436,-37.037429248999899,142.60304041200001]
[5287,225.95399113041663,225.95399113041663,-36.689658848999898,142.840950155]
[5288,355.23713868753129,355.23713868753129,-36.891123218499899,142.62003400699899]
[5289,960.72588449234195,960.72588449234195,-37.1078385771999,142.43763759800001]
[5290,1812.4513481696031,1812.4513481696031,-37.152400830799898,141.327285751999]
[5291,0,0,-36.5809550861999,141.52490696500001]
[5292,1289.2506098980607,1289.2506098980607,-36.795807679699898,141.33907341400001]
[5293,0,0,-36.5798372665,141.082866215]
[5294,1481.7901196301657,1481.7901196301657,-36.227824450100002,141.179066769]
[5295,0,0,-35.8079130315,141.145990533999]
[5296,720.26096362652186,720.26096362652186,-35.824444151199899,142.295040411]
[5297,613.94828246057239,613.94828246057239,-35.731590461499898,142.385130266999]
[5298,926.42019208978672,926.42019208978672,-35.540813814099899,142.46351612500001]
[5299,0,0,-35.562403624399899,142.146027503]
[5300,2317.3496954896414,2317.3496954896414,-36.548282470799897,142.581260947999]
[5301,161.09830630382623,161.09830630382623,-36.263309706800001,142.41626143100001]
[5302,488.40009992544151,488.40009992544151,-36.155101157799898,142.493330533999]
[5303,427.28348219092453,427.28348219092453,-36.260393821400001,142.39894518]
[5304,626.83241899023835,626.83241899023835,-36.2580182819,142.390039898]
[5305,66.341759311409504,66.341759311409504,-36.250418226599898,142.39502470400001]
[5306,546.27261279533582,546.27261279533582,-36.246200976700003,142.399203398]
[5307,486.34180321218133,486.34180321218133,-36.2512088553,142.38748715]
[5308,225.91252447836402,225.91252447836402,-36.297896233400003,142.290729970999]
[5309,151.71249813448054,151.71249813448054,-36.087430760300002,143.26222730800001]
[5310,648.7556098125275,648.7556098125275,-36.074283280800003,143.229533309999]
[5311,124.22440969972706,124.22440969972706,-36.040545608899897,142.992811983]
[5312,689.62994194540727,689.62994194540727,-35.9791046108,142.91606004100001]
[5313,383.38377180470536,383.38377180470536,-35.847124120700002,143.065074713999]
[5314,236.34312904658668,236.34312904658668,-35.9237708478,142.71935247900001]
[5315,393.04560883833835,393.04560883833835,-35.673647975000002,143.10309757100001]
[5316,950.17767105451458,950.17767105451458,-35.410694771300001,142.796915428999]
[5317,539.24166762258687,539.24166762258687,-36.273590692100001,143.34747773500001]
[5318,534.74214189214206,534.74214189214206,-36.264798865300001,143.35527747699899]
[5319,209.11110063640376,209.11110063640376,-36.398646921599898,143.216769828]
[5320,185.53881122097604,185.53881122097604,-36.178017036,143.43116974700001]
[5321,207.92729428376654,207.92729428376654,-36.2670848753,143.19337895000001]
[5322,502.92935006945316,502.92935006945316,-36.375639978599899,142.989971946]
[5323,416.43137440246574,416.43137440246574,-36.368285338299899,142.98710352699899]
[5324,389.65728988843443,389.65728988843443,-36.3642832200999,142.979287400999]
[5325,466.61367753905768,466.61367753905768,-36.259679198800001,142.892548108]
[5326,1073.6517590528456,1073.6517590528456,-35.880507840500002,144.288932757]
[5327,261.6665989397676,261.6665989397676,-35.880563598000002,144.028741827]
[5328,601.8749390086831,601.8749390086831,-35.814422419000003,144.244687379]
[5329,1352.0298964330739,1352.0298964330739,-35.809535158099898,144.210268848]
[5330,465.79778878097795,465.79778878097795,-35.813836009900001,144.16391422500001]
[5331,87.609234708508936,87.609234708508936,-35.7607625455,144.261159943]
[5332,445.19883029642307,445.19883029642307,-35.724989732700003,144.05213808900001]
[5333,1256.2948105090929,1256.2948105090929,-35.739214261599898,143.942246858]
[5334,257.80128608001206,257.80128608001206,-35.751859045099899,143.90255314999899]
[5335,449.72995445179055,449.72995445179055,-35.874409301599897,143.517293037999]
[5336,2576.8962388063269,2576.8962388063269,-35.7264410672,143.91348247299899]
[5337,227.15226755447242,227.15226755447242,-35.649601349800001,144.12945894500001]
[5338,343.6908661385944,343.6908661385944,-35.639971495600001,144.127994613]
[5339,250.92920839814926,250.92920839814926,-35.628514935799899,144.11908216]
[5340,136.46118320151174,136.46118320151174,-35.634096593800002,144.086402311]
[5341,737.60477796920554,737.60477796920554,-35.750653561,143.77717368200001]
[5342,290.53041879567076,290.53041879567076,-35.622519013999899,143.964460186]
[5343,585.69547335767481,585.69547335767481,-35.538537201899899,143.86561926600001]
[5344,229.24496293618165,229.24496293618165,-35.667248604800001,143.500836166]
[5345,623.65807758598578,623.65807758598578,-34.3152559774,142.18942987700001]
[5346,673.69745951713924,673.69745951713924,-34.305814668399897,142.200402569]
[5347,775.77782425647979,775.77782425647979,-34.302953709800001,142.190314723]
[5348,1145.4668964832031,1145.4668964832031,-34.293699722200003,142.23116014300001]
[5349,802.72873218151005,802.72873218151005,-34.303918649700002,142.18282778700001]
[5350,700.00469056003101,700.00469056003101,-34.3050427437,142.17233238200001]
[5351,5294.1041266006305,5294.1041266006305,-34.256433827999899,142.13291803600001]
[5352,21.156871133387497,21.156871133387497,-34.298778959899899,142.06106972500001]
[5353,835.94430265501433,835.94430265501433,-34.234449076399898,142.176558339]
[5354,68.591706013526107,68.591706013526107,-34.238468236899898,142.16789841400001]
[5355,734.34248661452807,734.34248661452807,-34.227895710600002,142.18128746900001]
[5356,1406.5260048704295,1406.5260048704295,-34.210367567500001,142.20515085900001]
[5357,1125.3948903259152,1125.3948903259152,-34.227393061400001,142.16980631800001]
[5358,308.82779268344649,308.82779268344649,-34.233165826700002,142.15670692]
[5359,484.50784107754521,484.50784107754521,-34.2169252375,142.159528983]
[5360,166.77159166445736,166.77159166445736,-34.207748780099898,142.16827860999899]
[5361,759.82735856310455,759.82735856310455,-34.198819975299898,142.180917658]
[5362,568.97282221186936,568.97282221186936,-34.217743005499898,142.138082739]
[5363,429.57962155716899,429.57962155716899,-34.2049435976,142.161457592]
[5364,422.14843576214889,422.14843576214889,-34.211407438000002,142.146275618999]
[5365,515.63826469687547,515.63826469687547,-34.212069743599898,142.142892985]
[5366,842.40505475883378,842.40505475883378,-34.200521679799898,142.16785798000001]
[5367,196.33524135813201,196.33524135813201,-34.194735092599899,142.173095354]
[5368,540.30395425984739,540.30395425984739,-34.207407304999897,142.150642936]
[5369,674.19401827100626,674.19401827100626,-34.2162662576999,142.13075206400001]
[5370,865.67987143316202,865.67987143316202,-34.202661414200001,142.15629570900001]
[5371,670.19313709421624,670.19313709421624,-34.212212817599898,142.13436054600001]
[5372,901.85870981651055,901.85870981651055,-34.198204309799898,142.16147052700001]
[5373,646.84967403143514,646.84967403143514,-34.2058841411,142.14205624799899]
[5374,729.99827032466021,729.99827032466021,-34.203689415299898,142.145479472999]
[5375,537.46027399862578,537.46027399862578,-34.201327524699899,142.14829180800001]
[5376,893.10715122424529,893.10715122424529,-34.198769544400001,142.15136462500001]
[5377,679.35320946375441,679.35320946375441,-34.1890198896999,142.169109389]
[5378,251.40589593557681,251.40589593557681,-34.2036621658999,142.13910470299899]
[5379,802.20729427264519,802.20729427264519,-34.195962468700003,142.154686935]
[5380,711.86210194819967,711.86210194819967,-34.191546478200003,142.162755898]
[5381,924.30723212594398,924.30723212594398,-34.208995168599898,142.12837474899899]
[5382,549.03729652963034,549.03729652963034,-34.193166453099899,142.15823947000001]
[5383,715.80635720417717,715.80635720417717,-34.2024135095999,142.13519719600001]
[5384,694.37419628088958,694.37419628088958,-34.1984467979999,142.14117040299899]
[5385,642.29800818859792,642.29800818859792,-34.194157848800003,142.146951949]
[5386,771.99658435605363,771.99658435605363,-34.205408031700003,142.12347914]
[5387,798.14341043569107,798.14341043569107,-34.190173701500001,142.152006715]
[5388,224.1290007379138,224.1290007379138,-34.1854294064999,142.1610148]
[5389,780.56524006603058,780.56524006603058,-34.198315706700001,142.129961511999]
[5390,535.16727852880172,535.16727852880172,-34.195957591800003,142.134683061]
[5391,840.29030075623518,840.29030075623518,-34.193287684799898,142.137844704999]
[5392,690.83819323404487,690.83819323404487,-34.1907354814999,142.14213946800001]
[5393,491.8992119946297,491.8992119946297,-34.187508913999899,142.146870995999]
[5394,707.69653907468876,707.69653907468876,-34.200753833500002,142.119544902]
[5395,831.98776846479825,831.98776846479825,-34.183962340599898,142.15272739700001]
[5396,985.88406973490169,985.88406973490169,-34.178719071099898,142.157000014999]
[5397,253.78889479430333,253.78889479430333,-34.158446832700001,142.15261030100001]
[5398,854.09583873360043,854.09583873360043,-34.1820393442,142.144942396]
[5399,976.71104804746403,976.71104804746403,-34.178938625299899,142.14977931799899]
[5400,753.59537735116419,753.59537735116419,-34.170682116400002,142.155885617]
[5401,654.72017448878489,654.72017448878489,-34.175940095800001,142.146580664]
[5402,746.63879601103315,746.63879601103315,-34.173227713499898,142.15206143399899]
[5403,557.84870820232834,557.84870820232834,-34.1695994584,142.149127362999]
[5404,161.97022065409402,161.97022065409402,-34.186531787600003,142.11066206000001]
[5405,877.92452637664087,877.92452637664087,-34.1726184344,142.139901331999]
[5406,606.28516619759966,606.28516619759966,-34.169126465600002,142.14163565800001]
[5407,288.29482790386282,288.29482790386282,-34.171068507999898,142.12831952400001]
[5408,578.94600344219998,578.94600344219998,-34.170225178700001,142.07336182700001]
[5409,2467.3431596145456,2467.3431596145456,-34.181016742399898,142.031527447999]
[5410,694.87792983644317,694.87792983644317,-34.1662323458999,142.06232738200001]
[5411,639.6289427173383,639.6289427173383,-34.166968834599899,142.05366770000001]
[5412,100.9795172032114,100.9795172032114,-35.468386349900001,141.533144577]
[5413,3148.1498990213972,3148.1498990213972,-35.127917360200001,141.819307624999]
[5414,1086.7413101894047,1086.7413101894047,-34.478233353900002,142.19812951]
[5415,64.613266371822718,64.613266371822718,-34.751920325,141.653191545]
[5416,0,0,-34.124120795099898,141.893200823999]
[5417,699.62693444709657,699.62693444709657,-34.311781438899899,141.513150838]
[5418,178.50238230853594,178.50238230853594,-35.368191210299898,143.552979472]
[5419,179.84817002195635,179.84817002195635,-35.3611856538,143.565207958999]
[5420,646.03999404318768,646.03999404318768,-35.356634626899897,143.55470616100001]
[5421,658.8703912405856,658.8703912405856,-35.354985752300003,143.545458682999]
[5422,547.15697922245511,547.15697922245511,-35.350974082999898,143.55119073200001]
[5423,704.81614910918483,704.81614910918483,-35.349235246900001,143.55828553800001]
[5424,786.37171084783608,786.37171084783608,-35.345230383400001,143.56260231799899]
[5425,627.18229376420652,627.18229376420652,-35.346573658499899,143.55271616799899]
[5426,568.5223319753369,568.5223319753369,-35.35018882,143.535700633999]
[5427,657.68817824323128,657.68817824323128,-35.3420192671,143.553353977]
[5428,656.78385566288284,656.78385566288284,-35.344107752900001,143.54681031800001]
[5429,286.89161615855267,286.89161615855267,-35.3367450159,143.555750862]
[5430,909.2536992067196,909.2536992067196,-35.336968913,143.548809949]
[5431,565.42192276799983,565.42192276799983,-35.3312686887,143.56022638799899]
[5432,585.39213431711289,585.39213431711289,-35.338049890100002,143.54290136399899]
[5433,490.34911426056181,490.34911426056181,-35.334359585100003,143.544657317999]
[5434,589.79718318340645,589.79718318340645,-35.3304008311,143.55181458600001]
[5435,106.61238059429441,106.61238059429441,-35.334974453199898,143.53718093200001]
[5436,90.816517163573238,90.816517163573238,-35.333715242399897,143.527560446]
[5437,336.57660992030645,336.57660992030645,-35.326347801099899,143.53853750100001]
[5438,117.78244605150307,117.78244605150307,-35.319249315599897,143.54816760099899]
[5439,531.03371482628654,531.03371482628654,-34.7488797217,142.83172826699899]
[5440,0,0,-34.678975199200003,142.94377041800001]
[5441,205.96500969748618,205.96500969748618,-34.8108685841,142.61846675499899]
[5442,2.1358944964008064E-6,2.1358944964008064E-6,-34.676096589300002,142.87748185000001]
[5443,697.23991088242315,697.23991088242315,-34.643530244799898,142.81688105000001]
[5444,776.02515887660775,776.02515887660775,-34.620028808000001,142.732532789999]
[5445,400.41016457551029,400.41016457551029,-34.596139319599899,142.775673802]
[5446,510.86073820669969,510.86073820669969,-34.590727657400002,142.777667167]
[5447,458.32101017099387,458.32101017099387,-34.585181296599899,142.77404142200001]
[5448,856.32775785607441,856.32775785607441,-34.570431247599899,142.78917745800001]
[5449,1903.4538439893342,1903.4538439893342,-35.441364452000002,143.67193497599899]
[5450,181.63524565469567,181.63524565469567,-35.370683145800001,143.50140015400001]
[5451,643.69730417938388,643.69730417938388,-35.379489915000001,143.26294132500001]
[5452,666.2792079426514,666.2792079426514,-35.275094201599899,143.542393535]
[5453,382.16027429483592,382.16027429483592,-35.2940643069999,143.448427353]
[5454,661.53761329135989,661.53761329135989,-35.2609772307,143.48119752400001]
[5455,0,0,-35.220970010199899,143.55771847099899]
[5456,171.52689242314037,171.52689242314037,-35.230988233200002,143.497107548999]
[5457,0,0,-35.2246539398,143.43607235900001]
[5458,181.31789570684157,181.31789570684157,-35.233303497100003,143.41816134800001]
[5459,0,0,-35.1971586356999,143.402762123999]
[5460,383.86004118329322,383.86004118329322,-35.194621112299899,143.372344994]
[5461,482.60826927910449,482.60826927910449,-35.1873880963999,143.344679555]
[5462,99.588647110976098,99.588647110976098,-35.169285526700001,143.329532653]
[5463,462.56005183593851,462.56005183593851,-35.148775917899897,143.35784411200001]
[5464,0,0,-35.134177852999898,143.37032196600001]
[5465,175.94160988944492,175.94160988944492,-35.1006038027,143.329635784999]
[5466,347.83353896822621,347.83353896822621,-35.007804644799897,143.20944708100001]
[5467,501.54068156397938,501.54068156397938,-35.108732414000002,142.89627485099899]
[5468,202.495504661128,202.495504661128,-34.843968962399899,143.15498910599899]
[5469,82.831344095563594,82.831344095563594,-34.9120500541,142.86365332]
[5470,171.03235489030638,171.03235489030638,-34.738661317899897,143.104471676]
[6001,522.67361368282639,522.67361368282639,-36.571560683500003,145.969746657]
[6002,2962.2196991445121,2962.2196991445121,-36.5591860396,145.97115774700001]
[6003,1946.9137782722978,1946.9137782722978,-36.548732094499897,145.968416039999]
[6004,6.2004880808413496,6.2004880808413496,-36.543235994100002,145.97795965]
[6005,1165.3993886370345,1165.3993886370345,-36.5564114015,145.993672430999]
[6006,1742.3677277654542,1742.3677277654542,-36.5474746987,145.988979892]
[6007,113.22853919894075,113.22853919894075,-36.543943930700003,146.00064980900001]
[6008,400.07892636788188,400.07892636788188,-36.549320405099898,146.012754325999]
[6009,641.28279522836999,641.28279522836999,-36.534308857200003,145.99130408600001]
[6010,1253.9381194621258,1253.9381194621258,-36.784603475600001,146.03157639099899]
[6011,1560.5468663988711,1560.5468663988711,-36.596662415700003,146.06985536900001]
[6012,2088.993043924188,2088.993043924188,-36.405128148800003,145.98594664500001]
[6013,633.58933683460953,2103.1226289866413,-36.159461761000003,144.770147485]
[6014,485.32991473082222,485.32991473082222,-36.1542558887,144.74150963400001]
[6015,1644.6482102370355,8398.9234182780037,-36.145206416999898,144.74960238700001]
[6016,773.92906820057806,6309.90289310345,-36.147952909099899,144.72463592700001]
[6017,711.89423406125593,8739.4387473329116,-36.1460347011,144.73779944]
[6018,1024.1493764725747,7980.8384552693478,-36.139222693699899,144.72746264099899]
[6019,1015.8583511168285,2750.3303178372385,-36.135743800999897,144.771435682]
[6020,744.81924027953005,4128.7388949513779,-36.1376744340999,144.75962813800001]
[6021,715.86285752806521,8321.3537843242557,-36.137595975499899,144.75009121100001]
[6022,646.7861856933232,8884.2533330088245,-36.136223931099899,144.73433616099899]
[6023,819.63400414071873,8739.4387473329116,-36.136030389399899,144.74100696599899]
[6024,1469.5332921520317,1734.4719667204099,-36.130046934900001,144.758298803999]
[6025,460.43082036748069,6309.90289310345,-36.139224316799897,144.720049015]
[6026,1183.5036985683153,7860.9229639567748,-36.127917300900002,144.74846027500001]
[6027,264.93867456837813,264.93867456837813,-36.123653611899897,144.76542313100001]
[6028,418.0849630086567,2658.4342210432769,-36.125238155300003,144.735051865999]
[6029,340.51532905490791,3884.5300953883243,-36.114491983000001,144.739344491]
[6030,1794.6256878861625,1794.6256878861625,-36.354773924600003,144.92008818900001]
[6031,913.51567185240185,913.51567185240185,-36.3246699595,145.039401392]
[6032,1.7884015340604336E-4,1.7884015340604336E-4,-36.324616024199898,145.04936239700001]
[6033,599.14227532908546,599.14227532908546,-36.320979063800003,145.060476185]
[6034,393.13451994017873,393.13451994017873,-36.3196905349999,145.050425322]
[6035,479.10047064156441,479.10047064156441,-36.3167064010999,145.03641646899899]
[6036,521.04633541147018,521.04633541147018,-36.316446803300003,145.04903352700001]
[6037,873.10835827307324,873.10835827307324,-36.311124808000002,145.03497002]
[6038,510.65187032556082,510.65187032556082,-36.311640361000002,145.04058071399899]
[6039,242.33509180138344,242.33509180138344,-36.310917045899899,145.046032518]
[6040,549.38002288606265,549.38002288606265,-36.310992501199898,145.05822264099899]
[6041,836.11767988416625,836.11767988416625,-36.3052435269,145.050523803]
[6042,11.264512746482566,11.264512746482566,-36.299856888999898,145.04147651900001]
[6043,0,0,-36.257785731699897,144.936030547999]
[6044,712.44728781567142,712.44728781567142,-36.250852669799897,144.957294612]
[6045,631.0181437481865,631.0181437481865,-36.250068412399898,144.949808182]
[6046,2208.6424714724635,2208.6424714724635,-36.227940830199898,145.03834025200001]
[6047,1470.59897544515,1470.59897544515,-36.2001593423999,144.849288704999]
[6048,494.27939545563106,494.27939545563106,-36.366537701799899,144.69548560600001]
[6049,779.01724180040435,779.01724180040435,-36.360443208699898,144.71248812900001]
[6050,361.29579905239484,361.29579905239484,-36.359335828500001,144.70273845700001]
[6051,1004.1907141047204,1004.1907141047204,-36.355577389899899,144.697623061999]
[6052,476.17968846031465,476.17968846031465,-36.357777906700001,144.68875594100001]
[6053,560.40479412563275,560.40479412563275,-36.346268833499899,144.74243806499899]
[6054,1718.0553258554298,1718.0553258554298,-36.318025872200003,144.60570090300001]
[6055,673.44363773768021,673.44363773768021,-36.221055716999899,144.42331990900001]
[6056,1558.1009354161154,1558.1009354161154,-36.161770926000003,144.65332491300001]
[6057,1219.833977239444,1219.833977239444,-35.997007902599897,144.41825761300001]
[6058,566.43012528939926,566.43012528939926,-36.619711843200001,145.03171670200001]
[6059,2063.2409373895712,2063.2409373895712,-36.566539173899898,144.866611742999]
[6060,1114.1282982469186,1114.1282982469186,-36.586785671100003,145.014546846]
[6061,475.58254283815427,475.58254283815427,-36.607696441500003,144.658012025999]
[6062,879.72823576693054,879.72823576693054,-36.466241071399899,145.328233920999]
[6063,638.55965147576001,638.55965147576001,-36.4398669172,145.374114034]
[6064,8.0424752748692535E-4,8.0424752748692535E-4,-36.413038670500001,145.365091715999]
[6065,636.18687656782561,636.18687656782561,-36.4414513953,145.42415735200001]
[6066,1.8624760401287695E-5,1.8624760401287695E-5,-36.4285374643,145.39216697200001]
[6067,837.31174693984485,837.31174693984485,-36.423350063800001,145.400588747999]
[6068,24.284507037493846,24.284507037493846,-36.414876578300003,145.39352964]
[6069,759.53685249607054,759.53685249607054,-36.4155503576999,145.38318529099899]
[6070,1449.41592381634,1449.41592381634,-36.414030151799899,145.402144593999]
[6071,85.846454127952214,85.846454127952214,-36.415052711199898,145.421246674]
[6072,214.10077234756349,214.10077234756349,-36.3942392083,145.310265751999]
[6073,527.05773446484181,527.05773446484181,-36.399793075399899,145.33116916]
[6074,1823.8754165798441,1823.8754165798441,-36.399074464800002,145.34696075900001]
[6075,499.01892957316721,499.01892957316721,-36.407280467699898,145.397052602999]
[6076,63.074183846356121,63.074183846356121,-36.403446774099898,145.37767761999899]
[6077,735.62888353385642,735.62888353385642,-36.406215911099899,145.404489076999]
[6078,213.97903863172331,1276.4327909057117,-36.398221057000001,145.357192435]
[6079,639.93223705679759,639.93223705679759,-36.407004068699898,145.411104198999]
[6080,647.08850468248079,647.08850468248079,-36.400172696299897,145.388613905]
[6081,819.6472654892201,819.6472654892201,-36.4132495315,145.455082409]
[6082,1619.2989068764884,1619.2989068764884,-36.3906774238,145.34946117800001]
[6083,1558.2869837864928,1558.2869837864928,-36.400325085600002,145.40212063000001]
[6084,815.6314343476505,815.6314343476505,-36.402480562999898,145.411066664]
[6085,949.4041903243068,949.4041903243068,-36.390590183800001,145.359974107]
[6086,788.431549614559,788.431549614559,-36.396345904900002,145.39338502800001]
[6087,967.37604751474214,967.37604751474214,-36.3998793839,145.41496615099899]
[6088,1806.5318037381885,1806.5318037381885,-36.395550381600003,145.40331741099899]
[6089,464.87208292995058,464.87208292995058,-36.4008800533,145.42515082899899]
[6090,509.13445853467903,509.13445853467903,-36.396466146100003,145.412069476]
[6091,665.32160507920685,665.32160507920685,-36.3822401336,145.34827169600001]
[6092,924.35821288769762,924.35821288769762,-36.3828937534999,145.35617992300001]
[6093,1386.7185942026883,1386.7185942026883,-36.391190949799899,145.40491205500001]
[6094,546.6153576762905,546.6153576762905,-36.415775864799897,145.50330896400001]
[6095,698.22580059735969,698.22580059735969,-36.378155456499897,145.337634753999]
[6096,1223.9607054889045,1223.9607054889045,-36.392313323000003,145.418944998]
[6097,898.12803158839449,898.12803158839449,-36.3905741027,145.413335843]
[6098,358.22689331280469,358.22689331280469,-36.384741028100002,145.40067557699899]
[6099,1062.4537522739884,1276.4327909057117,-36.386788250899897,145.407572810999]
[6100,850.54021947217791,850.54021947217791,-36.374336743699899,145.346811691]
[6101,105.88757594854066,105.88757594854066,-36.386322409800002,145.421712926]
[6102,303.18667563551594,303.18667563551594,-36.3768547783,145.39500451500001]
[6103,14.215243337673337,14.215243337673337,-36.377216875099897,145.371902078999]
[6104,1105.9306724323064,1105.9306724323064,-36.3778981325,145.40458211800001]
[6105,96.14505711575454,96.14505711575454,-36.362431633200003,145.337856724999]
[6106,378.70134846426657,378.70134846426657,-36.377042787599898,145.424723427]
[6107,1420.7562256662268,1420.7562256662268,-36.369264362800003,145.39677640599899]
[6108,1378.4864881921681,1378.4864881921681,-36.3706841107999,145.40464023000001]
[6109,1279.6593134960397,1279.6593134960397,-36.371842881699898,145.411687597]
[6110,1168.602938584884,1168.602938584884,-36.380009197,145.45393013699899]
[6111,1410.3965981897659,1410.3965981897659,-36.3624216133,145.38243290700001]
[6112,2253.6577580358658,2253.6577580358658,-36.361925489800001,145.39716333800001]
[6113,590.0442813213981,590.0442813213981,-36.363325773900002,145.40483942200001]
[6114,1252.5595684960128,1252.5595684960128,-36.364922812499898,145.411179645]
[6115,223.08140922403612,223.08140922403612,-36.354058708700002,145.367598222]
[6116,1254.1530577509864,1254.1530577509864,-36.364781396600002,145.421655028]
[6117,1558.4800452054092,1558.4800452054092,-36.357015496099898,145.386018592]
[6118,172.05869950033622,172.05869950033622,-36.3711831472,145.475283835]
[6119,0,0,-36.350273763499899,145.384753039999]
[6120,2615.2768803718322,2615.2768803718322,-36.356119498299897,145.410743849]
[6121,19.610868547864339,19.610868547864339,-36.350045705900001,145.399519153]
[6122,7.386825057689971,7.386825057689971,-36.342095395900003,145.37337022700001]
[6123,115.78395028302258,115.78395028302258,-36.331240247300002,145.32092692200001]
[6124,89.663729695234565,89.663729695234565,-36.360401805099897,145.47555182900001]
[6125,286.55507805636222,286.55507805636222,-36.338867594100002,145.423899987]
[6126,538.82290914664793,538.82290914664793,-36.322170568300002,145.40612493699899]
[6127,2.0341451453367836E-2,2.0341451453367836E-2,-36.314059790400002,145.38092807199899]
[6128,43.742177040283835,43.742177040283835,-36.315635446899897,145.36019967300001]
[6129,541.92409456909786,541.92409456909786,-36.327851129899898,145.465251704]
[6130,1071.7923901643912,1071.7923901643912,-36.505644920599899,145.49178751100001]
[6131,1046.4475627932582,1046.4475627932582,-36.378227178800003,145.65903555200001]
[6132,2139.9913196084149,2139.9913196084149,-36.245977776899899,145.468911101]
[6133,311.01942912788184,311.01942912788184,-36.625905516800003,145.177664695]
[6134,833.60609184650423,833.60609184650423,-36.615183113699899,145.215874845999]
[6135,996.93151442013686,996.93151442013686,-36.544409440800003,145.246441387999]
[6136,617.69217339911097,617.69217339911097,-36.450512815300002,145.22586227100001]
[6137,512.2795289961665,512.2795289961665,-36.446138665900001,145.230538924999]
[6138,516.10873580382565,516.10873580382565,-36.4416286197999,145.22754551899899]
[6139,662.96121727088666,662.96121727088666,-36.4427974448,145.24257272400001]
[6140,616.51744706455031,616.51744706455031,-36.4361070394,145.22268383100001]
[6141,1003.3216470076316,1003.3216470076316,-36.432640112000001,145.236123448]
[6142,1999.397152890773,1999.397152890773,-36.420212130700001,145.118683473999]
[6143,717.77692949553,717.77692949553,-36.4050748752,145.254165965]
[6144,1097.6346940394758,1097.6346940394758,-36.2651814833999,145.22155679900001]
[6145,89.043908650263234,89.043908650263234,-37.196119356899899,145.998143881999]
[6146,341.73712896053161,341.73712896053161,-37.184271240400001,146.06461147600001]
[6147,309.11930440400062,309.11930440400062,-37.292199743700003,146.159729959]
[6148,2644.9372338854014,2644.9372338854014,-36.987892663700002,145.96416014299899]
[6149,1427.8165578644055,1427.8165578644055,-37.049395175500003,146.080938325999]
[6150,980.34766284920738,980.34766284920738,-37.0574322342,146.103223931999]
[6151,1538.3767627302441,1538.3767627302441,-37.119310783400003,146.173798398999]
[6152,254.92996206501337,254.92996206501337,-37.315365468099898,146.35565816100001]
[6153,3.7549528246912452E-3,3.7549528246912452E-3,-36.867280549199897,146.001172435999]
[6154,459.69915943426099,459.69915943426099,-37.109323087500002,146.357347022]
[6155,1061.2992454111454,1061.2992454111454,-37.126852792999898,144.89265071200001]
[6156,870.39833936133687,870.39833936133687,-37.070909538599899,145.26215445899899]
[6157,503.25455477661905,503.25455477661905,-37.0386131218999,145.14861545400001]
[6158,1848.9393966979701,1848.9393966979701,-37.056138549099899,145.08650679799899]
[6159,770.36812177188017,770.36812177188017,-37.0333006267999,145.14788972900001]
[6160,548.86645071585428,548.86645071585428,-37.0312114315999,145.14042098600001]
[6161,588.20117292664236,588.20117292664236,-37.028825775900003,145.134370781999]
[6162,871.22678018240947,871.22678018240947,-37.0310873602999,145.153492973]
[6163,655.40421064003874,655.40421064003874,-37.027208056699898,145.146348913]
[6164,790.43593936163768,790.43593936163768,-37.020723900999897,145.135073944]
[6165,693.0636467109465,693.0636467109465,-37.021233582299899,145.152079090999]
[6166,779.62081683502447,779.62081683502447,-37.013696783900002,145.14914761099899]
[6167,2282.1251384432458,2282.1251384432458,-36.988181672099898,144.839095052999]
[6168,691.51497192352599,691.51497192352599,-36.974948028699899,145.211278276]
[6169,156.09930929434765,156.09930929434765,-37.463713828300001,144.910307794]
[6170,816.58103401384744,816.58103401384744,-37.420882313600003,144.974239350999]
[6171,261.96999577606084,883.62450150582345,-37.424375830199899,145.003885387]
[6172,462.7570274726815,462.7570274726815,-37.418834437100003,144.98712558]
[6173,420.7267504390997,420.7267504390997,-37.415972441199898,144.97553584400001]
[6174,491.62632085867409,491.62632085867409,-37.415351810600001,144.98870439800001]
[6175,457.14054957973781,457.14054957973781,-37.414074743299899,144.965242722]
[6176,32.113497804458561,32.113497804458561,-37.414520352099899,144.979871763999]
[6177,408.47123423981355,408.47123423981355,-37.4093582600999,144.971903201999]
[6178,738.47094120328393,738.47094120328393,-37.407862134299897,144.98649283]
[6179,588.43823021758976,588.43823021758976,-37.4066734122,144.976584446]
[6180,444.63176250955115,444.63176250955115,-37.399573601199897,144.959848080999]
[6181,1365.9486552418857,1365.9486552418857,-37.411480038199898,145.052179163999]
[6182,799.31921687936028,799.31921687936028,-37.397493327200003,144.969551827999]
[6183,341.77397391326338,341.77397391326338,-37.397937517800003,145.010885126999]
[6184,616.54861174995938,616.54861174995938,-37.390386547600002,144.990407683999]
[6185,370.55585805110434,370.55585805110434,-37.385553354099898,144.94418533300001]
[6186,720.63233091252016,720.63233091252016,-37.3710093860999,145.036170771]
[6187,445.83754772466483,445.83754772466483,-37.366398636600003,145.00715232300001]
[6188,621.6545057297626,883.62450150582345,-37.363514046299898,145.033276785]
[6189,10.750339494502445,10.750339494502445,-37.3648295164,145.183583755]
[6190,668.70789254769693,668.70789254769693,-37.317900389999899,144.94628246299899]
[6191,218.24021526110536,218.24021526110536,-37.329937922100001,144.942661098]
[6192,178.6244796290483,178.6244796290483,-37.314962006899897,144.96075943599899]
[6193,1175.3880658978155,1175.3880658978155,-37.318303080600003,145.049115298999]
[6194,149.23739308296743,149.23739308296743,-37.3114322367,144.954479754]
[6195,8.0371982127376942,8.0371982127376942,-37.308303960099899,144.950025396999]
[6196,754.93108349007116,754.93108349007116,-37.307966453900001,144.961959369]
[6197,430.53461252345363,430.53461252345363,-37.306056925900002,144.94639334300001]
[6198,390.57100638928932,390.57100638928932,-37.3030735428,144.952295738]
[6199,318.08447441631722,318.08447441631722,-37.302413386300003,144.96105087999899]
[6200,575.31331954194127,575.31331954194127,-37.295922906800001,144.94435182000001]
[6201,921.59583282833182,921.59583282833182,-37.295249611700001,144.96116521900001]
[6202,278.70568470997898,278.70568470997898,-37.294818791200001,144.88142637300001]
[6203,476.90911542107892,476.90911542107892,-37.291319010800002,144.946308085]
[6204,156.31043482101592,156.31043482101592,-37.290000386899898,144.93442225000001]
[6205,195.76042681064786,195.76042681064786,-37.2807937388,144.966855141]
[6206,199.35719406804816,199.35719406804816,-37.277493900899898,144.956942768999]
[6207,735.52513475374963,735.52513475374963,-37.251328618199899,145.05913990600001]
[6208,553.27489576873188,553.27489576873188,-37.237427681200003,144.90041948499899]
[6209,200.17839882209088,200.17839882209088,-37.2216098257,145.05660154200001]
[6210,172.99587783013982,172.99587783013982,-37.219718336,145.04041158800001]
[6211,577.42080084109148,577.42080084109148,-37.209186768899897,145.033779487999]
[6212,515.98102146321071,515.98102146321071,-37.211827871799898,145.059749635999]
[6213,755.72636193404492,755.72636193404492,-37.208211355099898,145.04930537499899]
[6214,528.53276831485675,528.53276831485675,-37.1967728861,145.11471697900001]
[6215,109.40715895990787,109.40715895990787,-37.2047948766999,145.045969689]
[6216,572.6071077837646,572.6071077837646,-37.202825047200001,145.044285613]
[6217,507.05833651427406,507.05833651427406,-37.201922813899898,145.05841261500001]
[6218,1693.7897648091143,1693.7897648091143,-36.1481693437999,145.80480683100001]
[6219,1022.0249439866569,1022.0249439866569,-36.141934632599899,146.06570196800001]
[6220,0,0,-36.032458025700002,145.99805301800001]
[6221,1268.0385237113669,1268.0385237113669,-36.022476215700003,146.00117159000001]
[6222,544.87768224587057,544.87768224587057,-36.017276227000004,145.98325848600001]
[6223,491.73141287663611,491.73141287663611,-36.023346097000001,146.008304108]
[6224,0,0,-36.020206316900001,146.010664182]
[6225,680.0792859638434,680.0792859638434,-36.014981013000003,146.00059286800001]
[6226,754.26201225522038,754.26201225522038,-36.012906770000001,146.006180454]
[6227,930.89876213536161,930.89876213536161,-36.012158036800002,146.017062928999]
[6228,875.04389212087244,875.04389212087244,-36.011403069099899,146.010878789]
[6229,626.96783613194998,626.96783613194998,-36.006133140899898,146.025706966]
[6230,778.931971932696,778.931971932696,-36.010493226500003,146.052486415]
[6231,2.8045056715516408,2.8045056715516408,-36.001569731700002,146.023914082999]
[6232,586.03632646481094,586.03632646481094,-36.029839097299899,146.168629254]
[6233,1237.8381115343016,1237.8381115343016,-36.122654562599898,145.237368648]
[6234,692.91760804593298,692.91760804593298,-36.098165074900002,145.44701038700001]
[6235,47.319222158532739,47.319222158532739,-36.094910626400001,145.434655499999]
[6236,403.77233142768949,403.77233142768949,-36.0583194077999,145.21000073600001]
[6237,564.26188995372797,564.26188995372797,-36.088254777700001,145.435060924]
[6238,631.47514368837892,631.47514368837892,-36.058484450599899,145.199959194999]
[6239,25.389965734469055,25.389965734469055,-36.053332166399898,145.21309109800001]
[6240,722.07119546151989,722.07119546151989,-36.0894733157999,145.452026407999]
[6241,984.77480978067831,984.77480978067831,-36.0857931209,145.44381440800001]
[6242,336.52995695206715,336.52995695206715,-36.052331039599899,145.20486339000001]
[6243,754.05272020538541,754.05272020538541,-36.080779143900003,145.44445454300001]
[6244,181.39431175048063,181.39431175048063,-36.082173338399897,145.45322545900001]
[6245,2170.4921630272233,2170.4921630272233,-36.043351727400001,145.630924451]
[6246,3873.5790987020314,3873.5790987020314,-35.9614389977,145.23645640800001]
[6247,1704.5266872797483,1704.5266872797483,-35.926934089,145.650638708]
[6248,682.29541270303412,682.29541270303412,-35.9224306347,145.665683164999]
[6249,311.82970273552019,311.82970273552019,-35.914781636599898,145.6392261]
[6250,1182.1658676584257,1182.1658676584257,-35.916784083400003,145.650874663]
[6251,1335.220008893162,1335.220008893162,-35.910324813899898,145.65790212900001]
[6252,1515.574549909529,1515.574549909529,-35.883667447199898,145.522979343999]
[6253,16.026230554039085,16.026230554039085,-35.894359872400003,145.618241412]
[6254,655.34787523004047,655.34787523004047,-37.473791648199899,145.638214715]
[6255,680.21041570319585,680.21041570319585,-37.520280886199899,145.740676253999]
[6256,280.49380546392723,280.49380546392723,-37.423759559799898,145.900333880999]
[6257,1084.7502037912661,1084.7502037912661,-37.252671955399897,145.74481315899899]
[6258,1791.2671178155588,1791.2671178155588,-37.193904735099899,145.709487551]
[6259,232.25056423394693,232.25056423394693,-37.231443379799899,145.887540941]
[6260,579.19804606754224,579.19804606754224,-37.232776123100003,145.90627443400001]
[6261,634.59128099849443,634.59128099849443,-37.094393109499897,145.66888591399899]
[6262,53.396691809899949,53.396691809899949,-37.210638973099897,145.89268263700001]
[6263,267.44344232684108,267.44344232684108,-37.200763545599898,145.883953746]
[6264,10.491880048379196,10.491880048379196,-37.228928855100001,145.92169468399899]
[6265,4.8923924895091558E-4,4.8923924895091558E-4,-37.187571355800003,145.88028574699899]
[6266,685.48639743461592,685.48639743461592,-37.4678668026,145.256096939999]
[6267,1263.6159701344532,1263.6159701344532,-37.531629323399898,145.34989705999899]
[6268,502.67908128136645,502.67908128136645,-37.516025364000001,145.34462583600001]
[6269,988.49462011033654,988.49462011033654,-37.528454424499898,145.44283050600001]
[6270,948.47895531461995,948.47895531461995,-37.448309686999899,145.325484284]
[6271,395.49936976123519,395.49936976123519,-37.3886429334,145.28302846400001]
[6272,704.22719021784064,704.22719021784064,-37.3142454714,145.375997974]
[6273,598.42176810855381,598.42176810855381,-37.372826957999898,145.514475132]
[6274,328.23887736298093,328.23887736298093,-37.2200892866,145.25635778700001]
[6275,452.67053440189761,452.67053440189761,-37.2186258885,145.41650823200001]
[6276,413.18818338228374,413.18818338228374,-37.214311542200001,145.42704564100001]
[6277,608.2318498029598,608.2318498029598,-37.1107517806999,145.460152763]
[6278,800.71420749300523,800.71420749300523,-36.901155249699897,145.23120969799899]
[6279,1420.4202078741196,1420.4202078741196,-36.787552575699898,145.154870638999]
[6280,1301.6162124013072,1301.6162124013072,-36.821414837100001,145.337142586]
[6281,817.6465882211578,817.6465882211578,-36.776629530900003,145.00652493300001]
[6282,662.09355654432682,662.09355654432682,-36.758853274099899,145.568119521]
[6283,619.31282371386658,619.31282371386658,-36.7606223258,145.579887665999]
[6284,537.31855382504182,537.31855382504182,-36.752373393100001,145.57094199100001]
[6285,333.69675342581439,333.69675342581439,-36.746172376600001,145.566848612999]
[6286,513.29641372647973,513.29641372647973,-36.747565732799899,145.578733048]
[6287,1246.4243977511687,1246.4243977511687,-36.818188242799899,145.69028949099899]
[6288,1796.9981143134723,1796.9981143134723,-36.6168348984,145.61675762900001]
[6289,0.47584071849116133,0.47584071849116133,-37.508265665000003,145.88011575900001]
[6290,289.11991045693253,289.11991045693253,-37.131325884299898,146.467618493999]
[6291,958.66420824442901,958.66420824442901,-38.455577857400002,145.20399011999899]
[6292,1242.9340702931447,1242.9340702931447,-38.465883567699898,145.180096306]
[6293,1314.2080085276241,1314.2080085276241,-38.456699372300001,145.220110812999]
[6294,125.95163688360211,125.95163688360211,-38.451942938999899,145.23902100500001]
[6295,1157.5130215647318,1157.5130215647318,-38.455088170000003,145.233161956999]
[6296,905.32103081226228,905.32103081226228,-38.453789468300002,145.24532666299899]
[6297,0,0,-38.453958682500001,145.25392203800001]
[6298,795.5604348958741,795.5604348958741,-38.452675095899899,145.262870443]
[6299,643.11192560355994,643.11192560355994,-38.4606737517,145.242801321999]
[6300,0,0,-38.4579224412999,145.250744723]
[6301,581.47137310466792,581.47137310466792,-38.4743406925,145.256737337999]
[6302,148.07679088336695,148.07679088336695,-38.495030745100003,145.191069785]
[6303,584.919251074003,584.919251074003,-38.464573450000003,145.302853392999]
[6304,665.03957273222636,665.03957273222636,-38.500661168699899,145.25516425999899]
[6305,474.43085473152291,474.43085473152291,-38.493056289099897,145.27790700400001]
[6306,1228.1530585609639,1228.1530585609639,-38.512977796599898,145.316640487999]
[6307,441.11712553290232,441.11712553290232,-38.513379262800001,145.35722950300001]
[6308,2181.62835786408,2181.62835786408,-38.5429085602999,145.344106826999]
[6309,53.540367085273267,53.540367085273267,-38.323741585999898,145.51886051100001]
[6310,538.40660210034264,538.40660210034264,-38.414549352400002,145.43114208399899]
[6311,926.91321779588634,926.91321779588634,-38.434965316300001,145.43984399300001]
[6312,476.05703333132334,476.05703333132334,-38.386595647999897,145.54460472700001]
[6313,313.7718244543932,313.7718244543932,-38.4094517479,145.535655461]
[6314,355.16182870444766,355.16182870444766,-38.523222905300003,145.369078734]
[6315,659.37579819111443,659.37579819111443,-38.526925237900002,145.37952395299899]
[6316,1177.7631337903529,1177.7631337903529,-38.427109353299898,145.61564000499899]
[6317,1794.3997504913896,1794.3997504913896,-38.505942011899897,145.509436558]
[6318,542.91414559915415,542.91414559915415,-38.587385099599899,145.58590661400001]
[6319,630.59317811988251,630.59317811988251,-38.593279028799898,145.597281901]
[6320,645.88248205323487,645.88248205323487,-38.592457281199898,145.605086986999]
[6321,749.27835789494065,749.27835789494065,-38.606678157300003,145.575978711]
[6322,741.22112582724003,741.22112582724003,-38.600121003600002,145.59063981700001]
[6323,722.7758984341051,722.7758984341051,-38.612320425900002,145.587293337999]
[6324,501.65043187533502,501.65043187533502,-38.620360442200003,145.58967433999899]
[6325,671.00874413777774,671.00874413777774,-38.615376691000002,145.613141856]
[6326,796.3086795620851,796.3086795620851,-38.6007227290999,145.686864662]
[6327,1272.7083919600936,1272.7083919600936,-38.6704194852,145.613102226]
[6328,743.53388101712255,743.53388101712255,-38.6328506017,145.71035625900001]
[6329,469.36688006878188,469.36688006878188,-38.6295913587999,145.723180517999]
[6330,1017.6398999341905,1017.6398999341905,-38.643531896699898,145.705627529]
[6331,824.43103388099837,824.43103388099837,-38.629283727900003,145.731923335]
[6332,832.40318309358474,832.40318309358474,-38.635659137399898,145.72141263500001]
[6333,728.92577721428836,728.92577721428836,-38.6303378884,145.743686158]
[6334,750.00260335981284,4619.7750155751073,-38.2029086926999,146.15664832799899]
[6335,1702.3137972576249,1702.3137972576249,-38.212667209899898,146.15875336400001]
[6336,1328.4196725486872,1328.4196725486872,-38.1334288551,146.20307191200001]
[6337,372.61142233062935,372.61142233062935,-38.235611893700003,146.215669921]
[6338,230.51532484800052,230.51532484800052,-37.984323330400002,146.382196709]
[6339,92.28093517250484,92.28093517250484,-38.070899882900001,146.37817687699899]
[6340,1394.5703695856366,1394.5703695856366,-38.0834091575,146.10386778200001]
[6341,775.46098937788133,775.46098937788133,-38.2079130097,146.06195217600001]
[6342,1468.0762586529993,1468.0762586529993,-38.2795581017999,146.11661590899899]
[6343,763.53918533730518,763.53918533730518,-37.9472572877999,146.25343893900001]
[6344,336.28574867296999,336.28574867296999,-37.790099662499898,146.362163412]
[6345,556.47765599073148,5624.3756466201849,-38.111622234099897,145.769684740999]
[6346,3610.22853947057,3610.22853947057,-38.0349061951,145.851365225]
[6347,713.33743575499454,713.33743575499454,-38.107682442300003,145.84046243500001]
[6348,741.99976867179441,741.99976867179441,-38.126350283199898,145.83446047199899]
[6349,511.34446121613581,511.34446121613581,-38.113179463900003,145.855024947999]
[6350,749.62192126887805,749.62192126887805,-38.127582650999898,145.85064324300001]
[6351,630.14809579501252,630.14809579501252,-38.122607358700002,145.85529975700001]
[6352,788.46068056888953,2849.4385243321067,-38.134371110899899,145.847897703999]
[6353,653.15804013542026,653.15804013542026,-38.145491153400002,145.84616178799899]
[6354,2176.9593984812732,2176.9593984812732,-37.880982950499899,145.95658857500001]
[6355,482.74954428336866,3931.4798404751409,-38.1308777725,145.85956421500001]
[6356,132.58507630486531,6037.2036831895348,-38.135098303200003,145.85642608200001]
[6357,618.86431927128831,2679.8421630345056,-38.143605689700003,145.85789743999899]
[6358,768.9461922983354,768.9461922983354,-38.1292920815999,145.868510001]
[6359,560.06162083183358,560.06162083183358,-38.138647218099898,145.86776642800001]
[6360,679.78454749261277,679.78454749261277,-38.018606558199899,145.955564807999]
[6361,4508.5143941587557,4508.5143941587557,-38.225471519000003,145.86502295099899]
[6362,1012.6832766601433,1012.6832766601433,-38.157993186900001,145.91072118700001]
[6363,103.24429746661305,103.24429746661305,-38.145604403900002,145.923261658]
[6364,2982.3988829228865,2982.3988829228865,-38.085584775000001,145.978328723999]
[6365,555.83664198194356,555.83664198194356,-38.1665788319999,145.915102391]
[6366,1402.7048875756007,1402.7048875756007,-38.155638303700002,145.924597726]
[6367,772.73717810150436,772.73717810150436,-38.146263732199898,145.930045052]
[6368,1106.5477311743985,1106.5477311743985,-38.143963482799897,145.938067934]
[6369,728.32366242855562,1343.6582830167895,-38.155870788400001,145.932959119999]
[6370,754.15835945817707,754.15835945817707,-38.150432526300001,145.937335442999]
[6371,783.62357098166149,783.62357098166149,-38.174847757099897,145.92880834100001]
[6372,505.64872482096956,505.64872482096956,-38.144519213800002,145.947478375999]
[6373,86.925912721896054,86.925912721896054,-38.168545779299897,145.933612538999]
[6374,610.84824493890721,610.84824493890721,-38.155658760900003,145.94135017400001]
[6375,434.63633896894328,434.63633896894328,-38.1498894964,145.94614902199899]
[6376,1169.5357523164951,1784.870372904729,-38.160822324800002,145.94328570600001]
[6377,334.96443545599061,950.29905604422459,-38.163744746100001,145.94402771200001]
[6378,864.80143515301131,864.80143515301131,-38.157666477100001,145.951047854]
[6379,477.90078076160341,477.90078076160341,-38.174806182300003,145.94482844999899]
[6380,126.07060369074863,126.07060369074863,-38.153335048300001,145.958495107]
[6381,526.53148074690841,526.53148074690841,-38.184050444599897,145.941546950999]
[6382,232.94474383148011,232.94474383148011,-38.1768346307,145.969599055]
[6383,354.67328364456586,354.67328364456586,-38.191257757700001,146.005330155]
[6384,1594.2721726568252,1594.2721726568252,-38.181865439699898,146.246262035999]
[6385,43.309458073749099,43.309458073749099,-38.1601080846999,146.259865494]
[6386,2410.5364527823299,2410.5364527823299,-38.190515165599898,146.247411304]
[6387,102.27265771776513,1668.6322504407171,-38.175376103200001,146.25710874800001]
[6388,2196.2933188235947,7045.1848528768905,-38.170290513600001,146.26729672100001]
[6389,1445.9631458067122,4110.5299361162952,-38.181579696,146.26150328099899]
[6390,2011.9553249371502,2011.9553249371502,-38.189754784000002,146.263272269]
[6391,743.44517355395249,743.44517355395249,-38.208933844999898,146.25501994800001]
[6392,1740.2237671768248,1740.2237671768248,-38.180157374799897,146.280181618]
[6393,1538.5003067661626,1538.5003067661626,-38.1755188656999,146.28924598200001]
[6394,2707.7372373085882,2707.7372373085882,-38.188077352999898,146.29360849700001]
[6395,1239.3610380308921,1239.3610380308921,-38.176400080599898,146.305704811]
[6396,428.67732933214063,428.67732933214063,-38.139890759499899,146.330951427]
[6397,449.60092539176321,449.60092539176321,-38.187856446399898,146.327765107999]
[6398,1275.1170720555292,1275.1170720555292,-38.157108313199899,146.35970054200001]
[6399,2390.3510114340561,2390.3510114340561,-38.2979109131999,146.319760207999]
[6400,49.317819622408663,4315.6798333042334,-38.218356324299897,146.381906942999]
[6401,31.350192553029192,77.57185093995615,-38.2323140604,146.385997866]
[6402,509.36293682687443,2751.8779140373963,-38.236775717299899,146.38763334199899]
[6403,322.87824828906469,322.87824828906469,-38.178758176300001,146.41800900000001]
[6404,641.79587987350862,6354.1210393620458,-38.233128563500003,146.39226628399899]
[6405,686.51840644135905,686.51840644135905,-38.240187741,146.391522444999]
[6406,588.84426075975728,2831.3592379702791,-38.229913992100002,146.394833256]
[6407,18.701096893475782,64.92275528040274,-38.238000776500002,146.396386874]
[6408,125.24328986722195,12625.653469508303,-38.2359832952,146.398445358]
[6409,692.3679072820496,692.3679072820496,-38.216979496599897,146.40765756299899]
[6410,579.88786450546854,626.10952289239549,-38.234873862100002,146.402722823]
[6411,409.34602346676417,455.56768185369111,-38.231447138999897,146.40313376700001]
[6412,708.90347026570669,755.12512865263363,-38.2411457892999,146.40109323799899]
[6413,421.26463022537104,467.48628861229798,-38.237105936299898,146.407689783]
[6414,795.94113029368634,795.94113029368634,-38.233003305099899,146.411610782]
[6415,10.604359366117492,10.604359366117492,-38.2141902852999,146.421943032]
[6416,802.57154743714068,802.57154743714068,-38.226801341799899,146.418231066]
[6417,1012.6447786098252,1012.6447786098252,-38.223092695799899,146.42024145100001]
[6418,974.76383427686244,974.76383427686244,-38.218804231699899,146.421442197999]
[6419,824.03512209385474,824.03512209385474,-38.230249890499898,146.417722841]
[6420,507.32545847252788,507.32545847252788,-38.239032551999898,146.41376935]
[6421,736.60437516724255,736.60437516724255,-38.235857830999898,146.41846454]
[6422,260.0433454055925,260.0433454055925,-38.225525341800001,146.42580017]
[6423,652.10184239793693,652.10184239793693,-38.220992291199899,146.428431633999]
[6424,746.9511034859562,746.9511034859562,-38.231397863200002,146.42555249399899]
[6425,568.9808242658487,568.9808242658487,-38.223460540399898,146.43127012900001]
[6426,343.40803301230841,343.40803301230841,-38.221593411800001,146.43766513700001]
[6427,1063.1248836516681,1063.1248836516681,-38.2306588995,146.43248449000001]
[6428,684.88530200995808,684.88530200995808,-38.225879133100001,146.43656697]
[6429,1.1527470525226138E-3,1.1527470525226138E-3,-38.231799590500003,146.43723314900001]
[6430,0,0,-38.224294035500002,146.44162518300001]
[6431,1.8414287339749961E-6,2661.7536459550333,-38.311899795999899,146.407822877999]
[6432,382.85906949900078,2661.7536441136044,-38.301493449299898,146.415736321]
[6433,808.10619102331168,2661.7536441136044,-38.306249732600001,146.41564830600001]
[6434,759.03534055808461,3420.7889865131178,-38.315103508599897,146.412319478]
[6435,1097.8494351176485,2661.7536441136044,-38.310047450900001,146.414649715]
[6436,311.60987816386853,4899.1175037459143,-38.315079644999898,146.41775084099899]
[6437,191.78675177121156,3612.5757382843294,-38.320289965900002,146.41535686]
[6438,1.904877650322707,2622.1278067816334,-38.305606252799898,146.42475580000001]
[6439,50.368061145686944,3575.1429991979558,-38.314386681199899,146.42331698300001]
[6440,368.87351875857104,2064.532621737852,-38.299862999200002,146.42907034300001]
[6441,515.86831352464674,3357.9993025897261,-38.321028717799898,146.421315765]
[6442,2.160552064749564,2213.6879685686772,-38.3115853563,146.430225350999]
[6443,408.69551262738287,2840.2261114147568,-38.3245392352,146.427243567]
[6444,1294.542044751737,1294.542044751737,-38.341998755500001,146.43545061500001]
[6445,301.96952764148023,301.96952764148023,-38.192141328399899,146.49452936]
[6446,536.20006180706389,536.20006180706389,-38.2065610703999,146.48969026399899]
[6447,1620.3655553020717,1620.3655553020717,-38.086034558900003,146.540389347]
[6448,1425.9648861878691,1425.9648861878691,-38.1868183813,146.512016324]
[6449,1200.7482985224751,1200.7482985224751,-38.193602779800003,146.50982226400001]
[6450,342.0666407900809,342.0666407900809,-38.180386266699898,146.51573940200001]
[6451,908.70413305694603,908.70413305694603,-38.220465689999898,146.498644329999]
[6452,517.53434665162251,517.53434665162251,-38.200528550599898,146.513567921999]
[6453,1075.7698100774583,1075.7698100774583,-38.187752573200001,146.52012074800001]
[6454,653.07995789384267,653.07995789384267,-38.1932684201999,146.51887032100001]
[6455,672.13331440166064,672.13331440166064,-38.1989953466,146.51772655600001]
[6456,1018.1799971775147,1018.1799971775147,-38.208214355000003,146.516646888]
[6457,569.93995601775271,569.93995601775271,-38.198425759099898,146.521906718]
[6458,302.18274527752533,302.18274527752533,-38.183629940499898,146.53077807400001]
[6459,1268.4188010482928,1268.4188010482928,-38.189832304500001,146.52922245100001]
[6460,967.96843138397571,1093.2117212511976,-38.195025015399899,146.528412062999]
[6461,681.89382720651145,807.13711707373341,-38.1995189501,146.527294673]
[6462,1052.050382110609,1052.050382110609,-38.203755293999897,146.52768240200001]
[6463,211.99051784353676,211.99051784353676,-38.209999017599898,146.52677743300001]
[6464,16.337181556156391,16.337181556156391,-38.182674008699898,146.538372982]
[6465,469.60401686709423,594.84730673431613,-38.190520207699898,146.539253062]
[6466,46.221658386926954,1960.7858453366978,-38.1958872437,146.53789934]
[6467,145.09184613410727,270.3351360013292,-38.2041362565,146.535377178]
[6468,612.34757121500354,612.34757121500354,-38.1819376053,146.54599835600001]
[6469,906.64768412847491,906.64768412847491,-38.135522115199898,146.558652846999]
[6470,993.94995205300711,993.94995205300711,-38.186999321199899,146.54626815699899]
[6471,563.95214286231828,689.19543272954024,-38.203097684500001,146.541872498999]
[6472,705.08923348350902,705.08923348350902,-38.191006603399899,146.54826821699899]
[6473,454.16693510949051,579.41022497671247,-38.1943601284,146.54830289399899]
[6474,536.12394163239924,661.3672314996212,-38.198933533400002,146.548245119]
[6475,533.11154106378035,533.11154106378035,-38.184771474100003,146.557194068]
[6476,613.70025068945256,613.70025068945256,-38.187906081400001,146.55524763400001]
[6477,12.188225548945098,12.188225548945098,-38.192041991300002,146.556981648]
[6478,2078.5181386306008,2078.5181386306008,-38.205852272999898,146.55297942300001]
[6479,1104.5677425758065,1104.5677425758065,-38.196779259400003,146.557230207]
[6480,666.90924039192782,666.90924039192782,-38.201154473499898,146.556180350999]
[6481,451.63304478213405,451.63304478213405,-38.211219067599899,146.551569599999]
[6482,86.353673939683773,86.353673939683773,-38.175327637300001,146.57148842800001]
[6483,7.0016492383527398,7.0016492383527398,-38.185901441799899,146.567299233]
[6484,318.96155636755788,318.96155636755788,-38.196265107999899,146.56492269500001]
[6485,576.48193287509685,576.48193287509685,-38.194091577999899,146.572991629999]
[6486,196.08754801294458,196.08754801294458,-38.199490861900003,146.57826458400001]
[6487,89.076246681001862,89.076246681001862,-38.191085060600003,146.584607433]
[6488,100.35697241638927,100.35697241638927,-38.180024088000003,146.591302622999]
[6489,314.47014403788404,314.47014403788404,-38.299721717099899,146.542416801999]
[6490,555.82256298846505,555.82256298846505,-38.059225091999899,146.63386100400001]
[6491,84.019790860232902,84.019790860232902,-38.195833079499899,146.597274548999]
[6492,93.614393936386364,93.614393936386364,-38.264328355000004,146.585188063]
[6493,185.56172677692439,185.56172677692439,-38.188955013799898,146.635016097999]
[6494,1181.4194702303434,1181.4194702303434,-38.4153492489,146.326921255999]
[6495,180.0454218823719,180.0454218823719,-38.3924226773999,146.52673900299899]
[6496,1441.2576329700578,1441.2576329700578,-38.346258736899898,146.57440176200001]
[6497,800.42548338758763,800.42548338758763,-38.514372606599899,145.89432611800001]
[6498,964.19096950567587,964.19096950567587,-38.475166012499898,145.942706765]
[6499,414.43308127956868,414.43308127956868,-38.480560086300002,145.93707221700001]
[6500,1118.4604638253027,1118.4604638253027,-38.469725829600002,145.956067991]
[6501,693.64663766335241,693.64663766335241,-38.4864959274,145.95109871]
[6502,630.47134868902128,630.47134868902128,-38.479288496700001,145.95642585799899]
[6503,303.28278680451137,303.28278680451137,-38.485700743099898,145.95989199799899]
[6504,1389.9911396379241,1389.9911396379241,-38.388785532999897,146.06052631]
[6505,105.15713056298586,105.15713056298586,-38.547880216499898,145.940530193999]
[6506,1925.8037415321005,1925.8037415321005,-38.676206054399898,145.79033160700001]
[6507,468.11552201624573,468.11552201624573,-38.396173187999899,146.15204394400001]
[6508,885.00147743014077,885.00147743014077,-38.399090251200001,146.172748305]
[6509,1803.1035198577438,1803.1035198577438,-38.4977313829,146.12389925100001]
[6510,356.46432316137293,356.46432316137293,-38.578983720099899,146.016006221]
[6512,1184.4984972294685,1184.4984972294685,-38.696032664500002,145.924724626]
[6513,367.97663375444495,367.97663375444495,-38.837468535200003,145.993675405999]
[6514,13.14202263408732,13.14202263408732,-38.589094947,146.041560213]
[6514,13.14202263408732,13.14202263408732,-38.584362205799899,146.04119476100001]
[6515,1233.6023073909798,1233.6023073909798,-38.6096416371999,146.173936379]
[6516,402.6880732688785,402.6880732688785,-38.648745947499897,146.204455239]
[6517,13.161005363698186,13.161005363698186,-38.652577859700003,146.202030788]
[6518,634.4462396055319,634.4462396055319,-38.657551208500003,146.203200813]
[6519,1595.307518820958,1595.307518820958,-38.7623870408,146.122929844]
[6520,973.2763300014027,973.2763300014027,-38.844689515500001,146.15115372]
[6521,2207.0873426501444,2207.0873426501444,-38.651721965,146.378247515]
[6522,16.912086855411662,16.912086855411662,-38.959044507599899,146.36822833400001]
[6523,601.17143750584592,601.17143750584592,-38.3339271319999,145.673000516999]
[6524,1128.8135860609484,1128.8135860609484,-38.3074693672,145.68456812100001]
[6525,235.14685782216227,235.14685782216227,-38.340675543700002,145.76279562600001]
[6526,1640.4383994538057,1640.4383994538057,-38.387398656899897,145.784904259]
[6527,622.11528767855157,622.11528767855157,-38.430576368499899,145.813903947]
[6528,45.05836331687081,45.05836331687081,-38.516989478200003,145.706537080999]
[6529,518.6300424451415,518.6300424451415,-38.442655181900001,145.810435208]
[6530,64.180972767501871,64.180972767501871,-38.431596048300001,145.82262066000001]
[6531,489.23652829072256,489.23652829072256,-38.4292457289,145.828096418]
[6532,615.77172930593383,615.77172930593383,-38.438867581899899,145.82150652499899]
[6533,658.16953996349355,658.16953996349355,-38.439843534200001,145.834204497999]
[6534,1127.8180098539199,1127.8180098539199,-38.484439325099899,145.78067557099899]
[6535,17.117854883339767,17.117854883339767,-38.349931218199899,145.364920845]
[6536,14.429827315116871,14.429827315116871,-37.841461345900001,146.258015269]
[6537,404.69405812287624,404.69405812287624,-37.7331732313,145.749315263]
[6538,22.920252716522022,22.920252716522022,-37.707962668599897,145.775318881]
[6539,91.149690994155179,91.149690994155179,-37.700189914100001,145.841841843]
[6540,107.5840704611583,107.5840704611583,-37.6365977464,145.99242377300001]
[6541,991.88127502919167,991.88127502919167,-37.132725089600001,147.09507859600001]
[6542,900.42107476084379,900.42107476084379,-36.755421995200003,146.845419115]
[6543,482.51210868067818,482.51210868067818,-36.926619981000002,147.076064645999]
[6544,1.5799278783895623E-3,1.5799278783895623E-3,-36.641572509100001,146.842614591]
[6545,506.12495830786742,506.12495830786742,-36.6982998147,146.912920348]
[6546,1511.8550999079864,1511.8550999079864,-36.727793767400001,146.955772002999]
[6547,844.60173031927457,844.60173031927457,-36.738466750999898,146.98772882700001]
[6548,729.12447219952742,729.12447219952742,-36.713052523599899,147.07454247300001]
[6549,884.92629842102747,884.92629842102747,-36.736113582900003,147.152715309]
[6550,923.49233805561119,923.49233805561119,-36.738158756799898,147.17480449300001]
[6551,1096.644259246506,1096.644259246506,-36.556224189799899,147.08975979799899]
[6552,5.055124024117192,5.055124024117192,-36.924599378800004,146.73297100299899]
[6553,812.55273955743689,812.55273955743689,-36.561213876399897,146.707983517]
[6554,1204.1463476705815,1204.1463476705815,-36.5573913546,146.72492393100001]
[6555,747.34722236164168,747.34722236164168,-36.560373011499898,146.737658267]
[6556,312.21734425921329,312.21734425921329,-36.546463041099898,146.740276736]
[6557,921.3880879545668,921.3880879545668,-36.554731982900002,146.85641772400001]
[6558,289.62191452022239,289.62191452022239,-36.368357001600003,146.67681322300001]
[6559,672.4478877141263,672.4478877141263,-36.362370281399897,146.68541717599899]
[6560,670.90376774896129,670.90376774896129,-36.368134976,146.695902219]
[6561,1364.5619108684496,1364.5619108684496,-36.3537648958999,146.69155566200001]
[6562,1370.7717707089303,1370.7717707089303,-36.381274009099897,146.81103495599899]
[6563,144.74713460783619,144.74713460783619,-36.331917106900001,146.823360267]
[6564,3906.8342789583285,3906.8342789583285,-36.214577512699897,146.662868747]
[6565,750.89383511534072,750.89383511534072,-36.313873456700001,146.836447324999]
[6566,5.3234784936628539E-2,5.3234784936628539E-2,-36.320975895799897,146.862877779999]
[6567,2469.4833590014714,2469.4833590014714,-36.3006758541,146.962509866]
[6568,585.09300080612434,585.09300080612434,-36.341993477099898,147.109150449]
[6569,0,0,-36.208851447500003,147.072515264999]
[6570,419.10131507158172,419.10131507158172,-36.057893542899897,146.37052237200001]
[6571,2297.0320494741736,3106.3329374219443,-36.057347051800001,146.45895431899899]
[6572,809.30088794777055,3106.3329374219443,-36.013491271100001,146.40029540500001]
[6573,386.51497123294513,386.51497123294513,-36.076652659200001,146.51910124]
[6574,7.1004520752271691,7.1004520752271691,-35.9707062214,146.50628234800001]
[6575,185.24501214402824,185.24501214402824,-36.269873667500001,147.196238201]
[6576,935.72798611344797,935.72798611344797,-36.215619684499899,147.177810609999]
[6577,948.95174919043677,948.95174919043677,-36.159649473999899,147.16397423800001]
[6578,258.49815141605438,258.49815141605438,-36.0843667275999,147.21206156700001]
[6579,407.67569708747487,407.67569708747487,-36.596095298900003,147.51204107000001]
[6580,1055.7317719359119,1055.7317719359119,-36.355614464600002,147.46710029299899]
[6581,941.95770714477533,941.95770714477533,-36.083785087099898,147.650494646]
[6582,459.82921152210992,459.82921152210992,-36.457291197700002,147.96798233499899]
[6583,1153.6050673360251,1153.6050673360251,-36.196365221800001,147.902319366999]
[6584,220.90120061089306,220.90120061089306,-36.8637533469999,147.26191661300001]
[6585,263.55024725449664,263.55024725449664,-36.970946392999899,147.142318015]
[6586,193.57857119373665,193.57857119373665,-36.380302069899898,146.29899291199899]
[6587,814.73392048766266,814.73392048766266,-36.384224738699899,146.32015549100001]
[6588,11.145057662486581,11.145057662486581,-36.362850868400002,146.29114747899899]
[6589,512.95977197649995,512.95977197649995,-36.368883206900001,146.302614261]
[6590,2573.5086487007629,2573.5086487007629,-36.374236863299899,146.317473371999]
[6591,340.3701380846922,340.3701380846922,-36.381786554999898,146.33256939500001]
[6592,676.86399944295783,676.86399944295783,-36.372157989100003,146.328842909]
[6593,3751.7007144720637,3751.7007144720637,-36.3516827398999,146.297575827]
[6594,2110.5837641006565,2110.5837641006565,-36.356556821600002,146.310969218]
[6595,1731.3814175733899,1731.3814175733899,-36.364489396899899,146.325187688]
[6596,523.84547609687365,523.84547609687365,-36.3568767444999,146.32435575900001]
[6597,1658.7609559039586,1658.7609559039586,-36.342274627400002,146.30125405300001]
[6598,1515.4106921863986,1515.4106921863986,-36.343642404800001,146.313625551]
[6599,208.36700731852903,208.36700731852903,-36.349351882900002,146.330183984]
[6600,241.37334751854993,241.37334751854993,-36.3538807804999,146.338889061]
[6601,529.22128058293163,529.22128058293163,-36.3323031774,146.305368802999]
[6602,535.63142726516992,535.63142726516992,-36.383141103,146.25522741399899]
[6603,370.13470204926125,370.13470204926125,-36.348146717900001,146.276208755]
[6604,962.91249473424523,962.91249473424523,-36.320143026300002,146.23965118999899]
[6605,2517.9306652002283,2517.9306652002283,-36.3327321314,146.495541121999]
[6606,637.37746213142543,637.37746213142543,-36.2052390841,146.253445244999]
[6607,53.264870517606646,53.264870517606646,-36.928922043900002,146.522939689]
[6608,818.20455738880344,818.20455738880344,-36.8015147646,146.34580052000001]
[6609,2926.8797350466566,2926.8797350466566,-36.506316070099899,146.35692613200001]
[6610,1788.4592091994668,1788.4592091994668,-36.625461399499898,146.46814910699899]
[6611,997.17524878600295,997.17524878600295,-36.4234661883999,146.231421686]
[6612,604.8244479284624,604.8244479284624,-36.2005161198,146.86872368799899]
[6613,1057.9679585503361,1057.9679585503361,-36.1556403823,146.867805648999]
[6614,2497.870147506032,2497.870147506032,-36.1332487038,146.83754875100001]
[6615,445.23835470271086,445.23835470271086,-36.103273158999897,146.790174552]
[6616,3518.7669071035084,3518.7669071035084,-36.1377110739,146.86345535800001]
[6617,1582.0720159213563,1582.0720159213563,-36.124123075699899,146.839329359]
[6618,2351.4321232562565,2351.4321232562565,-36.1447698769,146.87554176200001]
[6619,1954.3555211213309,1954.3555211213309,-36.130048454899899,146.85958387100001]
[6620,2544.3399417312771,2544.3399417312771,-36.124024269800003,146.85332105500001]
[6621,2047.0053514039785,2047.0053514039785,-36.134779400500001,146.87932219199899]
[6622,1618.2053817767421,1618.2053817767421,-36.1799552121999,146.954168753]
[6623,1429.1371176061498,1429.1371176061498,-36.113769147200003,146.852046043]
[6624,3311.9521605519672,3311.9521605519672,-36.1190943326,146.86129716299899]
[6625,4670.2533320797993,9671.5609259275261,-36.125035938700002,146.875791499]
[6626,964.39377472415947,964.39377472415947,-36.133933714900003,146.89190789899899]
[6627,463.26170747403512,9671.5609259275261,-36.1095917650999,146.86667403300001]
[6628,301.65850578092375,1919.8638875576657,-36.148453587600002,146.925927196999]
[6629,859.55019524392924,9671.5609259275261,-36.117634709999898,146.88778823499899]
[6630,3678.4956911297613,8812.0107306835962,-36.123720194299899,146.90176485999899]
[6631,1081.5976460311299,1081.5976460311299,-36.154969437200002,146.98893061000001]
[6632,429.21922882102638,429.21922882102638,-37.815414580000002,147.592607953]
[6633,622.46074242946258,622.46074242946258,-37.832479254100001,147.59584617100001]
[6634,645.36541755232327,645.36541755232327,-37.821407444499897,147.59730966000001]
[6635,588.44015266752842,588.44015266752842,-37.821076685599898,147.602746741]
[6636,401.54838501254687,401.54838501254687,-37.827987020199899,147.604296944]
[6637,175.70976495121525,175.70976495121525,-37.8400972755,147.605997040999]
[6638,463.62798351053453,463.62798351053453,-37.821416601800003,147.608116929]
[6639,430.77873195655997,430.77873195655997,-37.815725145000002,147.61041485300001]
[6640,603.19604614755167,603.19604614755167,-37.827992927099899,147.612255425999]
[6641,477.69609576923841,477.69609576923841,-37.8222545576999,147.61251374700001]
[6642,458.0891995312773,458.0891995312773,-37.804346093100001,147.61314547999899]
[6643,501.50170517936232,501.50170517936232,-37.8308376118,147.617272539]
[6644,609.52087531818972,609.52087531818972,-37.822768077200003,147.617230831999]
[6645,323.3670455655739,323.3670455655739,-37.826710757500003,147.621364347]
[6646,573.72977441694093,573.72977441694093,-37.822695319300003,147.62436764]
[6647,701.12653604826221,701.12653604826221,-37.811714749399897,147.62727270400001]
[6648,581.20270151091904,581.20270151091904,-37.803579483999897,147.625321705]
[6649,208.87529137706451,208.87529137706451,-37.8307805508,147.62747419300001]
[6650,124.96511572114987,1972.719687549856,-37.8268334821,147.63275767299899]
[6651,447.44111417920851,447.44111417920851,-37.816092087199898,147.63735522100001]
[6652,39.176634340104492,1345.878250054493,-37.823904187099899,147.636983267999]
[6653,501.87632177421301,1207.8000225851929,-37.829089138199897,147.64670139699899]
[6654,460.35587456931609,460.35587456931609,-37.815956057900003,147.651010122999]
[6655,672.63420901852817,705.92370081097988,-37.826470539799899,147.65314563300001]
[6656,33.289491792451727,1016.5518248402683,-37.822309026900001,147.657200222]
[6657,304.93742450407774,304.93742450407774,-37.910472149299899,147.643566521]
[6658,611.97207316164588,611.97207316164588,-37.894994609000001,147.67733884]
[6659,0,0,-37.927001504000003,147.672156766999]
[6660,494.67493868868792,494.67493868868792,-37.926379723700002,147.688045071999]
[6661,708.90537803673033,708.90537803673033,-37.9165077376,147.706523256]
[6662,96.548193487212956,96.548193487212956,-37.8743635987,147.70379406500001]
[6663,600.7779149034086,600.7779149034086,-37.813296214200001,147.714073877]
[6664,556.50308444455368,556.50308444455368,-37.9085355453999,147.71209058599899]
[6665,6.976726115077266E-4,6.976726115077266E-4,-37.919742156600002,147.717308143]
[6666,693.24467886640048,693.24467886640048,-37.915548630799897,147.719552569]
[6667,616.95168111033206,616.95168111033206,-37.910205576899898,147.721088675]
[6668,1.2483329991216848E-2,1.2483329991216848E-2,-37.900368457200003,147.720993628999]
[6669,31.359086887705818,31.359086887705818,-37.9185850227,147.723089031]
[6670,540.34967939201204,540.34967939201204,-37.9054735335,147.725337962]
[6671,200.72767205173804,200.72767205173804,-37.912635338400001,147.726778892]
[6672,146.53998714374993,146.53998714374993,-37.941164996799898,147.701191935]
[6673,382.48441814440798,562.95130323225806,-37.804386117299899,147.73570231900001]
[6674,143.8907994161822,143.8907994161822,-37.760982749599897,147.737298748999]
[6675,768.16079816321553,768.16079816321553,-37.909089358899898,147.75149222100001]
[6676,0,0,-37.944398734799897,147.791386907999]
[6677,843.57990378801765,843.57990378801765,-37.803319271699898,147.798467421]
[6678,180.46688508785007,671.25357316062821,-37.8196633843,147.82771329400001]
[6679,322.33777300599604,490.78668807277813,-37.8396968254999,147.84726073600001]
[6680,1343.4713202250909,1343.4713202250909,-37.877893149400002,147.84898822400001]
[6681,0,0,-37.913053291099899,147.86330322500001]
[6682,72.453593614116599,2644.9604722414192,-37.821390746200002,147.858985125]
[6683,203.62022605020849,203.62022605020849,-37.877581333099897,147.890803885]
[6684,556.12616560700326,2476.5115571746373,-37.857501763499897,147.920511567999]
[6685,962.1399006851301,2147.2806838440579,-37.8756135617,147.96984279200001]
[6686,958.24521703095729,2913.3042057268558,-37.8796653896,147.984078633]
[6687,771.53236330582968,998.42792943380016,-37.869977731500001,147.989200686999]
[6688,956.63105926209846,1183.5266253900688,-37.863392953899897,147.998395759]
[6689,865.76642021203941,865.76642021203941,-37.875001290699899,148.00367787100001]
[6690,226.89529227642387,226.89529227642387,-37.871121845700003,148.01437190300001]
[6691,732.58148080634089,732.58148080634089,-37.863380168200003,148.016213776]
[6692,797.85692573007134,797.85692573007134,-37.863648244099899,148.02940308199899]
[6693,144.04540809543474,144.04540809543474,-37.8653812137999,148.036213573]
[6694,95.995321452665493,2572.5068786273027,-37.820190589900001,147.866975139999]
[6695,2.7385154658515656E-4,226.89556612797045,-37.8801446023,148.00083201199899]
[6696,935.74201874780954,935.74201874780954,-37.857870605999899,148.06903473700001]
[6697,1441.8548228660352,1441.8548228660352,-37.463214919999899,148.077235763]
[6698,64.62077268286076,64.62077268286076,-37.821114127800001,148.127511037999]
[6699,407.60914419623435,407.60914419623435,-37.732654484199898,148.228532513999]
[6700,444.70119996536221,444.70119996536221,-37.722200508599897,148.40154954900001]
[6701,70.495388381302632,70.495388381302632,-37.738299152700002,148.43503065100001]
[6702,757.22803401802526,757.22803401802526,-37.696074174899898,148.456706801]
[6703,528.02394613189369,528.02394613189369,-37.707368114300003,148.457363386]
[6704,872.00020736559418,872.00020736559418,-37.702261742600001,148.466476669]
[6705,573.77483114945085,573.77483114945085,-37.791603911300001,148.54142092199899]
[6706,0,0,-37.750653202499898,148.56538749500001]
[6707,484.68166084857222,484.68166084857222,-37.1908172893,148.430356480999]
[6708,1186.002595941364,1186.002595941364,-37.490472965499897,148.98236891100001]
[6709,201.26535993832209,201.26535993832209,-37.581473349100001,149.515868415]
[6710,1326.1631552500066,1326.1631552500066,-37.551883189999899,149.74068430400001]
[6711,5.8984197714487703,5.8984197714487703,-37.518594435200001,149.75229539700001]
[6712,7.9790886853393879,7.9790886853393879,-37.487223546700001,149.81437684700001]
[6713,597.62939784576417,597.62939784576417,-37.7988026949999,147.34785572000001]
[6714,2.7727325264513468E-6,2.7727325264513468E-6,-37.704911309800003,147.37521101900001]
[6715,2.011097448366983E-5,2.011097448366983E-5,-37.724340897600001,147.38756040800001]
[6716,49.508469354584626,49.508469354584626,-37.576476004,147.460341414]
[6717,263.46418296952328,263.46418296952328,-37.946862048699899,147.480813254]
[6718,1151.3234407195857,1151.3234407195857,-37.8544434091,147.515662566]
[6719,687.62286380289129,687.62286380289129,-37.751683411899897,147.548920401999]
[6720,0,0,-38.0070731421999,147.551649295999]
[6721,225.26304336664813,225.26304336664813,-37.777108345800002,147.60520696699899]
[6722,940.87013818117214,940.87013818117214,-37.7345799442,147.65692909200001]
[6723,503.84769565530934,503.84769565530934,-37.416189795000001,147.682433395999]
[6724,0,0,-37.728329338800002,147.69997030100001]
[6725,0,0,-37.689411977699898,147.715969091999]
[6726,0,0,-37.673210654099897,147.71681230799899]
[6727,753.01369724936717,753.01369724936717,-37.094463251199898,147.604789697]
[6728,619.47733719569555,619.47733719569555,-37.740255715700002,147.802416467]
[6729,223.91152763120141,223.91152763120141,-36.884613575000003,147.497382241]
[6730,467.47464141240658,467.47464141240658,-37.702796563699899,147.83189785100001]
[6731,450.67893343226262,450.67893343226262,-37.261366606700001,147.893871015]
[6732,5.7436424355287725,5.7436424355287725,-36.781731751800002,147.91886876999899]
[6733,3.6787724369269825E-4,3.6787724369269825E-4,-38.4518665408999,146.541298203]
[6734,1438.2385346576787,1438.2385346576787,-38.551490351299897,146.539900002]
[6735,776.62638375226311,776.62638375226311,-38.420930372900003,146.71759815300001]
[6736,218.68632347294252,218.68632347294252,-38.561710777499897,146.671588353999]
[6737,499.06962812955243,499.06962812955243,-38.5568137425999,146.677653746999]
[6738,555.66774975142971,555.66774975142971,-38.566365619499898,146.67965643900001]
[6739,540.39451796944297,540.39451796944297,-38.570294834400002,146.67739183800001]
[6740,350.38650294133839,350.38650294133839,-38.6246850733,146.676272455]
[6741,115.94212143208905,115.94212143208905,-38.643794588600002,146.784098809]
[6742,105.59014630422399,105.59014630422399,-38.523726518700002,146.873886153999]
[6743,0,0,-38.3288386746,147.002257399999]
[6744,283.64411850350365,283.64411850350365,-38.607392760800003,146.888979936]
[6745,290.65312570124217,290.65312570124217,-38.4250893926,146.96249993800001]
[6746,161.11924062122307,161.11924062122307,-38.5456155444,146.975243154]
[6747,0,0,-38.493665661000001,147.02160261399899]
[6748,472.24151090388847,472.24151090388847,-37.9639613858999,147.08099987400001]
[6749,228.0344963268337,228.0344963268337,-37.957585209400001,147.084942447]
[6750,523.10587070704275,523.10587070704275,-37.973183917699899,147.087695177999]
[6751,149.60311572449243,149.60311572449243,-37.9656268694999,147.092699031]
[6752,169.25443048233785,169.25443048233785,-37.9838301431,147.107949926999]
[6753,0,0,-37.367281644599899,147.10664257900001]
[6754,1246.3339886312608,1246.3339886312608,-38.061010002099898,147.135515242]
[6755,0,0,-37.712898602499898,147.15175548100001]
[6756,942.24500674880107,942.24500674880107,-37.933408405199899,147.233878334]
[6757,0,0,-38.0901390496999,147.317613491]
[6758,280.92418702887858,280.92418702887858,-37.415256794500003,147.326527787]
[6759,911.91552226064357,911.91552226064357,-37.892900616399899,146.621860873]
[6760,509.57483074662059,509.57483074662059,-37.980672303600002,146.781997383999]
[6761,875.10918006312738,875.10918006312738,-37.976494229700002,146.794358297999]
[6762,41.170252473984142,41.170252473984142,-37.5323392277,146.77413261500001]
[6763,1299.6084684386319,1299.6084684386319,-37.971667749600002,146.89919863399899]
[6764,2750.4920048248869,2750.4920048248869,-37.861411020200002,146.978835793]
[6765,530.75148631338845,530.75148631338845,-37.950875506899898,146.97854603900001]
[6766,1720.3765622667813,1720.3765622667813,-37.967849452800003,146.980488345]
[6767,1343.5351233917556,1343.5351233917556,-37.960542434700002,146.982335194]
[6768,434.74548655178234,434.74548655178234,-37.954927249500003,146.990603978]
[6769,1267.0462729140993,1267.0462729140993,-38.0764444852,146.740430269]
[6770,6.2978920308686806E-2,6.2978920308686806E-2,-38.1529067381,146.77069675000001]
[6771,312.20398075094181,312.20398075094181,-38.1521548589999,146.782287223]
[6772,45.555680735619873,45.555680735619873,-38.151271926500002,146.78639704400001]
[6773,511.07607562433395,511.07607562433395,-38.156733211800002,146.786613743999]
[6774,192.50491215572958,192.50491215572958,-38.149253674100002,146.78263376800001]
[6775,53.153774110992636,53.153774110992636,-38.151838914199899,146.79284437000001]
[6776,601.32853331001638,601.32853331001638,-38.275596328299898,146.748351963]
[6777,1592.2323425219893,1592.2323425219893,-38.173328466599898,146.943040328]
[6778,1386.8043090546703,1386.8043090546703,-38.235214105200001,147.19447092799899]
[6779,178.19925015917025,178.19925015917025,-38.377382862300003,147.18768877900001]
[6780,276.58008664417781,276.58008664417781,-38.3711854981999,147.18916470100001]
[6781,0,0,-38.378852047800002,147.18859109300001]
[6782,6.2111850767190573,6.2111850767190573,-38.369895228099899,147.19502794900001]
[6783,49.206181435570365,49.206181435570365,-38.3729466286999,147.19604832900001]
[6784,0,0,-38.3491929132,147.21327229400001]
[6785,0,0,-38.345864675999898,147.217156023999]
[6786,140.78686173896534,140.78686173896534,-38.352948401299898,147.219255809999]
[6787,0,0,-38.325288233599899,147.25500752299899]
[6788,0,0,-38.289277969499899,147.294246544999]
[6789,20.703950255730192,20.703950255730192,-38.2957101278,147.28974709600001]
[6790,0,0,-38.295701365200003,147.294571074]
[6791,0,0,-38.288047107799898,147.300388846]
[6792,0,0,-38.262877538399898,147.332667082]
[6793,6.2111850767190573,6.2111850767190573,-38.249010844300003,147.334616114]
[6794,0,0,-38.210461873600003,147.38703623000001]
[6795,463.9025733050068,463.9025733050068,-38.219335648600001,147.38817893800001]
[6796,5.3603671718415722,5.3603671718415722,-38.120064807299897,147.43258041499899]
[6797,369.92853804724717,369.92853804724717,-38.191628335600001,147.42265373199899]
[6798,0,0,-38.1571342766999,147.46389417200001]
[6799,0,0,-38.0595069556,147.55689320600001]
[6800,1202.5039597531315,1202.5039597531315,-38.047201771200001,147.583320746]
[6801,1029.8098266248178,1029.8098266248178,-38.0341717911,147.603963128999]
[6802,0,0,-38.027048102499897,147.63212704099899]
[6803,631.1202207399632,631.1202207399632,-38.109054298899899,147.030093467999]
[6804,315.06304293511306,315.06304293511306,-38.084022847100002,147.040909728999]
[6805,986.05241159948719,986.05241159948719,-38.104159776899898,147.058238034]
[6806,416.47792786816325,416.47792786816325,-38.094393938499898,147.063056321999]
[6807,646.18324693560942,646.18324693560942,-38.1055157159999,147.06515753599899]
[6808,37.055342389310411,37.055342389310411,-38.114125877200003,147.068243516]
[6809,1415.1296957919099,1415.1296957919099,-38.090548769800002,147.07551805400001]
[6810,1797.7197374916018,1797.7197374916018,-38.1050907495,147.07272538199899]
[6811,0,0,-38.114637791600003,147.075903388]
[6812,1671.5054203588909,1671.5054203588909,-38.09732322,147.079390840999]
[6813,856.69352498437354,856.69352498437354,-38.105015359600003,147.07960442500001]
[6814,2499.8658015523615,2499.8658015523615,-38.1047103959,147.089624614]
[6815,2022.1252477365306,2022.1252477365306,-38.115929442800002,147.087538577999]
[6816,72.282243322816882,72.282243322816882,-38.123386962600001,147.08197554200001]
[6817,960.79350322866503,960.79350322866503,-38.186034366100003,146.505449564]
[6818,1.4946353386260834E-3,1.4946353386260834E-3,-38.2388313489,146.43603368800001]
[6819,6.6173690174477384,6.6173690174477384,-37.7991757275,148.589659525]
[6820,438.64933334733865,438.64933334733865,-37.749653621599897,148.52593871400001]
[6821,491.32800746608194,491.32800746608194,-38.668949050999899,146.69209902]
[6822,544.76021079664758,544.76021079664758,-38.583066760800001,146.77284932200001]
[6823,1.0438133502196009E-3,1.0438133502196009E-3,-38.189276921800001,147.41033710400001]

{"sheet":"geoCodingParameters","index":8,"n_rows":82,"n_cols":11,"rows_kept":82,"cut":false,"hidden":true,"merged":[]}
["Control","Setting","comment"]
["browser","default"]
[]
["Column Name","component","Type","variation","special","Rules","Bing component","Bing special","Yahoo component","Yahoo Special","Comment"]
["Country","address_components","country","long_name",null,null,"_deserialization.resourcesets.1.resources.1.address.countryregion","fullkey","_deserialization.resultset.results.1.country","fullkey",{"$f":"A5","v":"Country"}]
["Country Code","address_components","country","short_name",null,null,null,"fullkey","_deserialization.resultset.results.1.countrycode","fullkey",{"$f":"A6","v":"Country Code"}]
["City","address_components","locality","long_name",null,null,"_deserialization.resourcesets.1.resources.1.address.locality","fullkey","_deserialization.resultset.results.1.city","fullkey","City"]
["Sublocality","address_components","Sublocality","long_name",null,null,"_deserialization.resourcesets.1.resources.1.address.admindistrict2","fullkey","_deserialization.resultset.results.1.county","fullkey","Sublocality"]
["State","address_components","administrative_area_level_","short_name","state","US=1,BE=1,CN=1,IN=1,AR=1,EG=1,default=2","_deserialization.resourcesets.1.resources.1.address.admindistrict","fullkey","_deserialization.resultset.results.1.state","fullkey","State"]
["Postal Code","address_components","postal_code","long_name",null,null,"_deserialization.resourcesets.1.resources.1.address.postalcode","fullkey","_deserialization.resultset.results.1.postal","fullkey","Postal Code"]
["Street","address_components","route","long_name",null,null,"_deserialization.resourcesets.1.resources.1.address.addressline","fullkey","_deserialization.resultset.results.1.street","fullkey","Street"]
["Street Number","address_components","street_number","short_name",null,null,"_deserialization.resourcesets.1.resources.1.address.addressline","fullkey","_deserialization.resultset.results.1.house","fullkey","Street Number"]
["Latitude","_deserialization.results.1.geometry.location.lat",null,null,"fullkey",null,"_deserialization.resourcesets.1.resources.1.point.coordinates.1","fullkey","_deserialization.resultset.results.1.latitude","fullkey","Latitude"]
["Longtitude","_deserialization.results.1.geometry.location.lng",null,null,"fullkey",null,"_deserialization.resourcesets.1.resources.1.point.coordinates.2","fullkey","_deserialization.resultset.results.1.longitude","fullkey","Longtitude"]
["Clean Address","_deserialization.results.1.formatted_address",null,null,"fullkey",null,"_deserialization.resourcesets.1.resources.1.address.formattedaddress","fullkey","_deserialization.resultset.results.1.line1","fullkey","Clean Address"]
[]
["Bing","Value","Comments"]
["Key","AmVoAsOUH9QHTL4-Zc7qF7MjU8tm7zR9rDdXsA5QRsgudEwRJmz_a_NkGMmTUn3I","You need to get your own key"]
[]
["Yahoo","Value","Comments"]
["Key","XyeQGy3e","You need to get your own key"]
[]
["Markers","Column Name","required","array","comments the columns named provide"]
["title","Label","yes","no","top of infobox"]
["content","Content","yes","no","body of info box"]
["lat","Latitude","yes","no","lar coord"]
["lng","Longtitude","yes","no","lng coord"]
["color","markerColor","no","no","color of blob round place - leave blank if no blob"]
["size","markerSize","no","no","size of blob round place - leave blank if no blob"]
["category","city,country","no","yes","filters  - leave blank if none"]
["image","markerImage","no","no","image to use - leave blank if default image"]
["flightColor",null,"no","no","if flight path is needed what color?"]
["flightGroup",null,"no","no","if flight path is needed name things to be joined the same"]
["startCategory","startCategory","no","no","will startup in this category- first one in the data is the name used - all others ignired"]
[null,null,null,"no"]
["Marker html","Code","Comments"]
["Header","<!DOCTYPE html>\n<html>\n<head>\n<meta name=\"viewport\" content=\"initial-scale=1.0, user-scalable=no\" />\n<style type=\"text/css\">\n  html { height: 100% }\n  body { \n height: 100%; \n margin: 0; \n padding: 0 ;  \n color: Gray ;\n background-color: WhiteSmoke; \n  }\n  #map_canvas { height: 100%}\n\n.mcquicklink {\n margin-left: 20px;\n margin-right: 20px;\n display: inline;\n font-family: sans-serif;\n float: right;\n}\n.mccategory {\n margin-left: 20px;\n margin-right: 20px;\n display: inline;\n font-family: sans-serif;\n float: right;\n}\n.mcheading {\n display: inline;\n font-family: sans-serif;\n\n \n}\n</style>\n<script type=\"text/javascript\"\n    src=\"http://maps.googleapis.com/maps/api/js?sensor=false\">\n</script>\n<script type=\"text/javascript\">\n","probably don’t need to touch"]
["main","           function initialize() {\n                mcpherData = mcpherDataPopulate();\n\n                if (mcpherData.cJobject.length > 0) {\n                    mcpherData.cJobject.sort(function(a, b) {\n                        return a.title.toLowerCase() < b.title.toLowerCase() ? -1 : (a.title.toLowerCase() > b.title.toLowerCase() ? 1 : 0);\n                    });\n\n                    var myOptions = {\n                        center: new google.maps.LatLng(mcpherData.cJobject[0].lat, mcpherData.cJobject[0].lng),\n                        mapTypeId: google.maps.MapTypeId.ROADMAP\n                    };\n\n                    // get parameters if any\n                    var qparams = mcpherGetqparams();\n\n                    var cj = mcpherData.cJobject;\n                    var bounds = new google.maps.LatLngBounds();\n                    for (var i = 0; i < cj.length; i++) {\n                        bounds.extend(new google.maps.LatLng(cj[i].lat, cj[i].lng));\n                    }\n\n                    if (!qparams['zoom']) qparams['zoom'] = 2;\n                    myOptions['zoom'] = parseInt(qparams['zoom']);\n                    // create the map\n                    gMap = new google.maps.Map(document.getElementById(\"map_canvas\"), myOptions);\n                    gMap.fitBounds(bounds);\n\n                    // add the excel data\n                    for (var i = 0; i < cj.length; i++) {\n                        mcpherAddMarker(cj[i]);\n                    }\n\n                    // Set up combox\n                    \n                    category();\n                    quickLink(-1);\n                    makeFlightGroups();\n                    initialCategory();\n                }\n            }\n","probably don’t need to touch"]
["functions","\n            function mcpherAddEvent(o, e, f, b, complain) {\n                // because IE is different\n                if (o.addEventListener) return (o.addEventListener(e, f, b));\n\n                else if (o.attachEvent) return (o.attachEvent('on' + e, f));\n                else if (complain) alert('browser doesnt support events');\n\n                return (null);\n\n            }\n\n            var mcpherData;\n            var gMap;\n            var vMap;\n        </script>\n    </head>\n","probably don’t need to touch"]
["catfunctions","// flightpath stuff\n                    function toType(obj) {\n                        return ({}).toString.call(obj).match(/\\s([a-zA-Z]+)/)[1].toLowerCase()\n                    }\n\n                    function isArray(arg) {\n                        return toType(arg) == 'array';\n                    }\n\n                    function createFlightGroups() {\n                        var flightGroups = [];\n                        var cj = mcpherData.cJobject;\n                        var fg;\n                        for (var i = 0; i < cj.length; i++) {\n                            if (fg = cj[i].flightGroup) {\n                                if (flightGroups.indexOf(fg) == -1) {\n                                    flightGroups.push(fg);\n                                }\n                                cj[i].flightGroupIndex = flightGroups.indexOf(fg);\n                            } else cj[i].flightGroupIndex = -1;\n                        }\n                        return flightGroups;\n                    }\n\n                    function initialCategory() {\n                        // sets initial category using the first select element\n                        var cj = mcpherData.cJobject;\n                        var c, p;\n                        var combos = getAllCombos();\n                        if (combos.length > 0) {\n                            var cats = createCategories(combos[0]);\n                            for (var i = 0; i < cj.length; i++) {\n                                if (c = cj[i].startCategory) {\n                                    if ((p = cats.indexOf(c)) != -1) {\n                                        var elem = document.getElementById('selectcategory0');\n                                        elem.value = p;\n                                        dealWithCategories(elem);\n                                        return p;\n                                    }\n                                }\n                            }\n                        }\n                        return -1;\n                    }\n\n                    // this is because IE doesnt have indexOf...\n                    if (!Array.indexOf) {\n                        Array.prototype.indexOf = function(obj, start) {\n                            for (var i = (start || 0); i < this.length; i++) {\n                                if (this[i] == obj) {\n                                    return i;\n                                }\n                            }\n                            return -1;\n                        }\n                    }\n\n                    function makeFlightGroups() {\n                        var flightGroups = createFlightGroups();\n                        var cj = mcpherData.cJobject;\n\n                        for (var j = 0; j < flightGroups.length; j++) {\n                            var flightCoords = [];\n                            var color = \"#FF0000\";\n                            for (var i = 0; i < cj.length; i++) {\n                                if (j == cj[i].flightGroupIndex) {\n                                    flightCoords.push(cj[i].marker.position);\n                                    if (cj[i].flightColor) color = cj[i].flightColor;\n                                }\n                            }\n                            if (flightCoords.length) {\n                                flightGroups[j].flightPath = new google.maps.Polyline({\n                                    path: flightCoords,\n                                    strokeColor: color,\n                                    strokeOpacity: 1.0,\n                                    strokeWeight: 2,\n                                    map: gMap\n                                });\n                            }\n                        }\n                        return flightGroups;\n                    }\n\n                    function mcpherAddMarker(cj) {\n                        var p = new google.maps.LatLng(cj.lat, cj.lng);\n                        cj.circle = null;\n                        if (cj.size) {\n                            var circle = {\n                                strokeColor: cj.color,\n                                strokeOpacity: 0.8,\n                                strokeWeight: 1,\n                                fillColor: cj.color,\n                                fillOpacity: 0.20,\n                                map: gMap,\n                                center: p,\n                                radius: parseFloat(cj.size),\n                            };\n                            var drawCirle = new google.maps.Circle(circle);\n                            cj.circle = drawCirle;\n\n                        }\n\n                        var marker = new google.maps.Marker({\n                            position: p,\n                            map: gMap,\n                            title: cj.title\n                        });\n                        cj.marker = marker;\n                        cj.infowindow = null;\n                        if (cj.image) marker.setIcon(cj.image);\n                        if (cj.content) {\n                            cj.infowindow = new google.maps.InfoWindow({\n                                content: cj.content\n                            });\n                            google.maps.event.addListener(cj.marker, 'click', function() {\n                                cj.infowindow.open(gMap, cj.marker);\n                            });\n                        }\n\n                        return cj.marker;\n                    }\n\n                    function mcpherGetqparams() {\n                        var qparams = new Array();\n                        var htmlquery = window.location.search.substring(1);\n                        var htmlparams = htmlquery.split('&');\n                        for (var i = 0; i < htmlparams.length; i++) {\n                            var k = htmlparams[i].indexOf('=');\n                            if (k > 0) qparams[htmlparams[i].substring(0, k)] = decodeURI(htmlparams[i].substring(k + 1));\n                            return qparams;\n                        }\n                    }\n\n\n                    function dealWithQuickLink(selValue) {\n                        if (vMap) {\n                            var nextSpot = vMap.spots[selValue]; \n                            vMap.gotoAnotherSpot(vMap.currentSpot,nextSpot);\n                            if (vMap.provider=='maps') nextSpot.createInfoWindow(0);\n                        }\n                        else {\n                            var cj = mcpherData.cJobject[selValue];\n                            if (cj.infowindow) {\n                                cj.infowindow.open(gMap, cj.marker);\n                            }\n                            return cj.infowindow;\n                        }\n                    }\n                    function findMySpot(cj) {\n                        // return the spot to which this cj belongs\n                        if(vMap) {\n                            for (var i=0; i < vMap.spots.length ; i++ ) {\n                                if ( cj.SpotID === vMap.spots[i].spotId) return (vMap.spots[i]);\n                            }\n                            return null;\n                        }\n                        else\n                            return cj;\n                        \n                    }\n\n                    function dealWithCategories() {\n                        var combos = getAllCombos();\n                        // start by not showing anything, except where theres no categories\n                        var cj = mcpherData.cJobject;\n                        for (var j = 0; j < cj.length; j++) {\n                            var mySpot = findMySpot(cj[j]);\n                            mySpot.marker.setVisible(combos.length == 0);\n                            if (mySpot.circle) {\n                                    mySpot.circle.setVisible(combos.length == 0);\n                                }\n                        }\n                        // need appear in each category\n\n                        for (var j = 0; j < cj.length  && combos.length > 0; j++) {\n                            var show = [];\n                            for (var i = 0; i < combos.length ; i++) {\n                                var selElem = document.getElementById('selectcategory' + i);\n                                if (selElem.value != 0) {\n                                    // we have a filter operating\n                                    var cats = createCategories(combos[i]);\n                                    var target = cats[selElem.value];\n                                    if (vMap) {\n                                        var c = cj[j];\n                                        if (c.hasOwnProperty(combos[i])) {\n                                            if(c[combos[i]] == target) show[i]=true ;\n                                        }\n                                    }\n                                    else {\n                                        for (var k = 0; k < cj[j].category.length ; k++) {\n                                            for (m in cj[j].category[k]) {\n                                                if (m == combos[i]) {\n                                                    if(cj[j].category[k][m] == target)show[i]=true;\n                                                }\n                                            }\n                                        }\n                                    }\n                                }\n                                else {\n                                    show[i]= true;\n                                }\n                            }\n                            // show it?\n                            var x=0;\n                            for (var k=0; k < combos.length; k++ ) {\n                                if (show[k] === true) x++;\n                            }\n                            if (x == combos.length) {\n                                var mySpot = findMySpot(cj[j]);\n                                mySpot.marker.setVisible(true);\n                            \n                                if (mySpot.circle) {\n                                    mySpot.circle.setVisible(true);\n                                }\n                            }\n                        }\n                        // reset to show only filtered spots\n                        quickLink();\n                    }\n                    \n                function quickLink(selCategory) {\n                        var comboElem = document.getElementById('comboquicklink');\n\n                        if (comboElem) {\n                            if (selCategory == -1) { //first time in\n                                var selElem = document.createElement('select');\n                                selElem.id = \"quickLinks\";\n                            } else {\n                                var selElem = document.getElementById('quickLinks');\n                                selElem.options.length = 0;\n                            }\n                            // depends on type of app\n                            var cj = vMap ? vMap.spots :  mcpherData.cJobject ;\n\n                            mcpherAddEvent(selElem, \"change\", function() {\n                                dealWithQuickLink(selElem.value);\n                            }, false, true);\n\n                            for (var i = 0; i < cj.length; i++) {\n                                // only show visible spots\n                                var workit = true;\n                                if (cj[i].marker) workit = cj[i].marker.visible;\n                                if (workit) { \n                                    var o = document.createElement('option');\n                                    o.text = cj[i].title;\n                                    o.value = i;\n                                    selElem.value = o.value;\n                                    try {\n                                        selElem.add(o, null);\n                                    } catch (error) {\n                                        selElem.add(o);\n                                    }\n                                }\n                            }\n\n                            comboElem.appendChild(selElem);\n                        }\n                    }\n\n                    function createCategories(categoryName) {\n                        var cats = [];\n                        var cj = mcpherData.cJobject;\n                        for (var i = 0; i < cj.length; i++) {\n                            // find the matching object\n                            if (vMap) {\n                                if(cj[i].hasOwnProperty(categoryName)) {\n                                    if (cats.indexOf(cj[i][categoryName]) == -1) cats.push(cj[i][categoryName]);\n                                }\n                            } \n                            else {\n                                for (var j = 0; j < cj[i].category.length; j++) {\n                                    if (cj[i].category[j].hasOwnProperty(categoryName)) {\n                                        if (cats.indexOf(cj[i].category[j][categoryName]) == -1) cats.push(cj[i].category[j][categoryName]);\n                                    }\n                                }\n                            \n                            }\n\n                        }\n                        cats.sort().splice(0, 0, 'all categories');\n                        return cats;\n                    }\n\n\n\n                    function category() {\n\n                        var comboElem = document.getElementById('combocategory');\n                        if (comboElem) {\n                            var combos = getAllCombos();\n                            for (var j = 0; j < combos.length; j++) {\n                                var selElem = document.createElement('select');\n                                selElem.id = \"selectcategory\" + j;\n                                var cats = createCategories(combos[j]);\n                                mcpherAddEvent(selElem, \"change\", function() {\n                                    dealWithCategories(selElem);\n                                }, false, true);\n\n                                for (var i = 0; i < cats.length; i++) {\n                                    var o = document.createElement('option');\n                                    o.text = cats[i];\n                                    o.value = i;\n                                    try {\n                                        selElem.add(o, null);\n                                    } catch (error) {\n                                        selElem.add(o);\n                                    }\n                                }\n                                var d = document.createElement('span');\n                                var t = document.createTextNode(combos[j]);\n                                d.appendChild(t);\n                                d.appendChild(selElem);\n                                comboElem.appendChild(d);\n\n                            }\n                        }\n                    }\n\n                    function getAllCombos() {\n                        var combos = [];\n                        if (vMap) {\n                            for (var i = 0; vMap.framework.spots.categories && i < vMap.framework.spots.categories.length; i++)\n                                combos.push(vMap.framework.spots.categories[i]);\n                        }\n                        else {\n                            var cj = mcpherData.cJobject;\n                            for (var i = 0; i < cj.length; i++) {\n                                if (isArray(cj[i].category)) {\n                                    for (var j = 0; j < cj[i].category.length; j++) {\n                                        for (k in cj[i].category[j])\n                                        if (combos.indexOf(k) == -1) {\n                                            combos.push(k);\n                                        }\n                                    }\n                                }\n                            }\n                        }\n                        return combos;\n                    }\n"]
["body","<body onload=\"initialize()\">\n <div id=\"comboquicklink\" class = \"mcquicklink\">Quick Links</div>\n <div id=\"combocategory\" class = \"mccategory\"></div>\n <div id=\"heading\" class =\"mcheading\">Excel and Google Mapping Integration</b>\n \n <a href=\"http://rambings.mcpher.com\">\n  ramblings.mcpher.com</a></div>\n <div id=\"map_canvas\" style=\"width: 100%; height: 90%\"></div>\n    \n</body>\n","you can mess around here to design your web page"]
["filename",{"$f":"Inputs!C3&\".html\"","v":".html"},"name of file to generate"]
[]
["Yahoo Marker html","Code","Comments"]
["Header",{"$f":"CONCATENATE(\"<!DOCTYPE html>\n<html>\n<head>\n<meta name='viewport' content='initial-scale=1.0, user-scalable=no' />\n<style type='text/css'>\",\"\n  html { height: 100% }\n  body { height: 100%; margin: 0; padding: 0 }\n  #map_canvas { height: 100%}\n</style>\",\"\n<script type='text/javascript' src='http://api.maps.yahoo.com/ajaxymap?v=3.8&appid=\", B21, \"'></script>\n</script>\n<script type='text/javascript'>\n//--generated\")","v":"<!DOCTYPE html>\n<html>\n<head>\n<meta name='viewport' content='initial-scale=1.0, user-scalable=no' />\n<style type='text/css'>\n  html { height: 100% }\n  body { height: 100%; margin: 0; padding: 0 }\n  #map_canvas { height: 100%}\n</style>\n<script type='text/javascript' src='http://api.maps.yahoo.com/ajaxymap?v=3.8&appid=XyeQGy3e'></script>\n</script>\n<script type='text/javascript'>\n//--generated"},"probably don’t need to touch"]
["main","//------\nfunction initialize() {\n    var mcpherData = mcpherDataPopulate();\n    if (mcpherData.cJobject.length > 0) {\n     var myOptions = {\n        center: new YGeoPoint(mcpherData.cJobject[0].lat, mcpherData.cJobject[0].lng),\n   mapTypeId: YAHOO_MAP_REG,\n   zoom : 16\n     };\n\n    // get parameters if any\n     var qparams = mcpherGetqparams();\n     if (qparams['zoom']) myOptions['zoom'] = parseInt(qparams['zoom']);\n    \n  // create the map\n     var map = new  YMap(document.getElementById('map_canvas')); \n\n     map.addTypeControl();\n     map.addZoomLong();\n     map.addPanControl();\n     map.setMapType(myOptions['mapTypeID']);\n     map.drawZoomAndCenter(myOptions['center'],myOptions['zoom']);\n    \n// add the excel data\n     for ( var i = 0 ; i < mcpherData.cJobject.length;i++) \n                    mcpherAddMarker ( map, mcpherData.cJobject[i] );\n     }\n};","probably don’t need to touch"]
["functions","function mcpherAddMarker(gMap, cj) {\n  var gp = new YGeoPoint( cj.lat , cj.lng );\n var marker = gMap.addMarker ( gp ); \n  if (cj.content){\n        var infoWindow = new YMarker (gp);\n            infoWindow.addAutoExpand(cj.title);\n            YEvent.Capture(infoWindow, EventsList.MouseClick,  \n                function(){  \n                    infoWindow.openSmartWindow(cj.content);  \n                });  \n            gMap.addOverlay(infoWindow );\n      }\n  return marker;\n    };\n\n\n\nfunction mcpherGetqparams(){\n      var qparams = new Array();\n   var htmlquery = window.location.search.substring(1);\n   var htmlparams = htmlquery.split('&');\n   for ( var i=0; i < htmlparams.length;i++) {\n     var k = htmlparams[i].indexOf('=');\n     if (k > 0) qparams[ htmlparams[i].substring(0,k) ] = decodeURI(htmlparams [i].substring(k+1));\n }    \n return qparams;\n   };  \n</script>\n</head>","probably don’t need to touch"]
["body","<body onload=\"initialize()\">\n  \"Testing Excel to Yahoo mapping - http://rambings.mcpher.com\"\n  <div id=\"map_canvas\" style=\"width:100%; height:100%\"></div>\n</body>\n</html>","you can mess around here to design your web page"]
["filename",".\\yahooMarkerGenerated.html","name of file to generate"]
[]
["Ovi Marker html","Code","Comments"]
["Header","<!DOCTYPE html>\n<html>\n<head>\n<meta name='viewport' content='initial-scale=1.0, user-scalable=no' />\n<style type='text/css'>\n  html { height: 100% }\n  body { height: 100%; margin: 0; padding: 0 }\n  #map_canvas { height: 100%}\n</style>\n<script src='http://api.maps.ovi.com/jsl.js' type='text/javascript' charset='utf-8'></script>\n\n</script>\n<script type='text/javascript'>\n//--generated","probably don’t need to touch"]
["main","function mcpherAuthorize() {\n ovi.mapsapi.util.ApplicationContext.set(\"authenticationToken\", \"<Token>\");\n};\n//------\nfunction initialize() {\n    var mcpherData = mcpherDataPopulate();\n    mcpherAuthorize();\n\n\n    if (mcpherData.cJobject.length > 0) {\n     var myOptions = {\n   center: [parseFloat(mcpherData.cJobject[0].lat), parseFloat(mcpherData.cJobject[0].lng) ],\n        mapTypeId: 0,\n        zoom : 2\n     };\n\n\n    // get parameters if any\n     var qparams = mcpherGetqparams();\n     if (qparams['zoom']) myOptions['zoom'] = parseInt(qparams['zoom']);\n    \n  // create the map\n    var mapContainer = document.getElementById(\"map_canvas\");\n\n var bubbleContainer = new ovi.mapsapi.map.component.InfoBubbles();\n var components = [\n  new ovi.mapsapi.map.component.Behavior(),\n  new ovi.mapsapi.map.component.TypeSelector(),\n  new ovi.mapsapi.map.component.ZoomBar(),\n  new ovi.mapsapi.map.component.ScaleBar(),\n  new ovi.mapsapi.map.component.Overview(),\n  new ovi.mapsapi.map.component.ViewControl(),\n  new ovi.mapsapi.map.component.RightClick(),\n  bubbleContainer \n\n ];\n\n if (ovi.mapsapi.map && ovi.mapsapi.map.Display) {\n var map = (window.display = new ovi.mapsapi.map.Display(mapContainer, {\n   components: components,\n   zoomLevel: myOptions['zoom'],\n   fading: 250, // fading duration of tiles in miliseconds\n   center: myOptions['center']\n  }));\n }\n    \n// add the excel data\n     for ( var i = 0 ; i < mcpherData.cJobject.length;i++) \n                    mcpherAddMarker ( map, mcpherData.cJobject[i] ,bubbleContainer);\n     }\n};","probably don’t need to touch"]
["functions","function mcpherAddMarker(gMap, cj,bc) {\n  var gp = new ovi.mapsapi.geo.Coordinate( parseFloat(cj.lat), parseFloat(cj.lng));\n  var marker = new ovi.mapsapi.map.StandardMarker(gp);\n  var titleBubble ;\n  gMap.objects.add(marker); \n  marker.addListener(\"mouseover\", function() {\n   titleBubble = bc.addBubble(cj.title, gp); \n  });\n  marker.addListener(\"mouseleave\", function() {\n   bc.removeBubble(titleBubble); \n  });\n  \n if (cj.content){\n  marker.addListener(\"click\", function() {\n   bc.addBubble(cj.content, gp); \n  });\n      }\n  return marker;\n};\n\n\n\nfunction mcpherGetqparams(){\n      var qparams = new Array();\n   var htmlquery = window.location.search.substring(1);\n   var htmlparams = htmlquery.split('&');\n   for ( var i=0; i < htmlparams.length;i++) {\n     var k = htmlparams[i].indexOf('=');\n     if (k > 0) qparams[ htmlparams[i].substring(0,k) ] = decodeURI(htmlparams [i].substring(k+1));\n }    \n return qparams;\n   };  \n</script>\n</head>\n","probably don’t need to touch"]
["body","<body onload=\"initialize()\">\n  \"Testing Excel to Ovi mapping - http://rambings.mcpher.com\"\n  <div id=\"map_canvas\" style=\"width:100%; height:100%\"></div>\n</body>\n</html>","you can mess around here to design your web page"]
["filename",".\\oviMarkerGenerated.html","name of file to generate"]
[]
["Bing Marker html","Code","Comments"]
["Header",{"$f":"CONCATENATE(\"<!DOCTYPE html>\n<html>\n<head>\n<meta name='viewport' content='initial-scale=1.0, user-scalable=no' />\",\"<style type='text/css'>\n  html { height: 100% }\n  body { height: 100%; margin: 0; padding: 0 }\n  #map_canvas { height: 100%}\n</style>\n<script type='text/javascript' src='http://dev.virtualearth.net/mapcontrol/mapcontrol.ashx?v=7.0'></script>\",\"\n<script type='text/javascript'>\nfunction mcpherGetCredentials() {\n  return '\",B18,\"';}\")","v":"<!DOCTYPE html>\n<html>\n<head>\n<meta name='viewport' content='initial-scale=1.0, user-scalable=no' /><style type='text/css'>\n  html { height: 100% }\n  body { height: 100%; margin: 0; padding: 0 }\n  #map_canvas { height: 100%}\n</style>\n<script type='text/javascript' src='http://dev.virtualearth.net/mapcontrol/mapcontrol.ashx?v=7.0'></script>\n<script type='text/javascript'>\nfunction mcpherGetCredentials() {\n  return 'AmVoAsOUH9QHTL4-Zc7qF7MjU8tm7zR9rDdXsA5QRsgudEwRJmz_a_NkGMmTUn3I';}"},"probably don’t need to touch"]
["main","//------\nfunction initialize() {\n    var mcpherData = mcpherDataPopulate();\n\n\n    if (mcpherData.cJobject.length > 0) {\n     var myOptions = {\n   center: new Microsoft.Maps.Location(parseFloat(mcpherData.cJobject[0].lat), \n    parseFloat(mcpherData.cJobject[0].lng)), \n        mapTypeId: Microsoft.Maps.MapTypeId.auto,\n        zoom : 2,\n   credentials : mcpherGetCredentials()\n     };\n\n    // get parameters if any\n     var qparams = mcpherGetqparams();\n     if (qparams['zoom']) myOptions['zoom'] = parseInt(qparams['zoom']);\n    \n  // create the map\n      var mapContainer = document.getElementById(\"map_canvas\");\n      map = new Microsoft.Maps.Map(mapContainer,\n   {credentials: myOptions['credentials'],\n    center: myOptions['center'],\n    zoom: myOptions['zoom'],\n    mapTypeId: myOptions['mapTypeId']}\n   );\n     map.entities.clear(); \n    \n// add the excel data\n\n     for ( var i = 0 ; i < mcpherData.cJobject.length;i++) \n                    mcpherAddMarker ( map, mcpherData.cJobject[i] );\n     }\n};","probably don’t need to touch"]
["functions","function mq() {\n return String.fromCharCode(34);\n}\nfunction mcpherAddMarker(gMap, cj ) {\n\nvar pushpin= new Microsoft.Maps.Pushpin(map.getCenter(), null); \n\n  infoBoxStyle = mq() + \n   'background-color:White; border: medium solid DarkOrange; font-family: Sans-serif; width:auto; font-size: 70%;' + mq();\n\n  hoverBoxStyle = mq() + \n   'background-color:Cornsilk;  border-width:0; width:auto; font-size: 70%; font-family: Sans-serif;' + mq();\n\n  var gp = new Microsoft.Maps.Location(parseFloat(cj.lat), parseFloat(cj.lng));\n  var marker = new Microsoft.Maps.Pushpin(gp,null); \n  gMap.entities.push(marker);\n  var hoverBox = new Microsoft.Maps.Infobox(gp,  { \n  htmlContent: '<div style='+ hoverBoxStyle + '>' + cj.title + '</div>',visible:false} ); \n  gMap.entities.push(hoverBox);\n\n  Microsoft.Maps.Events.addHandler(marker, 'mouseover', function() {\n    hoverBox.setOptions({visible:true}); });\n  Microsoft.Maps.Events.addHandler(marker, 'mouseout', function() {\n    hoverBox.setOptions({visible:false}); \n                   infoBox.setOptions({visible:false}); });\n  \n if (cj.content){\n   var infoBox = new Microsoft.Maps.Infobox(gp, { \n  htmlContent: '<div style='+ infoBoxStyle + '>' + cj.content + '</div>',visible:false} ); \n   gMap.entities.push(infoBox);\n        Microsoft.Maps.Events.addHandler(marker, 'click', function() {\n    infoBox.setOptions({visible:true}); });\n        Microsoft.Maps.Events.addHandler(marker, 'mouseout', function() {\n    hoverBox.setOptions({visible:false}); \n                   infoBox.setOptions({visible:false}); });\n      }\n else\n    Microsoft.Maps.Events.addHandler(marker, 'mouseout', function() {\n    hoverBox.setOptions({visible:false});  });\n\n  return marker;\n\n};\n\nfunction mcpherGetqparams(){\n      var qparams = new Array();\n   var htmlquery = window.location.search.substring(1);\n   var htmlparams = htmlquery.split('&');\n   for ( var i=0; i < htmlparams.length;i++) {\n     var k = htmlparams[i].indexOf('=');\n     if (k > 0) qparams[ htmlparams[i].substring(0,k) ] = decodeURI(htmlparams [i].substring(k+1));\n }    \n return qparams;\n   };  \n</script>\n</head>","probably don’t need to touch"]
["body","<body onload=\"initialize()\">\n  \"Testing Excel to Bing  mapping - http://rambings.mcpher.com\"\n  <div id=\"map_canvas\" style=\"width:100%; height:100%\"></div>\n</body>\n</html>","you can mess around here to design your web page"]
["filename",".\\bingMarkerGenerated.html","name of file to generate"]
[]
["Marker KML","Code","Comments"]
["filename","kmlMarkerGenerated.kml","name of file to generate"]
[]
[]
["Viz Marker html","Code","Comments"]
["mcphervizmap","//---ramblings.mcpher.com\n// Start of mcpherVizMap\n var mcpherVizMap = function  () { \n\n  this.cssBusy = 'mcstatus mcbusy';\n  this.cssReady = 'mcstatus mcready';\n  this.cssInfoWindow = 'mcinfo';\n  this.cssLi = 'mcli';\n  this.cssTab = this.cssLi + ' mchover';\n  this.cssTabSelected = this.cssTab + ' mctabselected';\n  this.cssSelected = 'mcselected';\n  this.cssHide = 'mchide';\n  this.cssShow = 'mcshow';\n  this.cssChart = 'mchart';\n  this.cssTableOptions =  { \n    alternatingRowStyle: true, \n    showRowNumber: false, \n    allowHtml: true, \n    cssClassNames: { \n     headerCell: 'mctableheader',\n     tableCell:  'mctable' \n    }\n  };\n };\n\n mcpherVizMap.prototype.populate = function() {\n  //some setup we can do while waiting for the google modules to load\n  // get the jSon  for the tabular data\n  this.data = mcpherData = mcpherGetData().data;\n  this.framework = mcpherGetFramework().framework;\n\n  // these are all the fields that are known\n  if (!(this.dictionary = this.framework.dictionary)) {\n   alert('no data dictionary found');\n   return (null);\n  }\n  // various control information\n  if (!(this.control = this.framework.control)) {\n   alert('no control found');\n   return (null);\n  }\n  // various control information\n  if (!(this.spotControl = this.framework.spots)) {\n   alert('no spot control found');\n   return (null);\n  }\n  // the element containing the data\n  if (!(this.cJobject = this.data.cJobject)) {\n   alert('no data found');\n   return (null);\n  }\n  // get the names of the tabs\n  if (!(this.cTabs = this.framework.tabs )) {\n   alert('no tab definitions found');\n   return (null);\n  }\n  // and the measures \n  if (!(this.cMeasures = this.framework.measures )) {\n   alert('no measure definitions found');\n   return (null);\n  }\n\n  // and the elements \n  if (!(this.cElements = this.framework.elements )) {\n   alert('no element definitions found');\n   return (null);\n  }\n\n  // check we have minimum mapping fields\n  for (var key in {'Latitude':0,'Longtitude':0,'Content':0,'Title':0,'SpotID':0}) {\n   if (!this.dictionary[key]) {\n    alert ('Missing required dictionary field ' + key);\n    return (null);\n   }\n  }\n  // find out if we are doing maps or earth\n  if (this.control.provider){\n   this.provider = providers[this.control.provider];\n  }\n  if (!this.provider){\n   alert('unknown provider ' + this.control.provider);\n   return (null);\n  }\n  // these are the things that will be used in the summary and the chart\n  this.measures = new Array ();\n  for (var mkey in this.cMeasures) {\n   this.measures.push(mkey);\n  }\n  // this is for positioning each of the tables & charts etc\n  this.elements = new Array();\n  for (var ekey in this.cElements) {\n   this.elements.push(ekey);\n  }\n\n  // these are the tabs that will be shown  \n  this.tabs = new Array ();\n  for (var tkey in this.cTabs) {\n   this.tabs.push(tkey);\n  }\n  return(this);\n };\n mcpherVizMap.prototype.create = function() {\n\n  this.statusDiv = document.getElementById('status_div');\n  this.statusUpdate('..loading data and map',true);\n  this.tempDiv = document.body.appendChild(document.createElement('div'));\n  this.tempDiv.className = this.cssHide;\n  // create a set of markers\n  this.items = new Array (this.cJobject.length);\n  this.mTable = this.masterTable();\n\n  // get the unique spots\n  this.spots = new Array();\n\n  for ( var i = 0 ; i < this.cJobject.length;i++) {\n   for (var j=0; j < this.spots.length ;j++) {\n    if (this.spots[j].spotId == this.cJobject[i].SpotID) {\n     break;\n    }\n   }\n   if (j >= this.spots.length) { \n    this.spots.push(new mcpherSpot(this,this.spots.length,i));\n   }\n  } \n\n\n  return (this);\n\n };\n\n mcpherVizMap.prototype.createProvider = function() { \n  // get parameters if any\n  var qparams = mcpherGetqparams();\n\n  var cj = this.cJobject;\n  this.mapDiv = document.getElementById('map_canvas');\n\n  switch (this.provider) {\n\n  case 'maps':\n   var bounds = new google.maps.LatLngBounds();\n   // create a bounding box\n   for ( var i = 0; i < cj.length; i++ ) {\n    bounds.extend (new google.maps.LatLng(cj[i].Latitude, \n      cj[i].Longtitude));\n   }\n   var myOptions = {\n     mapTypeId: google.maps.MapTypeId.ROADMAP\n   };\n\n   if (!qparams['zoom']) {\n    qparams['zoom'] = 2;\n   }\n   myOptions['zoom'] = parseInt(qparams['zoom']);\n   // create the map and show an info window\n\n   this.map = new google.maps.Map(this.mapDiv, myOptions);\n   this.map.fitBounds(bounds);\n   break;\n\n  case 'earth':\n   this.vEarth = new mcpherEarth(this,'google');\n   this.vEarth.createInstance(this.mapDiv);\n   break;\n\n  default:\n   alert ('lost the provider');\n  break;\n  }\n };\n\n mcpherVizMap.prototype.spotEverything = function() {\n  var vm=this;\n  for ( var i = 0 ; i < vm.spots.length;i++) {\n   vm.spots[i].createSpot ();\n  }\n  // add the spots to each item\n  vm.spotItems();\n  vm.statusUpdate('..Good to go!',false,null);\n };\n mcpherVizMap.prototype.gotoAnotherSpot = function (spot,newSpot) {  \n  var vm = this;\n  if (spot ?  newSpot.spotIndex != spot.spotIndex : true ){\n   vm.statusUpdate('change spot from '+\n       (spot ? spot.title : 'nowhere') + ' to '+   newSpot.title,true,null); \n    switch (vm.provider){\n     case 'maps':\n       if (spot) spot.infoWindow.close();\n       break;\n     case 'earth':\n       var ve = vm.vEarth;\n       ve.ge.setBalloon(null);\n       ve.showLookAt(newSpot);\n       break;\n     default:\n       alert('dealwithinsanity');\n      break;\n   }\n   vm.statusUpdate('changed spot from '+\n     (spot ? spot.title : 'nowhere') + ' to '+  newSpot.title,false,null); \n  }\n };\n mcpherVizMap.prototype.statusUpdate = function(s,isbusy,a) {\n  if (this.statusDiv){ \n   this.statusDiv.innerHTML = (new Date()).toTimeString() + '-' + s;\n   if (isbusy) {\n    this.statusDiv.className = this.cssBusy;\n   }\n   else {\n    this.statusDiv.className = this.cssReady;\n   }\n  }\n  if (a) {\n   alert(a);\n  }\n };\n mcpherVizMap.prototype.isMeasure = function(key) {\n  for ( var i= 0; i < mcpherSize(this.measures) ; i++) {\n   if (this.measures[i] == key ) {\n    return (true);\n   }\n  }\n  return(false);\n };\n mcpherVizMap.prototype.columnType = function(key) {\n  return (this.dictionary[key]); \n };\n mcpherVizMap.prototype.columnValue = function(key,value) {\n  // given a key, set the type for a table (it will probably be string in the incoming json\n  var x;\n  switch (  this.columnType(key)  ){\n  case 'number':\n   if (!(mcpherIsNumber(value))){\n    alert (key + ' has invalid value ' + value + \n      ' for type' + this.columnType(key) );\n   }\n   else {\n    x = mcpherToNumber(value);\n   }\n    \n   break;\n\n  case 'date':\n   if (!(x=mcpherToDate(value))){\n    alert (key + ' has invalid value ' + value + \n      ' for type' + this.columnType(key) );\n   }\n   break;\n\n  default:\n   x=value;\n  break;\n  }  \n  return (x);\n };\n mcpherVizMap.prototype.masterTable = function() {\n  // create a master google viz table\n  gTable = new google.visualization.DataTable();\n  for ( key in this.dictionary)  {\n   gTable.addColumn (this.columnType(key), key);\n  }\n\n  var currentCol;\n  for (var i = 0 ; i < this.cJobject.length ; i++){\n   var currentRow = gTable.addRow();\n   for ( var key in this.cJobject[i]){\n    if ( (currentCol = this.columnIndex (gTable,key)) >= 0){\n     gTable.setCell(currentRow,currentCol,this.columnValue(key,this.cJobject[i][key]));\n    }\n    else { \n     alert (\"Unknown column name \" + key + \" at row \" + currentRow + \" in cJobject data\");       \n    }\n   }\n  }\n  return (gTable);\n };\n mcpherVizMap.prototype.spotItems = function () {\n\n  for (var i=0; i<this.items.length;i++) { \n   // find matching spot;\n   var spot = null;\n   for (var j=0; j < this.spots.length ;j++){ \n    if (this.spots[j].spotId == this.items[i].spotId) {\n     spot = this.spots[j];\n     break;\n    }\n   }\n   if (spot){\n    this.items[i].spot = this.spots[j];\n   }\n   else {\n    alert('couldnt find spot for item ' + i);\n   }\n    }\n };\n\n mcpherVizMap.prototype.createItems = function () {\n  //  create the infotab contents for each plottable item\n\n  for (var i=0; i<this.cJobject.length;i++) {\n   this.items[i] = new mcpherItem();\n   this.items[i].create (this, i);\n  }\n };\n mcpherVizMap.prototype.columnIndex = function (gTab,label) {\n  for (var i=0; i < gTab.getNumberOfColumns() ;i++) {\n   if (gTab.getColumnLabel(i) == label) {\n    return (i);\n   }\n  }\n  return (-1);\n };\n mcpherVizMap.prototype.nextSpot = function (spot) {\n  var vm=this;\n  return (vm.spots[(spot.spotIndex +1) % vm.spots.length]);\n };\n// END OF mcpherVizMap\n\n","don’t touch"]
["mcpherInfoTab","// --INFOTAB custom object to hold infowindow tab data\n var mcpherInfoTab = function () {this.init();};\n mcpherInfoTab.prototype.init = function () { \n  return (this);\n };\n mcpherInfoTab.prototype.showOrNot =function () {\n  // are we showing it?\n  var vm = this.parent.parent;\n  for (var key in this.infoElements) {\n   if (this.checkBoxes[key]){\n    this.infoElements[key].className = \n     this.checkBoxes[key].checked ? vm.cssShow : vm.cssHide;\n   }\n  }\n };\n mcpherInfoTab.prototype.createDivElements = function (container) {\n  // this creates the structure for div elements of the infowindow that are indexed by the framework\n  this.divElements = new Array();\n  this.divContainer = container.appendChild(document.createElement('div'));\n  var labBody = this.divContainer.appendChild( \n    document.createElement('table')).appendChild(document.createElement('tbody'));\n  var labTds = new Array();     \n  // because of the rowspans and colspans its kind of tricky\n  // r0 3 cells\n  this.createTds(labBody,labTds, 1 , 3);\n  // r1 2 cells\n  this.createTds(labBody,labTds, 1 , 2);\n  // r2-5 1 cells\n  this.createTds(labBody,labTds, 4 , 1);\n  // r6 2 cell\n  this.createTds(labBody,labTds, 1 , 2);\n  \n  // set up colspans & row spans and assign to positions\n  this.pushDiv(labTds , 0 ,0 , 0, 0,  1);\n  this.pushDiv(labTds , 1 ,0 , 0, 0,  2); \n  this.pushDiv(labTds , 1 ,1 , 2, 0,  3); \n  this.pushDiv(labTds , 2 ,0 , 0, 0,  4);\n  this.pushDiv(labTds , 3 ,0 , 0, 2,  5); \n  this.pushDiv(labTds , 4 ,0 , 0, 2,  6); \n  this.pushDiv(labTds , 5 ,0 , 0, 2,  7); \n  this.pushDiv(labTds , 6 ,0 , 0, 2,  8); \n  this.pushDiv(labTds , 0 ,2 , 6, 0,  9); \n  this.pushDiv(labTds , 6 ,1 , 0, 0,  10); \n  this.pushDiv(labTds , 0 ,1 , 0, 0,  11); \n\n };\n\n mcpherInfoTab.prototype.createTds =function (labBody,labTds, nRows, nCols ) {\n\n  for (var i=0; i < nRows ;i++){\n   var labTrTds = new Array();\n   var labTr = labBody.appendChild(document.createElement('tr'));\n   for (var j=0; j < nCols ; j++){\n    labTrTds.push (labTr.appendChild(document.createElement('td')));\n   }\n   labTds.push (labTrTds);\n  }\n };\n\n mcpherInfoTab.prototype.pushDiv =function (container, r ,c , rs, cs, pos ) {\n  var cTd = container[r][c];\n\n  cTd.className= 'mcelementtd';\n\n  if (rs) {\n   cTd.rowSpan = rs;\n  }\n  if (cs) {\n   cTd.colSpan = cs;\n  }\n  this.divElements.push(cTd.appendChild(document.createElement('div')));\n\n };\n mcpherInfoTab.prototype.create =function (mm , tabIndex) {\n  this.parent = mm;\n  var vm = mm.parent;\n  var ve = vm.ve;\n  var conTab = this;\n  this.tabIndex = tabIndex;\n\n  this.tab = this.parent.ulContainer.appendChild( \n    document.createElement('li'));\n  this.tab.className = vm.cssTab ;\n\n  mcpherAddEvent (this.tab,\"click\",\n    function(){ mm.fillDiv(conTab);}\n  ,false ,true) ;\n  this.tab.appendChild(document.createTextNode \n    (vm.tabs[this.tabIndex]));\n\n  // create the structure of this info tab\n  this.createDivElements(mm.container.appendChild \n    (document.createElement('div')));\n\n  // now assign these divs to required elements\n  var ie = this.infoElements  = new Array();\n  for (key in vm.cElements){\n   var p = parseInt(vm.cElements[key].position);\n\n   if (p){\n    if ( p<0 || p > this.divElements.length){\n     alert(' position ' + p + ' is not valid - refer to diagram in parameter sheet');\n    }\n    else{\n     this.infoElements[key] = this.divElements[p -1];\n    }\n   }\n  }\n\n  if (ie['title']) {\n   ie['title'].appendChild (document.createTextNode(mm.cJobject.Title));\n  }\n  // fill all that up\n  if (ie['content']) {\n   ie['content'].innerHTML= mm.cJobject.Content;\n  }\n\n  // add checkboxes\n  if (ie['checks']) {\n   this.checkBoxes = new Array();\n   for (key in vm.cElements) {\n    if ( parseInt(vm.cElements[key].position)) {\n     var cbx = document.createElement(\"input\"); \n     cbx.className = 'mccheck';\n     cbx.type = \"checkbox\";  \n     cbx.id = \"mcphercbx\" + key;\n     ie['checks'].appendChild(\n       document.createTextNode('\\u00a0\\u00a0'+ key ));\n     this.checkBoxes[key]= ie['checks'].appendChild(cbx);\n     if (vm.cElements[key].show == \"yes\") {\n      cbx.setAttribute(\"checked\", \"checked\" );\n     }\n     mcpherAddEvent (cbx,\"click\",function(){ \n      conTab.showOrNot(); \n     },false ,true) ;\n    }\n   }\n\n  }\n  if (ie['navigate']){\n   var bx = document.createElement('button');\n   bx.className = 'mcnextbutton';\n   bx.appendChild(document.createTextNode('Next Spot'));\n   ie['navigate'].appendChild(bx);\n\n   mcpherAddEvent (bx,\"click\",function(){ \n    var nextSpot =vm.nextSpot(mm.spot)\n    vm.gotoAnotherSpot(mm.spot,nextSpot);\n    if (vm.provider=='maps') nextSpot.createInfoWindow(0);\n   },false ,true) ;\n\n   if (ve) {\n    var bflyx = document.createElement('button');\n    bflyx.className = 'mcnextbutton';\n    bflyx.appendChild(document.createTextNode('Fly Around'));\n    ie['navigate'].appendChild(bflyx);\n    mcpherAddEvent (bflyx,\"click\",function(){ \n     mm.spot.initFlyAround();\n    },false ,true) ;\n   }\n\n  }\n  // is there an image?\n  var imgField = vm.cTabs[vm.tabs[this.tabIndex]]['image'];\n\n  if (ie['image'] && imgField && \n    mm.cJobject[imgField]){ \n   if ( mcpherIsImage(mm.cJobject[imgField])) {\n    var labImage = ie['image'].appendChild(document.createElement('img'));\n    labImage.src = mm.cJobject[imgField];\n    if (mcpherIsNumber(vm.control.imagewidth)){\n     labImage.width = mcpherToNumber(vm.control.imagewidth);\n    }\n    labImage.title = vm.Title;  \n   }    \n  }\n  this.vTable = this.createTable();\n  // and a google viz table of qualifying matching transactions\n  if (ie['table']){\n   if (this.vTable) {\n    this.table = new google.visualization.Table(ie['table']);\n    this.table.draw(this.vTable , mm.parent.cssTableOptions);\n    // allow selection on this table \n    var vizTab = this.table;\n    var datTab = this.vTable;\n    google.visualization.events.addListener(vizTab, \n      'select', function() {\n     conTab.dealWithSelection (vizTab,datTab);\n    });\n   }\n  }\n\n  // and a summary table\n  if (ie['summary'] || ie['chart'] ){\n   if (this.cTable = this.chartTable()) {\n    if(ie['summary']){\n     this.chtable = \n      new google.visualization.Table(ie['summary']);\n     this.chtable.draw(this.cTable , \n       vm.cssTableOptions);\n    }\n   }\n  }\n\n  if (ie['chart']){\n   if (this.cTable) {\n    var chtType =  vm.cTabs[ vm.tabs[conTab.tabIndex] ]['charttype'];\n    switch (chtType) {\n\n    case 'barchart':\n     this.chart = new google.visualization.ImageBarChart(ie['chart']);\n     this.chart.draw(this.cTable, \n       {title:vm.tabs[this.tabIndex],\n      isStacked:false});\n     break;\n\n    case 'orgchart':\n     this.oTable = this.orgTable();\n     this.chart = new google.visualization.OrgChart(ie['chart']);\n     this.chart.draw(this.oTable, \n       {title:vm.tabs[this.tabIndex]});\n     // allow selection on this chart\n     var vizTab = this.chart;\n     var datTab = this.oTable;\n     google.visualization.events.addListener(vizTab, \n       'select', function() { \n      conTab.dealWithSelection (vizTab,datTab);\n     });\n     \n     break;\n\n    case 'none':\n     break;\n\n    default:\n     alert('unknown charttype ' + chtType);\n    break;\n    }\n   }\n  }\n  // and which filters were selected\n  if (ie['filters']){\n   this.fTable = new google.visualization.DataTable();\n   this.fTable.addColumn('string','Where');\n   this.fTable.addColumn('string','is');\n\n   for ( var key in this.filters) { \n    var cLab = vm.mTable.getColumnLabel(\n      this.filters[key].column) ;\n    this.fTable.addRow (\n      [cLab,this.filters[key].value.toString()]);\n   }   \n   this.filterTable = new google.visualization.Table(ie['filters']);  \n   this.filterTable.draw(this.fTable,vm.cssTableOptions); \n  }\n        // tweets needed - we'll do these in real time so they are up to date when selected.\n  // but create a view table of the query items that we'll need\n  if (ie['twitter']){\n   this.tTable = this.tweetTable();\n  }\n\n  conTab.showOrNot();\n  return (this);\n };\n mcpherInfoTab.prototype.viewTable = function (vType,needGroup,complain) {\n  var mm = this.parent.parent;\n  var tItems = mm.cTabs[ mm.tabs[this.tabIndex] ][vType];\n  var colIndex;\n\n  if (!tItems) {\n   if (complain)alert ('Cant find ' + vType + 'fields for ' + \n     mm.tabs[this.tabIndex]);\n   return (null); }\n  else {\n   // only include data columns referenced in tab[].table\n   var viewColumns = new Array();\n   for ( var i=0 ; i < tItems.length ; i++ ){\n    if ( (colIndex = mm.columnIndex(\n      mm.mTable,tItems[i])) >= 0){\n     viewColumns.push (colIndex);\n    }\n    else {\n     alert (tItems[i] + ' is required for ' +\n       vType + ' in tab ' + \n       mm.tabs[this.tabIndex] + \n     ' but was not found in the dictionary');\n    }\n   }      \n   var gTable = new google.visualization.DataView(mm.mTable);\n   //now filter rows\n   var fItems = mm.cTabs[ mm.tabs[this.tabIndex] ]['filter'];\n\n   if (fItems) {\n    this.filters = new Array();\n    for (var i=0; i < fItems.length ; i++){ \n     if ( (colIndex = mm.columnIndex(\n       mm.mTable,fItems[i])) >= 0) {\n      this.filters.push ({'column' : colIndex, \n       'value' : mm.columnValue(\n         fItems[i],this.parent.cJobject[fItems[i]]) } );\n     }\n     else{\n      alert (fItems[i] + ' is required filter for ' + \n        vType + ' in tab ' +\n        mm.tabs[this.tabIndex] + \n      ' but was not found in the dictionary');\n     }\n    }\n    gTable.setRows (gTable.getFilteredRows(this.filters));\n   }\n   if (!viewColumns.length) {\n    alert ('there were no columns required for ' + \n      vType + ' in tab ' \n      + mm.tabs[this.tabIndex] );\n    return(null);\n   }\n   if (needGroup) {\n    var grouping = new Array();\n    var aggregate = new Array();\n    for (var i=0; i < viewColumns.length ;i++ ) {\n     var lab;\n     if (mm.isMeasure(\n       lab=gTable.getColumnLabel(viewColumns[i]))) {\n      aggregate.push ( {'column': viewColumns[i],\n       'aggregation' : mcpherGag(mm.cMeasures[lab]),\n       'type' : 'number'} );\n     }\n     else{\n      grouping.push (viewColumns[i]);\n     }\n    }\n\n    return( google.visualization.data.group (\n      gTable, grouping, aggregate )) ;\n   }\n   else {   \n    gTable.setColumns(viewColumns);\n    return (gTable) ;\n   }\n  } \n };\n\n mcpherInfoTab.prototype.dealWithSelection = function (vizTab,datTab) {  \n\n  var row = vizTab.getSelection()[0].row;\n  var newIndex = datTab.getTableRowIndex(row);\n  \n  // now we have the original item -  we may need oc lose this infowindow and go somewhere else\n  var im = this.parent;\n  var vm = im.parent;\n  var spot = im.spot;\n  var markerIndex = im.markerIndex;\n  \n  if (newIndex != markerIndex){\n\n   switch (vm.provider){\n   case 'maps':\n    spot.infoWindow.close();\n    break;\n   case 'earth':\n    break;\n   default:\n    alert('dealwithinsanity');\n   }\n   // so we may need to close this one\n   var newSpot =vm.items[newIndex].spot;\n   vm.gotoAnotherSpot (spot, newSpot);\n   newSpot.usingIndex = newIndex;\n   newSpot.createInfoWindow(0);\n  }\n };\n\n mcpherInfoTab.prototype.createTable = function () {  \n  return (this.viewTable ('table', false,true));\n };\n mcpherInfoTab.prototype.chartTable = function () {  \n  return (this.viewTable ('chart',true,true));\n };\n mcpherInfoTab.prototype.orgTable = function () {  \n  return (this.viewTable ('chart',false,true));\n };\n mcpherInfoTab.prototype.tweetTable = function () {  \n  return (this.viewTable ('twitter',false,false));\n };\n// END OF INFOTAB\n","don’t touch"]
["mcpherItem","// mcpherItem\n// custom object to hold marker plus associated data\n var mcpherItem = function () {this.init();};\n mcpherItem.prototype.init = function () { \n  return (this);\n };\n mcpherItem.prototype.create = function (mm , markerIndex) {\n  this.parent = mm;\n  mMark=this;\n  this.cJobject = this.parent.cJobject[markerIndex];\n  this.spotId= this.cJobject.SpotID;\n  this.markerIndex = markerIndex;\n  // this will be the info box detail\n  this.container = this.parent.tempDiv.appendChild(\n    document.createElement('div'));\n  this.container.cssName = this.parent.cssHide;\n  this.container.id ='itemcon'+this.markerIndex;\n  // to hold the tab selectors\n  this.tabContainer = this.container.appendChild(\n    document.createElement('div'));\n  this.infoTabs = new Array (this.parent.tabs.length);\n\n  // making tabbed infowindow\n\n  this.ulContainer = this.tabContainer;\n  for (var i = 0; i < this.infoTabs.length;i++ ){\n   this.infoTabs[i] = new mcpherInfoTab();\n   this.infoTabs[i].create (this,i);\n  } \n  return this;\n };\n\n mcpherItem.prototype.fillDiv =function (conTab) {\n  var mm = this;\n  mm.refreshTweets(conTab);\n  // change the selected tab and load up the appropriate divs\n  for (var i=0; i < mm.infoTabs.length ; i++) { \n   if (conTab.tabIndex == i ) {\n    mm.infoTabs[i].tab.className = mm.parent.cssTabSelected;\n    mm.infoTabs[i].divContainer.className = \n     mm.parent.cssShow + ' ' + mm.parent.cssSelected;\n   }\n   else {\n    mm.infoTabs[i].tab.className = mm.parent.cssTab;\n    mm.infoTabs[i].divContainer.className = mm.parent.cssHide;\n   }\n  } \n\n };\n mcpherItem.prototype.refreshTweets = function (conTab) {    \n  var ie=conTab.infoElements['twitter'];\n  var qt=conTab.tTable;\n  var spot = this.spot;\n  var vm = spot.parent;\n  if (!ie)return(null);\n  ie.innerHTML='';\n  var sArg = \"?\";\n  var sRest = \"http://search.twitter.com/search.json\";\n  // create the query from any terms in the twitter table\n  var sQ ='';\n  if (qt){\n   for (var i =0; i < qt.getNumberOfRows(); i++) {\n    var sa='';\n    for (var j =0; j < qt.getNumberOfColumns(); j++) {\n     var s = qt.getValue(i,j).toString();\n     if (s) {\n      if(sa) sa += '+AND+';\n      sa += s ;\n     }\n    }\n    if (sa) {\n     if (sQ) sQ += '+OR+';\n     sQ += '(' + sa + ')';\n    }\n   }\n  }\n  if (sQ){\n   sRest += sArg + \"q=\" + sQ;\n   sArg = \"&\";\n  }\n  // location based\n  if (vm.control.twitterradius){\n   sRest += sArg + 'geocode=' + spot.lat + \",\" + spot.lng + \",\" + vm.control.twitterradius;\n   sArg = \"&\";\n  }\n  //language selected\n  if (vm.control.twitterlanguage){\n   sRest += sArg + 'lang=' + vm.control.twitterlanguage;\n   sArg = \"&\";\n  }\n  //limit\n  if (vm.control.twittermaxtweets){\n   sRest += sArg + 'rpp=' + vm.control.twittermaxtweets + '&page=1';\n   sArg = \"&\";\n  }\n\n  $.getJSON(encodeURI(sRest) + '&callback=?',\n    function(resp){\n   $(ie).append('<table><th class=\"mctweetheader\" colspan=2>' +\n     '<a href=\"https://twitter.com/brucemcpherson\">' + \n     'Follow ramblings.mcpher.com @brucemcpherson</a>' + \n     (vm.control.twitterradius ?  '<br>Tweets within ' + vm.control.twitterradius + ' of ' + spot.title:'') +\n   '</th>');\n   $.each(resp.results, function(i,item){\n    $(ie).append('<tr><td class=\"mctweet\">' +\n      '<img src=\"'+item.profile_image_url+ '\" ' +\n      (mcpherIsNumber(vm.control.twitterimagewidth) ?  \n        'width=\"' + vm.control.twitterimagewidth +'\"' : '') +\n      '\"</img></td>'+\n      '<td class=\"mctweet\" rowspan=\"2\">' + item.created_at+':'+item.text + \n      '</tr><tr><td class=\"mctweet\">@' + item.from_user + ':</td>' +\n    '</tr>');\n   });\n   $(ie).append('</table>');\n  });\n };\n\n\n\n// END OF mcpherItem\n","don’t touch"]
["mcpherfunctions"," function mcpherAddEvent (o,e,f,b,complain){\n  // because IE is different\n  if(o.addEventListener) \n   return(o.addEventListener(e, f, b));\n\n  else \n   if (o.attachEvent) \n    return(o.attachEvent('on' + e, f));\n   else \n    if (complain) \n     alert ('browser doesnt support events');\n\n\n  return(null);\n\n }\n function mcpherIsNumber(x){\n  return (!isNaN(parseFloat(x))); \n }\n function mcpherToNumber(x) {\n  if (mcpherIsNumber(x))\n   return (parseFloat(x));\n  else\n   return (null);\n }\n function mcpherToDate(x) {\n  if (mcpherIsDate(x))\n   return (new Date(Date.parse(x)));\n  else\n   return (null);\n }\n function mcpherIsImage(url) {\n  return ((/http:\\/\\/.+?\\.jpg|jpeg|png|gif/).test (url.toLowerCase()) );\n\n }\n function mcpherSize(o) {\n  var s=0;\n  for (var key in o) if (o.hasOwnProperty(key))s++;\n  return (s);\n }\n function mcpherIsDate(s){\n  return (!isNaN(Date.parse(s))); \n }\n function mcpherGetqparams(){\n  // this is just a utility to pick up command line params\n  var qparams = new Array();\n  var htmlquery = window.location.search.substring(1);\n  var htmlparams = htmlquery.split('&');\n  for ( var i=0; i < htmlparams.length;i++) {\n   var k = htmlparams[i].indexOf('=');\n   if (k > 0) {\n    qparams[ htmlparams[i].substring(0,k) ] = \n     decodeURI(htmlparams [i].substring(k+1));\n   }\n  }\n  return qparams;\n } \n function mcpherGag(x){\n  switch (x) {\n  case 'average':\n   return (google.visualization.data.avg);\n  case 'count':\n   return (google.visualization.data.count);\n  case 'sum':\n   return (google.visualization.data.sum);\n  case 'min':\n   return (google.visualization.data.min);\n  case 'max':\n   return (google.visualization.data.max);\n  default:\n   alert('Unknown google aggregation request ' + x);\n  return (null);\n  }\n\n }\n function oShow (x,o) {\n  var s =x+'(object)';\n  for (var key in o) s += key + \",\";\n  s+='(array)';\n  for (var i=0; i < o.length; i++) s += o[i] + ',';\n  s+='(size)' + mcpherSize(o) + '(length)' + o.length;\n  alert (s);\n\n }\n\n\n};\n</script></head>\n\n\n\n","don’t touch"]
["mcpherinit","<SCRIPT type='text/javascript'\n src='http://maps.googleapis.com/maps/api/js?sensor=false'></SCRIPT><script type=\"text/javascript\" src=\"http://jqueryjs.googlecode.com/files/jquery-1.3.2.min.js\"></script>\n<SCRIPT type='text/javascript' src='https://www.google.com/jsapi'></SCRIPT><SCRIPT type=\"text/javascript\">var mcpher = new function() {\n// ---ramblings.mcpher.com\n// ---insert functions to provide data just before here\n// mcpherVizMap\n// you may use this code as you wish\n// but please acknowledge in code, and in postings as below\n// Bruce Mcpherson\n// ramblings.mcpher.com\n// Any feedback or questions - http://groups.google.com/group/excel-ramblings \n// ---\n var vMap, mcpherData;\n var providers  = {'google earth':'earth','google maps':'maps'};\n mcpherInitialize();\n// --get the included packages and draw everything when done\n function mcpherInitialize() {\n  google.load('earth', '1');\n  google.load('visualization', '1', \n    {packages:['table','imagebarchart','orgchart']});\n  google.setOnLoadCallback(mcpherDrawEverything);\n }\n\n //-- prepare all the content\n function mcpherDrawEverything() {\n  vMap = new mcpherVizMap();\n  // get the data and framework\n  if ( vMap.populate()) {\n   // assuming there is some data\n   if (vMap.cJobject.length > 0) {\n    // set up all the spots\n    if (vMap.create()) {\n     //maps or earth?\n     vMap.createProvider();\n     //create map items for each data item\n     vMap.createItems();\n     // add spots to map \n     switch (vMap.provider) {\n     case 'maps':\n      vMap.spotEverything();   debugger;                                   \n        category();\n        quickLink(-1);\n        makeFlightGroups();\n         initialCategory();\n      break;\n     case 'earth':\n      quickLink(-1);\n      // will be called asynchronously when earth is ready\n      break;\n     default:\n      alert ('draweverythinginsanity');\n     }\n    }\n   }\n   else {\n    this.statusUpdate('..nothing to do',true,'there was no data');\n   } \n  }\n }\n\n","don’t touch"]
["mcpherspot","// mcpherSpot\n// custom object to hold spot plus associated data\n var mcpherSpot = function (mp,idx,ddx) {this.init(mp,idx,ddx);};\n mcpherSpot.prototype.init = function (mp,idx,ddx) { \n\n  this.parent = mp;\n  this.spotIndex = idx;\n  this.usingIndex = ddx;\n  this.cJobject = mp.cJobject[ddx];\n  this.spotId = this.cJobject.SpotID;\n  this.title = this.cJobject.Title;\n  this.lat = parseFloat(this.cJobject.Latitude);\n  this.lng = parseFloat(this.cJobject.Longtitude);\n  return (this);\n };\n mcpherSpot.prototype.createSpot = function () {\n\n  // create a marker on the map\n  var vm = this.parent;\n  var spot = this;\n  var cj = vm.cJobject;\n  switch (vm.provider){\n  case 'maps':\n var p = new google.maps.LatLng(this.lat,this.lng);\n var tSize = 0;\n var tCount = 0;\n for (var i=0;i < cj.length ;i++ ){\n  if (cj[i].SpotID == spot.spotId) {\n   if (cj[i].markerSize){\n  // we'll use the average size of items\n  // and the last color we see\n    tSize += parseFloat(cj[i].markerSize);\n    tCount++;\n    tColor = cj[i].markerColor;\n   }\n  }\n }\n if (tCount) {\n  var circle = {\n   strokeColor: tColor,\n   strokeOpacity: 0.8,\n   strokeWeight: 1,\n   fillColor: tColor,\n   fillOpacity: 0.20,\n   map: this.parent.map,\n   center: p,\n   radius: tSize/tCount,\n  };\n  var drawCirle =\n   new google.maps.Circle(circle);\n  spot.circle = drawCirle ;\n }\n else {\n  spot.circle = null;\n }\n   \n   var gMarker = new google.maps.Marker({\n    position: p,\n    map: this.parent.map,\n    title: this.title\n   });\n   this.marker = gMarker;    \nif (this.cJobject['markerImage']) {\n this.marker.setIcon(this.cJobject['markerImage']);\n   }\n   google.maps.event.addListener(gMarker, 'click', \n     function(e)  { \n      if(e.preventDefault)e.preventDefault();\n      if(e.stopPropagation)e.stopPropagation();\n      spot.dealWithClicks(true);\n     } );\n   break;\n  case 'earth':\n   vm.ve.plotSpot(spot);\n   google.earth.addEventListener(spot.placemark, 'click', \n     function(eKml)  { \n      eKml.preventDefault();\n      eKml.stopPropagation();\n      if (spot.flying){\n       var ge = spot.parent.ve.ge;\n       spot.stopFlyAround();\n       google.earth.addEventListener(ge.getView(), \n         'viewchangeend', mcpherFlyingClicks(spot,false));\n      }\n      else {\n       spot.dealWithClicks(false);\n      }\n     } );\n\n   break;\n  default:\n   alert('createspotinsanity');\n  break;\n  }\n  return this;\n };\n\n function mcpherFlyingClicks(spot,plot){\n  var vm = spot.parent;\n  var ge = vm.ve.ge;\n  if(spot.timer) clearTimeout(spot.timer);\n  spot.timer = setTimeout( function(){\n   spot.dealWithClicks(plot);\n  }, 100);\n }\n function mcpherPlotBalloon(spot, iw ){\n  var vm = spot.parent;\n  var ge = vm.ve.ge;\n  vm.statusUpdate ('..waiting for view to settle down',true);\n  google.earth.addEventListener(ge.getView(), \n    'viewchangeend', mcpherBalloon(spot,iw));\n }\n function mcpherBalloon(spot, iw ){\n  var vm = spot.parent;\n  var ge = vm.ve.ge;\n  if(spot.timer) clearTimeout(spot.timer);\n  spot.timer = setTimeout( function(){ \n   ge.setBalloon(iw);\n   vm.statusUpdate ('..information balloon set for ' + spot.title,false);\n  }, 100);\n }\n mcpherSpot.prototype.stopFlyAround = function() {\n  var spot = this;\n\n  // clean up after flying\n  if (spot.flying) {\n   var vm = spot.parent;\n   var ve = vm.ve;\n   var ge = ve.ge;\n   spot.flying = false;   \n   google.earth.removeEventListener(ge, 'frameend', \n     function () { mcpherFly(spot); } );\n   spot.lookAt.setHeading(spot.initialLookAtHeading);\n   spot.lookAt.setRange(parseFloat(vm.control.range)); \n   ge.getOptions().setFlyToSpeed(ge.SPEED_TELEPORT);\n   ve.showLookAt(spot);\n   vm.statusUpdate('..finished flying around '+spot.title,false);\n  }\n  return(spot.flying);\n }\n\n mcpherSpot.prototype.initFlyAround = function() {\n  var spot = this;\n  // been asked to rotate around the spot\n  if (!spot.flying) {\n   var vm = spot.parent;\n   var ve = vm.ve;\n   var ge = ve.ge;\n   spot.flying = true;\n   ge.setBalloon(null);\n   spot.lookAt.setRange(parseFloat(vm.control.flyrange)); \n   ge.getOptions().setFlyToSpeed(parseFloat(vm.control.flyspeed));\n   spot.initialLookAtHeading = spot.lookAt.getHeading();\n   google.earth.addEventListener(ge, 'frameend', \n     function () { mcpherFly(spot); });\n   vm.statusUpdate('..flying around '+spot.title,true);\n   mcpherFly(spot);\n  }  \n }\n function mcpherFly(spot){\n  // whats the point of this?\n  // seems that i can't addevent listener of spot.fly directly...\n  spot.fly();\n }\n mcpherSpot.prototype.fly = function() { \n  // changing the heading and re- do\n  var spot = this;\n  if (spot.flying){\n   var vm = spot.parent;\n   var ve=vm.ve;\n   var ge = ve.ge;\n   var newHeading = spot.lookAt.getHeading() + \n   parseFloat(vm.control.flyincrement);\n   if (newHeading > 360) {\n    newHeading -= 360;\n   }\n   spot.lookAt.setHeading(newHeading);\n   ve.showLookAt(spot);\n\n  }\n  return (spot.flying);\n }\n\n mcpherSpot.prototype.dealWithClicks = function(showit) { \n  var spot=this;\n  var vm = this.parent;\n  var doubleClickTimeout = 300;\n\n  // now see if its the second click within the timeout period\n  if (!vm.dealingWithClicks){ \n   vm.dealingWithClicks = true;\n   // this is single click behavior\n   setTimeout( function() \n     { if(vm.dealingWithClicks) {\n      vm.dealingWithClicks = false;\n      spot.createInfoWindow  (0); }}\n   , doubleClickTimeout);\n  }\n  else { \n   // double click behavior\n   vm.dealingWithClicks = false;\n   vm.gotoAnotherSpot(spot,vm.nextSpot(spot));\n   if(showit)vm.nextSpot.createInfoWindow(0);\n  }\n\n  return(false);\n };\n\n mcpherSpot.prototype.createInfoWindow = function (startTabIndex){\n  //default is the first tab\n  var vm = this.parent;\n  var spot=this;\n\n  var gMap = spot.parent.map;\n  var uItem = vm.items[spot.usingIndex];\n  var infoTab = uItem.infoTabs[startTabIndex];\n\n  vm.statusUpdate('..creating info for '+spot.title,true);\n  // select the appropriate tab\n  uItem.fillDiv(infoTab);\n  // set the content\n  var iDiv = document.createElement('div');\n  this.container = iDiv;\n  iDiv.appendChild (uItem.container);\n  iDiv.className = vm.cssShow + ' ' + vm.cssInfoWindow;\n  var s= '..plotted info for '+spot.title;\n\n  switch (vm.provider){\n  case 'maps':\n   var iw = spot.infoWindow = new google.maps.InfoWindow (); \n   iw.setContent (iDiv);\n   iw.open(gMap,spot.marker);\n   google.maps.event.addListener(iw, 'domready', function() {\n    vm.statusUpdate(s,false,null);\n   }); \n   break;\n\n  case 'earth':\n   var ge = vm.vEarth.ge;\n   var iw = spot.balloon = ge.createHtmlDivBalloon('');\n   iw.setFeature(spot.placemark);\n   iw.setContentDiv(iDiv);\n   mcpherPlotBalloon(spot, iw );\n   //ge.setBalloon(iw)\n\n   break;\n\n  default:\n   alert ('createinfowindowinstanity');\n  break;\n  }\n  vm.currentSpot = spot;\n  return (iw);\n };\n\n// endof mcpherspot\n","don’t touch"]
["mcpherearth","// mcpherEarth\n var mcpherEarth = function (vm,control) {\n  if (control == 'google') {\n   if (google.earth.isInstalled()){  \n    this.vMap = vm;\n    vMap.ve = this;\n    this.control = control;\n    return this;\n   }\n   else {\n    alert(\"you need to install the google earth plug-in\");\n    return null;\n   }\n  }\n  else {\n   alert ('unknown earth provider ' + control);\n   return null;\n  }\n };\n\n mcpherEarth.prototype.createInstance  = function (div) {\n  var ve=this;\n  var vm = this.vMap;\n  ve.container = div;\n  vm.statusUpdate('..creating google earth instance',true,null);\n  google.earth.createInstance(ve.container,  \n    initCallback, failureCallback);\n };\n\n mcpherEarth.prototype.success  = function (instance) {\n  var ve = this;\n  var vm = ve.vMap;\n  // the first spot\n  var spot = vm.spots[0];\n  ve.ge = ge = instance;\n  ge.getWindow().setVisibility(true);\n  // add some layers\n  ge.getLayerRoot().enableLayerById(ge.LAYER_ROADS, true);\n  ge.getLayerRoot().enableLayerById(ge.LAYER_BUILDINGS, true);\n  ge.getNavigationControl().setVisibility(ge.VISIBILITY_AUTO);\n  if (vm.control.adjustlightfortimeofday == 'yes'){\n   ge.getSun().setVisibility(true);\n   ge.getOptions().setAtmosphereVisibility(true);\n  }\n  vm.statusUpdate('..google earth successfully created',false,null);\n  vm.spotEverything();\n  // go to the first spot\n  ve.showLookAt(spot);\n\n };\n\n mcpherEarth.prototype.plotSpot = function (spot) {\n  var ve = this;\n  spot.lookAt = ve.makeLookAt(spot);\n  spot.placemark = ve.makePlacemark (spot);\n  \n  return(spot);\n };\n mcpherEarth.prototype.makeLookAt = function (spot) {\n  var ve= this;\n  var ge = ve.ge;\n  var vm = this.vMap;\n  // look at something\n  var lookAt = ge.getView().copyAsLookAt (ge.ALTITUDE_RELATIVE_TO_GROUND); \n  // Set the position values\n  lookAt.setLatitude(spot.lat);\n  lookAt.setLongitude(spot.lng);\n  lookAt.setRange(parseFloat(vm.control.range)); \n  lookAt.setTilt(parseFloat(vm.control.tilt));\n  return (lookAt);\n };\n\n mcpherEarth.prototype.makePlacemark = function (spot) {\n  //var ge = this.ge;\n  var ge= this.ge;\n  var vm = this.vMap;\n  var uItem = vm.items[spot.usingIndex];\n  var marker = vm.spotControl['earth marker'];\n\n  var placemark = ge.createPlacemark('');\n  placemark.setName(spot.title);\n\n  // Create style map for placemark\n  if(marker){\n   var image = uItem.cJobject[marker];\n   if (image) {\n    if (mcpherIsImage(image)){\n     var icon = ge.createIcon('');\n     icon.setHref(image);\n     var style = ge.createStyle('');\n     style.getIconStyle().setIcon(icon);\n     // make marker bigger than usual\n     if (vm.control.placemarkscale){\n      var x;\n      if(x=mcpherToNumber(vm.control.placemarkscale)){\n       style.getIconStyle().setScale(x);\n      }\n     }\n     placemark.setStyleSelector(style);\n    }\n    else {\n     alert (image + ' is not a valid image link to use as a marker');\n    }\n   }\n  }\n  \n  var point = ge.createPoint('');\n  point.setLatitude(spot.lookAt.getLatitude());\n  point.setLongitude(spot.lookAt.getLongitude());\n  placemark.setGeometry(point);\n  ge.getFeatures().appendChild(placemark);\n  return(placemark);\n };  \n\n mcpherEarth.prototype.showLookAt = function (spot) {\n  var lookAt = spot.lookAt;\n  this.ge.getView().setAbstractView(lookAt);\n  return (lookAt);\n }; \n\n mcpherEarth.prototype.failure = function (errorCode) {\n  var vm = this.vMap;\n  alert('error loading google earth' + errorCode);\n  //vm.statusUpdate('..google earth failed',false,'error ' + errorCode);\n };\n function initCallback (instance) {\n  vMap.ve.success(instance);\n }\n function failureCallback (errorCode) {\n  vMap.ve.failure(errorCode);\n }\n\n// END of mcpherEarth\n","don’t touch"]
[]
[]
[]
[]
[null,null,"for more on this see"]
[null,null,"http://ramblings.mcpher.com/Home/excelquirks/getmaps"]

{"sheet":"Step by Step Parameters","index":9,"n_rows":109,"n_cols":9,"rows_kept":109,"cut":false,"hidden":true,"merged":[[65,6,65,7],[59,8,64,8],[60,7,61,7],[62,6,62,7],[63,6,63,7],[64,6,64,7]]}
["Control","Setting","comment"]
["browser","default"]
["provider","google maps"]
["tilt",60]
["range",500]
["flyspeed",0.9,"speed to fly around in earth"]
["flyrange",200,"how far away when flying "]
["flyincrement",1,"how many degrees to move in each movement"]
["imagewidth",80,"image width to apply to URL images"]
["placemarkscale",3,"scale to apply to image placemark"]
["adjustlightfortimeofday","yes","whether or not to adjust for daylight "]
["twitterimagewidth",50,"image width to apply to URL images"]
["twitterradius",".5mi","radius from spot to report tweets"]
["twitterlanguage","en","language code- leave blank for all"]
["twittermaxtweets",10,"max nu of tweets to show"]
[]
["Dictionary","Matching Column","Comments"]
["Latitude","Latitude","these are mandatory"]
["Longtitude","Longtitude"]
["SpotID","Address ID"]
["Title","Label"]
["Content","Content"]
["Code","Country Code","This is the mapping between Excel fields and name under which they are exported"]
["Country","Country","Anything that needs to be exported must be in this list"]
["Venue","Label","the dictionary name will be used through parameters and in mapped reports"]
["State","State"]
["City","City"]
["Address","Clean Address"]
["Shows","Address ID"]
["ID","Address ID"]
["Average Price","Ticket Price"]
["Price","Ticket Price"]
["Date","Date"]
["Artist","Artist"]
["Artist Photo","Artist URL"]
["Venue Photo","Image URL"]
["markerColor","markerColor"]
["markerSize","markerSize"]
["markerImage","markerImage"]
["venue size","venue size"]
[]
["Spots","Setting","array"]
["earth marker","Artist Photo","no"]
["maps marker","markerImage","no"]
["categories","Artist,Country","yes"]
[]
["Tabs","Table Fields","Filter Fields","Chart Fields","Image","chart type","Twitter Fields"]
["Detail","Date,City,State,Country,Venue,Artist,Price","SpotID","Artist,Average Price","Venue Photo","barchart","Artist"]
["Artist","Date,City,State,Country,Venue,Artist,Price","Artist","City,Average Price","Artist Photo","barchart","Artist"]
["Country","Date,City,State,Venue,Artist,Price","Code","Artist,Average Price","Venue Photo","barchart","Country,Artist"]
["City","Date,Venue,Artist,Price","Code,State,City","Artist,Average Price","Venue Photo","barchart","City,Artist"]
["Venue","Date,Artist,Price","ID","Artist,Average Price","Venue Photo","barchart","Venue"]
["World","Date,Venue,Artist,Price",null,"Artist,Shows,Average Price","Venue Photo","barchart","Artist"]
[]
["Measures","Operation","comments"]
["Average Price","average","This defines how to treat measures for charting"]
["Shows","count"]
[]
["Element","Position","Show ","comments",null,null,"Position on infowindow"]
["content",2,"yes","this defines the position on the infowindow",null,null,1,11,9]
["filters",4,"no","0 means you don’t want one",null,null,2,3]
["image",3,"yes","see right for position key",null,null,4]
["checks",5,"yes",null,null,null,5]
["table",6,"yes","show means show on initial infowindow",null,null,6]
["summary",7,"yes",null,null,null,7]
["chart",8,"yes",null,null,null,8,null,10]
["title",1,"no"]
["navigate",11,"yes"]
["twitter",0,"yes"]
[]
["Clone","Clone From","comments"]
["Country Code","Master","these are copied over to the join tab from the various sheets"]
["Country ","Master"]
["State","Master"]
["City","Master"]
["Label","Master"]
["Clean Address","Master"]
["Latitude","Master"]
["Longtitude","Master"]
["Content","Master"]
["markerColor","Master"]
["markerSize","Master"]
["venue size","Master"]
["markerImage","Master"]
["Image URL","Master"]
["Artist","Artists"]
["Artist URL","Artists"]
[]
["Name","Worksheet","Join","comments"]
["Master","Step by Step Master","Address ID","This is the locational data"]
["Transactions","Step by Step Transactions",null,"These are the transactions"]
["Join","Step by Step Join",null,"The joined output"]
["Artists","ArtistMaster","Artist ID","You can add as many additional joins to the transactions as you like"]
[]
["Viz Html","Code","Comments"]
["filename",".\\vizMapStepbyStep.html","fix this to something for your pc before you start"]
["body","<body style=\"font-family: sans-serif;\">\n<div id=\"status_div\" class =\"mcstatus\"></div>\n\n <div id=\"comboquicklink\" class = \"mcquicklink\">Quick Links</div>\n <div id=\"combocategory\" class = \"mccategory\"></div>\n <div id=\"heading\" class =\"mcheading\">Excel and Google Mapping Integration - VizMap</b>\n \n <a href=\"http://rambings.mcpher.com\">\n  ramblings.mcpher.com</a></div>\n <div id=\"map_canvas\" style=\"width: 100%; height: 90%\"></div>\n    \n</body>\n</html>","you can modify  to this to design/tailor your web page - the map_canvas div is where everything will be plotted"]
["header","<!DOCTYPE html>\n<HTML>\n<HEAD>\n\n<STYLE type=\"text/css\">\nhtml {\n height: 100%\n}\n\nbody {\n height: 100%;\n margin: 0;\n padding: 0;\n}\n\n#map_canvas {\n height: 100%;\n}\n.mcquicklink {\n margin-left: 20px;\n margin-right: 20px;\n display: inline;\n font-family: sans-serif;\n float: right;\n}\n.mccategory {\n margin-left: 20px;\n margin-right: 20px;\n display: inline;\n font-family: sans-serif;\n float: right;\n}\n.mcheading {\n display: inline;\n font-family: sans-serif;\n  font-size: 0.7em;\n}\n\n.mcinfo {\n margin: 0px;\n font-family: sans-serif;\n font-size: 0.7em;\n padding: 0px;\n background-color: #0;\n vertical-align: top;\n}\n.mcelementtd {\n vertical-align:top;\n align-text:left;\n}\n.mcli {\n display: inline;\n border: 1px solid Teal;\n padding: .2em;\n padding-bottom: 0px;\n background-color: Azure;\n border-top-left-radius: 5px;\n -moz-border-radius-topleft: 5px;\n border-top-right-radius: 5px;\n -moz-border-radius-topright: 5px;\n}\n\n.mctabselected {\n background-color: WhiteSmoke;\n border-bottom: 1px solid WhiteSmoke;\n}\n\n.mchover:hover {\n background-color: LightSeaGreen;\n}\n\n.mcselected {\n background-color: WhiteSmoke;\n margin: 0px;\n padding: .3em;\n border: 1px solid Teal;\n border-bottom-left-radius: 15px;\n -moz-border-radius-bottomleft: 15px;\n border-bottom-right-radius: 15px;\n -moz-border-radius-bottomright: 15px;\n border-top-right-radius: 15px;\n -moz-border-radius-topright: 15px;\n}\n.mccheck {\n    width : 0.7em;\n height :0.7em;\n padding: 0px;\n margin: 0px;\n}\n\n.mcstatus {\n display: inline;\n font-family: sans-serif;\n font-size: 0.7em;\n border: 1px solid Gray;\n border-radius: 5px;\n -moz-border-radius: 5px;\n float: right;\n}\n\n.mcready {\n color: WhiteSmoke;\n background-color: Teal;\n}\n\n.mcbusy {\n color: WhiteSmoke;\n background-color: FireBrick;\n}\n\n.mctable {\n font-family: sans-serif;\n font-size: 0.7em;\n border: 1px solid Gray;\n}\n.mcearth {\n    width:240px;\n    height:180px;\n    border: 1px solid gray;\n   \n}\n\n.mctableheader {\n font-family: sans-serif;\n font-size: 0.6em;\n background-color: Azure;\n border: 1px solid Gray;\n}\n\n.mctweetheader {\n font-family: sans-serif;\n font-size: 1em;\n background-color: gainsboro;\n color:darkslategrey;\n align:left;\n vertical-align:top;\n\n}\n.mctweet {\n font-family: sans-serif;\n font-size: 1em;\n background-color:WhiteSmoke;\n color:DarkSlateGrey;\n align:left;\n vertical-align:top;\n \n}\n.mchide {\n display: none;\n}\n\n.mcshow {\n display: block;\n}\n</STYLE>\n","probably don’t need to touch"]
[]
["Fields","Column Name","Comments"]
["ID","Address ID","the required field ID can be found in column named in 'column name' in input data"]
["Address","Input Address","the required field Address can be found in column named in 'column name' in input data"]
[]
[]
[]
[]
[]
[null,null,"for more on this see"]
[null,null,"http://ramblings.mcpher.com/Home/excelquirks/getmaps"]

{"sheet":"Step by Step Join","index":10,"n_rows":9,"n_cols":20,"rows_kept":9,"cut":false,"hidden":true,"merged":[]}
["Address ID","Ticket Price","Date","Artist ID","Country Code","Country ","State","City","Label","Clean Address","Latitude","Longtitude","Content","markerColor","markerSize","venue size","markerImage","Image URL","Artist","Artist URL"]
[1,100,"2011-11-05",20,"US","United States","IL","Rosemont","Rosemount theatre","Rosemont, IL, USA",41.989100000000001,-87.871473999999992,"<b>Rosemount theatre</b><br>Rosemont<br> IL<br> USA<br>","#0000FF",74848.20637019111,"big",null,"http://ramblings.mcpher.com/images/pic239.png","Sting","http://ramblings.mcpher.com/images/pic243.png"]
[1,90,"2011-11-13",21,"US","United States","IL","Rosemont","Rosemount theatre","Rosemont, IL, USA",41.989100000000001,-87.871473999999992,"<b>Rosemount theatre</b><br>Rosemont<br> IL<br> USA<br>","#0000FF",74848.20637019111,"big",null,"http://ramblings.mcpher.com/images/pic239.png","Paul Simon","http://ramblings.mcpher.com/images/pic241.png"]
[2,120,"2011-11-04",22,"US","United States","LA","New Orleans","UNO Lakefront Arena","6801 Franklin Avenue, University of New Orleans-East Campus, New Orleans, LA 70122, USA",30.030512000000002,-90.049309999999991,"<b>UNO Lakefront Arena</b><br>6801 Franklin Avenue<br> University of New Orleans-East Campus<br> New Orleans<br> LA 70122<br> USA<br>","#00728D",112837.91670955127,"medium",null,"http://ramblings.mcpher.com/images/pic238.png","Linkin Park","http://ramblings.mcpher.com/images/pic242.png"]
[3,80,"2011-09-16",22,"JP","Japan",null,"Suminoe Ward","Intex","Nankokita, Suminoe Ward, Osaka, Osaka Prefecture 559-0034, Japan",34.637675799999997,135.41451040000001,"<b>Intex</b><br>Nankokita<br> Suminoe Ward<br> Osaka<br> Osaka Prefecture 559-0034<br> Japan<br>","#00728D",112837.91670955127,"medium",null,"http://ramblings.mcpher.com/images/pic240.png","Linkin Park","http://ramblings.mcpher.com/images/pic242.png"]
[4,67,"2011-09-08",22,"KR","South Korea",null,"Seoul","olympic park","Olympic Park, Bangi-dong, Seoul, South Korea",37.519820899999999,127.1227901,"<b>olympic park</b><br>Olympic Park<br> Bangi-dong<br> Seoul<br> South Korea<br>","#FF5C00",298541.06607209228,"small",null,null,"Linkin Park","http://ramblings.mcpher.com/images/pic242.png"]
[5,50,"2011-09-23",22,"TH","Thailand",null,null,"aktiv square","Bang Yai, Nonthaburi, Thailand",13.8973058,100.39109259999999,"<b>aktiv square</b><br>Bang Yai<br> Nonthaburi<br> Thailand<br>","#00936C",123607.74464742068,"medium","http://maps.google.com/mapfiles/marker_orange.png",null,"Linkin Park","http://ramblings.mcpher.com/images/pic242.png"]
[6,20,"2011-06-23",22,"RU","Russia","g. Moskva","Moscow","red square","Moscow, Russia",55.751241899999997,37.618421699999999,"<b>red square</b><br>Moscow<br> Russia<br>","#FF0000",328976.2321239771,"small","http://maps.google.com/mapfiles/marker_orange.png",null,"Linkin Park","http://ramblings.mcpher.com/images/pic242.png"]
[7,40,"2011-06-23",23,"NL","The Netherlands","Government of Amsterdam","Amsterdam-Zuidoost","heineken hall","Arena Boulevard 590, Bullewijk, 1101 DS Amsterdam-Zuidoost, The Netherlands",52.312357400000003,4.9441508999999986,"<b>heineken hall</b><br>Arena Boulevard 590<br> Bullewijk<br> 1101 DS Amsterdam-Zuidoost<br> The Netherlands<br>","#001BE4",83682.838718840052,"big",null,null,"Toto","http://ramblings.mcpher.com/images/pic244.png"]

{"sheet":"API cObject names","index":11,"n_rows":48,"n_cols":2,"rows_kept":48,"cut":false,"hidden":true,"merged":[]}
["Fullkey","Typical Value"]
["_deserialization.results"]
["_deserialization.results.1"]
["_deserialization.results.1.address_components"]
["_deserialization.results.1.address_components.1"]
["_deserialization.results.1.address_components.1.long_name",1600]
["_deserialization.results.1.address_components.1.short_name",1600]
["_deserialization.results.1.address_components.1.types"]
["_deserialization.results.1.address_components.1.types.1","street_number"]
["_deserialization.results.1.address_components.2"]
["_deserialization.results.1.address_components.2.long_name","Amphitheatre Pkwy"]
["_deserialization.results.1.address_components.2.short_name","Amphitheatre Pkwy"]
["_deserialization.results.1.address_components.2.types"]
["_deserialization.results.1.address_components.2.types.1","route"]
["_deserialization.results.1.address_components.3"]
["_deserialization.results.1.address_components.3.long_name","Mountain View"]
["_deserialization.results.1.address_components.3.short_name","Mountain View"]
["_deserialization.results.1.address_components.3.types"]
["_deserialization.results.1.address_components.3.types.1","locality"]
["_deserialization.results.1.address_components.3.types.2","political"]
["_deserialization.results.1.address_components.4"]
["_deserialization.results.1.address_components.4.long_name","San Jose"]
["_deserialization.results.1.address_components.4.short_name","San Jose"]
["_deserialization.results.1.address_components.4.types"]
["_deserialization.results.1.address_components.4.types.1","administrative_area_level_3"]
["_deserialization.results.1.address_components.4.types.2","political"]
["_deserialization.results.1.address_components.5"]
["_deserialization.results.1.address_components.5.long_name","Santa Clara"]
["_deserialization.results.1.address_components.5.short_name","Santa Clara"]
["_deserialization.results.1.address_components.5.types"]
["_deserialization.results.1.address_components.5.types.1","administrative_area_level_2"]
["_deserialization.results.1.address_components.5.types.2","political"]
["_deserialization.results.1.address_components.6"]
["_deserialization.results.1.address_components.6.long_name","California"]
["_deserialization.results.1.address_components.6.short_name","CA"]
["_deserialization.results.1.address_components.6.types"]
["_deserialization.results.1.address_components.6.types.1","administrative_area_level_1"]
["_deserialization.results.1.address_components.6.types.2","political"]
["_deserialization.results.1.address_components.7"]
["_deserialization.results.1.address_components.7.long_name","United States"]
["_deserialization.results.1.address_components.7.short_name","US"]
["_deserialization.results.1.address_components.7.types"]
["_deserialization.results.1.address_components.7.types.1","country"]
[]
[]
[]
[null,"for more on this see"]
[null,"http://ramblings.mcpher.com/Home/excelquirks/getmaps"]